{"text_format":"1","workbook":"xlsx","n_sheets":23,"sheets":["Krycí list SR","1A","1B","1C","2A","2B","2Bhide","2C","3SO","3PS","FR","Komentář FR","PN","VZOR 80","VZOR 81","VZOR 82","VZOR 83","NAD","hide-formáty","hidekody","hide","hideSO","hidePS"],"not_rendered":{"charts":0,"images":7,"macros":1,"external_links":2,"defined_names":28,"comments":13,"pivot_tables":0},"unopened":[],"bounds":{"document_bytes":16777216,"sheet_cells":100000,"rows_first":2000,"rows_last":500,"rows_between":2000,"halvings":0,"cell_chars":16384,"cell_head_chars":4096},"cells_cut":0,"cells_raw":0,"read":"whole","date_system":"1900"}

{"sheet":"Krycí list SR","index":0,"n_rows":60,"n_cols":30,"rows_kept":60,"cut":false,"hidden":false,"merged":[[54,20,54,22],[54,23,54,27],[17,8,18,9],[19,8,19,9],[20,8,21,9],[41,22,41,24],[42,22,42,25],[43,22,43,25],[28,20,28,27],[29,20,29,27],[30,20,30,27],[31,20,31,27],[32,20,32,27],[21,26,21,27],[40,21,40,24],[43,26,43,27],[40,26,40,27],[35,20,35,25],[35,26,35,27],[36,21,36,25],[36,26,36,27],[37,26,37,27],[38,26,38,27],[39,26,39,27],[14,26,14,27],[12,21,12,24],[12,26,12,27],[13,26,13,27],[15,26,15,27],[26,0,26,7],[36,1,36,5],[43,2,43,5],[43,6,43,7],[37,8,37,15],[39,8,39,15],[42,9,42,14],[40,8,40,12],[41,8,41,11],[1,21,1,27],[2,25,2,27],[3,25,3,27],[5,21,5,23],[5,25,5,27],[6,21,6,23],[6,25,6,27],[7,24,7,27],[8,26,8,27],[3,21,3,23],[4,21,4,23],[0,5,0,6],[2,5,2,7],[1,1,1,7],[27,0,27,7],[28,0,28,7],[29,0,29,7],[20,6,20,7],[21,6,21,7],[20,1,20,4],[22,6,22,7],[25,0,25,7],[11,6,11,7],[12,6,12,7],[18,1,18,4],[17,1,17,4],[17,6,17,7],[10,0,10,7],[6,5,6,7],[8,6,8,7],[7,4,7,7],[5,5,5,7],[3,5,3,7],[9,6,9,7],[14,6,14,7],[50,21,50,22],[50,24,50,27],[47,20,47,22],[47,23,47,27],[48,20,48,22],[48,23,48,27],[49,21,49,22],[49,24,49,27],[30,0,30,7],[31,0,31,7],[32,0,32,7],[33,0,33,7],[34,0,34,7],[41,26,41,27],[42,26,42,27],[46,20,46,22],[46,23,46,27],[33,20,33,27],[34,20,34,27],[43,8,43,11],[34,8,35,11],[54,0,54,2],[54,3,54,7],[50,1,50,2],[50,4,50,7],[48,0,48,2],[48,3,48,7],[49,4,49,7],[49,1,49,2],[46,3,46,7],[47,3,47,7],[47,0,47,2],[46,0,46,2],[3,10,3,13],[4,11,6,11],[35,0,35,5],[36,6,36,7],[41,6,41,7],[42,6,42,7],[40,1,40,4],[42,2,42,5],[41,2,41,4],[40,6,40,7],[37,6,37,7],[38,6,38,7],[39,6,39,7],[35,6,35,7],[6,1,6,3],[18,6,18,7],[16,6,16,7],[3,1,3,3],[12,1,12,4],[4,1,4,3],[5,1,5,3],[11,1,11,4],[13,6,13,7],[15,6,15,7],[0,25,0,26],[36,8,36,11],[38,8,38,11],[22,26,22,27],[25,20,25,27],[26,20,26,27],[27,20,27,27],[22,11,25,11],[8,11,9,11],[15,11,17,11],[17,21,17,24],[17,26,17,27],[18,21,18,24],[18,26,18,27],[27,11,29,11],[31,11,33,11],[20,21,20,24],[20,26,20,27],[16,26,16,27],[22,8,33,8],[9,26,9,27],[10,20,10,27],[11,21,11,24],[11,26,11,27]]}
[null,"Souhrnný rozpočet stavby v přípravě",null,null,null,"Krycí list SR",null,"SRP/2022/prozatimní",null,null,null,null,null,null,null,null,null,null,null,null,null,"Souhrnný rozpočet stavby v přípravě",null,null,null,"Krycí list SR",null,"SRP/2022/prozatimní"]
["Název stavby:",null,null,null,null,null,null,null,null,null,null,null,null,null,null,null,null,null,null,null,"Název stavby:",null,null,null,null,null,null,null,null,"Zástupce investor pro výběr v řádku \"D\":"]
["ISPROFIN:",null,"Označení (S-kód):",null,null,{"$f":"IF(E3=hide!H55,hide!I55,(IF(E3=hide!H56,hide!I56,(IF(E3=hide!H57,hide!I57,(IF(E3=hide!H58,hide!I58,(IF(E3=hide!H59,hide!I59,hide!I60)))))))))","v":"STÁDIUM - vybrat v poli E3"},null,null,null,null,null,null,null,null,null,null,null,null,null,null,"ISPROFIN:",null,"Označení (S-kód):",null,null,{"$f":"IF(Y3=hide!AB55,hide!AC55,(IF(Y3=hide!AB56,hide!AC56,(IF(Y3=hide!AB57,hide!AC57,(IF(Y3=hide!AB58,hide!AC58,(IF(Y3=hide!AB59,hide!AC59,hide!AC60)))))))))","v":0},null,null,null,"Stavební správa západ, Ke Štvanici 656/3,186 00  Praha 8"]
["Investor:","Správa železnic, státní organizace",null,null,"Aktuální rok:",2022,null,null,null,null,"VYPLNĚNÍ FORMULÁŘE:",null,null,null,null,null,null,null,null,null,"Investor:","Správa železnic, státní organizace",null,null,"Aktuální rok:",2022,null,null,null,"Stavební správa východ, Nerudova 773/1, 772 58 Olomouc"]
["Zástupce investora:","Stavební správa západ, Ke Štvanici 656/3,186 00  Praha 8",null,null,"Smíšená CÚ:",null,"-",{"$f":"IF(F7=\"\",\"\",F7)","v":""},null,null,null,"PRO SPRÁVNÉ STANOVENÍ NÁKLADŮ JE NUTNÉ VŽDY SPUSTIT PŘEPOČÍTÁNÍ NÁKLADŮ  - pole PŘEPOČÍTAT. \nABY PŘEPOČÍTÁNÍ FUNGOVALO  MUSÍ BÝT V EXCELU POVOLENÁ PRÁCE S MAKRY !",null,null,null,null,null,null,null,null,"Zástupce investora:","Stavební správa západ, Ke Štvanici 656/3,186 00  Praha 8",null,null,"Smíšená CÚ:",null,"-",{"$f":"IF(Z7=\"\",\"\",Z7)","v":""},null,"Oblastní ředitelství"]
["Pracoviště:",null,null,null,"Inflační koeficient:",0.02,null,null,null,null,"-",null,null,null,null,null,null,null,null,null,"Pracoviště:",null,null,null,"Inflační koeficient:",0.02]
["Jiný investor:",null,null,null,"Ukončení stavby:",null,null,null,null,null,null,null,null,null,null,null,null,null,null,null,"Jiný investor:",null,null,null,"Ukončení stavby:"]
["Majetek:",null,"IČO:",70994234,"Předpokládaná doba realizace stavby:",null,null,null,null,null,"-","U FORMULÁŘE KRYCÍ LIST VYPLNIT ŽLUTĚ OZNAČENÉ POLE, PŘÍPADNĚ POZNÁMKU POD ČAROU. PRO SPRÁVNÉ VYPLNĚNÍ NESMÍ V TOMTO LISTU ZŮSTAT VYŽLUCENÉ POLE!",null,null,null,null,null,null,null,null,"Majetek:",null,"IČO:",70994234,"Předpokládaná doba realizace stavby:"]
["Kategorie dráhy:",null,"DIČ:","CZ70994234","  zahájení realizace stavby:",null,{"$f":"IF(MIN('3SO'!E9,'3PS'!E9)=0,\"\",MIN('3SO'!E9,'3PS'!E9))","v":""},null,null,null,null,"U FORMULÁŘŮ 1A až 1C ZVOLIT ZPŮSB STANOVENÍ NÁKLADŮ V ROLETOVACÍM MENU A VYPLNIT NÁKLADY STAVBY DLE ZAŘAZENÍ (ŽLUTĚ OZNAČENÉ), PŘÍPADNĚ DOPLNIT POZNÁMKY POD ČAROU.",null,null,null,null,null,null,null,null,"Kategorie dráhy:",null,"DIČ:","CZ70994234","  zahájení realizace stavby:",null,{"$f":"IF(MIN('3SO'!Y9,'3PS'!Y9)=0,\"\",MIN('3SO'!Y9,'3PS'!Y9))","v":""}]
["Kraj:",null,"-","-","  dokončení realizace stavby:",null,{"$f":"IF(MAX('3SO'!F9,'3PS'!F9)=0,\"\",MAX('3SO'!F9,'3PS'!F9))","v":""},null,null,null,"-",null,null,null,null,null,null,null,null,null,"Kraj:",null,"-","-","  dokončení realizace stavby:",null,{"$f":"IF(MAX('3SO'!Z9,'3PS'!Z9)=0,\"\",MAX('3SO'!Z9,'3PS'!Z9))","v":""}]
["náklady v  Kč",null,null,null,null,null,null,null,null,null,null,null,null,null,null,null,null,null,null,null,"náklady v  Kč"]
["C.1","Pořizovací investiční náklady",null,null,null,"PIN",{"$f":"'2C'!H7","v":0},null,null,null,"-","U FORMULÁŘŮ 2A až 2C VYPLNIT ŽLUTĚ VYZANČENÉ POLE S ROZDĚLENÍM NÁKLADŮ V LETECH, PŘÍPADNĚ POZNÁMKY POD ČAROU. \nPOKUD SE PRO DANÝ ROK VE VYŽLUCENÉM POLI S NÁKLADY NEUVAŽUJE POLE SE NEVYPLŇUJE.\n\n  \n\n- DO FORMULÁŘE 3SO A 3PS ZAŘADIT NÁKLADY JEDNOTLIVÝCH SO A PS S PŘESNOSTÍ NA DVĚ DESETINNÉ MÍSTA A SE ZOBRAZENÍM BEZ DESETINNÝCH MÍST.\n  PRO VÝPOČET MUSÍ BÝT VE  FORMULÁŘI 3SO/3PS VYPLNĚNÉ VEŠKERÉ ÚDAJE VČETNĚ LET VÝSTAVBY. KAŽDÝ SO(PS) BUDE VE FORMULÁŘÍCH UVEDEN JENOM JEDNOU!\n\n- DO FORMULÁŘE FR PŘÍPADNĚ DOPLNIT POZNÁMKY POD ČAROU.\n\n- DO FORMULÁŘE  KOMENTÁŘ K FR DOPLNIT ZPŮSOBILOST NÁKLADŮ.\n\n- VE FORMULÁŘI PN VYPLNIT DODAVATELE A PŘED TISKEM A DEFINITIVNÍM ODEVZDÁNÍM FILTREM ZOBRAZIT POUZE ZAŠKRTNUTÁ POLE [X]\n\n- FORMULÁŘE VZOR 80 AŽ 83 SE VYPLŇUJÍ POUZE V PŘÍPADĚ, ŽE JE SOUČÁST ZPRACOVÁNÍ I VYTVOŘENÍ PODKLADŮ PRO ZP\n\n- PRO SPRÁVNÉ STANOVENÍ NÁKLADŮ JE NUTNÉ VŽDY SPUSTIT PŘEPOČÍTÁNÍ NÁKLADŮ  - pole PŘEPOČÍTAT\n\n  ABY PŘEPOČÍTÁNÍ FUNGOVALO  MUSÍ BÝT POVOLENÁ V EXCELU PRÁCE S MAKRY !",null,null,null,null,null,null,null,null,"C.1","Pořizovací investiční náklady",null,null,null,"PIN",{"$f":"'2C'!AB7","v":0}]
["C.1.1","Celkové investiční náklady z plánovaných investičních zdrojů",null,null,null,"CIN",{"$f":"'2C'!H8","v":0},null,null,null,null,null,null,null,null,null,null,null,null,null,"C.1.1","Celkové investiční náklady z plánovaných investičních zdrojů",null,null,null,"CIN",{"$f":"'2C'!AB8","v":0}]
[null,"z toho","Náklady na přípravu a celkové zabezpečení výstavby",null,null,null,{"$f":"'2C'!H9","v":0},null,null,null,null,"VE FORMULÁŘI 2C JE NUTNÉ VYPLNIT DPH V OBODOBÍ PŘED AKTUÁLNÍM ROKEM DLE SKUTEČNOSTI. PŘÍPADNĚ ZVOLIT ZAŘAZENÍ DPH DLE PŘEDEM NASTAVENÉHO VÝBĚRU V POLI \"I19\".",null,null,null,null,null,null,null,null,null,"z toho","Náklady na přípravu a celkové zabezpečení výstavby",null,null,null,{"$f":"'2C'!AB9","v":0}]
[null,null,"Náklady na realizaci stavby bez rezervy",null,null,null,{"$f":"'2C'!H10","v":0},null,null,null,null,null,null,null,null,null,null,null,null,null,null,null,"Náklady na realizaci stavby bez rezervy",null,null,null,{"$f":"'2C'!AB10","v":0}]
[null,null,"Rezerva stavby",null,null,null,{"$f":"'2C'!H11","v":0},null,null,null,null,"DO FORMULÁŘE 3SO A 3PS ZAŘADIT NÁKLADY JEDNOTLIVÝCH SO A PS S PŘESNOSTÍ NA DVĚ DESETINNÉ MÍSTA A SE ZOBRAZENÍM BEZ DESETINNÝCH MÍST. PRO VÝPOČET MUSÍ BÝT VE  FORMULÁŘI 3SO/3PS VYPLNĚNÉ VEŠKERÉ ÚDAJE VČETNĚ LET VÝSTAVBY. KAŽDÝ SO(PS) BUDE VE FORMULÁŘÍCH UVEDEN JENOM JEDNOU!\n",null,null,null,null,null,null,null,null,null,null,"Rezerva stavby",null,null,null,{"$f":"'2C'!AB11","v":0}]
["C.1.2","Hodnota zůstatkového majetku SŽ, který bude stavbou odstraněn",null,null,null,null,{"$f":"'2C'!H12","v":0},null,null,null,"-",null,null,null,null,null,null,null,null,null,"C.1.2","Hodnota zůstatkového majetku SŽ, který bude stavbou odstraněn",null,null,null,null,{"$f":"'2C'!AB12","v":0}]
["C.2","Provozní náklady",null,null,null,"PRN",{"$f":"'2C'!H13","v":0},null,"Zobrazovat výpočet předpokládané hodnoty",null,null,null,null,null,null,null,null,null,null,null,"C.2","Provozní náklady",null,null,null,"PRN",{"$f":"'2C'!AB13","v":0}]
["C.3","Příjmy generované stavbou ",null,null,null,null,{"$f":"'2C'!H14","v":0},null,null,null,"-","DO FORMULÁŘE FR DLE POTŘEBY DOPLNIT POZNÁMKY POD ČAROU.",null,null,null,null,null,null,null,null,"C.3","Příjmy generované stavbou ",null,null,null,null,{"$f":"'2C'!AB14","v":0}]
[null,null,null,null,null,null,null,null,"ANO"]
["C.4","Celkové náklady stavby bez DPH                          ",null,null,null,"CNS",{"$f":"'2C'!H18","v":0},null,"Zobrazení výpočtu předpokládané hodnoty veřejné zakázky následujícího stádia lze vypnout v odůvodněných případech, např. kdy již bylo následující stádium zadáno před schválením SR.",null,"-","DO FORMULÁŘE  KOMENTÁŘ K FR DOPLNIT ZPŮSOBILOST NÁKLADŮ (ŽLUTĚ OZNAČENÉ POLE).",null,null,null,null,null,null,null,null,"C.4","Celkové náklady stavby bez DPH                          ",null,null,null,"CNS",{"$f":"'2C'!AB18","v":0}]
["C.5","Daň z přidané hodnoty                                          ",null,null,null,"DPH",{"$f":"'2C'!H20","v":0},null,null,null,null,null,null,null,null,null,null,null,null,null,"C.5","Daň z přidané hodnoty                                          ",null,null,null,"DPH",{"$f":"'2C'!AB20","v":0}]
["C.6","Celkové náklady stavby vč. DPH                          ",null,null,null,"CNS",{"$f":"'2C'!H22","v":0},null,{"$f":"IF(E3=\"Stádium 3\",\" Ve stádiu 3\",IF(E3=\"Stádium 2\",\"Ve stádiu 2\",IF(E3=\"Stádium 1\",\"Stádium 1\",\"\")))","v":""},null,"-","VE FORMULÁŘI PN JE NUTNO ZVOLIT VE SLOUPCI \"A\" NÁKLADY, KTERÉ JSOU ZPŮSOBILÉ  (I Z ČÁSTI) K FINANCOVÁNÍ Z VYBRANÝCH EVROPSKÝ FONDŮ (VÝBĚREM ROLETOVACÍHO POLE [X]). ZPŮSOBILÉ NÁKLADY SE VE FORMULÁŘI PN UVÁDĚJÍ POUZE JEDNOU, A TO V ZATŘÍDĚNÍ DLE ZPŮSOBU ZAJIŠTĚNÍ. VE FORMULÁŘI PN JE NUTNO U VYBRANÝCH POLOŽEK VYPLNIT DODAVATELE A PŘED TISKEM A DEFINITIVNÍM ODEVZDÁNÍM FILTREM VE SLOUPCI \"A\" ZOBRAZIT POUZE ZAŠKRTNUTÁ POLE [X].\nNÁKLADY ZE SR, KTERÉ NEJSOU ZPŮSOBILÉ ANI DÍLČÍ ČÁSTI SE VE FORMULÁŘI PN  NEUVÁDĚJÍ.",null,null,null,null,null,null,null,null,"C.6","Celkové náklady stavby vč. DPH                          ",null,null,null,"CNS",{"$f":"'2C'!AB22","v":0}]
[]
["Poznámka:",null,null,null,null,null,null,null,null,null,null,null,null,null,null,null,null,null,null,null,"Poznámka:"]
[]
[]
[null,null,null,null,null,null,null,null,null,null,"-","FORMULÁŘE VZOR 80 AŽ 83 SE VYPLŇUJÍ POUZE V PŘÍPADĚ, ŽE JE SOUČÁST ZPRACOVÁNÍ I VYTVOŘENÍ PODKLADŮ PRO ZP. PŘI NASTAVENÍ VYPLNĚNÍ VZORU 82 VOLBOU \"ANO\" AUTOMATICKY SE VYPNE PLNĚNÍ VZORU 81"]
[]
[]
[]
[null,null,null,null,null,null,null,null,null,null,"-","PRO SPRÁVNÝ VÝPOČET PŘEDPOKLÁDANÉ HODNOTY VEŘEJÉ ZAKÁZKY NA ZHOTOVENÍ STAVBY (VE STÁDIUM 3) JE NUTNÉ ZVOLIT V LISTECH 1A A 1B U DANÝCH ČINNOSTÍ, ŽE BUDOU ZAŘAZENÉ DO VŠEOBECENÉHO OBJEKTU V PŘÍPADĚ, ŽE SE POŽADUJE ABY BYLY SOUČÁSTÍ ČINNOSTÍ ZHOTOVITELE STAVBY."]
[]
[]
[null,null,null,null,null,null,null,null,{"$f":"IF($E$3=\"\",\"Není vyplněné stádium stavby\",IF($E$3=\"Stádium 2\",\"Předpokládaná hodnota veřejné zakázky pro následující stádium 3 dle aktuálního SR:\",IF($E$3=\"Stádium 3\",\"Předpokládaná hodnota veřejné zakázky na zhotovení stavby dle aktuálního SR:\",\"V daném stádiu poznámka nezařazena\")))","v":"Není vyplněné stádium stavby"}]
[{"$f":"IF($I$20=\"ANO\",IF(E3=\"Stádium 3\",\"Předpokládaná hodnota veřejné zákázky na zhotovení stavby v rozčlenění:\",IF(E3=\"Stádium 2\",\"Předpokládaná hodnota veřejné zákázky na projektovou přípravu ve stádiu 3:\",\"\")),\"Výpočet předpokládané hodnoty veřejné zakázky následujícího stádia je prováděn individuálně.\")","v":""},null,null,null,null,null,{"$f":"IF($I$20=\"ANO\",IF(E3=\"Stádium 3\",SUM(G37,G42:H44),IF(E3=\"Stádium 2\",IF((SUM(G37:H42))>0,SUM(G37:H42),\"\"),\"\")),\"\")","v":""},null,null,null,null,null,null,null,null,null,null,null,null,null,{"$f":"IF($I$20=\"ANO\",IF(Y3=\"Stádium 3\",\"Předpokládaná hodnota veřejné zákázky na zhotovení stavby v rozčlenění:\",IF(Y3=\"Stádium 2\",\"Předpokládaná hodnota veřejné zákázky na projektovou přípravu ve stádiu 3:\",\"\")),\"Výpočet předpokládané hodnoty veřejné zakázky následujícího stádia je prováděn individuálně.\")","v":""},null,null,null,null,null,{"$f":"IF($I$20=\"ANO\",IF(Y3=\"Stádium 3\",SUM(AA37,AA42:AB44),IF(Y3=\"Stádium 2\",IF((SUM(AA37:AB42))>0,SUM(AA37:AB42),\"\"),\"\")),\"\")","v":""}]
[{"$f":"IF($I$20=\"ANO\",IF($E$3=\"Stádium 2\",IF('1A'!I22>0,\"A.2.2.1 *)\",\"\"),\"\"),\"\")","v":""},{"$f":"IF($I$20=\"ANO\",IF(E3=\"Stádium 3\",\"Předpokládaná hodnota plnění zhotovitele\",IF($E$3=\"Stádium 2\",IF('1A'!I22>0,'1A'!D22,\"\"),\"\")),\"\")","v":""},null,null,null,null,{"$f":"IF($I$20=\"ANO\",IF(E3=\"Stádium 3\",SUM(G38:H40),IF($E$3=\"Stádium 2\",IF('1A'!I22>0,'1A'!I22-G43,\"\"),\"\")),\"\")","v":""},null,{"$f":"IF($E$3=\"Stádium 2\",(IF('1A'!I22>0,\" - Hodnota zahrnuje náklady na činnosti, které jsou uvedené v polokžách A.2.2.1.1 až A.2.2.1.5. Tyto položky budou rozepsané v rekapitulaci v SOD\",\"\")),\"\")","v":""},null,null,null,null,null,null,null,null,null,null,null,{"$f":"IF($I$20=\"ANO\",IF($E$3=\"Stádium 2\",IF('1A'!AC22>0,\"A.2.2.1 *)\",\"\"),\"\"),\"\")","v":""},{"$f":"IF($I$20=\"ANO\",IF(Y3=\"Stádium 3\",\"Předpokládaná hodnota plnění zhotovitele\",IF($E$3=\"Stádium 2\",IF('1A'!AC22>0,'1A'!X22,\"\"),\"\")),\"\")","v":""},null,null,null,null,{"$f":"IF($I$20=\"ANO\",IF(Y3=\"Stádium 3\",SUM(AA38:AB40),IF($E$3=\"Stádium 2\",IF('1A'!AC22>0,'1A'!AC22-AA43,\"\"),\"\")),\"\")","v":""}]
[{"$f":"IF($I$20=\"ANO\",IF($E$3=\"Stádium 2\",IF('1A'!I28>0,'1A'!A28,IF('1A'!I29>0,'1A'!A29,\"\")),\"\"),\"\")","v":""},{"$f":"IF($I$20=\"ANO\",IF($E$3=\"Stádium 2\",IF(('1A'!I28+'1A'!I29)>0,\"Projektová dokumentace   - \",\"\"),\"\"),\"\")","v":""},{"$f":"IF($I$20=\"ANO\",IF(E3=\"Stádium 3\",\"Základní rozpočtové náklady jednotlivých SO (ZRN) po odečtení JŘBU\",IF($E$3=\"Stádium 2\",IF('1A'!I28>0,\"DOS\",IF('1A'!I29>0,\"DSP\",\"\")),\"\")),\"\")","v":""},null,null,{"$f":"IF($I$20=\"ANO\",IF(E3=\"Stádium 3\",\"B.1.1.1\",\"\"),\"\")","v":""},{"$f":"IF($I$20=\"ANO\",IF(E3=\"Stádium 3\",'2B'!H9-G44,IF($E$3=\"Stádium 2\",IF('1A'!I28>0,'1A'!I28,IF('1A'!I29>0,'1A'!I29,\"\")),\"\")),\"\")","v":""},null,{"$f":"IF($E$3=\"Stádium 3\",\" - B.1.1.1 náklady za SO, které bude zhotovitel oceňovat v soupisech prací. Náklady na dodávky materiálu, je li dodáván investorem, musí být zahrnut v položce  B.1.2 (v daném SO). Od položky se odčítají náklady na vyhrazené práce JŘBU\",IF($E$3=\"Stádium 2\",IF(('1A'!I28+'1A'!I29)>0,IF(E3=\"Stádium 2\",\" - Položka zahrnuje náklady Projektovou dokumentaci pro stavební povolení nebo ohlášení stavby\",),\"\"),\"\"))","v":""},null,null,null,null,null,null,null,null,null,null,null,{"$f":"IF($I$20=\"ANO\",IF($E$3=\"Stádium 2\",IF('1A'!AC28>0,'1A'!U28,IF('1A'!AC29>0,'1A'!U29,\"\")),\"\"),\"\")","v":""},{"$f":"IF($I$20=\"ANO\",IF($E$3=\"Stádium 2\",IF(('1A'!AC28+'1A'!AC29)>0,\"Projektová dokumentace   - \",\"\"),\"\"),\"\")","v":""},{"$f":"IF($I$20=\"ANO\",IF(Y3=\"Stádium 3\",\"Základní rozpočtové náklady jednotlivých SO (ZRN) po odečtení JŘBU\",IF($E$3=\"Stádium 2\",IF('1A'!AC28>0,\"DOS\",IF('1A'!AC29>0,\"DSP\",\"\")),\"\")),\"\")","v":""},null,null,{"$f":"IF($I$20=\"ANO\",IF(Y3=\"Stádium 3\",\"B.1.1.1\",\"\"),\"\")","v":""},{"$f":"IF($I$20=\"ANO\",IF(Y3=\"Stádium 3\",'2B'!AB9-AA44,IF($E$3=\"Stádium 2\",IF('1A'!AC28>0,'1A'!AC28,IF('1A'!AC29>0,'1A'!AC29,\"\")),\"\")),\"\")","v":""}]
[{"$f":"IF($I$20=\"ANO\",IF($E$3=\"Stádium 2\",IF('1A'!I34>0,'1A'!A34,\"\"),\"\"),\"\")","v":""},{"$f":"IF($I$20=\"ANO\",IF(E3=\"Stádium 3\",\"z toho\",IF(E3=\"Stádium 3\",\"Přepředpokládaná hodnota plnění zhotovitele\",IF($E$3=\"Stádium 2\",IF('1A'!I34>0,\"Osvědčení o shodě\",\"\"),\"\"))),\"\")","v":""},{"$f":"IF($I$20=\"ANO\",IF(E3=\"Stádium 3\",\"Základní rozpočtové náklady jednotlivých PS (ZRN)\",\"\"),\"\")","v":""},null,null,{"$f":"IF($I$20=\"ANO\",IF(E3=\"Stádium 3\",\"B.2.1.1\",\"\"),\"\")","v":""},{"$f":"IF($I$20=\"ANO\",IF(E3=\"Stádium 3\",'2B'!H17,IF($E$3=\"Stádium 2\",IF('1A'!I34>0,'1A'!I34,\"\"),\"\")),\"\")","v":""},null,{"$f":"IF($E$3=\"Stádium 3\",\" - B.2.1.1 náklady za PS, které bude zhotovitel oceňovat v soupisech prací.\",IF($E$3=\"Stádium 2\",IF('1A'!I34>0,\" - zajištění Osvědčení o shodě notifikovanou osobou v přípravě je standardně uvedeno ve VTP na zpracování projektové přípravy\",\"\"),\"\"))","v":""},null,null,null,null,null,null,null,null,null,null,null,{"$f":"IF($I$20=\"ANO\",IF($E$3=\"Stádium 2\",IF('1A'!AC34>0,'1A'!U34,\"\"),\"\"),\"\")","v":""},{"$f":"IF($I$20=\"ANO\",IF(Y3=\"Stádium 3\",\"z toho\",IF(Y3=\"Stádium 3\",\"Přepředpokládaná hodnota plnění zhotovitele\",IF($E$3=\"Stádium 2\",IF('1A'!AC34>0,\"Osvědčení o shodě\",\"\"),\"\"))),\"\")","v":""},{"$f":"IF($I$20=\"ANO\",IF(Y3=\"Stádium 3\",\"Základní rozpočtové náklady jednotlivých PS (ZRN)\",\"\"),\"\")","v":""},null,null,{"$f":"IF($I$20=\"ANO\",IF(Y3=\"Stádium 3\",\"B.2.1.1\",\"\"),\"\")","v":""},{"$f":"IF($I$20=\"ANO\",IF(Y3=\"Stádium 3\",'2B'!AB17,IF($E$3=\"Stádium 2\",IF('1A'!AC34>0,'1A'!AC34,\"\"),\"\")),\"\")","v":""}]
[{"$f":"IF($I$20=\"ANO\",IF($E$3=\"Stádium 2\",IF('1A'!I35>0,'1A'!A35,\"\"),\"\"),\"\")","v":""},{"$f":"IF($I$20=\"ANO\",IF(E3=\"Stádium 3\",\"\",IF(E3=\"Stádium 3\",\"Přepředpokládaná hodnota plnění zhotovitele\",IF($E$3=\"Stádium 2\",IF('1A'!I35>0,\"Koordinátor BOZP\",\"\"),\"\"))),\"\")","v":""},{"$f":"IF($I$20=\"ANO\",IF(E3=\"Stádium 3\",\"Všeobecný objekt\",\"\"),\"\")","v":""},null,null,null,{"$f":"IF($I$20=\"ANO\",IF(E3=\"Stádium 3\",IF('1A'!G30=\"Všeobecný objekt\",'1A'!I30,0)+(IF('1A'!G38=\"Všeobecný objekt\",'1A'!I38,0)+IF('1A'!G48=\"Všeobecný objekt\",'1A'!I48,0)+IF('1A'!G51=\"Všeobecný objekt\",'1A'!I51,0)+IF('1A'!G61=\"Všeobecný objekt\",'1A'!I61,0))+IF('1B'!G25=\"Všeobecný objekt\",'1B'!I25,0)+IF('1B'!G27=\"Všeobecný objekt\",'1B'!I27,0)+IF('1B'!G28=\"Všeobecný objekt\",'1B'!I28,0)+IF('1B'!G29=\"Všeobecný objekt\",'1B'!I29,0)+IF('1B'!G30=\"Všeobecný objekt\",'1B'!I30,0)+IF('1B'!G32=\"Všeobecný objekt\",'1B'!I32,0)+IF('1B'!G36=\"Všeobecný objekt\",'1B'!I36,0),IF($E$3=\"Stádium 2\",IF('1A'!I35>0,'1A'!I35,\"\"),\"\")),\"\")","v":""},null,{"$f":"IF($E$3=\"Stádium 3\",\" -  v případě, že jsou vybrané činnosti (nezahrnuté v SO a PS) předmětem plnění zhotovitele musí být pro správné načtení v sloupci G listů 1A a 1B označení Všeobecný objekt.\"&\" Jedná se o položky: A.2.2.4; A.2.5; A.4.2; A.5.1.1; A.5.3.3; B.3.1; B.3.3; B.3.4; B.3.5; B.3.6; B.3.7.1; B.3.9)\",IF($E$3=\"Stádium 2\",IF('1A'!I35>0,\" - zajištění činnosti Koordinátora BOZP v přípravě je standardně uvedeno ve VTP na zpracování projektové přípravy\",\"\"),\"\"))","v":""},null,null,null,null,null,null,null,null,null,null,null,{"$f":"IF($I$20=\"ANO\",IF($E$3=\"Stádium 2\",IF('1A'!AC35>0,'1A'!U35,\"\"),\"\"),\"\")","v":""},{"$f":"IF($I$20=\"ANO\",IF(Y3=\"Stádium 3\",\"\",IF(Y3=\"Stádium 3\",\"Přepředpokládaná hodnota plnění zhotovitele\",IF($E$3=\"Stádium 2\",IF('1A'!AC35>0,\"Koordinátor BOZP\",\"\"),\"\"))),\"\")","v":""},{"$f":"IF($I$20=\"ANO\",IF(Y3=\"Stádium 3\",\"Všeobecný objekt\",\"\"),\"\")","v":""},null,null,null,{"$f":"IF($I$20=\"ANO\",IF(Y3=\"Stádium 3\",IF('1A'!AA30=\"Všeobecný objekt\",'1A'!AC30,0)+(IF('1A'!AA38=\"Všeobecný objekt\",'1A'!AC38,0)+IF('1A'!AA48=\"Všeobecný objekt\",'1A'!AC48,0)+IF('1A'!AA51=\"Všeobecný objekt\",'1A'!AC51,0)+IF('1A'!AA61=\"Všeobecný objekt\",'1A'!AC61,0))+IF('1B'!AA25=\"Všeobecný objekt\",'1B'!AC25,0)+IF('1B'!AA27=\"Všeobecný objekt\",'1B'!AC27,0)+IF('1B'!AA28=\"Všeobecný objekt\",'1B'!AC28,0)+IF('1B'!AA29=\"Všeobecný objekt\",'1B'!AC29,0)+IF('1B'!AA30=\"Všeobecný objekt\",'1B'!AC30,0)+IF('1B'!AA32=\"Všeobecný objekt\",'1B'!AC32,0)+IF('1B'!AA36=\"Všeobecný objekt\",'1B'!AC36,0),IF($E$3=\"Stádium 2\",IF('1A'!AC35>0,'1A'!AC35,\"\"),\"\")),\"\")","v":""}]
[{"$f":"IF($I$20=\"ANO\",IF(E3=\"Stádium 3\",\"z toho\",IF($E$3=\"Stádium 2\",IF('1A'!I36>0,'1A'!A36,\"\"),\"\")),\"\")","v":""},{"$f":"IF($I$20=\"ANO\",IF(E3=\"Stádium 3\",\"Předpokládaná hodnota souvisejících plnění\",IF($E$3=\"Stádium 2\",IF('1A'!I36>0,\"Žádost o spolufinancování\",\"\"),\"\")),\"\")","v":""},null,null,null,null,{"$f":"IF($I$20=\"ANO\",IF(E3=\"Stádium 3\",SUM(G42:H44),IF($E$3=\"Stádium 2\",IF('1A'!I36>0,IF($F$41=\"zařazeno\",'1A'!I36,\"\"),\"\"),\"\")),\"\")","v":""},null,{"$f":"IF($E$3=\"Stádium 2\",IF('1A'!I36>0,\" - [zařazeno] se uvede ve vyznačeném poli [F40] v případě, že vypracování podkladů k Žádosti o spolufinancování bude předmětem Díla na zpracování DSP/DOS \",\"\"),\"\")","v":""},null,null,null,null,null,null,null,null,null,null,null,{"$f":"IF($I$20=\"ANO\",IF(Y3=\"Stádium 3\",\"z toho\",IF($E$3=\"Stádium 2\",IF('1A'!AC36>0,'1A'!U36,\"\"),\"\")),\"\")","v":""},{"$f":"IF($I$20=\"ANO\",IF(Y3=\"Stádium 3\",\"Předpokládaná hodnota souvisejících plnění\",IF($E$3=\"Stádium 2\",IF('1A'!AC36>0,\"Žádost o spolufinancování\",\"\"),\"\")),\"\")","v":""},null,null,null,null,{"$f":"IF($I$20=\"ANO\",IF(Y3=\"Stádium 3\",SUM(AA42:AB44),IF($E$3=\"Stádium 2\",IF('1A'!AC36>0,IF($F$41=\"zařazeno\",'1A'!AC36,\"\"),\"\"),\"\")),\"\")","v":""}]
[{"$f":"IF($I$20=\"ANO\",IF($E$3=\"Stádium 2\",IF('1A'!I37>0,'1A'!A37,\"\"),\"\"),\"\")","v":""},{"$f":"IF($I$20=\"ANO\",IF(E5=\"Stádium 3\",\"\",IF(E5=\"Stádium 3\",\"Přepředpokládaná hodnota plnění zhotovitele\",IF($E$3=\"Stádium 2\",IF('1A'!I37>0,\"Ostatní činnosti\",\"\"),\"\"))),\"\")","v":""},{"$f":"IF($I$20=\"ANO\",IF(E3=\"Stádium 3\",\"Vyhrazené změny závazků ze smlouvy\",\"\"),\"\")","v":""},null,null,null,{"$f":"IF($I$20=\"ANO\",IF(E3=\"Stádium 3\",IF(F42=\"nezařazeno\",0,IF(F42=\"zařazeno\",4%*('2B'!H9+'2B'!H17),\"\")),IF($E$3=\"Stádium 2\",IF('1A'!I37>0,IF(F42=\"zařazeno\",'1A'!I37,\"\"),\"\"),\"\")),\"\")","v":""},null,null,null,null,null,null,null,null,null,null,null,null,null,{"$f":"IF($I$20=\"ANO\",IF($E$3=\"Stádium 2\",IF('1A'!AC37>0,'1A'!U37,\"\"),\"\"),\"\")","v":""},{"$f":"IF($I$20=\"ANO\",IF(Y5=\"Stádium 3\",\"\",IF(Y5=\"Stádium 3\",\"Přepředpokládaná hodnota plnění zhotovitele\",IF($E$3=\"Stádium 2\",IF('1A'!AC37>0,\"Ostatní činnosti\",\"\"),\"\"))),\"\")","v":""},{"$f":"IF($I$20=\"ANO\",IF(Y3=\"Stádium 3\",\"Vyhrazené změny závazků ze smlouvy\",\"\"),\"\")","v":""},null,null,null,{"$f":"IF($I$20=\"ANO\",IF(Y3=\"Stádium 3\",IF(Z42=\"nezařazeno\",0,IF(Z42=\"zařazeno\",4%*('2B'!AB9+'2B'!AB17),\"\")),IF($E$3=\"Stádium 2\",IF('1A'!AC37>0,IF(Z42=\"zařazeno\",'1A'!AC37,\"\"),\"\"),\"\")),\"\")","v":""}]
[null,{"$f":"IF($I$20=\"ANO\",IF(E3=\"Stádium 3\",\"z toho\",\"\"),\"\")","v":""},{"$f":"IF($I$20=\"ANO\",IF(E3=\"Stádium 3\",\"Hodnota zadavatelem poskytnutých služeb/stavebních prací, které jsou nezbytné pro plnění zakázky\",IF($E$3=\"Stádium 2\",\"*) odečet nákladů z A.2.2.1 na práce již provedené před zadávacím řízením na projektovou přípravu\",\"\")),\"\")","v":""},null,null,null,null,null,{"$f":"IF($E$3=\"Stádium 3\",\"  -   zařazeno v položkách B.1.2 nebo B.2.2.\",IF($E$3=\"Stádium 2\",IF('1A'!I37>0,\" -  odečet nákladů z položky A.2.2.1\",\"\"),\"\"))","v":""},{"$f":"IF($E$3=\"Stádium 3\",\" - materiál nový (centrální nákup) nebo užitý (z MTZ), který dodává na stavbu SŽDC přímo, tj. hodnotu zadavatelem poskytnutých dodávek služeb nebo stavebních prací které jsou nezbytné pro plnění zakázky na zhotovení stavby (dle §22 ZZVZ)\",IF($E$3=\"Stádium 2\",IF('1A'!I37>0,\"(odečítají se náklady za služby, které byly již provedené přednostně, nebo jsou/budou součástí jiných smluvních ujednání)\",\"\"),\"\"))","v":""},null,null,null,null,null,null,null,null,null,null,null,{"$f":"IF($I$20=\"ANO\",IF(Y3=\"Stádium 3\",\"z toho\",\"\"),\"\")","v":""},{"$f":"IF($I$20=\"ANO\",IF(Y3=\"Stádium 3\",\"Hodnota zadavatelem poskytnutých služeb/stavebních prací, které jsou nezbytné pro plnění zakázky\",IF($E$3=\"Stádium 2\",\"*) odečet nákladů z A.2.2.1 na práce již provedené před zadávacím řízením na projektovou přípravu\",\"\")),\"\")","v":""}]
[null,null,{"$f":"IF($I$20=\"ANO\",IF(E3=\"Stádium 3\",\"Hodnotu nákladů na nové práce, na jejichž poskytnutí si zadavatel vyhrazuje možnost použití JŘBU\",\"\"),\"\")","v":""},null,null,null,null,null,{"$f":"IF($E$3=\"Stádium 3\",\" - jedná se o náklady na činnosti, vyhrazené jako opce (§66 ZZVZ) např. následná směrová a výšková úprava, náklady jsou standardně zahrnuté v B.1.1.1 a od ZRN v řádku 37 se automaticky odečítají \",\"\")","v":""},null,null,null,null,null,null,null,null,null,null,null,null,null,{"$f":"IF($I$20=\"ANO\",IF(Y3=\"Stádium 3\",\"Hodnotu nákladů na nové práce, na jejichž poskytnutí si zadavatel vyhrazuje možnost použití JŘBU\",\"\"),\"\")","v":""}]
[]
["Vypracoval :",null,null,"Zástupce investora kontroloval:",null,null,null,null,{"$f":"IF(E3=\"Stádium 3\",\"Všeobecný objekt musí zahrnovat položky:\",\"\")","v":""},null,null,null,null,null,null,null,null,null,null,null,"Vypracoval :",null,null,"Zástupce investora kontroloval:"]
["jméno a příjmení",null,null,"jméno a příjmení",null,null,null,null,{"$f":"IF($E$3=\"Stádium 3\",(IF('1A'!G30=\"Všeobecný objekt\",'1A'!I30,\"\")),\"\")","v":""},{"$f":"IF($E$3=\"Stádium 3\",'1A'!A30,\"\")","v":""},{"$f":"IF(E3=\"Stádium 3\",'1A'!D30,\"\")","v":""},null,null,null,null,null,null,null,null,null,"jméno a příjmení",null,null,"jméno a příjmení"]
["obchodní název společnosti, v případě fyzické osoby podnikající  IČO",null,null,"organizační složka SŽ",null,null,null,null,{"$f":"IF($E$3=\"Stádium 3\",(IF('1A'!G38=\"Všeobecný objekt\",'1A'!I38,\"\")),\"\")","v":""},{"$f":"IF($E$3=\"Stádium 3\",'1A'!A38,\"\")","v":""},{"$f":"IF(E3=\"Stádium 3\",'1A'!C38,\"\")","v":""},null,null,null,null,null,null,null,null,null,"obchodní název společnosti, v případě fyzické osoby podnikající  IČO",null,null,"organizační složka SŽ"]
["adresa",null,null,"adresa",null,null,null,null,{"$f":"IF($E$3=\"Stádium 3\",(IF('1A'!G48=\"Všeobecný objekt\",'1A'!I48,\"\")),\"\")","v":""},{"$f":"IF($E$3=\"Stádium 3\",'1A'!A48,\"\")","v":""},{"$f":"IF(E3=\"Stádium 3\",'1A'!C48,\"\")","v":""},null,null,null,null,null,null,null,null,null,"adresa",null,null,"adresa"]
["Datum :","dd.mm.rrrr",null,"Datum :","dd.mm.rrrr",null,null,null,{"$f":"IF($E$3=\"Stádium 3\",(IF('1A'!G51=\"Všeobecný objekt\",'1A'!I51,\"\")),\"\")","v":""},{"$f":"IF($E$3=\"Stádium 3\",'1A'!A51,\"\")","v":""},{"$f":"IF(E3=\"Stádium 3\",'1A'!D51,\"\")","v":""},null,null,null,null,null,null,null,null,null,"Datum :","dd.mm.rrrr",null,"Datum :","dd.mm.rrrr"]
["Podpis:",null,null,"Podpis:",null,null,null,null,{"$f":"IF($E$3=\"Stádium 3\",(IF('1A'!H61=0,\"\",'1A'!H61)),\"\")","v":""},{"$f":"IF($E$3=\"Stádium 3\",'1A'!A61,\"\")","v":""},{"$f":"IF(E3=\"Stádium 3\",'1A'!D61,\"\")","v":""},null,null,null,null,null,null,null,null,null,"Podpis:",null,null,"Podpis:"]
["GŘ SŽ s.o.:",null,null,null,null,null,null,null,{"$f":"IF($E$3=\"Stádium 3\",(IF('1B'!G25=\"Všeobecný objekt\",'1B'!I25,\"\")),\"\")","v":""},{"$f":"IF($E$3=\"Stádium 3\",'1B'!A25,\"\")","v":""},{"$f":"IF($E$3=\"Stádium 3\",'1B'!C25,\"\")","v":""},null,null,null,null,null,null,null,null,null,"GŘ SŽ s.o.:"]
[null,null,null,null,null,null,null,null,{"$f":"IF($E$3=\"Stádium 3\",(IF('1B'!G27=\"Všeobecný objekt\",'1B'!I27,\"\")),\"\")","v":""},{"$f":"IF($E$3=\"Stádium 3\",'1B'!A27,\"\")","v":""},{"$f":"IF($E$3=\"Stádium 3\",'1B'!C27,\"\")","v":""}]
[null,null,null,null,null,null,null,null,{"$f":"IF($E$3=\"Stádium 3\",(IF('1B'!G28=\"Všeobecný objekt\",'1B'!I28,\"\")),\"\")","v":""},{"$f":"IF($E$3=\"Stádium 3\",'1B'!A28,\"\")","v":""},{"$f":"IF($E$3=\"Stádium 3\",'1B'!C28,\"\")","v":""}]
[null,null,null,null,null,null,null,null,{"$f":"IF($E$3=\"Stádium 3\",(IF('1B'!G29=\"Všeobecný objekt\",'1B'!I29,\"\")),\"\")","v":""},{"$f":"IF($E$3=\"Stádium 3\",'1B'!A29,\"\")","v":""},{"$f":"IF($E$3=\"Stádium 3\",'1B'!C29,\"\")","v":""}]
[null,null,null,null,null,null,null,null,{"$f":"IF($E$3=\"Stádium 3\",(IF('1B'!G30=\"Všeobecný objekt\",'1B'!I30,\"\")),\"\")","v":""},{"$f":"IF($E$3=\"Stádium 3\",'1B'!A30,\"\")","v":""},{"$f":"IF($E$3=\"Stádium 3\",'1B'!C30,\"\")","v":""}]
[null,null,null,null,null,null,null,null,{"$f":"IF($E$3=\"Stádium 3\",(IF('1B'!G32=\"Všeobecný objekt\",'1B'!I32,\"\")),\"\")","v":""},{"$f":"IF($E$3=\"Stádium 3\",'1B'!A32,\"\")","v":""},{"$f":"IF($E$3=\"Stádium 3\",'1B'!D32,\"\")","v":""}]
[null,null,null,null,null,null,null,null,{"$f":"IF($E$3=\"Stádium 3\",(IF('1B'!G36=\"Všeobecný objekt\",'1B'!I36,\"\")),\"\")","v":""},{"$f":"IF($E$3=\"Stádium 3\",'1B'!A36,\"\")","v":""},{"$f":"IF($E$3=\"Stádium 3\",'1B'!C36,\"\")","v":""}]
[null,null,null,null,null,null,null,null,null,null,{"$f":"IF($E$3=\"Stádium 3\",(IF('1B'!G36=\"Všeobecný objekt\",\"(Ostatní náklady je nutné ve Všeobecném objektu rozepsat)\",\"\")),\"\")","v":""}]
[null,null,null,null,null,null,null,null,{"$f":"IF($E$3=\"Stádium 3\",SUM(I47:I58),\"\")","v":""}]

{"sheet":"1A","index":1,"n_rows":73,"n_cols":43,"rows_kept":73,"cut":false,"hidden":false,"merged":[[86,0,86,4],[86,5,86,6],[87,0,87,4],[87,5,87,6],[83,0,83,4],[83,5,83,6],[84,0,84,4],[84,5,84,6],[85,0,85,4],[85,5,85,6],[80,0,80,4],[80,5,80,6],[81,0,81,4],[81,5,81,6],[82,0,82,4],[82,5,82,6],[77,5,77,6],[78,0,78,4],[78,5,78,6],[79,0,79,4],[79,5,79,6],[88,0,88,4],[72,5,72,6],[72,0,72,4],[88,5,88,6],[3,14,3,15],[70,6,70,10],[69,5,69,10],[73,0,73,4],[73,5,73,6],[74,0,74,4],[74,5,74,6],[75,0,75,4],[75,5,75,6],[76,0,76,4],[76,5,76,6],[77,0,77,4],[60,5,60,6],[1,0,1,1],[31,4,31,5],[1,2,1,10],[4,9,4,10],[2,2,2,3],[2,9,2,10],[3,1,3,2],[3,3,3,6],[4,0,4,1],[4,2,4,5],[4,8,5,8],[2,6,2,7],[2,4,2,5]]}
["Náklady stavby v aktuáním roce:",null,null,null,{"$f":"'Krycí list SR'!$F$4","v":2022},null,null,null,null,"Formulář 1.A",{"$f":"'Krycí list SR'!$H$1","v":"SRP/2022/prozatimní"}]
["Název stavby:",null,{"$f":"IF('Krycí list SR'!B2=\"\",\"\",'Krycí list SR'!B2)","v":""}]
["ISPROFIN:",null,{"$f":"IF('Krycí list SR'!$B$3=\"\",\"\",'Krycí list SR'!$B$3)","v":""},null,"Označení (S-kód):",null,{"$f":"IF('Krycí list SR'!D3=\"\",\"\",'Krycí list SR'!D3)","v":""},null,{"$f":"IF('Krycí list SR'!E3=\"\",\"\",'Krycí list SR'!E3)","v":""},{"$f":"IF('Krycí list SR'!F3=\"STÁDIUM - vybrat v poli E3\",\"\",'Krycí list SR'!F3)","v":""}]
["Investor:","SŽ",null,{"$f":"IF('Krycí list SR'!$B$5=\"\",\"\",'Krycí list SR'!$B$5)","v":"Stavební správa západ, Ke Štvanici 656/3,186 00  Praha 8"},null,null,null,"IČO:",{"$f":"'Krycí list SR'!$D$8","v":70994234},"DIČ:",{"$f":"'Krycí list SR'!D9","v":"CZ70994234"},null,null,"CIN:",{"$f":"'Krycí list SR'!G13","v":0}]
["Jiný investor:",null,{"$f":"IF('Krycí list SR'!$B$7=\"\",\"neurčen\",'Krycí list SR'!$B$7)","v":"neurčen"},null,null,null,null,null,"Náklady celkem\n\n[Kč]","Náklady dle rozdělení majektu",null,null,null,"Tabulky stanovení nákladů",null,null,null,null,null,null,null,null,null,null,null,null,null,null,null,null,null,null,null,null,null,null,null,null,"Formátování"]
["A","Příprava a celkové zabezpečení stavby",null,null,null,null,"Zařazení nákladů ve stádiích realizace","stanovení nákladů",null,"SŽ","Ostatní","Pole pro pracovní výpočty\nbez tisku","výplň",null,null,null,"procentní sazba",null,null,null,null,null,null,null,null,null,null,null,null,null,null,null,null,null,null,null,null,null,"kontrola",null,"Kontrola překročení llimitní hranice % sazby"]
[]
["A.1","Náklady investorsko - inženýrské činnosti ve výstavbě",null,null,null,null,null,"Nezařazeno",null,{"$f":"I8*hide!$D$59","v":0},{"$f":"I8-J8","v":0},null,{"$f":"IF('1A'!$H8=\"Individuálně\",IF('1A'!$I8=\"\",\"označit\",\"vyplněno\"),IF('1A'!$H8>0%,\"vyplněno\",\"označit\"))","v":"vyplněno"},null,"Individuálně","Nezařazeno",0.08,7.4999999999999997E-2,7.0000000000000007E-2,6.5000000000000002E-2,0.06,5.5E-2,0.05,4.5000000000000102E-2,4.0000000000000098E-2,3.50000000000001E-2,3.00000000000001E-2,2.5000000000000099E-2,2.0000000000000101E-2,null,null,null,null,null,null,null,null,null,{"$f":"IF('1A'!I8>0,IF('1A'!H8=\"\",\"X\",\"OK\"),\"OK\")","v":"OK"},null,{"$f":"IF(($O$4>1800000000)=TRUE,IF((((I9+I42+I46+I49+'1B'!I45)*Y8)+1)>'1A'!I8=TRUE,\"OK\",\"PŘEKROČENÉ %\"),IF(($O$4>500000000)=TRUE,IF((((I9+I42+I46+I49+'1B'!I45)*'1A'!U8)+1)>'1A'!I8=TRUE,\"OK\",\"PŘEKROČENÉ %\"),IF(($O$4>50000000)=TRUE,IF((((I9+I42+I46+I49+'1B'!I45)*Q8)+1)>'1A'!I8=TRUE,\"OK\",\"PŘEKROČENÉ %\"), IF(($O$4<50000000)=TRUE,IF(((I9+I42+I46+I49+'1B'!I45)*'1A'!Q8)>'1A'!I8=TRUE,\"OK\",\"pod 50 mil. Kč\"),\"PŘEKROČENÉ %\"))))","v":"pod 50 mil. Kč"},{"$f":"IF(AO8=\"PŘEKROČENÉ %\",IF(H8=\"Smluvně\",0,IF(H8=\"Nezařazeno\",0,IF(H8=\"Individuálně\",IF(AO8=\"PŘEKROČENÉ %\",100,1),1))),0)","v":0},{"$f":"IF(AO8=\"PŘEKROČENÉ %\",IF(H8=\"Smluvně\",0,IF(H8=\"Nezařazeno\",0,IF(H8=\"Individuálně\",IF(AP8=\"PŘEKROČENÉ %\",0,0),1))),0)","v":0}]
["A.2","Náklady na dokumentace stavby",null,null,null,null,null,null,{"$f":"I10+I21+I32+I33+I38","v":0},{"$f":"J10+J21+J32+J33+J38","v":0},{"$f":"K10+K21+K32+K33+K38","v":0},null,null,null,null,null,null,null,null,null,null,null,null,null,null,null,null,null,null,null,null,null,null,null,null,null,null,null,null,null,null,0,0]
["A.2.1","z toho","Náklady na předprojektové dokumentace pro přípravu stavby",null,null,null,null,null,{"$f":"I11+I17+I18+I19+I20","v":0},{"$f":"J11+J19+J20+J17","v":0},{"$f":"K11+K19+K20+K17","v":0},null,null,null,null,null,null,null,null,null,null,null,null,null,null,null,null,null,null,null,null,null,null,null,null,null,null,null,null,null,null,0,0]
["A.2.1.1",null,"z toho","Práce prováděné pro zpracování předprojektových dokumentací",null,null,null,null,{"$f":"SUM(I12:I16)","v":0},{"$f":"I11*hide!$D$59","v":0},{"$f":"I11-J11","v":0},null,null,null,null,null,null,null,null,null,null,null,null,null,null,null,null,null,null,null,null,null,null,null,null,null,null,null,null,null,null,0,0]
["A.2.1.1.1",null,null,"z toho","Geodetické práce a mapové podklady",null,null,"Nezařazeno",null,{"$f":"I12*hide!$D$59","v":0},0,null,{"$f":"IF('1A'!$H12=\"Individuálně\",IF('1A'!$I12=\"\",\"označit\",\"vyplněno\"),IF('1A'!$H12=\"Smluvně\",IF('1A'!$I12=\"\",\"označit\",\"vyplněno\"),(IF('1A'!$H12>0%,\"vyplněno\",\"označit\"))))","v":"vyplněno"},"Smluvně","Individuálně","Nezařazeno",5.0000000000000001E-3,4.0000000000000001E-3,3.0000000000000001E-3,2E-3,1E-3,null,null,null,null,null,null,null,null,null,null,null,null,null,null,null,null,null,{"$f":"IF('1A'!I12>0,IF('1A'!H12=\"\",\"X\",\"OK\"),\"OK\")","v":"OK"},null,{"$f":"IF(($O$4>1800000000)=TRUE,IF(((('2B'!$H$9+'2B'!$H$17)*U12)+1)>'1A'!I12=TRUE,\"OK\",\"PŘEKROČENÉ %\"),IF(($O$4>500000000)=TRUE,IF(((('2B'!$H$9+'2B'!$H$17)*'1A'!S12)+1)>'1A'!I12=TRUE,\"OK\",\"PŘEKROČENÉ %\"),IF(($O$4>50000000)=TRUE,IF(((('2B'!$H$9+'2B'!$H$17)*Q12)+1)>'1A'!I12=TRUE,\"OK\",\"PŘEKROČENÉ %\"), IF(($O$4<50000000)=TRUE,IF((('2B'!$H$9+'2B'!$H$17)*'1A'!Q12)>'1A'!I12=TRUE,\"OK\",\"pod 50 mil. Kč\"),\"PŘEKROČENÉ %\"))))","v":"pod 50 mil. Kč"},0,0]
["A.2.1.1.2",null,null,null,"Průzkumné práce pro předprojektové dokumentace",null,null,"Nezařazeno",null,{"$f":"I13*hide!$D$59","v":0},0,null,{"$f":"IF('1A'!$H13=\"Individuálně\",IF('1A'!$I13=\"\",\"označit\",\"vyplněno\"),IF('1A'!$H13=\"Smluvně\",IF('1A'!$I13=\"\",\"označit\",\"vyplněno\"),(IF('1A'!$H13>0%,\"vyplněno\",\"označit\"))))","v":"vyplněno"},"Smluvně","Individuálně","Nezařazeno",6.0000000000000001E-3,5.0000000000000001E-3,4.0000000000000001E-3,3.0000000000000001E-3,2E-3,null,null,null,null,null,null,null,null,null,null,null,null,null,null,null,null,null,{"$f":"IF('1A'!I13>0,IF('1A'!H13=\"\",\"X\",\"OK\"),\"OK\")","v":"OK"},null,{"$f":"IF(($O$4>1800000000)=TRUE,IF(((('2B'!$H$9+'2B'!$H$17)*U13)+1)>'1A'!I13=TRUE,\"OK\",\"PŘEKROČENÉ %\"),IF(($O$4>500000000)=TRUE,IF(((('2B'!$H$9+'2B'!$H$17)*'1A'!S13)+1)>'1A'!I13=TRUE,\"OK\",\"PŘEKROČENÉ %\"),IF(($O$4>50000000)=TRUE,IF(((('2B'!$H$9+'2B'!$H$17)*Q13)+1)>'1A'!I13=TRUE,\"OK\",\"PŘEKROČENÉ %\"), IF(($O$4<50000000)=TRUE,IF((('2B'!$H$9+'2B'!$H$17)*'1A'!Q13)>'1A'!I13=TRUE,\"OK\",\"pod 50 mil. Kč\"),\"PŘEKROČENÉ %\"))))","v":"pod 50 mil. Kč"},0,0]
["A.2.1.1.3",null,null,null,"Posouzení vlivu stavby na životní prostředí",null,null,"Nezařazeno",null,{"$f":"I14*hide!$D$59","v":0},0,null,{"$f":"IF('1A'!$H14=\"Individuálně\",IF('1A'!$I14=\"\",\"označit\",\"vyplněno\"),IF('1A'!$H14=\"Smluvně\",IF('1A'!$I14=\"\",\"označit\",\"vyplněno\"),(IF('1A'!$H14>0%,\"vyplněno\",\"označit\"))))","v":"vyplněno"},"Smluvně","Individuálně","Nezařazeno","není určena",null,null,null,null,null,null,null,null,null,null,null,null,null,null,null,null,null,null,null,null,null,{"$f":"IF('1A'!I14>0,IF('1A'!H14=\"\",\"X\",\"OK\"),\"OK\")","v":"OK"},null,null,0,0]
["A.2.1.1.4",null,null,null,"Inženýrská činnost pro předprojektové dokumentace",null,null,"Nezařazeno",null,{"$f":"I15*hide!$D$59","v":0},0,null,{"$f":"IF('1A'!$H15=\"Individuálně\",IF('1A'!$I15=\"\",\"označit\",\"vyplněno\"),IF('1A'!$H15=\"Smluvně\",IF('1A'!$I15=\"\",\"označit\",\"vyplněno\"),(IF('1A'!$H15>0%,\"vyplněno\",\"označit\"))))","v":"vyplněno"},"Smluvně","Individuálně","Nezařazeno",3.0000000000000001E-3,2.8999999999999998E-3,2.8E-3,2.7000000000000001E-3,2.5999999999999999E-3,2.5000000000000001E-3,2.3999999999999998E-3,2.3E-3,2.2000000000000001E-3,2.0999999999999999E-3,2E-3,1.9E-3,1.8E-3,1.6999999999999999E-3,1.6000000000000001E-3,1.5E-3,null,null,null,null,null,null,{"$f":"IF('1A'!I15>0,IF('1A'!H15=\"\",\"X\",\"OK\"),\"OK\")","v":"OK"},null,{"$f":"IF(($O$4>1800000000)=TRUE,IF(((('2B'!$H$9+'2B'!$H$17)*AF15)+1)>'1A'!I15=TRUE,\"OK\",\"PŘEKROČENÉ %\"),IF(($O$4>500000000)=TRUE,IF(((('2B'!$H$9+'2B'!$H$17)*'1A'!AA15)+1)>'1A'!I15=TRUE,\"OK\",\"PŘEKROČENÉ %\"),IF(($O$4>50000000)=TRUE,IF(((('2B'!$H$9+'2B'!$H$17)*Q15)+1)>'1A'!I15=TRUE,\"OK\",\"PŘEKROČENÉ %\"), IF(($O$4<50000000)=TRUE,IF((('2B'!$H$9+'2B'!$H$17)*'1A'!Q15)>'1A'!I15=TRUE,\"OK\",\"pod 50 mil. Kč\"),\"PŘEKROČENÉ %\"))))","v":"pod 50 mil. Kč"},0,0]
["A.2.1.1.5",null,null,null,"Ostatní náklady pro předprojektové dokumentace",null,null,"Nezařazeno",null,{"$f":"I16*hide!$D$59","v":0},0,null,{"$f":"IF('1A'!$H16=\"Individuálně\",IF('1A'!$I16=\"\",\"označit\",\"vyplněno\"),IF('1A'!$H16=\"Smluvně\",IF('1A'!$I16=\"\",\"označit\",\"vyplněno\"),(IF('1A'!$H16>0%,\"vyplněno\",\"označit\"))))","v":"vyplněno"},"Smluvně","Individuálně","Nezařazeno","není určena",null,null,null,null,null,null,null,null,null,null,null,null,null,null,null,null,null,null,null,null,null,{"$f":"IF('1A'!I16>0,IF('1A'!H16=\"\",\"X\",\"OK\"),\"OK\")","v":"OK"},null,null,0,0]
["A.2.1.2",null,null,"Záměr projektu",null,null,null,"Nezařazeno",null,{"$f":"I17*hide!$D$59","v":0},0,null,{"$f":"IF('1A'!$H17=\"Individuálně\",IF('1A'!$I17=\"\",\"označit\",\"vyplněno\"),IF('1A'!$H17=\"Smluvně\",IF('1A'!$I17=\"\",\"označit\",\"vyplněno\"),(IF('1A'!$H17>0%,\"vyplněno\",\"označit\"))))","v":"vyplněno"},"Smluvně","Individuálně","Nezařazeno",4.0000000000000001E-3,3.5000000000000001E-3,3.0000000000000001E-3,2.5000000000000001E-3,2E-3,1.9E-3,1.8E-3,1.6999999999999999E-3,1.6000000000000001E-3,1.5E-3,1.4E-3,1.2999999999999999E-3,1.1999999999999999E-3,1.1000000000000001E-3,1E-3,null,null,null,null,null,null,null,{"$f":"IF('1A'!I17>0,IF('1A'!H17=\"\",\"X\",\"OK\"),\"OK\")","v":"OK"},null,null,0,0]
[null,null,null,"Neobsazeno",null,null,null,null,null,null,null,null,{"$f":"IF('1A'!$H18=\"Individuálně\",IF('1A'!$I18=\"\",\"označit\",\"vyplněno\"),IF('1A'!$H18=\"Smluvně\",IF('1A'!$I18=\"\",\"označit\",\"vyplněno\"),(IF('1A'!$H18>0%,\"vyplněno\",\"označit\"))))","v":"označit"},"Smluvně","Individuálně","Nezařazeno",null,null,null,null,null,null,null,null,null,null,null,null,null,null,null,null,null,null,null,null,null,null,{"$f":"IF('1A'!I18>0,IF('1A'!H18=\"\",\"X\",\"OK\"),\"OK\")","v":"OK"},null,null,0,0]
["A.2.1.3",null,null,"Dokumentace pro územní řízení",null,null,null,"Nezařazeno",null,{"$f":"I19*hide!$D$59","v":0},{"$f":"I19-J19","v":0},null,{"$f":"IF('1A'!$H19=\"Individuálně\",IF('1A'!$I19=\"\",\"označit\",\"vyplněno\"),IF('1A'!$H19=\"Smluvně\",IF('1A'!$I19=\"\",\"označit\",\"vyplněno\"),(IF('1A'!$H19>0%,\"vyplněno\",\"označit\"))))","v":"vyplněno"},"Smluvně","Individuálně","Nezařazeno",0.02,1.9E-2,1.7999999999999999E-2,1.7000000000000001E-2,1.6E-2,1.4999999999999999E-2,1.4E-2,1.2999999999999999E-2,1.2E-2,1.0999999999999999E-2,0.01,8.9999999999999993E-3,8.0000000000000002E-3,7.0000000000000001E-3,6.0000000000000001E-3,5.0000000000000001E-3,null,null,null,null,null,null,{"$f":"IF('1A'!I19>0,IF('1A'!H19=\"\",\"X\",\"OK\"),\"OK\")","v":"OK"},null,{"$f":"IF(($O$4>1800000000)=TRUE,IF(((('2B'!$H$9+'2B'!$H$17)*AC19)+1)>'1A'!I19=TRUE,\"OK\",\"PŘEKROČENÉ %\"),IF(($O$4>500000000)=TRUE,IF(((('2B'!$H$9+'2B'!$H$17)*'1A'!V19)+1)>'1A'!I19=TRUE,\"OK\",\"PŘEKROČENÉ %\"),IF(($O$4>50000000)=TRUE,IF(((('2B'!$H$9+'2B'!$H$17)*Q19)+1)>'1A'!I19=TRUE,\"OK\",\"PŘEKROČENÉ %\"), IF(($O$4<50000000)=TRUE,IF((('2B'!$H$9+'2B'!$H$17)*'1A'!Q19)>'1A'!I19=TRUE,\"OK\",\"pod 50 mil. Kč\"),\"PŘEKROČENÉ %\"))))","v":"pod 50 mil. Kč"},0,0]
["A.2.1.4",null,null,"Dodatky k předprojektovým dokumentacím pro přípravu stavby",null,null,null,"Nezařazeno",null,{"$f":"I20*hide!$D$59","v":0},{"$f":"I20-J20","v":0},null,{"$f":"IF('1A'!$H20=\"Individuálně\",IF('1A'!$I20=\"\",\"označit\",\"vyplněno\"),IF('1A'!$H20=\"Smluvně\",IF('1A'!$I20=\"\",\"označit\",\"vyplněno\"),(IF('1A'!$H20>0%,\"vyplněno\",\"označit\"))))","v":"vyplněno"},"Smluvně","Individuálně","Nezařazeno","není určena",null,null,null,null,null,null,null,null,null,null,null,null,null,null,null,null,null,null,null,null,null,{"$f":"IF('1A'!I20>0,IF('1A'!H20=\"\",\"X\",\"OK\"),\"OK\")","v":"OK"},null,null,0,0]
["A.2.2",null,"Náklady na projektové dokumentace",null,null,null,null,null,{"$f":"I22+I28+I29+I30+I31","v":0},{"$f":"J22+J28+J29+J30+J31","v":0},{"$f":"K22+K28+K29+K30+K31","v":0},null,null,null,null,null,null,null,null,null,null,null,null,null,null,null,null,null,null,null,null,null,null,null,null,null,null,null,null,null,null,0,0]
["A.2.2.1",null,"z toho","Práce prováděné pro zpracování projektových dokumentací",null,null,null,null,{"$f":"SUM(I23:I27)","v":0},{"$f":"SUM(J23:J27)","v":0},{"$f":"SUM(K23:K27)","v":0},null,null,null,null,null,null,null,null,null,null,null,null,null,null,null,null,null,null,null,null,null,null,null,null,null,null,null,null,null,null,0,0]
["A.2.2.1.1",null,null,"z toho","Geodetické práce a mapové podklady",null,null,"Nezařazeno",null,{"$f":"I23*hide!$D$59","v":0},{"$f":"I23-J23","v":0},null,{"$f":"IF('1A'!$H23=\"Individuálně\",IF('1A'!$I23=\"\",\"označit\",\"vyplněno\"),IF('1A'!$H23=\"Smluvně\",IF('1A'!$I23=\"\",\"označit\",\"vyplněno\"),(IF('1A'!$H23>0%,\"vyplněno\",\"označit\"))))","v":"vyplněno"},"Smluvně","Individuálně","Nezařazeno",4.0000000000000001E-3,3.5000000000000001E-3,3.0000000000000001E-3,2.5000000000000001E-3,2E-3,1.9E-3,1.8E-3,1.6999999999999999E-3,1.6000000000000001E-3,1.5E-3,1.4E-3,1.2999999999999999E-3,1.1999999999999999E-3,1.1000000000000001E-3,1E-3,null,null,null,null,null,null,null,{"$f":"IF('1A'!I23>0,IF('1A'!H23=\"\",\"X\",\"OK\"),\"OK\")","v":"OK"},null,{"$f":"IF(($O$4>1800000000)=TRUE,IF(((('2B'!$H$9+'2B'!$H$17)*AE23)+1)>'1A'!I23=TRUE,\"OK\",\"PŘEKROČENÉ %\"),IF(($O$4>500000000)=TRUE,IF(((('2B'!$H$9+'2B'!$H$17)*'1A'!U23)+1)>'1A'!I23=TRUE,\"OK\",\"PŘEKROČENÉ %\"),IF(($O$4>50000000)=TRUE,IF(((('2B'!$H$9+'2B'!$H$17)*Q23)+1)>'1A'!I23=TRUE,\"OK\",\"PŘEKROČENÉ %\"), IF(($O$4<50000000)=TRUE,IF((('2B'!$H$9+'2B'!$H$17)*'1A'!Q23)>'1A'!I23=TRUE,\"OK\",\"pod 50 mil. Kč\"),\"PŘEKROČENÉ %\"))))","v":"pod 50 mil. Kč"},0,0]
["A.2.2.1.2",null,null,null,"Geotechnický průzkum",null,null,"Nezařazeno",null,{"$f":"I24*hide!$D$59","v":0},0,null,{"$f":"IF('1A'!$H24=\"Individuálně\",IF('1A'!$I24=\"\",\"označit\",\"vyplněno\"),IF('1A'!$H24=\"Smluvně\",IF('1A'!$I24=\"\",\"označit\",\"vyplněno\"),(IF('1A'!$H24>0%,\"vyplněno\",\"označit\"))))","v":"vyplněno"},"Smluvně","Individuálně","Nezařazeno",6.0000000000000001E-3,5.4999999999999997E-3,5.0000000000000001E-3,4.4999999999999997E-3,4.0000000000000001E-3,3.5000000000000001E-3,3.0000000000000001E-3,2.5000000000000001E-3,2E-3,null,null,null,null,null,null,null,null,null,null,null,null,null,{"$f":"IF('1A'!I24>0,IF('1A'!H24=\"\",\"X\",\"OK\"),\"OK\")","v":"OK"},null,{"$f":"IF(($O$4>1800000000)=TRUE,IF(((('2B'!$H$9+'2B'!$H$17)*Y24)+1)>'1A'!I24=TRUE,\"OK\",\"PŘEKROČENÉ %\"),IF(($O$4>500000000)=TRUE,IF(((('2B'!$H$9+'2B'!$H$17)*'1A'!U24)+1)>'1A'!I24=TRUE,\"OK\",\"PŘEKROČENÉ %\"),IF(($O$4>50000000)=TRUE,IF(((('2B'!$H$9+'2B'!$H$17)*Q24)+1)>'1A'!I24=TRUE,\"OK\",\"PŘEKROČENÉ %\"), IF(($O$4<50000000)=TRUE,IF((('2B'!$H$9+'2B'!$H$17)*'1A'!Q24)>'1A'!I24=TRUE,\"OK\",\"pod 50 mil. Kč\"),\"PŘEKROČENÉ %\"))))","v":"pod 50 mil. Kč"},0,0]
["A.2.2.1.3",null,null,null,"Ostatní průzkumné práce",null,null,"Nezařazeno",null,{"$f":"I25*hide!$D$59","v":0},0,null,{"$f":"IF('1A'!$H25=\"Individuálně\",IF('1A'!$I25=\"\",\"označit\",\"vyplněno\"),IF('1A'!$H25=\"Smluvně\",IF('1A'!$I25=\"\",\"označit\",\"vyplněno\"),(IF('1A'!$H25>0%,\"vyplněno\",\"označit\"))))","v":"vyplněno"},"Smluvně","Individuálně","Nezařazeno",4.0000000000000001E-3,3.5000000000000001E-3,3.0000000000000001E-3,2.5000000000000001E-3,2E-3,1.5E-3,1E-3,null,null,null,null,null,null,null,null,null,null,null,null,null,null,null,{"$f":"IF('1A'!I25>0,IF('1A'!H25=\"\",\"X\",\"OK\"),\"OK\")","v":"OK"},null,{"$f":"IF(($O$4>1800000000)=TRUE,IF(((('2B'!$H$9+'2B'!$H$17)*W25)+1)>'1A'!I25=TRUE,\"OK\",\"PŘEKROČENÉ %\"),IF(($O$4>500000000)=TRUE,IF(((('2B'!$H$9+'2B'!$H$17)*'1A'!S25)+1)>'1A'!I25=TRUE,\"OK\",\"PŘEKROČENÉ %\"),IF(($O$4>50000000)=TRUE,IF(((('2B'!$H$9+'2B'!$H$17)*Q25)+1)>'1A'!I25=TRUE,\"OK\",\"PŘEKROČENÉ %\"), IF(($O$4<50000000)=TRUE,IF((('2B'!$H$9+'2B'!$H$17)*'1A'!Q25)>'1A'!I25=TRUE,\"OK\",\"pod 50 mil. Kč\"),\"PŘEKROČENÉ %\"))))","v":"pod 50 mil. Kč"},0,0]
["A.2.2.1.4",null,null,null,"Inženýrská činnost pro projektové dokumentace",null,null,"Nezařazeno",null,{"$f":"I26*hide!$D$59","v":0},0,null,{"$f":"IF('1A'!$H26=\"Individuálně\",IF('1A'!$I26=\"\",\"označit\",\"vyplněno\"),IF('1A'!$H26=\"Smluvně\",IF('1A'!$I26=\"\",\"označit\",\"vyplněno\"),(IF('1A'!$H26>0%,\"vyplněno\",\"označit\"))))","v":"vyplněno"},"Smluvně","Individuálně","Nezařazeno",5.0000000000000001E-3,4.4999999999999997E-3,4.0000000000000001E-3,3.5000000000000001E-3,3.0000000000000001E-3,2.5000000000000001E-3,2E-3,1.9E-3,1.8E-3,1.6999999999999999E-3,1.6000000000000001E-3,1.5E-3,null,null,null,null,null,null,null,null,null,null,{"$f":"IF('1A'!I26>0,IF('1A'!H26=\"\",\"X\",\"OK\"),\"OK\")","v":"OK"},null,{"$f":"IF(($O$4>1800000000)=TRUE,IF(((('2B'!$H$9+'2B'!$H$17)*AB26)+1)>'1A'!I26=TRUE,\"OK\",\"PŘEKROČENÉ %\"),IF(($O$4>500000000)=TRUE,IF(((('2B'!$H$9+'2B'!$H$17)*'1A'!T26)+1)>'1A'!I26=TRUE,\"OK\",\"PŘEKROČENÉ %\"),IF(($O$4>50000000)=TRUE,IF(((('2B'!$H$9+'2B'!$H$17)*Q26)+1)>'1A'!I26=TRUE,\"OK\",\"PŘEKROČENÉ %\"), IF(($O$4<50000000)=TRUE,IF((('2B'!$H$9+'2B'!$H$17)*'1A'!Q26)>'1A'!I26=TRUE,\"OK\",\"pod 50 mil. Kč\"),\"PŘEKROČENÉ %\"))))","v":"pod 50 mil. Kč"},0,0]
["A.2.2.1.5",null,null,null,"Ostatní náklady pro projektové dokumentace",null,null,"Nezařazeno",null,{"$f":"I27*hide!$D$59","v":0},0,null,{"$f":"IF('1A'!$H27=\"Individuálně\",IF('1A'!$I27=\"\",\"označit\",\"vyplněno\"),IF('1A'!$H27=\"Smluvně\",IF('1A'!$I27=\"\",\"označit\",\"vyplněno\"),(IF('1A'!$H27>0%,\"vyplněno\",\"označit\"))))","v":"vyplněno"},"Smluvně","Individuálně","Nezařazeno","není určena",null,null,null,null,null,null,null,null,null,null,null,null,null,null,null,null,null,null,null,null,null,{"$f":"IF('1A'!I27>0,IF('1A'!H27=\"\",\"X\",\"OK\"),\"OK\")","v":"OK"},null,null,0,0]
["A.2.2.2",null,null,"Projektová dokumentace pro ohlášení stavby",null,null,null,"Nezařazeno",null,{"$f":"I28*hide!$D$59","v":0},0,null,{"$f":"IF('1A'!$H28=\"Individuálně\",IF('1A'!$I28=\"\",\"označit\",\"vyplněno\"),IF('1A'!$H28=\"Smluvně\",IF('1A'!$I28=\"\",\"označit\",\"vyplněno\"),(IF('1A'!$H28>0%,\"vyplněno\",\"označit\"))))","v":"vyplněno"},"Smluvně","Individuálně","Nezařazeno",0.06,5.5E-2,0.05,4.4999999999999998E-2,0.04,3.5000000000000003E-2,0.03,2.9000000000000001E-2,2.8000000000000001E-2,2.7E-2,2.5999999999999999E-2,2.5000000000000001E-2,2.4E-2,2.3E-2,2.1999999999999999E-2,2.1000000000000001E-2,0.02,null,null,null,null,null,{"$f":"IF('1A'!I28>0,IF('1A'!H28=\"\",\"X\",\"OK\"),\"OK\")","v":"OK"},null,{"$f":"IF(($O$4>1800000000)=TRUE,IF(((('2B'!$H$9+'2B'!$H$17)*AG28)*60%+1)>'1A'!I28=TRUE,\"OK\",\"PŘEKROČENÉ %\"),IF(($O$4>500000000)=TRUE,IF(((('2B'!$H$9+'2B'!$H$17)*'1A'!W28)*60%+1)>'1A'!I28=TRUE,\"OK\",\"PŘEKROČENÉ %\"),IF(($O$4>50000000)=TRUE,IF(((('2B'!$H$9+'2B'!$H$17)*U28)*60%+1)>'1A'!I28=TRUE,\"OK\",\"PŘEKROČENÉ %\"), IF(($O$4<50000000)=TRUE,IF((('2B'!$H$9+'2B'!$H$17)*'1A'!Q28)*60%>'1A'!I28=TRUE,\"OK\",\"pod 50 mil. Kč\"),\"PŘEKROČENÉ %\"))))","v":"pod 50 mil. Kč"},0,0]
["A.2.2.3",null,null,"Projektová dokumentace pro stavební povolení",null,null,null,"Nezařazeno",null,{"$f":"I29*hide!$D$59","v":0},0,null,{"$f":"IF('1A'!$H29=\"Individuálně\",IF('1A'!$I29=\"\",\"označit\",\"vyplněno\"),IF('1A'!$H29=\"Smluvně\",IF('1A'!$I29=\"\",\"označit\",\"vyplněno\"),(IF('1A'!$H29>0%,\"vyplněno\",\"označit\"))))","v":"vyplněno"},"Smluvně","Individuálně","Nezařazeno",7.0000000000000007E-2,6.5000000000000002E-2,0.06,5.5E-2,0.05,4.4999999999999998E-2,0.04,3.5000000000000003E-2,0.03,2.5000000000000001E-2,2.4E-2,2.3E-2,2.1999999999999999E-2,2.1000000000000001E-2,0.02,null,null,null,null,null,null,null,{"$f":"IF('1A'!I29>0,IF('1A'!H29=\"\",\"X\",\"OK\"),\"OK\")","v":"OK"},null,{"$f":"IF(($O$4>1800000000)=TRUE,IF(((('2B'!$H$9+'2B'!$H$17*60%)*Z29)+1)>'1A'!I29=TRUE,\"OK\",\"PŘEKROČENÉ %\"),IF(($O$4>500000000)=TRUE,IF(((('2B'!$H$9+'2B'!$H$17*60%)*'1A'!Y29)+1)>'1A'!I29=TRUE,\"OK\",\"PŘEKROČENÉ %\"),IF(($O$4>50000000)=TRUE,IF(((('2B'!$H$9+'2B'!$H$17*60%)*V29)+1)>'1A'!I29=TRUE,\"OK\",\"PŘEKROČENÉ %\"), IF(($O$4<50000000)=TRUE,IF((('2B'!$H$9+'2B'!$H$17*60%)*'1A'!Q29)>'1A'!I29=TRUE,\"OK\",\"pod 50 mil. Kč\"),\"PŘEKROČENÉ %\"))))","v":"pod 50 mil. Kč"},0,0]
["A.2.2.4",null,null,"Projektová dokumentace pro provádění stavby",null,null,"-","Nezařazeno",null,{"$f":"I30*hide!$D$59","v":0},0,null,{"$f":"IF('1A'!$H30=\"Individuálně\",IF('1A'!$I30=\"\",\"označit\",\"vyplněno\"),IF('1A'!$H30=\"Smluvně\",IF('1A'!$I30=\"\",\"označit\",\"vyplněno\"),(IF('1A'!$H30>0%,\"vyplněno\",\"označit\"))))","v":"vyplněno"},"Smluvně","Individuálně","Nezařazeno",7.0000000000000007E-2,6.5000000000000002E-2,0.06,5.5E-2,0.05,4.4999999999999998E-2,0.04,3.5000000000000003E-2,0.03,2.5000000000000001E-2,2.4E-2,2.3E-2,2.1999999999999999E-2,2.1000000000000001E-2,0.02,null,null,null,null,null,null,null,{"$f":"IF('1A'!I30>0,IF('1A'!H30=\"\",\"X\",\"OK\"),\"OK\")","v":"OK"},null,{"$f":"IF(($O$4>1800000000)=TRUE,IF((((40%*'2B'!$H$17)*Z30)+1)>'1A'!I30=TRUE,\"OK\",\"PŘEKROČENÉ %\"),IF(($O$4>500000000)=TRUE,IF((((40%*'2B'!$H$17)*'1A'!Y30)+1)>'1A'!I30=TRUE,\"OK\",\"PŘEKROČENÉ %\"),IF(($O$4>50000000)=TRUE,IF((((40%*'2B'!$H$17)*V30)+1)>'1A'!I30=TRUE,\"OK\",\"PŘEKROČENÉ %\"), IF(($O$4<50000000)=TRUE,IF(((40%*'2B'!$H$17)*'1A'!Q30)>'1A'!I30=TRUE,\"OK\",\"pod 50 mil. Kč\"),\"PŘEKROČENÉ %\"))))","v":"pod 50 mil. Kč"},0,0]
["A.2.2.5",null,null,"Dodatky k projektové dokumentaci",null,null,null,"Nezařazeno",null,{"$f":"I31*hide!$D$59","v":0},0,null,{"$f":"IF('1A'!$H31=\"Individuálně\",IF('1A'!$I31=\"\",\"označit\",\"vyplněno\"),IF('1A'!$H31=\"Smluvně\",IF('1A'!$I31=\"\",\"označit\",\"vyplněno\"),(IF('1A'!$H31>0%,\"vyplněno\",\"označit\"))))","v":"vyplněno"},"Smluvně","Individuálně","Nezařazeno",5.0000000000000001E-3,4.4999999999999997E-3,4.0000000000000001E-3,3.5000000000000001E-3,3.0000000000000001E-3,2.5000000000000001E-3,2E-3,null,null,null,null,null,null,null,null,null,null,null,null,null,null,null,{"$f":"IF('1A'!I31>0,IF('1A'!H31=\"\",\"X\",\"OK\"),\"OK\")","v":"OK"},null,null,0,0]
["A.2.3",null,"Autorský dozor",null,"předpokládaný počet hodin:",null,null,"Nezařazeno",null,{"$f":"I32*hide!$D$59","v":0},0,null,{"$f":"IF('1A'!$H32=\"Individuálně\",IF('1A'!$I32=\"\",\"označit\",\"vyplněno\"),IF('1A'!$H32=\"Smluvně\",IF('1A'!$I32=\"\",\"označit\",\"vyplněno\"),(IF('1A'!$H32>0%,\"vyplněno\",\"označit\"))))","v":"vyplněno"},"Smluvně","Individuálně","Nezařazeno",0.12,0.11,0.1,0.09,0.08,null,null,null,null,null,null,null,null,null,null,null,null,null,null,null,null,null,{"$f":"IF('1A'!I32>0,IF('1A'!H32=\"\",\"X\",\"OK\"),\"OK\")","v":"OK"},null,{"$f":"IF(($O$4>1800000000)=TRUE,IF((((I29+I28+I30)*U32)+1)>'1A'!I32=TRUE,\"OK\",\"PŘEKROČENÉ %\"),IF(($O$4>500000000)=TRUE,IF((((I29+I28+I30)*'1A'!S32)+1)>'1A'!I32=TRUE,\"OK\",\"PŘEKROČENÉ %\"),IF(($O$4>50000000)=TRUE,IF((((I29+I28+I30)*Q32)+1)>'1A'!I32=TRUE,\"OK\",\"PŘEKROČENÉ %\"), IF(($O$4<50000000)=TRUE,IF(((I29+I28+I30)*'1A'!Q32)>'1A'!I32=TRUE,\"OK\",\"pod 50 mil. Kč\"),\"PŘEKROČENÉ %\"))))","v":"pod 50 mil. Kč"},0,0]
["A.2.4",null,"Ostatní náklady pro přípravu stavby",null,null,null,null,null,{"$f":"SUM(I34:I37)","v":0},{"$f":"SUM(J34:J37)","v":0},{"$f":"SUM(K34:K37)","v":0},null,null,null,null,null,null,null,null,null,null,null,null,null,null,null,null,null,null,null,null,null,null,null,null,null,null,null,null,null,null,0,0]
["A.2.4.1",null,"z toho","Osvědčení o shodě notifikovanou osobou v přípravě",null,null,null,"Nezařazeno",null,{"$f":"I34*hide!$D$59","v":0},{"$f":"I34-J34","v":0},null,{"$f":"IF('1A'!$H34=\"Individuálně\",IF('1A'!$I34=\"\",\"označit\",\"vyplněno\"),IF('1A'!$H34=\"Smluvně\",IF('1A'!$I34=\"\",\"označit\",\"vyplněno\"),(IF('1A'!$H34>0%,\"vyplněno\",\"označit\"))))","v":"vyplněno"},"Smluvně","Individuálně","Nezařazeno",1.7000000000000001E-2,1.6E-2,1.4999999999999999E-2,1.4E-2,1.2999999999999999E-2,1.2E-2,1.0999999999999999E-2,9.9999999999999898E-3,8.9999999999999906E-3,7.9999999999999898E-3,7.0000000000000001E-3,6.0000000000000001E-3,5.0000000000000001E-3,4.0000000000000001E-3,3.0000000000000001E-3,2E-3,1E-3,null,null,null,null,null,{"$f":"IF('1A'!I34>0,IF('1A'!H34=\"\",\"X\",\"OK\"),\"OK\")","v":"OK"},null,{"$f":"IF(($O$4>1800000000)=TRUE,IF(((($I$29+$I$30)*AD34)+1)>'1A'!I34=TRUE,\"OK\",\"PŘEKROČENÉ %\"),IF(($O$4>500000000)=TRUE,IF(((($I$29+$I$30)*'1A'!AA34)+1)>'1A'!I34=TRUE,\"OK\",\"PŘEKROČENÉ %\"),IF(($O$4>50000000)=TRUE,IF(((($I$29+$I$30)*X34)+1)>'1A'!I34=TRUE,\"OK\",\"PŘEKROČENÉ %\"), IF(($O$4<50000000)=TRUE,IF((($I$29+$I$30)*'1A'!Q34)>'1A'!I34=TRUE,\"OK\",\"pod 50 mil. Kč\"),\"PŘEKROČENÉ %\"))))","v":"pod 50 mil. Kč"},0,0]
["A.2.4.2",null,null,"Koordinátor BOZP v přípravě",null,null,null,"Nezařazeno",null,{"$f":"I35*hide!$D$59","v":0},{"$f":"I35-J35","v":0},null,{"$f":"IF('1A'!$H35=\"Individuálně\",IF('1A'!$I35=\"\",\"označit\",\"vyplněno\"),IF('1A'!$H35=\"Smluvně\",IF('1A'!$I35=\"\",\"označit\",\"vyplněno\"),(IF('1A'!$H35>0%,\"vyplněno\",\"označit\"))))","v":"vyplněno"},"Smluvně","Individuálně","Nezařazeno",5.0000000000000001E-3,4.4999999999999997E-3,4.0000000000000001E-3,3.5000000000000001E-3,3.0000000000000001E-3,2.5000000000000001E-3,2E-3,1.5E-3,1E-3,null,null,null,null,null,null,null,null,null,null,null,null,null,{"$f":"IF('1A'!I35>0,IF('1A'!H35=\"\",\"X\",\"OK\"),\"OK\")","v":"OK"},null,{"$f":"IF(($O$4>1800000000)=TRUE,IF(((($I$29+$I$28)*U35)+1)>'1A'!I35=TRUE,\"OK\",\"PŘEKROČENÉ %\"),IF(($O$4>500000000)=TRUE,IF(((($I$29+$I$28)*'1A'!S35)+1)>'1A'!I35=TRUE,\"OK\",\"PŘEKROČENÉ %\"),IF(($O$4>50000000)=TRUE,IF(((($I$29+$I$28)*Q35)+1)>'1A'!I35=TRUE,\"OK\",\"PŘEKROČENÉ %\"), IF(($O$4<50000000)=TRUE,IF((($I$29+$I$28)*'1A'!Q35)>'1A'!I35=TRUE,\"OK\",\"pod 50 mil. Kč\"),\"PŘEKROČENÉ %\"))))","v":"pod 50 mil. Kč"},0,0]
["A.2.4.3",null,null,"Zpracování žádosti o spolufinancování stavby ",null,null,null,"Nezařazeno",null,{"$f":"I36*hide!$D$59","v":0},{"$f":"I36-J36","v":0},null,{"$f":"IF('1A'!$H36=\"Individuálně\",IF('1A'!$I36=\"\",\"označit\",\"vyplněno\"),IF('1A'!$H36=\"Smluvně\",IF('1A'!$I36=\"\",\"označit\",\"vyplněno\"),(IF('1A'!$H36>0%,\"vyplněno\",\"označit\"))))","v":"vyplněno"},"Smluvně","Individuálně","Nezařazeno",0.04,3.5000000000000003E-2,0.03,2.5000000000000001E-2,0.02,1.9E-2,1.7999999999999999E-2,1.7000000000000001E-2,1.6E-2,1.4999999999999999E-2,1.4E-2,1.2999999999999999E-2,1.2E-2,1.0999999999999999E-2,0.01,8.9999999999999993E-3,8.0000000000000002E-3,null,null,null,null,null,{"$f":"IF('1A'!I36>0,IF('1A'!H36=\"\",\"X\",\"OK\"),\"OK\")","v":"OK"},null,{"$f":"IF(($O$4>1800000000)=TRUE,IF(((($I$29+$I$28)*AG36)+1)>'1A'!I36=TRUE,\"OK\",\"PŘEKROČENÉ %\"),IF(($O$4>500000000)=TRUE,IF(((($I$29+$I$28)*'1A'!AE36)+1)>'1A'!I36=TRUE,\"OK\",\"PŘEKROČENÉ %\"),IF(($O$4>50000000)=TRUE,IF(((($I$29+$I$28)*U36)+1)>'1A'!I36=TRUE,\"OK\",\"PŘEKROČENÉ %\"), IF(($O$4<50000000)=TRUE,IF((($I$29+$I$28)*'1A'!Q36)>'1A'!I36=TRUE,\"OK\",\"pod 50 mil. Kč\"),\"PŘEKROČENÉ %\"))))","v":"pod 50 mil. Kč"},0,0]
["A.2.4.4",null,null,"Ostatní nezařazené činnosti v přípravě",null,null,null,"Nezařazeno",null,{"$f":"I37*hide!$D$59","v":0},{"$f":"I37-J37","v":0},null,{"$f":"IF('1A'!$H37=\"Individuálně\",IF('1A'!$I37=\"\",\"označit\",\"vyplněno\"),IF('1A'!$H37=\"Smluvně\",IF('1A'!$I37=\"\",\"označit\",\"vyplněno\"),(IF('1A'!$H37>0%,\"vyplněno\",\"označit\"))))","v":"vyplněno"},"Smluvně","Individuálně","Nezařazeno","není určena",null,null,null,null,null,null,null,null,null,null,null,null,null,null,null,null,null,null,null,null,null,{"$f":"IF('1A'!I37>0,IF('1A'!H37=\"\",\"X\",\"OK\"),\"OK\")","v":"OK"},null,null,0,0]
["A.2.5",null,"Dokumentace skutečného provedení",null,null,null,"-",null,{"$f":"SUM(I39:I41)","v":0},{"$f":"SUM(J39:J41)","v":0},{"$f":"SUM(K39:K41)","v":0},null,null,null,null,null,null,null,null,null,null,null,null,null,null,null,null,null,null,null,null,null,null,null,null,null,null,null,null,null,null,0,0]
["A.2.5.1",null,"z toho","Geodetická dokumentace skutečného provedení stavby",null,null,null,"Nezařazeno",null,{"$f":"I39*hide!$D$59","v":0},{"$f":"I39-J39","v":0},null,{"$f":"IF('1A'!$H39=\"Individuálně\",IF('1A'!$I39=\"\",\"označit\",\"vyplněno\"),IF('1A'!$H39=\"Smluvně\",IF('1A'!$I39=\"\",\"označit\",\"vyplněno\"),(IF('1A'!$H39>0%,\"vyplněno\",\"označit\"))))","v":"vyplněno"},"Smluvně","Individuálně","Nezařazeno",7.0000000000000001E-3,6.4999999999999997E-3,6.0000000000000001E-3,5.4999999999999997E-3,5.0000000000000001E-3,4.4999999999999997E-3,4.0000000000000001E-3,3.5000000000000001E-3,3.0000000000000001E-3,2.5000000000000001E-3,2E-3,1.5E-3,1E-3,null,null,null,null,null,null,null,null,null,{"$f":"IF('1A'!I39>0,IF('1A'!H39=\"\",\"X\",\"OK\"),\"OK\")","v":"OK"},null,{"$f":"IF(($O$4>1800000000)=TRUE,IF(((('2B'!$H$9+'2B'!$H$17)*Y39)+1)>'1A'!I39=TRUE,\"OK\",\"PŘEKROČENÉ %\"),IF(($O$4>500000000)=TRUE,IF(((('2B'!$H$9+'2B'!$H$17)*'1A'!U39)+1)>'1A'!I39=TRUE,\"OK\",\"PŘEKROČENÉ %\"),IF(($O$4>50000000)=TRUE,IF(((('2B'!$H$9+'2B'!$H$17)*S39)+1)>'1A'!I39=TRUE,\"OK\",\"PŘEKROČENÉ %\"), IF(($O$4<50000000)=TRUE,IF((('2B'!$H$9+'2B'!$H$17)*'1A'!Q39)>'1A'!I39=TRUE,\"OK\",\"pod 50 mil. Kč\"),\"PŘEKROČENÉ %\"))))","v":"pod 50 mil. Kč"},0,0]
["A.2.5.2",null,null,"Dokumentace skutečného provedení v listinné formě",null,null,null,"Nezařazeno",null,{"$f":"I40*hide!$D$59","v":0},{"$f":"I40-J40","v":0},null,{"$f":"IF('1A'!$H40=\"Individuálně\",IF('1A'!$I40=\"\",\"označit\",\"vyplněno\"),IF('1A'!$H40=\"Smluvně\",IF('1A'!$I40=\"\",\"označit\",\"vyplněno\"),(IF('1A'!$H40>0%,\"vyplněno\",\"označit\"))))","v":"vyplněno"},"Smluvně","Individuálně","Nezařazeno",8.0000000000000002E-3,7.4999999999999997E-3,7.0000000000000001E-3,6.4999999999999997E-3,6.0000000000000001E-3,5.4999999999999997E-3,5.0000000000000001E-3,4.4999999999999997E-3,4.0000000000000001E-3,3.5000000000000001E-3,3.0000000000000001E-3,2.5000000000000001E-3,1.9999999999999901E-3,1.4999999999999901E-3,9.9999999999999005E-4,null,null,null,null,null,null,null,{"$f":"IF('1A'!I40>0,IF('1A'!H40=\"\",\"X\",\"OK\"),\"OK\")","v":"OK"},null,{"$f":"IF(($O$4>1800000000)=TRUE,IF(((('2B'!$H$9+'2B'!$H$17)*AA40)+1)>'1A'!I40=TRUE,\"OK\",\"PŘEKROČENÉ %\"),IF(($O$4>500000000)=TRUE,IF(((('2B'!$H$9+'2B'!$H$17)*'1A'!W40)+1)>'1A'!I40=TRUE,\"OK\",\"PŘEKROČENÉ %\"),IF(($O$4>50000000)=TRUE,IF(((('2B'!$H$9+'2B'!$H$17)*R40)+1)>'1A'!I40=TRUE,\"OK\",\"PŘEKROČENÉ %\"), IF(($O$4<50000000)=TRUE,IF((('2B'!$H$9+'2B'!$H$17)*'1A'!Q40)>'1A'!I40=TRUE,\"OK\",\"pod 50 mil. Kč\"),\"PŘEKROČENÉ %\"))))","v":"pod 50 mil. Kč"},{"$f":"IF(AO40=\"PŘEKROČENÉ %\",IF(H40=\"Smluvně\",0,IF(H40=\"Nezařazeno\",0,IF(H40=\"Individuálně\",IF(AO40=\"PŘEKROČENÉ %\",100,1),1))),0)","v":0},{"$f":"IF(AO40=\"PŘEKROČENÉ %\",IF(H40=\"Smluvně\",0,IF(H40=\"Nezařazeno\",0,IF(H40=\"Individuálně\",IF(AP40=\"PŘEKROČENÉ %\",0,0),1))),0)","v":0}]
["A.2.5.3",null,null,"Dokumentace skutečného provedení v elektronické formě",null,null,null,"Nezařazeno",null,{"$f":"I41*hide!$D$59","v":0},{"$f":"I41-J41","v":0},null,{"$f":"IF('1A'!$H41=\"Individuálně\",IF('1A'!$I41=\"\",\"označit\",\"vyplněno\"),IF('1A'!$H41=\"Smluvně\",IF('1A'!$I41=\"\",\"označit\",\"vyplněno\"),(IF('1A'!$H41>0%,\"vyplněno\",\"označit\"))))","v":"vyplněno"},"Smluvně","Individuálně","Nezařazeno",6.9999999999999999E-4,5.9999999999999995E-4,5.0000000000000001E-4,4.0000000000000002E-4,2.9999999999999997E-4,null,null,null,null,null,null,null,null,null,null,null,null,null,null,null,null,null,{"$f":"IF('1A'!I41>0,IF('1A'!H41=\"\",\"X\",\"OK\"),\"OK\")","v":"OK"},null,{"$f":"IF(($O$4>1800000000)=TRUE,IF(((('2B'!$H$9+'2B'!$H$17)*U41)+1)>'1A'!I41=TRUE,\"OK\",\"PŘEKROČENÉ %\"),IF(($O$4>500000000)=TRUE,IF(((('2B'!$H$9+'2B'!$H$17)*'1A'!T41)+1)>'1A'!I41=TRUE,\"OK\",\"PŘEKROČENÉ %\"),IF(($O$4>50000000)=TRUE,IF(((('2B'!$H$9+'2B'!$H$17)*S41)+1)>'1A'!I41=TRUE,\"OK\",\"PŘEKROČENÉ %\"), IF(($O$4<50000000)=TRUE,IF((('2B'!$H$9+'2B'!$H$17)*'1A'!Q41)>'1A'!I41=TRUE,\"OK\",\"pod 50 mil. Kč\"),\"PŘEKROČENÉ %\"))))","v":"pod 50 mil. Kč"},0,0]
["A.3","Výkupy a zatížení nemovitých věcí",null,null,null,null,null,null,{"$f":"SUM(I43:I45)","v":0},{"$f":"SUM(J43:J45)","v":0},{"$f":"SUM(K43:K45)","v":0},null,null,null,null,null,null,null,null,null,null,null,null,null,null,null,null,null,null,null,null,null,null,null,null,null,null,null,null,null,null,0,0]
["A.3.1","z toho","Výkupy pozemků",null,null,null,null,"Nezařazeno",null,null,{"$f":"I43","v":0},null,{"$f":"IF('1A'!$H43=\"Předpoklad\",IF('1A'!$I43=\"\",\"označit\",\"vyplněno\"),IF('1A'!$H43=\"Smluvně\",IF('1A'!$I43=\"\",\"označit\",\"vyplněno\"),(IF('1A'!$H43>0%,\"vyplněno\",\"označit\"))))","v":"vyplněno"},null,null,null,null,null,null,null,null,null,null,null,null,null,null,null,null,null,null,null,null,null,null,null,null,null,{"$f":"IF('1A'!I43>0,IF('1A'!H43=\"\",\"X\",\"OK\"),\"OK\")","v":"OK"},null,null,0,0]
["A.3.2",null,"Výkupy staveb",null,null,null,null,"Nezařazeno",null,null,{"$f":"I44","v":0},null,{"$f":"IF('1A'!$H44=\"Předpoklad\",IF('1A'!$I44=\"\",\"označit\",\"vyplněno\"),IF('1A'!$H44=\"Smluvně\",IF('1A'!$I44=\"\",\"označit\",\"vyplněno\"),(IF('1A'!$H44>0%,\"vyplněno\",\"označit\"))))","v":"vyplněno"},null,null,null,null,null,null,null,null,null,null,null,null,null,null,null,null,null,null,null,null,null,null,null,null,null,{"$f":"IF('1A'!I44>0,IF('1A'!H44=\"\",\"X\",\"OK\"),\"OK\")","v":"OK"},null,null,0,0]
["A.3.3",null,"Věcná břemena a služebnosti",null,null,null,null,"Nezařazeno",null,null,{"$f":"I45","v":0},null,{"$f":"IF('1A'!$H45=\"Předpoklad\",IF('1A'!$I45=\"\",\"označit\",\"vyplněno\"),IF('1A'!$H45=\"Smluvně\",IF('1A'!$I45=\"\",\"označit\",\"vyplněno\"),(IF('1A'!$H45>0%,\"vyplněno\",\"označit\"))))","v":"vyplněno"},null,null,null,null,null,null,null,null,null,null,null,null,null,null,null,null,null,null,null,null,null,null,null,null,null,{"$f":"IF('1A'!I45>0,IF('1A'!H45=\"\",\"X\",\"OK\"),\"OK\")","v":"OK"},null,null,0,0]
["A.4","Nájmy pro účely stavby",null,null,null,null,null,null,{"$f":"SUM(I47:I48)","v":0},{"$f":"SUM(J47:J48)","v":0},{"$f":"SUM(K47:K48)","v":0},null,null,null,null,null,null,null,null,null,null,null,null,null,null,null,null,null,null,null,null,null,null,null,null,null,null,null,null,null,null,0,0]
["A.4.1","z toho","Nájmy hrazené investorem přímo",null,null,null,null,"Nezařazeno",null,null,{"$f":"I47","v":0},null,{"$f":"IF('1A'!$H47=\"Předpoklad\",IF('1A'!$I47=\"\",\"označit\",\"vyplněno\"),IF('1A'!$H47=\"Smluvně\",IF('1A'!$I47=\"\",\"označit\",\"vyplněno\"),(IF('1A'!$H47>0%,\"vyplněno\",\"označit\"))))","v":"vyplněno"},null,null,null,null,null,null,null,null,null,null,null,null,null,null,null,null,null,null,null,null,null,null,null,null,null,{"$f":"IF('1A'!I47>0,IF('1A'!H47=\"\",\"X\",\"OK\"),\"OK\")","v":"OK"},null,null,0,0]
["A.4.2",null,"Nájmy hrazené zhotovitelem stavby",null,null,null,"-","Nezařazeno",null,null,{"$f":"I48","v":0},null,{"$f":"IF('1A'!$H48=\"Předpoklad\",IF('1A'!$I48=\"\",\"označit\",\"vyplněno\"),IF('1A'!$H48=\"Smluvně\",IF('1A'!$I48=\"\",\"označit\",\"vyplněno\"),(IF('1A'!$H48>0%,\"vyplněno\",\"označit\"))))","v":"vyplněno"},null,null,null,null,null,null,null,null,null,null,null,null,null,null,null,null,null,null,null,null,null,null,null,null,null,{"$f":"IF('1A'!I48>0,IF('1A'!H48=\"\",\"X\",\"OK\"),\"OK\")","v":"OK"},null,null,0,0]
["A.5","Jiné náklady přípravy a zabezpečení stavby",null,null,null,null,null,null,{"$f":"I50+I54+I58+I66","v":0},{"$f":"J50+J54+J58+J66","v":0},{"$f":"K50+K54+K58+K66","v":0},null,null,null,null,null,null,null,null,null,null,null,null,null,null,null,null,null,null,null,null,null,null,null,null,null,null,null,null,null,null,0,0]
["A.5.1","z toho","Poradenské firmy pro přípravu a zabezpečení stavby",null,null,null,null,null,{"$f":"SUM(I51:I53)","v":0},{"$f":"SUM(J51:J53)","v":0},{"$f":"SUM(K51:K53)","v":0},null,null,null,null,null,null,null,null,null,null,null,null,null,null,null,null,null,null,null,null,null,null,null,null,null,null,null,null,null,null,0,0]
["A.5.1.1",null,"z toho","Supervizor ",null,null,"-","Nezařazeno",null,{"$f":"I51*hide!$D$59","v":0},{"$f":"I51-J51","v":0},null,{"$f":"IF('1A'!$H51=\"Individuálně\",IF('1A'!$I51=\"\",\"označit\",\"vyplněno\"),IF('1A'!$H51=\"Smluvně\",IF('1A'!$I51=\"\",\"označit\",\"vyplněno\"),(IF('1A'!$H51>0%,\"vyplněno\",\"označit\"))))","v":"vyplněno"},null,null,null,null,null,null,null,null,null,null,null,null,null,null,null,null,null,null,null,null,null,null,null,null,null,{"$f":"IF('1A'!I51>0,IF('1A'!H51=\"\",\"X\",\"OK\"),\"OK\")","v":"OK"},null,null,0,0]
["A.5.1.2",null,null,"Poradenské firmy pro geotechnický průzkum",null,null,null,"Nezařazeno",null,{"$f":"I52*hide!$D$59","v":0},{"$f":"I52-J52","v":0},null,{"$f":"IF('1A'!$H52=\"Individuálně\",IF('1A'!$I52=\"\",\"označit\",\"vyplněno\"),IF('1A'!$H52=\"Smluvně\",IF('1A'!$I52=\"\",\"označit\",\"vyplněno\"),(IF('1A'!$H52>0%,\"vyplněno\",\"označit\"))))","v":"vyplněno"},"Smluvně","Individuálně","Nezařazeno",6.0000000000000001E-3,5.4999999999999997E-3,5.0000000000000001E-3,4.4999999999999997E-3,4.0000000000000001E-3,3.5000000000000001E-3,3.0000000000000001E-3,2.5000000000000001E-3,2E-3,null,null,null,null,null,null,null,null,null,null,null,null,null,{"$f":"IF('1A'!I52>0,IF('1A'!H52=\"\",\"X\",\"OK\"),\"OK\")","v":"OK"},null,{"$f":"IF(($O$4>1800000000)=TRUE,IF(((('2B'!$H$9)*Y52)+1)>'1A'!I52=TRUE,\"OK\",\"PŘEKROČENÉ %\"),IF(($O$4>500000000)=TRUE,IF(((('2B'!$H$9)*'1A'!U52)+1)>'1A'!I52=TRUE,\"OK\",\"PŘEKROČENÉ %\"),IF(($O$4>50000000)=TRUE,IF(((('2B'!$H$9)*Q52)+1)>'1A'!I52=TRUE,\"OK\",\"PŘEKROČENÉ %\"), IF(($O$4<50000000)=TRUE,IF((('2B'!$H$9)*'1A'!Q52)>'1A'!I52=TRUE,\"OK\",\"pod 50 mil. Kč\"),\"PŘEKROČENÉ %\"))))","v":"pod 50 mil. Kč"},0,0]
["A.5.1.3",null,null,"Ostatní poradenské firmy",null,null,null,"Nezařazeno",null,{"$f":"I53*hide!$D$59","v":0},{"$f":"I53-J53","v":0},null,{"$f":"IF('1A'!$H53=\"Individuálně\",IF('1A'!$I53=\"\",\"označit\",\"vyplněno\"),IF('1A'!$H53=\"Smluvně\",IF('1A'!$I53=\"\",\"označit\",\"vyplněno\"),(IF('1A'!$H53>0%,\"vyplněno\",\"označit\"))))","v":"vyplněno"},"Smluvně","Individuálně","Nezařazeno",2.5000000000000001E-3,2.3999999999999998E-3,2.3E-3,2.2000000000000001E-3,2.0999999999999999E-3,2E-3,1.9E-3,1.8E-3,1.6999999999999999E-3,1.6000000000000001E-3,1.5E-3,null,null,null,null,null,null,null,null,null,null,null,{"$f":"IF('1A'!I53>0,IF('1A'!H53=\"\",\"X\",\"OK\"),\"OK\")","v":"OK"},null,{"$f":"IF(($O$4>1800000000)=TRUE,IF(((('2B'!$H$9+'2B'!$H$17)*AA53)+1)>'1A'!I53=TRUE,\"OK\",\"PŘEKROČENÉ %\"),IF(($O$4>500000000)=TRUE,IF(((('2B'!$H$9+'2B'!$H$17)*'1A'!V53)+1)>'1A'!I53=TRUE,\"OK\",\"PŘEKROČENÉ %\"),IF(($O$4>50000000)=TRUE,IF(((('2B'!$H$9+'2B'!$H$17)*Q53)+1)>'1A'!I53=TRUE,\"OK\",\"PŘEKROČENÉ %\"), IF(($O$4<50000000)=TRUE,IF((('2B'!$H$9+'2B'!$H$17)*'1A'!Q53)>'1A'!I53=TRUE,\"OK\",\"pod 50 mil. Kč\"),\"PŘEKROČENÉ %\"))))","v":"pod 50 mil. Kč"},0,0]
["A.5.2",null,"Soutěže a zadávací řízení ",null,null,null,null,null,{"$f":"SUM(I55:I57)","v":0},{"$f":"SUM(J55:J57)","v":0},{"$f":"SUM(K55:K57)","v":0},null,null,null,null,null,null,null,null,null,null,null,null,null,null,null,null,null,null,null,null,null,null,null,null,null,null,null,null,null,null,0,0]
["A.5.2.1",null,"z toho","Soutěže a zadávací řízení na předprojektovou přípravu",null,null,null,"Nezařazeno",null,{"$f":"I55*hide!$D$59","v":0},{"$f":"I55-J55","v":0},null,{"$f":"IF('1A'!$H55=\"Individuálně\",IF('1A'!$I55=\"\",\"označit\",\"vyplněno\"),IF('1A'!$H55=\"Smluvně\",IF('1A'!$I55=\"\",\"označit\",\"vyplněno\"),(IF('1A'!$H55>0%,\"vyplněno\",\"označit\"))))","v":"vyplněno"},"Smluvně","Individuálně","Nezařazeno",0.01,8.9999999999999993E-3,8.0000000000000002E-3,7.0000000000000001E-3,6.0000000000000001E-3,5.0000000000000001E-3,3.9999999999999897E-3,2.9999999999999901E-3,1.9999999999999901E-3,9.9999999999999005E-4,null,null,null,null,null,null,null,null,null,null,null,null,{"$f":"IF('1A'!I55>0,IF('1A'!H55=\"\",\"X\",\"OK\"),\"OK\")","v":"OK"},null,{"$f":"IF(($O$4>1800000000)=TRUE,IF(((($I$10)*Y55)+1)>'1A'!I55=TRUE,\"OK\",\"PŘEKROČENÉ %\"),IF(($O$4>500000000)=TRUE,IF(((($I$10)*'1A'!V55)+1)>'1A'!I55=TRUE,\"OK\",\"PŘEKROČENÉ %\"),IF(($O$4>50000000)=TRUE,IF(((($I$10)*Q55)+1)>'1A'!I55=TRUE,\"OK\",\"PŘEKROČENÉ %\"), IF(($O$4<50000000)=TRUE,IF((($I$10)*'1A'!Q55)>'1A'!I55=TRUE,\"OK\",\"pod 50 mil. Kč\"),\"PŘEKROČENÉ %\"))))","v":"pod 50 mil. Kč"},0,0]
["A.5.2.2",null,null,"Soutěže a zadávací řízení na projektovou přípravu",null,null,null,"Nezařazeno",null,{"$f":"I56*hide!$D$59","v":0},{"$f":"I56-J56","v":0},null,{"$f":"IF('1A'!$H56=\"Individuálně\",IF('1A'!$I56=\"\",\"označit\",\"vyplněno\"),IF('1A'!$H56=\"Smluvně\",IF('1A'!$I56=\"\",\"označit\",\"vyplněno\"),(IF('1A'!$H56>0%,\"vyplněno\",\"označit\"))))","v":"vyplněno"},"Smluvně","Individuálně","Nezařazeno",0.02,1.4999999999999999E-2,0.01,5.0000000000000001E-3,4.0000000000000001E-3,3.0000000000000001E-3,2E-3,1E-3,null,null,null,null,null,null,null,null,null,null,null,null,null,null,{"$f":"IF('1A'!I56>0,IF('1A'!H56=\"\",\"X\",\"OK\"),\"OK\")","v":"OK"},null,{"$f":"IF(($O$4>1800000000)=TRUE,IF(((($I$21+$I$32)*W56)+1)>'1A'!I56=TRUE,\"OK\",\"PŘEKROČENÉ %\"),IF(($O$4>500000000)=TRUE,IF(((($I$21+$I$32)*'1A'!T56)+1)>'1A'!I56=TRUE,\"OK\",\"PŘEKROČENÉ %\"),IF(($O$4>50000000)=TRUE,IF(((($I$21+$I$32)*Q56)+1)>'1A'!I56=TRUE,\"OK\",\"PŘEKROČENÉ %\"), IF(($O$4<50000000)=TRUE,IF((($I$21+$I$32)*'1A'!Q56)>'1A'!I56=TRUE,\"OK\",\"pod 50 mil. Kč\"),\"PŘEKROČENÉ %\"))))","v":"pod 50 mil. Kč"},0,0]
["A.5.2.3",null,null,"Soutěže a zadávací řízení na zhotovení stavby",null,null,null,"Nezařazeno",null,{"$f":"I57*hide!$D$59","v":0},{"$f":"I57-J57","v":0},null,{"$f":"IF('1A'!$H57=\"Individuálně\",IF('1A'!$I57=\"\",\"označit\",\"vyplněno\"),IF('1A'!$H57=\"Smluvně\",IF('1A'!$I57=\"\",\"označit\",\"vyplněno\"),(IF('1A'!$H57>0%,\"vyplněno\",\"označit\"))))","v":"vyplněno"},"Smluvně","Individuálně","Nezařazeno",1.5E-3,1E-3,5.0000000000000001E-4,4.0000000000000002E-4,2.9999999999999997E-4,2.0000000000000001E-4,1E-4,null,null,null,null,null,null,null,null,null,null,null,null,null,null,null,{"$f":"IF('1A'!I57>0,IF('1A'!H57=\"\",\"X\",\"OK\"),\"OK\")","v":"OK"},null,{"$f":"IF(($O$4>1800000000)=TRUE,IF(((('2B'!$H$9+'2B'!$H$17)*W57)+1)>'1A'!I57=TRUE,\"OK\",\"PŘEKROČENÉ %\"),IF(($O$4>500000000)=TRUE,IF(((('2B'!$H$9+'2B'!$H$17)*'1A'!S57)+1)>'1A'!I57=TRUE,\"OK\",\"PŘEKROČENÉ %\"),IF(($O$4>50000000)=TRUE,IF(((('2B'!$H$9+'2B'!$H$17)*Q57)+1)>'1A'!I57=TRUE,\"OK\",\"PŘEKROČENÉ %\"), IF(($O$4<50000000)=TRUE,IF((('2B'!$H$9+'2B'!$H$17)*'1A'!Q57)>'1A'!I57=TRUE,\"OK\",\"pod 50 mil. Kč\"),\"PŘEKROČENÉ %\"))))","v":"pod 50 mil. Kč"},0,0]
["A.5.3",null,"Ostatní náklady pro zabezpečení stavby",null,null,null,null,null,{"$f":"SUM(I59:I61,I64:I65)","v":0},{"$f":"SUM(J59:J61,J64:J65)","v":0},{"$f":"SUM(K59:K61,K64:K65)","v":0},null,null,null,null,null,null,null,null,null,null,null,null,null,null,null,null,null,null,null,null,null,null,null,null,null,null,null,null,null,null,0,0]
["A.5.3.1",null,"z toho","Správní a místní poplatky",null,null,null,"Nezařazeno",null,{"$f":"I59*hide!$D$59","v":0},{"$f":"I59-J59","v":0},null,{"$f":"IF('1A'!$H59=\"Individuálně\",IF('1A'!$I59=\"\",\"označit\",\"vyplněno\"),IF('1A'!$H59=\"Smluvně\",IF('1A'!$I59=\"\",\"označit\",\"vyplněno\"),(IF('1A'!$H59>0%,\"vyplněno\",\"označit\"))))","v":"vyplněno"},null,null,null,null,null,null,null,null,null,null,null,null,null,null,null,null,null,null,null,null,null,null,null,null,null,{"$f":"IF('1A'!I59>0,IF('1A'!H59=\"\",\"X\",\"OK\"),\"OK\")","v":"OK"},null,null,0,0]
["A.5.3.2",null,null,"Záchranný archeologický výzkum",null,null,null,"Nezařazeno",null,{"$f":"I60*hide!$D$59","v":0},{"$f":"I60-J60","v":0},null,{"$f":"IF('1A'!$H60=\"Individuálně\",IF('1A'!$I60=\"\",\"označit\",\"vyplněno\"),IF('1A'!$H60=\"Smluvně\",IF('1A'!$I60=\"\",\"označit\",\"vyplněno\"),(IF('1A'!$H60>0%,\"vyplněno\",\"označit\"))))","v":"vyplněno"},null,null,null,null,null,null,null,null,null,null,null,null,null,null,null,null,null,null,null,null,null,null,null,null,null,{"$f":"IF('1A'!I60>0,IF('1A'!H60=\"\",\"X\",\"OK\"),\"OK\")","v":"OK"},null,null,0,0]
["A.5.3.3",null,null,"Publicita stavby",null,"z toho zhotovitel v realizaci:",null,null,{"$f":"SUM(I62:I63)","v":0},{"$f":"SUM(J62:J63)","v":0},{"$f":"SUM(K62:K63)","v":0},{"$f":"IF(H61>I61,\"chyba hodnoty v poli H61\",IF(I61>0,IF(H61=0,\"pole H61 není vyplněno, je to správně?\",\"\"),\"\"))","v":""},{"$f":"IF('1A'!$H61=\"Individuálně\",IF('1A'!$I61=\"\",\"označit\",\"vyplněno\"),IF('1A'!$H61=\"Smluvně\",IF('1A'!$I61=\"\",\"označit\",\"vyplněno\"),(IF('1A'!$H61>0%,\"vyplněno\",\"označit\"))))","v":"označit"},null,null,null,null,null,null,null,null,null,null,null,null,null,null,null,null,null,null,null,null,null,null,null,null,null,{"$f":"IF('1A'!I61>0,IF('1A'!H61=\"\",\"X\",\"OK\"),\"OK\")","v":"OK"},null,null,0,0]
["A.5.3.3.1",null,null,"z toho","Publicita povinná",null,"-","Nezařazeno",null,{"$f":"I62*hide!$D$59","v":0},{"$f":"I62-J62","v":0},null,{"$f":"IF('1A'!$H62=\"Individuálně\",IF('1A'!$I62=\"\",\"označit\",\"vyplněno\"),IF('1A'!$H62=\"Smluvně\",IF('1A'!$I62=\"\",\"označit\",\"vyplněno\"),(IF('1A'!$H62>0%,\"vyplněno\",\"označit\"))))","v":"vyplněno"},"Smluvně","Individuálně","Nezařazeno",1.8E-3,1.6000000000000001E-3,1.4E-3,1.1999999999999999E-3,1E-3,8.9999999999999998E-4,8.0000000000000004E-4,6.9999999999999999E-4,5.9999999999999995E-4,5.0000000000000001E-4,4.0000000000000002E-4,2.9999999999999997E-4,2.0000000000000001E-4,1E-4]
["A.5.3.3.2",null,null,null,"Publicta nepovinná",null,"-","Nezařazeno",null,{"$f":"I63*hide!$D$59","v":0},{"$f":"I63-J63","v":0},null,{"$f":"IF('1A'!$H63=\"Individuálně\",IF('1A'!$I63=\"\",\"označit\",\"vyplněno\"),IF('1A'!$H63=\"Smluvně\",IF('1A'!$I63=\"\",\"označit\",\"vyplněno\"),(IF('1A'!$H63>0%,\"vyplněno\",\"označit\"))))","v":"vyplněno"},"Smluvně","Individuálně","Nezařazeno",0.01,8.9999999999999993E-3,8.0000000000000002E-3,7.0000000000000001E-3,6.0000000000000001E-3,5.0000000000000001E-3,4.0000000000000001E-3,3.0000000000000001E-3,2E-3]
["A.5.3.4",null,null,"Monitoring stavby",null,null,"-","Nezařazeno",null,{"$f":"I64*hide!$D$59","v":0},{"$f":"I64-J64","v":0},null,{"$f":"IF('1A'!$H64=\"Individuálně\",IF('1A'!$I64=\"\",\"označit\",\"vyplněno\"),IF('1A'!$H64=\"Smluvně\",IF('1A'!$I64=\"\",\"označit\",\"vyplněno\"),(IF('1A'!$H64>0%,\"vyplněno\",\"označit\"))))","v":"vyplněno"},"Smluvně","Individuálně","Nezařazeno",4.0000000000000001E-3,3.5000000000000001E-3,3.0000000000000001E-3,2.5000000000000001E-3,2E-3,1.5E-3,1.4E-3,1.2999999999999999E-3,1.1999999999999999E-3,1.1000000000000001E-3,1E-3,8.9999999999999998E-4,8.0000000000000004E-4,6.9999999999999999E-4,5.9999999999999995E-4,5.0000000000000001E-4,null,null,null,null,null,null,{"$f":"IF('1A'!I64>0,IF('1A'!H64=\"\",\"X\",\"OK\"),\"OK\")","v":"OK"},null,{"$f":"IF(($O$4>1800000000)=TRUE,IF(((('2B'!$H$9+'2B'!$H$17)*AF64)+1)>'1A'!I64=TRUE,\"OK\",\"PŘEKROČENÉ %\"),IF(($O$4>500000000)=TRUE,IF(((('2B'!$H$9+'2B'!$H$17)*'1A'!V64)+1)>'1A'!I64=TRUE,\"OK\",\"PŘEKROČENÉ %\"),IF(($O$4>50000000)=TRUE,IF(((('2B'!$H$9+'2B'!$H$17)*Q64)+1)>'1A'!I64=TRUE,\"OK\",\"PŘEKROČENÉ %\"), IF(($O$4<50000000)=TRUE,IF((('2B'!$H$9+'2B'!$H$17)*'1A'!Q64)>'1A'!I64=TRUE,\"OK\",\"pod 50 mil. Kč\"),\"PŘEKROČENÉ %\"))))","v":"pod 50 mil. Kč"},{"$f":"IF(AO64=\"PŘEKROČENÉ %\",IF(H64=\"Smluvně\",0,IF(H64=\"Nezařazeno\",0,IF(H64=\"Individuálně\",IF(AO64=\"PŘEKROČENÉ %\",100,1),1))),0)","v":0},{"$f":"IF(AO64=\"PŘEKROČENÉ %\",IF(H64=\"Smluvně\",0,IF(H64=\"Nezařazeno\",0,IF(H64=\"Individuálně\",IF(AP64=\"PŘEKROČENÉ %\",0,0),1))),0)","v":0}]
["A.5.3.5",null,null,"Vyhodnocení stavby",null,null,"-","Nezařazeno",null,{"$f":"I65*hide!$D$59","v":0},{"$f":"I65-J65","v":0},null,{"$f":"IF('1A'!$H65=\"Individuálně\",IF('1A'!$I65=\"\",\"označit\",\"vyplněno\"),IF('1A'!$H65=\"Smluvně\",IF('1A'!$I65=\"\",\"označit\",\"vyplněno\"),(IF('1A'!$H65>0%,\"vyplněno\",\"označit\"))))","v":"vyplněno"},"Smluvně","Individuálně","Nezařazeno",1E-3,8.9999999999999998E-4,8.0000000000000004E-4,6.9999999999999999E-4,5.9999999999999995E-4,5.0000000000000001E-4,4.0000000000000002E-4,2.9999999999999997E-4,2.0000000000000001E-4,null,null,null,null,null,null,null,null,null,null,null,null,null,{"$f":"IF('1A'!I65>0,IF('1A'!H65=\"\",\"X\",\"OK\"),\"OK\")","v":"OK"},null,{"$f":"IF(($O$4>1800000000)=TRUE,IF(((('2B'!$H$9+'2B'!$H$17)*Y65)+1)>'1A'!I65=TRUE,\"OK\",\"PŘEKROČENÉ %\"),IF(($O$4>500000000)=TRUE,IF(((('2B'!$H$9+'2B'!$H$17)*'1A'!V65)+1)>'1A'!I65=TRUE,\"OK\",\"PŘEKROČENÉ %\"),IF(($O$4>50000000)=TRUE,IF(((('2B'!$H$9+'2B'!$H$17)*Q65)+1)>'1A'!I65=TRUE,\"OK\",\"PŘEKROČENÉ %\"), IF(($O$4<50000000)=TRUE,IF((('2B'!$H$9+'2B'!$H$17)*'1A'!Q65)>'1A'!I65=TRUE,\"OK\",\"pod 50 mil. Kč\"),\"PŘEKROČENÉ %\"))))","v":"pod 50 mil. Kč"},{"$f":"IF(AO65=\"PŘEKROČENÉ %\",IF(H65=\"Smluvně\",0,IF(H65=\"Nezařazeno\",0,IF(H65=\"Individuálně\",IF(AO65=\"PŘEKROČENÉ %\",100,1),1))),0)","v":0},{"$f":"IF(AO65=\"PŘEKROČENÉ %\",IF(H65=\"Smluvně\",0,IF(H65=\"Nezařazeno\",0,IF(H65=\"Individuálně\",IF(AP65=\"PŘEKROČENÉ %\",0,0),1))),0)","v":0}]
["A.5.4",null,"Odvody za odnětí ZPF a LPF",null,null,null,null,null,{"$f":"SUM(I67:I68)","v":0},{"$f":"SUM(J67:J68)","v":0},{"$f":"SUM(K67:K68)","v":0}]
["A.5.4.1",null,"z toho","Odvody za trvalé odnětí ZPF a LPF",null,null,null,"Nezařazeno",null,{"$f":"I67*hide!$D$59","v":0},{"$f":"I67-J67","v":0},null,{"$f":"IF('1A'!$H67=\"Individuálně\",IF('1A'!$I67=\"\",\"označit\",\"vyplněno\"),IF('1A'!$H67=\"Smluvně\",IF('1A'!$I67=\"\",\"označit\",\"vyplněno\"),(IF('1A'!$H67>0%,\"vyplněno\",\"označit\"))))","v":"vyplněno"},null,null,null,null,null,null,null,null,null,null,null,null,null,null,null,null,null,null,null,null,null,null,null,null,null,{"$f":"IF('1A'!I67>0,IF('1A'!H67=\"\",\"X\",\"OK\"),\"OK\")","v":"OK"}]
["A.5.4.2",null,null,"Odvody za dočasné odnětí ZPF a LPF",null,null,null,"Nezařazeno",null,{"$f":"I68*hide!$D$59","v":0},{"$f":"I68-J68","v":0},null,{"$f":"IF('1A'!$H68=\"Individuálně\",IF('1A'!$I68=\"\",\"označit\",\"vyplněno\"),IF('1A'!$H68=\"Smluvně\",IF('1A'!$I68=\"\",\"označit\",\"vyplněno\"),(IF('1A'!$H68>0%,\"vyplněno\",\"označit\"))))","v":"vyplněno"},null,null,null,null,null,null,null,null,null,null,null,null,null,null,null,null,null,null,null,null,null,null,null,null,null,{"$f":"IF('1A'!I68>0,IF('1A'!H68=\"\",\"X\",\"OK\"),\"OK\")","v":"OK"}]
["A.6","Náklady na přípravu a celkové zabezpečení stavby celkem",null,null,null,null,null,null,{"$f":"I49+I46+I42+I9+I8","v":0},{"$f":"J49+J46+J42+J9+J8","v":0},{"$f":"K49+K46+K42+K9+K8","v":0}]
[null,null,null,null,null,{"$f":"IF(SUM(AP7:AP65)>99,\"*(Náklady stanovené individuálně překročily hodnotu % sazby pro stanovení nákladu výpočtem, nutno zdůvodnit!)\",IF(SUM(AP7:AP65)>0<100,\"*(Horní hranice % sazby u nákladů stanovených výpočtem byla překročena, nutno zdůvodnit!)\",\"\"))","v":""}]
[null,null,null,null,null,null,{"$f":"IF(SUM(AQ7:AQ65)>0,\"*(Horní hranice % sazby u nákladů stanovených výpočtem byla překročena, nutno zdůvodnit!)\",\"\")","v":""}]
["Poznámka k nákladům v přípravě a zabezpečení stavby - (A):"]
["rozpis položky",null,null,null,null,"poznámka",null,"v příloze A:","náklady v Kč"]

{"sheet":"1B","index":2,"n_rows":49,"n_cols":43,"rows_kept":49,"cut":false,"hidden":false,"merged":[[64,0,64,4],[65,0,65,4],[3,14,3,15],[45,5,45,10],[46,6,46,10],[65,5,65,6],[55,5,55,6],[56,5,56,6],[57,5,57,6],[58,5,58,6],[59,5,59,6],[50,5,50,6],[51,5,51,6],[52,5,52,6],[53,5,53,6],[54,5,54,6],[60,5,60,6],[61,5,61,6],[62,5,62,6],[63,5,63,6],[64,5,64,6],[48,5,48,6],[49,5,49,6],[66,0,66,4],[52,0,52,4],[49,0,49,4],[50,0,50,4],[51,0,51,4],[53,0,53,4],[54,0,54,4],[55,0,55,4],[56,0,56,4],[57,0,57,4],[58,0,58,4],[59,0,59,4],[60,0,60,4],[66,5,66,6],[61,0,61,4],[62,0,62,4],[63,0,63,4],[1,2,1,10],[4,9,4,10],[1,0,1,1],[2,2,2,3],[2,9,2,10],[3,1,3,2],[3,3,3,6],[4,2,4,5],[4,0,4,1],[4,8,5,8],[2,4,2,5],[2,6,2,7],[42,6,42,7],[67,0,67,4],[67,5,67,6],[68,0,68,4],[68,5,68,6],[69,0,69,4],[69,5,69,6],[73,0,73,4],[73,5,73,6],[70,0,70,4],[70,5,70,6],[71,0,71,4],[71,5,71,6],[72,0,72,4],[72,5,72,6]]}
["Náklady stavby v aktuáním roce:",null,null,null,{"$f":"'Krycí list SR'!$F$4","v":2022},null,null,null,null,"Formulář 1.B",{"$f":"'Krycí list SR'!$H$1","v":"SRP/2022/prozatimní"}]
["Název stavby:",null,{"$f":"IF('Krycí list SR'!B2=\"\",\"\",'Krycí list SR'!B2)","v":""}]
["ISPROFIN:",null,{"$f":"IF('Krycí list SR'!$B$3=\"\",\"\",'Krycí list SR'!$B$3)","v":""},null,"Označení (S-kód):",null,{"$f":"IF('Krycí list SR'!D3=\"\",\"\",'Krycí list SR'!D3)","v":""},null,{"$f":"IF('Krycí list SR'!E3=\"\",\"\",'Krycí list SR'!E3)","v":""},{"$f":"IF('Krycí list SR'!F3=\"STÁDIUM - vybrat v poli E3\",\"\",'Krycí list SR'!F3)","v":""}]
["Investor:","   SŽ",null,{"$f":"IF('Krycí list SR'!$B$5=\"\",\"\",'Krycí list SR'!$B$5)","v":"Stavební správa západ, Ke Štvanici 656/3,186 00  Praha 8"},null,null,null,"IČO:",{"$f":"'Krycí list SR'!$D$8","v":70994234},"DIČ:",{"$f":"'Krycí list SR'!D9","v":"CZ70994234"},null,null,"CIN:",{"$f":"'Krycí list SR'!G13","v":0}]
["Jiný investor:",null,{"$f":"IF('Krycí list SR'!$B$7=\"\",\"neurčen\",'Krycí list SR'!$B$7)","v":"neurčen"},null,null,null,null,null,"Náklady celkem\n\n[Kč]","Náklady dle rozdělení majektu",null,null,null,"Tabulky stanovení nákladů"]
["B","Realizace stavby",null,null,null,null,"Zařazení nákladů ve stádiích realizace","stanovení nákladů",null,"SŽ","Ostatní","Pole pro pracovní výpočty\nbez tisku",null,null,null,null,"procentní sazba",null,null,null,null,null,null,null,null,null,null,null,null,null,null,null,null,null,null,null,null,null,null,null,"Kontrola překročení llimitní hranice % sazby"]
[]
["B.1","Stavební část",null,null,null,null,null,null,{"$f":"I9+I12","v":0},{"$f":"J9+J12","v":0},{"$f":"K9+K12","v":0},null,null,null,null,null,null,null,null,null,null,null,null,null,null,null,null,null,null,null,null,null,null,null,null,null,null,null,null,null,null,{"$f":"IF(AO8=\"PŘEKROČENÉ %\",IF(H8=\"Smluvně\",0,IF(H8=\"Nezařazeno\",0,IF(H8=\"Individuálně\",IF(AO8=\"PŘEKROČENÉ %\",100,1),1))),0)","v":0},{"$f":"IF(AO8=\"PŘEKROČENÉ %\",IF(H8=\"Smluvně\",0,IF(H8=\"Nezařazeno\",0,IF(H8=\"Individuálně\",IF(AP8=\"PŘEKROČENÉ %\",0,0),1))),0)","v":0}]
["B.1.1","z toho","Stavební objekty dodávané zhotoviteli",null,null,null,null,null,{"$f":"SUM(I10:I11)","v":0},{"$f":"SUM(J10:J11)","v":0},{"$f":"SUM(K10:K11)","v":0},null,null,null,null,null,null,null,null,null,null,null,null,null,null,null,null,null,null,null,null,null,null,null,null,null,null,null,null,null,null,{"$f":"IF(AO9=\"PŘEKROČENÉ %\",IF(H9=\"Smluvně\",0,IF(H9=\"Nezařazeno\",0,IF(H9=\"Individuálně\",IF(AO9=\"PŘEKROČENÉ %\",100,1),1))),0)","v":0},{"$f":"IF(AO9=\"PŘEKROČENÉ %\",IF(H9=\"Smluvně\",0,IF(H9=\"Nezařazeno\",0,IF(H9=\"Individuálně\",IF(AP9=\"PŘEKROČENÉ %\",0,0),1))),0)","v":0}]
["B.1.1.1",null,"z toho","Základní rozpočtové náklady jednotlivých SO (ZRN)",null,null,null,"S z listu 3SO",{"$f":"'3SO'!G8","v":0},{"$f":"'3SO'!D3","v":0},{"$f":"I10-J10","v":0},null,null,null,null,null,null,null,null,null,null,null,null,null,null,null,null,null,null,null,null,null,null,null,null,null,null,null,null,null,null,0,{"$f":"IF(AO10=\"PŘEKROČENÉ %\",IF(H10=\"Smluvně\",0,IF(H10=\"Nezařazeno\",0,IF(H10=\"Individuálně\",IF(AP10=\"PŘEKROČENÉ %\",0,0),1))),0)","v":0}]
["B.1.1.2",null,null,"Vedlejší rozpočtové náklady nezahrnuté do jednotlivých SO (VRN)",null,null,null,"Nezařazeno",null,null,null,null,null,null,null,null,null,null,null,null,null,null,null,null,null,null,null,null,null,null,null,null,null,null,null,null,null,null,null,null,null,0,{"$f":"IF(AO11=\"PŘEKROČENÉ %\",IF(H11=\"Smluvně\",0,IF(H11=\"Nezařazeno\",0,IF(H11=\"Individuálně\",IF(AP11=\"PŘEKROČENÉ %\",0,0),1))),0)","v":0}]
["B.1.2",null,"Stavební část zajišťovaná přímo investorem",null,null,null,null,null,{"$f":"SUM(I13:I15)","v":0},{"$f":"I12*hide!$D$59","v":0},0,null,null,null,null,null,null,null,null,null,null,null,null,null,null,null,null,null,null,null,null,null,null,null,null,null,null,null,null,null,null,0,{"$f":"IF(AO12=\"PŘEKROČENÉ %\",IF(H12=\"Smluvně\",0,IF(H12=\"Nezařazeno\",0,IF(H12=\"Individuálně\",IF(AP12=\"PŘEKROČENÉ %\",0,1),1))),0)","v":0}]
["B.1.2.1",null,"z toho","Stavební objekty zajišťované přímo investorem",null,null,null,"S z listu 3SO",{"$f":"'3SO'!I8","v":0},{"$f":"'3SO'!D5","v":0},0,null,null,null,null,null,null,null,null,null,null,null,null,null,null,null,null,null,null,null,null,null,null,null,null,null,null,null,null,null,null,0,{"$f":"IF(AO13=\"PŘEKROČENÉ %\",IF(H13=\"Smluvně\",0,IF(H13=\"Nezařazeno\",0,IF(H13=\"Individuálně\",IF(AP13=\"PŘEKROČENÉ %\",0,0),1))),0)","v":0}]
["B.1.2.2",null,null,"Stavební práce a dodávky zajišťované přímo investorem",null,null,null,"Nezařazeno",null,{"$f":"I14*hide!$D$59","v":0},0,null,{"$f":"IF('1B'!$H14=\"Individuálně\",IF('1B'!$I14=\"\",\"označit\",\"vyplněno\"),IF('1B'!$H14=\"Smluvně\",IF('1B'!$I14=\"\",\"označit\",\"vyplněno\"),(IF('1B'!$H14>0%,\"vyplněno\",\"označit\"))))","v":"vyplněno"},null,null,null,null,null,null,null,null,null,null,null,null,null,null,null,null,null,null,null,null,null,null,null,null,null,null,null,null,0,0]
["B.1.2.3",null,null,"Zkoušky, revize a měření zajišťované přímo investorem",null,null,null,"Nezařazeno",null,{"$f":"I15","v":0},null,null,{"$f":"IF('1B'!$H15=\"Individuálně\",IF('1B'!$I15=\"\",\"označit\",\"vyplněno\"),IF('1B'!$H15=\"Dle fakturace\",IF('1B'!$I15=\"\",\"označit\",\"vyplněno\"),(IF('1B'!$H15>0%,\"vyplněno\",\"označit\"))))","v":"vyplněno"},null,null,null,null,null,null,null,null,null,null,null,null,null,null,null,null,null,null,null,null,null,null,null,null,null,null,null,null,0,0]
["B.2","Technologická část",null,null,null,null,null,null,{"$f":"I17+I20","v":0},{"$f":"J17+J20","v":0},{"$f":"K17+K20","v":0},null,null,null,null,null,null,null,null,null,null,null,null,null,null,null,null,null,null,null,null,null,null,null,null,null,null,null,null,null,null,0,0]
["B.2.1","z toho","Provozní soubory dodávané zhotoviteli",null,null,null,null,null,{"$f":"SUM(I18:I19)","v":0},{"$f":"SUM(J18:J19)","v":0},{"$f":"SUM(K18:K19)","v":0},null,null,null,null,null,null,null,null,null,null,null,null,null,null,null,null,null,null,null,null,null,null,null,null,null,null,null,null,null,null,0,0]
["B.2.1.1",null,"z toho","Základní rozpočtové náklady jednotlivých PS (ZRN)",null,null,null,"S z listu 3PS",{"$f":"'3PS'!G8","v":0},{"$f":"'3PS'!D3","v":0},{"$f":"I18-J18","v":0},null,null,null,null,null,null,null,null,null,null,null,null,null,null,null,null,null,null,null,null,null,null,null,null,null,null,null,null,null,null,0,0]
["B.2.1.2",null,null,"Vedlejší rozpočtové náklady nezahrnute do jednotlivých PS (VRN)",null,null,null,"Nezařazeno",null,null,null,null,null,null,null,null,null,null,null,null,null,null,null,null,null,null,null,null,null,null,null,null,null,null,null,null,null,null,null,null,null,0,0]
["B.2.2",null,"Technologické část zajišťovaná přímo investorem",null,null,null,null,null,{"$f":"SUM(I21:I23)","v":0},{"$f":"I20*hide!$D$59","v":0},0,null,null,null,null,null,null,null,null,null,null,null,null,null,null,null,null,null,null,null,null,null,null,null,null,null,null,null,null,null,null,0,0]
["B.2.2.1",null,"z toho","Provozní soubory zajišťované přímo investorem",null,null,null,"S z listu 3PS",{"$f":"'3PS'!I8","v":0},{"$f":"'3PS'!D5","v":0},0,null,null,null,null,null,null,null,null,null,null,null,null,null,null,null,null,null,null,null,null,null,null,null,null,null,null,null,null,null,null,0,0]
["B.2.2.2",null,null,"Technologické práce a dodávky zajišťované přímo investorem",null,null,null,"Nezařazeno",null,{"$f":"I22*hide!$D$59","v":0},0,null,{"$f":"IF('1B'!$H22=\"Individuálně\",IF('1B'!$I22=\"\",\"označit\",\"vyplněno\"),IF('1B'!$H22=\"Smluvně\",IF('1B'!$I22=\"\",\"označit\",\"vyplněno\"),(IF('1B'!$H22>0%,\"vyplněno\",\"označit\"))))","v":"vyplněno"},null,null,null,null,null,null,null,null,null,null,null,null,null,null,null,null,null,null,null,null,null,null,null,null,null,null,null,null,0,0]
["B.2.2.3",null,null,"Revize a měření zajišťované investorem",null,null,null,"Nezařazeno",null,{"$f":"I23","v":0},null,null,{"$f":"IF('1B'!$H23=\"Individuálně\",IF('1B'!$I23=\"\",\"označit\",\"vyplněno\"),IF('1B'!$H23=\"Dle fakturace\",IF('1B'!$I23=\"\",\"označit\",\"vyplněno\"),(IF('1B'!$H23>0%,\"vyplněno\",\"označit\"))))","v":"vyplněno"},null,null,null,null,null,null,null,null,null,null,null,null,null,null,null,null,null,null,null,null,null,null,null,null,null,null,null,null,0,0]
["B.3","Ostatní náklady pro zajištění realizace stavby",null,null,null,null,null,null,{"$f":"SUM(I25:I38)-I31","v":0},{"$f":"SUM(J25:J38)-J31","v":0},{"$f":"SUM(K25:K38)-K31","v":0},null,null,null,null,null,null,null,null,null,null,null,null,null,null,null,null,null,null,null,null,null,null,null,null,null,null,null,null,null,null,0,0]
["B.3.1","z toho","Osvědčení o shodě notifikovanou osobou v realizaci",null,null,null,"-","Nezařazeno",null,{"$f":"I25*hide!$D$59","v":0},{"$f":"I25-J25","v":0},null,{"$f":"IF('1B'!$H25=\"Individuálně\",IF('1B'!$I25=\"\",\"označit\",\"vyplněno\"),IF('1B'!$H25=\"Smluvně\",IF('1B'!$I25=\"\",\"označit\",\"vyplněno\"),(IF('1B'!$H25>0%,\"vyplněno\",\"označit\"))))","v":"vyplněno"},"Smluvně","Individuálně","Nezařazeno",3.0000000000000001E-3,2.5000000000000001E-3,2E-3,1.5E-3,1.2999999999999999E-3,1.1999999999999999E-3,1.1000000000000001E-3,1E-3,8.9999999999999998E-4,8.0000000000000004E-4,6.9999999999999999E-4,5.9999999999999995E-4,null,null,null,null,null,null,null,null,null,null,null,null,{"$f":"IF(($O$4>1800000000)=TRUE,IF(((('2B'!$H$9+'2B'!$H$17)*Z25)+1)>I25=TRUE,\"OK\",\"PŘEKROČENÉ %\"),IF(($O$4>500000000)=TRUE,IF(((('2B'!$H$9+'2B'!$H$17)*W25)+1)>I25=TRUE,\"OK\",\"PŘEKROČENÉ %\"),IF(($O$4>50000000)=TRUE,IF(((('2B'!$H$9+'2B'!$H$17)*U25)+1)>I25=TRUE,\"OK\",\"PŘEKROČENÉ %\"), IF(($O$4<50000000)=TRUE,IF((('2B'!$H$9+'2B'!$H$17)*Q25)>I25=TRUE,\"OK\",\"pod 50 mil. Kč\"),\"PŘEKROČENÉ %\"))))","v":"pod 50 mil. Kč"},0,0]
["B.3.2",null,"Koordinátor BOZP v realizaci",null,null,null,"-","Nezařazeno",null,{"$f":"I26*hide!$D$59","v":0},0,null,{"$f":"IF('1B'!$H26=\"Individuálně\",IF('1B'!$I26=\"\",\"označit\",\"vyplněno\"),IF('1B'!$H26=\"Smluvně\",IF('1B'!$I26=\"\",\"označit\",\"vyplněno\"),(IF('1B'!$H26>0%,\"vyplněno\",\"označit\"))))","v":"vyplněno"},"Smluvně","Individuálně","Nezařazeno",0.03,2.5000000000000001E-2,0.02,1.4999999999999999E-2,0.01,8.0000000000000002E-3,7.0000000000000001E-3,6.0000000000000001E-3,5.0000000000000001E-3,4.0000000000000001E-3,3.0000000000000001E-3,2E-3,null,null,null,null,null,null,null,null,null,null,null,null,{"$f":"IF(($O$4>1800000000)=TRUE,IF(((('2B'!$H$9+'2B'!$H$17)*AB26)+1)>I26=TRUE,\"OK\",\"PŘEKROČENÉ %\"),IF(($O$4>500000000)=TRUE,IF(((('2B'!$H$9+'2B'!$H$17)*Z26)+1)>I26=TRUE,\"OK\",\"PŘEKROČENÉ %\"),IF(($O$4>100000000)=TRUE,IF(((('2B'!$H$9+'2B'!$H$17)*V26)+1)>I26=TRUE,\"OK\",\"PŘEKROČENÉ %\"),IF(($O$4>30000000)=TRUE,IF(((('2B'!$H$9+'2B'!$H$17)*Q26)+1)>I26=TRUE,\"OK\",\"PŘEKROČENÉ %\"), IF(($O$4<30000000)=TRUE,\"pod 30 mil. Kč\",\"Individuálně\")))))","v":"pod 30 mil. Kč"},0,0]
["B.3.3",null,"Osvědčení o bezpečnosti před uvedením do provozu",null,null,null,"-","Nezařazeno",null,{"$f":"I27*hide!$D$59","v":0},0,null,{"$f":"IF('1B'!$H27=\"Individuálně\",IF('1B'!$I27=\"\",\"označit\",\"vyplněno\"),IF('1B'!$H27=\"Smluvně\",IF('1B'!$I27=\"\",\"označit\",\"vyplněno\"),(IF('1B'!$H27>0%,\"vyplněno\",\"označit\"))))","v":"vyplněno"},"Smluvně","Individuálně","Nezařazeno",1E-3,8.9999999999999998E-4,8.0000000000000004E-4,6.9999999999999999E-4,5.9999999999999995E-4,5.0000000000000001E-4,4.0000000000000002E-4,2.9999999999999997E-4,2.0000000000000001E-4,null,null,null,null,null,null,null,null,null,null,null,null,null,null,null,{"$f":"IF(($O$4>1800000000)=TRUE,IF(((('2B'!$H$9+'2B'!$H$17)*Y27)+1)>I27=TRUE,\"OK\",\"PŘEKROČENÉ %\"),IF(($O$4>500000000)=TRUE,IF(((('2B'!$H$9+'2B'!$H$17)*W27)+1)>I27=TRUE,\"OK\",\"PŘEKROČENÉ %\"),IF(($O$4>50000000)=TRUE,IF(((('2B'!$H$9+'2B'!$H$17)*V27)+1)>I27=TRUE,\"OK\",\"PŘEKROČENÉ %\"), IF(($O$4<50000000)=TRUE,IF((('2B'!$H$9+'2B'!$H$17)*Q27)>I27=TRUE,\"OK\",\"pod 50 mil. Kč\"),\"PŘEKROČENÉ %\"))))","v":"pod 50 mil. Kč"},{"$f":"IF(AO27=\"PŘEKROČENÉ %\",IF(H27=\"Smluvně\",0,IF(H27=\"Nezařazeno\",0,IF(H27=\"Individuálně\",IF(AO27=\"PŘEKROČENÉ %\",100,1),1))),0)","v":0},0]
["B.3.4",null,"Rekultivace",null,null,null,"-","Nezařazeno",null,{"$f":"I28*hide!$D$59","v":0},0,null,{"$f":"IF('1B'!$H28=\"Individuálně\",IF('1B'!$I28=\"\",\"označit\",\"vyplněno\"),IF('1B'!$H28=\"Smluvně\",IF('1B'!$I28=\"\",\"označit\",\"vyplněno\"),(IF('1B'!$H28>0%,\"vyplněno\",\"označit\"))))","v":"vyplněno"},null,null,null,null,null,null,null,null,null,null,null,null,null,null,null,null,null,null,null,null,null,null,null,null,null,null,null,null,0,0]
["B.3.5",null,"Zajištění veřejných zájmů",null,null,null,"-","Nezařazeno",null,{"$f":"I29*hide!$D$59","v":0},0,null,{"$f":"IF('1B'!$H29=\"Individuálně\",IF('1B'!$I29=\"\",\"označit\",\"vyplněno\"),IF('1B'!$H29=\"Smluvně\",IF('1B'!$I29=\"\",\"označit\",\"vyplněno\"),(IF('1B'!$H29>0%,\"vyplněno\",\"označit\"))))","v":"vyplněno"},null,null,null,null,null,null,null,null,null,null,null,null,null,null,null,null,null,null,null,null,null,null,null,null,null,null,null,null,0,0]
["B.3.6",null,"Hlukové měření pro účely realizace stavby",null,null,null,"-","Nezařazeno",null,{"$f":"I30*hide!$D$59","v":0},0,null,{"$f":"IF('1B'!$H30=\"Individuálně\",IF('1B'!$I30=\"\",\"označit\",\"vyplněno\"),IF('1B'!$H30=\"Smluvně\",IF('1B'!$I30=\"\",\"označit\",\"vyplněno\"),(IF('1B'!$H30>0%,\"vyplněno\",\"označit\"))))","v":"vyplněno"},null,null,null,null,null,null,null,null,null,null,null,null,null,null,null,null,null,null,null,null,null,null,null,null,null,null,null,null,0,0]
["B.3.7",null,"Náhrady",null,null,null,null,null,{"$f":"SUM(I32:I34)","v":0},{"$f":"I31*hide!$D$59","v":0},0,null,null,null,null,null,null,null,null,null,null,null,null,null,null,null,null,null,null,null,null,null,null,null,null,null,null,null,null,null,null,0,0]
["B.3.7.1",null,"z toho","Náhrady za omezení hospodaření",null,null,"-","Smluvně",null,{"$f":"I32*hide!$D$59","v":0},0,null,{"$f":"IF('1B'!$H32=\"Individuálně\",IF('1B'!$I32=\"\",\"označit\",\"vyplněno\"),IF('1B'!$H32=\"Smluvně\",IF('1B'!$I32=\"\",\"označit\",\"vyplněno\"),(IF('1B'!$H32>0%,\"vyplněno\",\"označit\"))))","v":"označit"},null,null,null,null,null,null,null,null,null,null,null,null,null,null,null,null,null,null,null,null,null,null,null,null,null,null,null,null,0,0]
["B.3.7.2",null,null,"Náhrady za omezení provozu",null,null,null,"Výpočet - NAD",{"$f":"NAD!C1","v":0},{"$f":"I33*hide!$D$59","v":0},0,null,{"$f":"IF('1B'!$H33=\"Individuálně\",IF('1B'!$I33=\"\",\"označit\",\"vyplněno\"),IF('1B'!$H33=\"Smluvně\",IF('1B'!$I33=\"\",\"označit\",\"vyplněno\"),(IF('1B'!$H33>0%,\"vyplněno\",\"označit\"))))","v":"vyplněno"},null,null,null,null,null,null,null,null,null,null,null,null,null,null,null,null,null,null,null,null,null,null,null,null,null,null,null,null,0,0]
["B.3.7.3",null,null,"Ostatní náhrady v realizaci",null,null,null,"Nezařazeno",null,null,null,null,null,null,null,null,null,null,null,null,null,null,null,null,null,null,null,null,null,null,null,null,null,null,null,null,null,null,null,null,null,0,0]
["B.3.8",null,"Zabezpečovací a konzervační práce",null,null,null,"-","Nezařazeno",null,{"$f":"I35*hide!$D$59","v":0},0,null,{"$f":"IF('1B'!$H35=\"Individuálně\",IF('1B'!$I35=\"\",\"označit\",\"vyplněno\"),IF('1B'!$H35=\"Smluvně\",IF('1B'!$I35=\"\",\"označit\",\"vyplněno\"),(IF('1B'!$H35>0%,\"vyplněno\",\"označit\"))))","v":"vyplněno"},null,null,null,null,null,null,null,null,null,null,null,null,null,null,null,null,null,null,null,null,null,null,null,null,null,null,null,null,0,0]
["B.3.9",null,"Ostatní nezařazené náklady v realizaci",null,null,null,"-","Nezařazeno",null,{"$f":"I36*hide!$D$59","v":0},0,null,{"$f":"IF('1B'!$H36=\"Individuálně\",IF('1B'!$I36=\"\",\"označit\",\"vyplněno\"),IF('1B'!$H36=\"Smluvně\",IF('1B'!$I36=\"\",\"označit\",\"vyplněno\"),(IF('1B'!$H36>0%,\"vyplněno\",\"označit\"))))","v":"vyplněno"},null,null,null,null,null,null,null,null,null,null,null,null,null,null,null,null,null,null,null,null,null,null,null,null,null,null,null,null,0,0]
["B.3.10",null,"Jiné náklady v realizaci",null,null,null,"-","Nezařazeno",null,{"$f":"I37*hide!$D$59","v":0},0,null,{"$f":"IF('1B'!$H37=\"Individuálně\",IF('1B'!$I37=\"\",\"označit\",\"vyplněno\"),IF('1B'!$H37=\"Smluvně\",IF('1B'!$I37=\"\",\"označit\",\"vyplněno\"),(IF('1B'!$H37>0%,\"vyplněno\",\"označit\"))))","v":"vyplněno"},null,null,null,null,null,null,null,null,null,null,null,null,null,null,null,null,null,null,null,null,null,null,null,null,null,null,null,null,0,0]
["B.3.11",null,"Stavební náklady z rozdílu stádia přípravy a realizace",null,null,null,null,"Nezařazeno",null,null,null,null,null,null,null,null,null,null,null,null,null,null,null,null,null,null,null,null,null,null,null,null,null,null,null,null,null,null,null,null,null,0,0]
["B.4","Příspěvky jiným investorům",null,null,null,null,null,null,{"$f":"SUM(I40:I42)","v":0},{"$f":"SUM(J40:J42)","v":0},{"$f":"SUM(K40:K42)","v":0},null,null,null,null,null,null,null,null,null,null,null,null,null,null,null,null,null,null,null,null,null,null,null,null,null,null,null,null,null,null,0,0]
["B.4.1","z toho","Podíl na účelně vynaložených nákl. ve smyslu zák. č.458/00 Sb.",null,null,null,null,"Nezařazeno",null,null,{"$f":"I40-J40","v":0},null,{"$f":"IF('1B'!$H40=\"Individuálně\",IF('1B'!$I40=\"\",\"označit\",\"vyplněno\"),IF('1B'!$H40=\"Smluvně\",IF('1B'!$I40=\"\",\"označit\",\"vyplněno\"),(IF('1B'!$H40>0%,\"vyplněno\",\"označit\"))))","v":"vyplněno"},null,null,null,null,null,null,null,null,null,null,null,null,null,null,null,null,null,null,null,null,null,null,null,null,null,null,null,null,0,0]
["B.4.2",null,"Podíl na účelně vynaložených nákladech dle zákona č. 127/2005 Sb.",null,null,null,null,"Nezařazeno",null,null,{"$f":"I41-J41","v":0},null,{"$f":"IF('1B'!$H41=\"Individuálně\",IF('1B'!$I41=\"\",\"označit\",\"vyplněno\"),IF('1B'!$H41=\"Smluvně\",IF('1B'!$I41=\"\",\"označit\",\"vyplněno\"),(IF('1B'!$H41>0%,\"vyplněno\",\"označit\"))))","v":"vyplněno"},null,null,null,null,null,null,null,null,null,null,null,null,null,null,null,null,null,null,null,null,null,null,null,null,null,null,null,null,0,0]
["B.4.3",null,"Ostatní příspěvky",null,null,null,null,"Nezařazeno",null,null,{"$f":"I42-J42","v":0},null,{"$f":"IF('1B'!$H42=\"Individuálně\",IF('1B'!$I42=\"\",\"označit\",\"vyplněno\"),IF('1B'!$H42=\"Smluvně\",IF('1B'!$I42=\"\",\"označit\",\"vyplněno\"),(IF('1B'!$H42>0%,\"vyplněno\",\"označit\"))))","v":"vyplněno"},null,null,null,null,null,null,null,null,null,null,null,null,null,null,null,null,null,null,null,null,null,null,null,null,null,null,null,null,0,0]
["B.5","Rezerva",null,null,null,null,"S z listu 3SO, 3PS",null,{"$f":"('3SO'!K8+'3PS'!K8)","v":0},{"$f":"I43*hide!$D$59","v":0},{"$f":"I43-J43","v":0},null,null,null,null,null,null,null,null,null,null,null,null,null,null,null,null,null,null,null,null,null,null,null,null,null,null,null,null,null,null,0,0]
["B.6","Náklady na realizaci stavby bez rezervy",null,null,null,null,null,null,{"$f":"I39+I24+I16+I8","v":0},{"$f":"J39+J24+J16+J8","v":0},{"$f":"K39+K24+K16+K8","v":0},null,null,null,null,null,null,null,null,null,null,null,null,null,null,null,null,null,null,null,null,null,null,null,null,null,null,null,null,null,null,0,0]
["B.7","Náklady na realizaci stavby celkem s rezervou",null,null,null,null,null,null,{"$f":"I44+I43","v":0},{"$f":"J44+J43","v":0},{"$f":"K44+K43","v":0},null,null,null,null,null,null,null,null,null,null,null,null,null,null,null,null,null,null,null,null,null,null,null,null,null,null,null,null,null,null,0,0]
[null,null,null,null,null,{"$f":"IF(SUM(AP8:AP40)>99,\"*(Náklady stanovené individuálně překročily hodnotu % sazby pro stanovení nákladu výpočtem, nutno zdůvodnit!)\",\"\")","v":""}]
[null,null,null,null,null,null,{"$f":"IF(SUM(AQ8:AQ45)>0,\"*(Horní hranice % sazby u nákladů stanovených výpočtem byla překročena, nutno zdůvodnit!)\",\"\")","v":""}]
["Poznámka k nákladům v realizaci - (B):"]
["rozpis položky",null,null,null,null,"poznámka",null,"v příloze B:","náklady v Kč"]

{"sheet":"1C","index":3,"n_rows":24,"n_cols":12,"rows_kept":24,"cut":false,"hidden":false,"merged":[[24,0,24,10],[19,4,19,6],[57,0,57,10],[48,0,48,10],[49,0,49,10],[50,0,50,10],[51,0,51,10],[52,0,52,10],[53,0,53,10],[54,0,54,10],[55,0,55,10],[87,0,87,10],[88,0,88,10],[89,0,89,10],[90,0,90,10],[25,0,25,10],[26,0,26,10],[27,0,27,10],[28,0,28,10],[29,0,29,10],[30,0,30,10],[31,0,31,10],[32,0,32,10],[33,0,33,10],[34,0,34,10],[35,0,35,10],[36,0,36,10],[82,0,82,10],[83,0,83,10],[84,0,84,10],[85,0,85,10],[86,0,86,10],[77,0,77,10],[78,0,78,10],[79,0,79,10],[80,0,80,10],[81,0,81,10],[72,0,72,10],[73,0,73,10],[74,0,74,10],[75,0,75,10],[76,0,76,10],[67,0,67,10],[68,0,68,10],[69,0,69,10],[70,0,70,10],[71,0,71,10],[62,0,62,10],[63,0,63,10],[64,0,64,10],[65,0,65,10],[66,0,66,10],[58,0,58,10],[59,0,59,10],[60,0,60,10],[61,0,61,10],[37,0,37,10],[38,0,38,10],[39,0,39,10],[40,0,40,10],[41,0,41,10],[42,0,42,10],[43,0,43,10],[44,0,44,10],[45,0,45,10],[46,0,46,10],[47,0,47,10],[56,0,56,10],[1,0,1,1],[1,2,1,10],[8,2,8,5],[11,3,11,5],[2,2,2,3],[2,9,2,10],[3,1,3,2],[3,3,3,6],[4,0,4,1],[4,2,4,5],[4,8,5,8],[4,9,4,10],[6,0,6,10],[2,4,2,5],[2,6,2,7]]}
["Náklady stavby v aktuáním roce:",null,null,null,{"$f":"'Krycí list SR'!$F$4","v":2022},null,null,null,null,"Formulář 1.C",{"$f":"'Krycí list SR'!$H$1","v":"SRP/2022/prozatimní"}]
["Název stavby:",null,{"$f":"IF('Krycí list SR'!B2=\"\",\"\",'Krycí list SR'!B2)","v":""}]
["ISPROFIN:",null,{"$f":"IF('Krycí list SR'!$B$3=\"\",\"\",'Krycí list SR'!$B$3)","v":""},null,"Označení (S-kód):",null,{"$f":"IF('Krycí list SR'!D3=\"\",\"\",'Krycí list SR'!D3)","v":""},null,{"$f":"IF('Krycí list SR'!E3=\"\",\"\",'Krycí list SR'!E3)","v":""},{"$f":"IF('Krycí list SR'!F3=\"STÁDIUM - vybrat v poli E3\",\"\",'Krycí list SR'!F3)","v":""}]
["Investor:","   SŽ",null,{"$f":"IF('Krycí list SR'!$B$5=\"\",\"\",'Krycí list SR'!$B$5)","v":"Stavební správa západ, Ke Štvanici 656/3,186 00  Praha 8"},null,null,null,"IČO:",{"$f":"'Krycí list SR'!$D$8","v":70994234},"DIČ:",{"$f":"'Krycí list SR'!D9","v":"CZ70994234"}]
["Jiný investor:",null,{"$f":"IF('Krycí list SR'!$B$7=\"\",\"neurčen\",'Krycí list SR'!$B$7)","v":"neurčen"},null,null,null,null,null,"Náklady celkem\n\n[Kč]","Náklady dle rozdělení majektu"]
["C","Rekapitulace nákladů",null,null,null,null,null,null,null,"SŽ","Ostatní","Pole pro pracovní výpočty\nbez tisku"]
[]
["C.1","Pořizovací investiční náklady",null,null,null,null,null,"PIN",{"$f":"I9+I13","v":0},{"$f":"J9+J13","v":0},{"$f":"K9+K13","v":0}]
["C.1.1","z toho","Celkové investiční náklady",null,null,null,null,"CIN",{"$f":"SUM(I10:I12)","v":0},{"$f":"SUM(J10:J12)","v":0},{"$f":"SUM(K10:K12)","v":0}]
["C.1.1.1",null,"z toho","Náklady na přípravu a celkové zabezpečení výstavby",null,null,null,null,{"$f":"'1A'!I69","v":0},{"$f":"'1A'!J69","v":0},{"$f":"I10-J10","v":0}]
["C.1.1.2",null,null,"Náklady na realizaci stavby bez rezervy",null,null,null,null,{"$f":"'1B'!I44","v":0},{"$f":"'1B'!J44","v":0},{"$f":"I11-J11","v":0}]
["C.1.1.3",null,null,"Rezerva stavby",null,null,null,null,{"$f":"'1B'!I43","v":0},{"$f":"'1B'!J43","v":0},{"$f":"I12-J12","v":0}]
["C.1.2",null,"Hodnota zůstatkového majetku SŽ, který bude stavbou odstraněn",null,null,null,null,null,null,{"$f":"I13","v":0}]
["C.2","Provozní náklady        ",null,null,null,null,null,"PRN",null,{"$f":"I14","v":0}]
["C.3","Příjmy generované stavbou ",null,null,null,null,null,null,{"$f":"I16+I17","v":0},{"$f":"J16+J17","v":0},{"$f":"K16+K17","v":0}]
["C.3.1","z toho","Zdroje z výzisku materiálu SŽ",null,null,null,null,null,null,{"$f":"I16","v":0}]
["C.3.2",null,"Ostatní zdroje",null,null,null,null,null,null,null,{"$f":"I17-J17","v":0}]
[]
["C.4","Celkové náklady stavby bez DPH               ",null,null,null,null,null,"CNS",{"$f":"I8+I14","v":0},{"$f":"J8+J14-J15","v":0},{"$f":"K8+K14-K15","v":0}]
["C.5","Daň z přidané hodnoty celkem:",null,null,"(dle hodnoty  DPH pro daný rok stavby)",null,null,"DPH",{"$f":"'2Bhide'!H57","v":0},{"$f":"I20*hide!$D$59","v":0},{"$f":"I20-J20","v":0}]
["C.6","Celkové náklady stavby vč. DPH                          ",null,null,null,null,null,"CND",{"$f":"I20+I19","v":0},{"$f":"J20+J19","v":0},{"$f":"K20+K19","v":0}]
[]
[]
["Poznámka:"]

{"sheet":"2A","index":4,"n_rows":69,"n_cols":23,"rows_kept":69,"cut":false,"hidden":false,"merged":[[4,0,4,1],[4,2,4,5],[3,17,5,17],[3,18,5,18],[31,4,31,5],[3,11,5,11],[3,12,5,12],[3,13,5,13],[3,8,5,8],[3,9,5,9],[3,10,5,10],[3,14,5,14],[3,15,5,15],[3,16,5,16],[5,1,5,6],[6,7,7,7],[1,8,2,8],[1,10,2,10],[1,11,2,11],[1,15,2,15],[1,2,1,7],[1,0,1,1],[2,2,2,3],[3,1,3,2],[3,3,3,6],[2,4,2,5],[2,6,2,7],[1,18,2,18],[1,17,2,17],[1,12,2,12],[1,13,2,13],[1,14,2,14],[1,16,2,16],[6,22,7,22],[6,23,7,23],[6,9,7,9],[6,8,7,8],[6,0,7,0],[6,1,7,4],[6,5,7,5],[6,6,7,6]]}
["Náklady stavby ve smíšené CÚ:",null,null,null,{"$f":"'Krycí list SR'!F5","v":0},"-",{"$f":"'Krycí list SR'!H5","v":""},"Formulář 2.A","Náklady v letech výstavby",null,null,null,null,null,null,null,null,null,{"$f":"'Krycí list SR'!$H$1","v":"SRP/2022/prozatimní"}]
["Název stavby:",null,{"$f":"IF('Krycí list SR'!B2=\"\",\"\",'Krycí list SR'!B2)","v":""},null,null,null,null,null,"Do 31.12","Aktuální rok","v roce","v roce","v roce","v roce","v roce","v roce","v roce","v roce","v letech"]
["ISPROFIN:",null,{"$f":"IF('Krycí list SR'!$B$3=\"\",\"\",'Krycí list SR'!$B$3)","v":""},null,"Označení (S-kód):",null,{"$f":"IF('Krycí list SR'!D3=\"\",\"\",'Krycí list SR'!D3)","v":""},null,null,{"$f":"IF(MIN(J7:S41)<0,\"Chyba\",\"\")","v":""}]
["Investor:","   SŽ s.o.,",null,{"$f":"IF('Krycí list SR'!$B$5=\"\",\"\",'Krycí list SR'!$B$5)","v":"Stavební správa západ, Ke Štvanici 656/3,186 00  Praha 8"},null,null,null,{"$f":"IF('Krycí list SR'!E3=\"\",\"\",'Krycí list SR'!E3)","v":""},{"$f":"J4-1","v":2021},{"$f":"'Krycí list SR'!F4","v":2022},{"$f":"J4+1","v":2023},2024,2025,2026,2027,2028,2029,2030,{"$f":"CONCATENATE(\"po \",R4)","v":"po 2030"}]
["Jiný investor:",null,{"$f":"IF('Krycí list SR'!$B$7=\"\",\"neurčen\",'Krycí list SR'!$B$7)","v":"neurčen"},null,null,null,null,{"$f":"IF(MIN(J7:S68)<0,\"Chyba: rozdělení nákladů v letech\",\"\")","v":""},null,null,{"$f":"J4+1","v":2023},{"$f":"K4+1","v":2024},{"$f":"L4+1","v":2025},2026,2027,2028,2029,2030,2031]
["A","Příprava a celkové zabezpečení stavby",null,null,null,null,null,"náklady v Kč celkem",null,null,null,null,null,null,null,null,null,null,null,"Pole pro pracovní výpočty\nbez tisku",null,null,"Podklad pro opravu formátování"]
["A.1","Náklady investorsko - inženýrské\nčinnosti ve výstavbě",null,null,null,"z toho ve stádiu realizace",0.6,{"$f":"'1A'!I8","v":0},null,{"$f":"'1A'!I8-I7-SUM(K7:S8)","v":0}]
[null,null,null,null,null,null,null,null,null,null,{"$f":"ROUND(((('1A'!$I8)*$G$7)*SUMIF(hide!$H$74:$H$83,K$4,hide!$L$74:$L$83)),0)","v":0},{"$f":"ROUND(((('1A'!$I8)*$G$7)*SUMIF(hide!$H$74:$H$83,L$4,hide!$L$74:$L$83)),0)","v":0},{"$f":"ROUND(((('1A'!$I8)*$G$7)*SUMIF(hide!$H$74:$H$83,M$4,hide!$L$74:$L$83)),0)","v":0},{"$f":"ROUND(((('1A'!$I8)*$G$7)*SUMIF(hide!$H$74:$H$83,N$4,hide!$L$74:$L$83)),0)","v":0},{"$f":"ROUND(((('1A'!$I8)*$G$7)*SUMIF(hide!$H$74:$H$83,O$4,hide!$L$74:$L$83)),0)","v":0},{"$f":"ROUND(((('1A'!$I8)*$G$7)*SUMIF(hide!$H$74:$H$83,P$4,hide!$L$74:$L$83)),0)","v":0},{"$f":"ROUND(((('1A'!$I8)*$G$7)*SUMIF(hide!$H$74:$H$83,Q$4,hide!$L$74:$L$83)),0)","v":0},{"$f":"ROUND(((('1A'!$I8)*$G$7)*SUMIF(hide!$H$74:$H$83,R$4,hide!$L$74:$L$83)),0)","v":0},{"$f":"ROUND(((('1A'!$I8)*$G$7)*SUMIF(hide!$H$74:$H$83,S$4,hide!$L$74:$L$83)),0)","v":0}]
["A.2","Náklady na dokumentaci staveb",null,null,null,null,null,{"$f":"SUM(I9:S9)","v":0},{"$f":"I10+I21+I32+I33+I38","v":0},0,0,0,0,0,0,0,0,0,0]
["A.2.1","z toho","Náklady na předprojektové dokumentace pro přípravu stavby",null,null,null,null,{"$f":"SUM(I10:S10)","v":0},{"$f":"SUM(I11,I17:I20)","v":0},{"$f":"SUM(J11,J17:J20)","v":0},{"$f":"SUM(K11,K17:K20)","v":0},{"$f":"SUM(L11,L17:L20)","v":0},0,0,0,0,0,0,0]
["A.2.1.1",null,"z toho","Práce prováděné pro zpracování předprojektových dokumentací",null,null,null,{"$f":"SUM(I11:S11)","v":0},{"$f":"SUM(I12:I16)","v":0},{"$f":"SUM(J12:J16)","v":0},{"$f":"SUM(K12:K16)","v":0},{"$f":"SUM(L12:L16)","v":0},{"$f":"SUM(M12:M16)","v":0},0,0,0,0,0,0]
["A.2.1.1.1",null,null,"z toho","Geodetické práce a mapové podklady",null,null,{"$f":"SUM(I12:S12)","v":0},null,{"$f":"'1A'!I12-SUM(I12,K12:S12)","v":0}]
["A.2.1.1.2",null,null,null,"Průzkumné práce pro předprojektové dokumentace",null,null,{"$f":"SUM(I13:S13)","v":0},null,{"$f":"'1A'!I13-SUM(I13,K13:S13)","v":0}]
["A.2.1.1.3",null,null,null,"Posouzení vlivu stavby na životní prostředí",null,null,0,null,{"$f":"'1A'!I14-SUM(I14,K14:S14)","v":0}]
["A.2.1.1.4",null,null,null,"Inženýrská činnost pro předprojektové dokumentace",null,null,0,null,{"$f":"'1A'!I15-SUM(I15,K15:S15)","v":0}]
["A.2.1.1.5",null,null,null,"Ostatní náklady pro předprojektové dokumentace",null,null,0,null,{"$f":"'1A'!I16-SUM(I16,K16:S16)","v":0}]
["A.2.1.2",null,null,"Záměr projektu",null,null,null,0,null,{"$f":"'1A'!I17-SUM(I17,K17:S17)","v":0}]
[null,null,null,"Neobsazeno"]
["A.2.1.3",null,null,"Dokumentace pro územní řízení",null,null,null,0,null,{"$f":"'1A'!I19-SUM(I19,K19:S19)","v":0}]
["A.2.1.4",null,null,"Dodatky k předprojektovým dokumentacím pro přípravu stavby",null,null,null,{"$f":"SUM(I20:S20)","v":0},null,{"$f":"'1A'!I20-SUM(I20,K20:S20)","v":0}]
["A.2.2",null,"Náklady na projektové dokumentace",null,null,null,null,{"$f":"SUM(I21:S21)","v":0},{"$f":"I22+I28+I29+I30+I31","v":0},{"$f":"J22+J28+J29+J30+J31","v":0},{"$f":"K22+K28+K29+K30+K31","v":0},{"$f":"L22+L28+L29+L30+L31","v":0},{"$f":"M22+M28+M29+M30+M31","v":0},0,0,0,0,0,0]
["A.2.2.1",null,"z toho","Práce prováděné pro zpracování projektových dokumentací",null,null,null,{"$f":"SUM(I22:S22)","v":0},{"$f":"SUM(I23:I27)","v":0},{"$f":"SUM(J23:J27)","v":0},{"$f":"SUM(K23:K27)","v":0},{"$f":"SUM(L23:L27)","v":0},{"$f":"SUM(M23:M27)","v":0},0,0,0,0,0,0]
["A.2.2.1.1",null,null,"z toho","Geodetické práce a mapové podklady",null,null,{"$f":"SUM(I23:S23)","v":0},null,{"$f":"'1A'!I23-SUM(I23,K23:S23)","v":0}]
["A.2.2.1.2",null,null,null,"Geotechnický průzkum",null,null,0,null,{"$f":"'1A'!I24-SUM(I24,K24:S24)","v":0}]
["A.2.2.1.3",null,null,null,"Ostatní průzkumné práce",null,null,0,null,{"$f":"'1A'!I25-SUM(I25,K25:S25)","v":0}]
["A.2.2.1.4",null,null,null,"Inženýrská činnost pro projektovou dokumentaci",null,null,0,null,{"$f":"'1A'!I26-SUM(I26,K26:S26)","v":0}]
["A.2.2.1.5",null,null,null,"Ostatní náklady pro projektovou dokumentaci",null,null,0,null,{"$f":"'1A'!I27-SUM(I27,K27:S27)","v":0}]
["A.2.2.2",null,null,"Projektová dokumentace pro ohlášení stavby (DOS)",null,null,null,0,null,{"$f":"'1A'!I28-SUM(I28,K28:S28)","v":0}]
["A.2.2.3",null,null,"Projektová dokumentace pro stavební povolení (DSP)",null,null,null,0,null,{"$f":"'1A'!I29-SUM(I29,K29:S29)","v":0}]
["A.2.2.4",null,null,"Projektová dokumentace pro provádění stavby (PDPS)",null,null,null,0,null,{"$f":"'1A'!I30-SUM(I30,K30:S30)","v":0}]
["A.2.2.5",null,null,"Dodatky k projektové dokumentaci",null,null,null,0,null,{"$f":"'1A'!I31-SUM(I31,K31:S31)","v":0}]
["A.2.3",null,"Autorský dozor",null,"předpokládaný počet hodin:",null,{"$f":"'1A'!G32","v":0},{"$f":"SUM(I32:S32)","v":0},null,{"$f":"'1A'!$I32*SUMIF(hide!$H$74:$H$83,J$4,hide!$L$74:$L$83)","v":0},{"$f":"'1A'!$I32*SUMIF(hide!$H$74:$H$83,K$4,hide!$L$74:$L$83)","v":0},{"$f":"'1A'!$I32*SUMIF(hide!$H$74:$H$83,L$4,hide!$L$74:$L$83)","v":0},{"$f":"'1A'!$I32*SUMIF(hide!$H$74:$H$83,M$4,hide!$L$74:$L$83)","v":0},{"$f":"'1A'!$I32*SUMIF(hide!$H$74:$H$83,N$4,hide!$L$74:$L$83)","v":0},{"$f":"'1A'!$I32*SUMIF(hide!$H$74:$H$83,O$4,hide!$L$74:$L$83)","v":0},{"$f":"'1A'!$I32*SUMIF(hide!$H$74:$H$83,P$4,hide!$L$74:$L$83)","v":0},{"$f":"'1A'!$I32*SUMIF(hide!$H$74:$H$83,Q$4,hide!$L$74:$L$83)","v":0},{"$f":"'1A'!$I32*SUMIF(hide!$H$74:$H$83,R$4,hide!$L$74:$L$83)","v":0},{"$f":"'1A'!$I32*SUMIF(hide!$H$74:$H$83,S$4,hide!$L$74:$L$83)","v":0}]
["A.2.4",null,"Ostatní náklady pro přípravu stavby",null,null,null,null,0,{"$f":"SUM(I34:I37)","v":0},{"$f":"SUM(J34:J37)","v":0},{"$f":"SUM(K34:K37)","v":0},{"$f":"SUM(L34:L37)","v":0},{"$f":"SUM(M34:M37)","v":0},0,0,0,0,0,0]
["A.2.4.1",null,"z toho","Osvědčení o shodě notifikovanou osobou v přípravě",null,null,null,0,null,{"$f":"'1A'!I34-'2A'!I34-(SUM('2A'!K34:S34))","v":0}]
["A.2.4.2",null,null,"Koordinátor BOZP v přípravě",null,null,null,0,null,{"$f":"'1A'!I35-'2A'!I35-(SUM('2A'!K35:S35))","v":0}]
["A.2.4.3",null,null,"Zpracování žádosti o spolufinancování stavby ",null,null,null,0,null,{"$f":"'1A'!I36-'2A'!I36-(SUM('2A'!K36:S36))","v":0}]
["A.2.4.4",null,null,"Ostatní nezařazené činnosti v přípravě",null,null,null,0,null,{"$f":"'1A'!I37-'2A'!I37-(SUM('2A'!K37:S37))","v":0}]
["A.2.5",null,"Dokumentace skutečného provedení",null,null,null,{"$f":"IF('Krycí list SR'!F7=0,180,'Krycí list SR'!F7-'Krycí list SR'!G10)","v":180},0,{"$f":"SUM(I39:I41)","v":0},{"$f":"SUM(J39:J41)","v":0},{"$f":"SUM(K39:K41)","v":0},{"$f":"SUM(L39:L41)","v":0},{"$f":"SUM(M39:M41)","v":0},0,0,0,0,0,0]
["A.2.5.1",null,"z toho","Geodetická dokumentace skutečného provedení stavby",null,null,null,0,null,{"$f":"IF('Krycí list SR'!$G$10<>\"\",IF(YEAR('Krycí list SR'!$G$10+G38)=J$4,'1A'!$I39,0),0)","v":0},{"$f":"IF('Krycí list SR'!$G$10<>\"\",IF(YEAR('Krycí list SR'!$G$10+$G$38)=K$4,'1A'!$I39,0),0)","v":0},{"$f":"IF('Krycí list SR'!$G$10<>\"\",IF(YEAR('Krycí list SR'!$G$10+$G$38)=L$4,'1A'!$I39,0),0)","v":0},{"$f":"IF('Krycí list SR'!$G$10<>\"\",IF(YEAR('Krycí list SR'!$G$10+$G$38)=M$4,'1A'!$I39,0),0)","v":0},{"$f":"IF('Krycí list SR'!$G$10<>\"\",IF(YEAR('Krycí list SR'!$G$10+$G$38)=N$4,'1A'!$I39,0),0)","v":0},{"$f":"IF('Krycí list SR'!$G$10<>\"\",IF(YEAR('Krycí list SR'!$G$10+$G$38)=O$4,'1A'!$I39,0),0)","v":0},{"$f":"IF('Krycí list SR'!$G$10<>\"\",IF(YEAR('Krycí list SR'!$G$10+$G$38)=P$4,'1A'!$I39,0),0)","v":0},{"$f":"IF('Krycí list SR'!$G$10<>\"\",IF(YEAR('Krycí list SR'!$G$10+$G$38)=Q$4,'1A'!$I39,0),0)","v":0},{"$f":"IF('Krycí list SR'!$G$10<>\"\",IF(YEAR('Krycí list SR'!$G$10+$G$38)=R$4,'1A'!$I39,0),0)","v":0},{"$f":"'1A'!I39-(SUM('2A'!J39:R39))","v":0}]
["A.2.5.2",null,null,"Dokumentace skutečného provedení v listinné formě",null,null,null,{"$f":"SUM(I40:S40)","v":0},null,{"$f":"IF('Krycí list SR'!$G$10<>\"\",IF(YEAR('Krycí list SR'!$G$10+G38)=J$4,'1A'!$I40,0),0)","v":0},{"$f":"IF('Krycí list SR'!$G$10<>\"\",IF(YEAR('Krycí list SR'!$G$10+$G$38)=K$4,'1A'!$I40,0),0)","v":0},{"$f":"IF('Krycí list SR'!$G$10<>\"\",IF(YEAR('Krycí list SR'!$G$10+$G$38)=L$4,'1A'!$I40,0),0)","v":0},{"$f":"IF('Krycí list SR'!$G$10<>\"\",IF(YEAR('Krycí list SR'!$G$10+$G$38)=M$4,'1A'!$I40,0),0)","v":0},{"$f":"IF('Krycí list SR'!$G$10<>\"\",IF(YEAR('Krycí list SR'!$G$10+$G$38)=N$4,'1A'!$I40,0),0)","v":0},{"$f":"IF('Krycí list SR'!$G$10<>\"\",IF(YEAR('Krycí list SR'!$G$10+$G$38)=O$4,'1A'!$I40,0),0)","v":0},{"$f":"IF('Krycí list SR'!$G$10<>\"\",IF(YEAR('Krycí list SR'!$G$10+$G$38)=P$4,'1A'!$I40,0),0)","v":0},{"$f":"IF('Krycí list SR'!$G$10<>\"\",IF(YEAR('Krycí list SR'!$G$10+$G$38)=Q$4,'1A'!$I40,0),0)","v":0},{"$f":"IF('Krycí list SR'!$G$10<>\"\",IF(YEAR('Krycí list SR'!$G$10+$G$38)=R$4,'1A'!$I40,0),0)","v":0},{"$f":"'1A'!I40-(SUM('2A'!J40:R40))","v":0}]
["A.2.5.3",null,null,"Dokumentace skutečného provedení v elektronické formě",null,null,null,0,null,{"$f":"IF('Krycí list SR'!$G$10<>\"\",IF(YEAR('Krycí list SR'!$G$10+G38)=J$4,'1A'!$I41,0),0)","v":0},{"$f":"IF('Krycí list SR'!$G$10<>\"\",IF(YEAR('Krycí list SR'!$G$10+$G$38)=K$4,'1A'!$I41,0),0)","v":0},{"$f":"IF('Krycí list SR'!$G$10<>\"\",IF(YEAR('Krycí list SR'!$G$10+$G$38)=L$4,'1A'!$I41,0),0)","v":0},{"$f":"IF('Krycí list SR'!$G$10<>\"\",IF(YEAR('Krycí list SR'!$G$10+$G$38)=M$4,'1A'!$I41,0),0)","v":0},{"$f":"IF('Krycí list SR'!$G$10<>\"\",IF(YEAR('Krycí list SR'!$G$10+$G$38)=N$4,'1A'!$I41,0),0)","v":0},{"$f":"IF('Krycí list SR'!$G$10<>\"\",IF(YEAR('Krycí list SR'!$G$10+$G$38)=O$4,'1A'!$I41,0),0)","v":0},{"$f":"IF('Krycí list SR'!$G$10<>\"\",IF(YEAR('Krycí list SR'!$G$10+$G$38)=P$4,'1A'!$I41,0),0)","v":0},{"$f":"IF('Krycí list SR'!$G$10<>\"\",IF(YEAR('Krycí list SR'!$G$10+$G$38)=Q$4,'1A'!$I41,0),0)","v":0},{"$f":"IF('Krycí list SR'!$G$10<>\"\",IF(YEAR('Krycí list SR'!$G$10+$G$38)=R$4,'1A'!$I41,0),0)","v":0},{"$f":"'1A'!I41-(SUM('2A'!J41:R41))","v":0}]
["A.3","Výkupy a zatížení nemovitých věcí",null,null,null,null,null,0,{"$f":"SUM(I43:I45)","v":0},{"$f":"SUM(J43:J45)","v":0},{"$f":"SUM(K43:K45)","v":0},{"$f":"SUM(L43:L45)","v":0},{"$f":"SUM(M43:M45)","v":0},0,0,0,0,0,0]
["A.3.1","z toho","Výkupy pozemků",null,null,null,null,0,null,{"$f":"'1A'!I43-'2A'!I43-(SUM('2A'!K43:S43))","v":0}]
["A.3.2",null,"Výkupy staveb",null,null,null,null,0,null,{"$f":"'1A'!I44-'2A'!I44-(SUM('2A'!K44:S44))","v":0}]
["A.3.3",null,"Věcná břemena a služebnosti",null,null,null,null,0,null,{"$f":"'1A'!I45-'2A'!I45-(SUM('2A'!K45:S45))","v":0}]
["A.4","Nájmy pro účely stavby",null,null,null,null,null,0,{"$f":"SUM(I47:I48)","v":0},{"$f":"SUM(J47:J48)","v":0},{"$f":"SUM(K47:K48)","v":0},{"$f":"SUM(L47:L48)","v":0},{"$f":"SUM(M47:M48)","v":0},0,0,0,0,0,0]
["A.4.1","z toho","Nájmy hrazené investorem přímo",null,null,null,null,0,null,{"$f":"'1A'!I47-'2A'!I47-(SUM('2A'!K47:S47))","v":0},null,null,null,null,null,null,null,null,{"$f":"'1A'!$I47*SUMIF(hide!$H$74:$H$83,S$4,hide!$L$74:$L$83)","v":0}]
["A.4.2",null,"Nájmy hrazené zhotovitelem stavby",null,null,null,null,0,null,{"$f":"'1A'!I48-'2A'!I48-(SUM('2A'!K48:S48))","v":0},null,null,null,null,null,null,null,null,{"$f":"'1A'!$I48*SUMIF(hide!$H$74:$H$83,S$4,hide!$L$74:$L$83)","v":0}]
["A.5","Jiné náklady přípravy a zabezpečení stavby",null,null,null,null,null,0,{"$f":"I50+I54+I58+I66","v":0},{"$f":"J50+J54+J58+J66","v":0},{"$f":"K50+K54+K58+K66","v":0},{"$f":"L50+L54+L58+L66","v":0},{"$f":"M50+M54+M58+M66","v":0},0,0,0,0,0,0]
["A.5.1","z toho","Poradenské firmy pro přípravu a zabezpečení stavby",null,null,null,null,0,{"$f":"SUM(I51:I53)","v":0},{"$f":"SUM(J51:J53)","v":0},{"$f":"SUM(K51:K53)","v":0},{"$f":"SUM(L51:L53)","v":0},{"$f":"SUM(M51:M53)","v":0},0,0,0,0,0,0]
["A.5.1.1",null,"z toho","Supervizor ",null,null,null,0,null,{"$f":"('1A'!$I51-$I51)*SUMIF(hide!$H$74:$H$83,J$4,hide!$L$74:$L$83)","v":0},{"$f":"('1A'!$I51-$I51)*SUMIF(hide!$H$74:$H$83,K$4,hide!$L$74:$L$83)","v":0},{"$f":"('1A'!$I51-$I51)*SUMIF(hide!$H$74:$H$83,L$4,hide!$L$74:$L$83)","v":0},{"$f":"('1A'!$I51-$I51)*SUMIF(hide!$H$74:$H$83,M$4,hide!$L$74:$L$83)","v":0},{"$f":"('1A'!$I51-$I51)*SUMIF(hide!$H$74:$H$83,N$4,hide!$L$74:$L$83)","v":0},{"$f":"('1A'!$I51-$I51)*SUMIF(hide!$H$74:$H$83,O$4,hide!$L$74:$L$83)","v":0},{"$f":"('1A'!$I51-$I51)*SUMIF(hide!$H$74:$H$83,P$4,hide!$L$74:$L$83)","v":0},{"$f":"('1A'!$I51-$I51)*SUMIF(hide!$H$74:$H$83,Q$4,hide!$L$74:$L$83)","v":0},{"$f":"('1A'!$I51-$I51)*SUMIF(hide!$H$74:$H$83,R$4,hide!$L$74:$L$83)","v":0},{"$f":"('1A'!$I51-$I51)*SUMIF(hide!$H$74:$H$83,S$4,hide!$L$74:$L$83)","v":0}]
["A.5.1.2",null,null,"Poradenské firmy pro geotechnický průzkum",null,null,null,0,null,{"$f":"('1A'!$I52-$I52)*SUMIF(hide!$H$74:$H$83,J$4,hide!$L$74:$L$83)","v":0},{"$f":"('1A'!$I52-$I52)*SUMIF(hide!$H$74:$H$83,K$4,hide!$L$74:$L$83)","v":0},{"$f":"('1A'!$I52-$I52)*SUMIF(hide!$H$74:$H$83,L$4,hide!$L$74:$L$83)","v":0},{"$f":"('1A'!$I52-$I52)*SUMIF(hide!$H$74:$H$83,M$4,hide!$L$74:$L$83)","v":0},{"$f":"('1A'!$I52-$I52)*SUMIF(hide!$H$74:$H$83,N$4,hide!$L$74:$L$83)","v":0},{"$f":"('1A'!$I52-$I52)*SUMIF(hide!$H$74:$H$83,O$4,hide!$L$74:$L$83)","v":0},{"$f":"('1A'!$I52-$I52)*SUMIF(hide!$H$74:$H$83,P$4,hide!$L$74:$L$83)","v":0},{"$f":"('1A'!$I52-$I52)*SUMIF(hide!$H$74:$H$83,Q$4,hide!$L$74:$L$83)","v":0},{"$f":"('1A'!$I52-$I52)*SUMIF(hide!$H$74:$H$83,R$4,hide!$L$74:$L$83)","v":0},{"$f":"('1A'!$I52-$I52)*SUMIF(hide!$H$74:$H$83,S$4,hide!$L$74:$L$83)","v":0}]
["A.5.1.3",null,null,"Ostatní poradenské firmy",null,null,null,0,null,{"$f":"('1A'!$I53-$I53)*SUMIF(hide!$H$74:$H$83,J$4,hide!$L$74:$L$83)","v":0},{"$f":"('1A'!$I53-$I53)*SUMIF(hide!$H$74:$H$83,K$4,hide!$L$74:$L$83)","v":0},{"$f":"('1A'!$I53-$I53)*SUMIF(hide!$H$74:$H$83,L$4,hide!$L$74:$L$83)","v":0},{"$f":"('1A'!$I53-$I53)*SUMIF(hide!$H$74:$H$83,M$4,hide!$L$74:$L$83)","v":0},{"$f":"('1A'!$I53-$I53)*SUMIF(hide!$H$74:$H$83,N$4,hide!$L$74:$L$83)","v":0},{"$f":"('1A'!$I53-$I53)*SUMIF(hide!$H$74:$H$83,O$4,hide!$L$74:$L$83)","v":0},{"$f":"('1A'!$I53-$I53)*SUMIF(hide!$H$74:$H$83,P$4,hide!$L$74:$L$83)","v":0},{"$f":"('1A'!$I53-$I53)*SUMIF(hide!$H$74:$H$83,Q$4,hide!$L$74:$L$83)","v":0},{"$f":"('1A'!$I53-$I53)*SUMIF(hide!$H$74:$H$83,R$4,hide!$L$74:$L$83)","v":0},{"$f":"('1A'!$I53-$I53)*SUMIF(hide!$H$74:$H$83,S$4,hide!$L$74:$L$83)","v":0}]
["A.5.2",null,"Soutěže a zadávací řízení ",null,null,null,null,0,{"$f":"SUM(I55:I57)","v":0},{"$f":"SUM(J55:J57)","v":0},{"$f":"SUM(K55:K57)","v":0},{"$f":"SUM(L55:L57)","v":0},{"$f":"SUM(M55:M57)","v":0},0,0,0,0,0,0]
["A.5.2.1",null,"z toho","Soutěže a zadávací řízení na předprojektovou přípravu",null,null,null,0,null,{"$f":"'1A'!I55-'2A'!I55-(SUM('2A'!K55:S55))","v":0}]
["A.5.2.2",null,null,"Soutěže a zadávací řízení na projektovou přípravu",null,null,null,0,null,{"$f":"'1A'!I56-'2A'!I56-(SUM('2A'!K56:S56))","v":0}]
["A.5.2.3",null,null,"Soutěže a zadávací řízení na zhotovení stavby",null,null,null,0,null,{"$f":"'1A'!I57-'2A'!I57-(SUM('2A'!K57:S57))","v":0}]
["A.5.3",null,"Ostatní náklady pro zabezpečení stavby",null,null,null,null,0,{"$f":"SUM(I59:I61,I64:I65)","v":0},0,{"$f":"SUM(K59:K61,K64:K65)","v":0},{"$f":"SUM(L59:L61,L64:L65)","v":0},{"$f":"SUM(M59:M61,M64:M65)","v":0},0,0,0,0,0,0]
["A.5.3.1",null,"z toho","Správní a místní poplatky",null,null,null,0,null,{"$f":"'1A'!I59-'2A'!I59-(SUM('2A'!K59:S59))","v":0}]
["A.5.3.2",null,null,"Záchranný archeologický výzkum",null,null,null,0,null,{"$f":"'1A'!I60-'2A'!I60-(SUM('2A'!K60:S60))","v":0}]
["A.5.3.3",null,null,"Publicita stavby",null,null,null,0,{"$f":"SUM(I62:I63)","v":0},{"$f":"SUM(J62:J63)","v":0},{"$f":"SUM(K62:K63)","v":0},{"$f":"SUM(L62:L63)","v":0},{"$f":"SUM(M62:M63)","v":0},0,0,0,0,0,0]
["A.5.3.3.1",null,null,"z toho","Publicita povinná",null,null,0,null,{"$f":"'1A'!I62-'2A'!I62-(SUM('2A'!K62:S62))","v":0}]
["A.5.3.3.2",null,null,null,"Publicta nepovinná",null,null,0,null,{"$f":"'1A'!I63-'2A'!I63-(SUM('2A'!K63:S63))","v":0}]
["A.5.3.4",null,null,"Monitoring stavby",null,null,null,0,null,{"$f":"('1A'!$I64-$I64)*SUMIF(hide!$H$74:$H$83,J$4,hide!$L$74:$L$83)","v":0},{"$f":"('1A'!$I64-$I64)*SUMIF(hide!$H$74:$H$83,K$4,hide!$L$74:$L$83)","v":0},{"$f":"('1A'!$I64-$I64)*SUMIF(hide!$H$74:$H$83,L$4,hide!$L$74:$L$83)","v":0},{"$f":"('1A'!$I64-$I64)*SUMIF(hide!$H$74:$H$83,M$4,hide!$L$74:$L$83)","v":0},{"$f":"('1A'!$I64-$I64)*SUMIF(hide!$H$74:$H$83,N$4,hide!$L$74:$L$83)","v":0},{"$f":"('1A'!$I64-$I64)*SUMIF(hide!$H$74:$H$83,O$4,hide!$L$74:$L$83)","v":0},{"$f":"('1A'!$I64-$I64)*SUMIF(hide!$H$74:$H$83,P$4,hide!$L$74:$L$83)","v":0},{"$f":"('1A'!$I64-$I64)*SUMIF(hide!$H$74:$H$83,Q$4,hide!$L$74:$L$83)","v":0},{"$f":"('1A'!$I64-$I64)*SUMIF(hide!$H$74:$H$83,R$4,hide!$L$74:$L$83)","v":0},{"$f":"('1A'!$I64-$I64)*SUMIF(hide!$H$74:$H$83,S$4,hide!$L$74:$L$83)","v":0}]
["A.5.3.5",null,null,"Vyhodnocení stavby",null,null,null,0,null,{"$f":"IF('Krycí list SR'!$F$7<>\"\",IF(YEAR('Krycí list SR'!$F$7)=J$4,'1A'!$I65,0),0)","v":0},{"$f":"IF('Krycí list SR'!$F$7<>\"\",IF(YEAR('Krycí list SR'!$F$7)=K$4,'1A'!$I65,0),0)","v":0},{"$f":"IF('Krycí list SR'!$F$7<>\"\",IF(YEAR('Krycí list SR'!$F$7)=L$4,'1A'!$I65,0),0)","v":0},{"$f":"IF('Krycí list SR'!$F$7<>\"\",IF(YEAR('Krycí list SR'!$F$7)=M$4,'1A'!$I65,0),0)","v":0},{"$f":"IF('Krycí list SR'!$F$7<>\"\",IF(YEAR('Krycí list SR'!$F$7)=N$4,'1A'!$I65,0),0)","v":0},{"$f":"IF('Krycí list SR'!$F$7<>\"\",IF(YEAR('Krycí list SR'!$F$7)=O$4,'1A'!$I65,0),0)","v":0},{"$f":"IF('Krycí list SR'!$F$7<>\"\",IF(YEAR('Krycí list SR'!$F$7)=P$4,'1A'!$I65,0),0)","v":0},{"$f":"IF('Krycí list SR'!$F$7<>\"\",IF(YEAR('Krycí list SR'!$F$7)=Q$4,'1A'!$I65,0),0)","v":0},{"$f":"IF('Krycí list SR'!$F$7<>\"\",IF(YEAR('Krycí list SR'!$F$7)=R$4,'1A'!$I65,0),0)","v":0},{"$f":"IF(SUM(J65:R65)=0,'1A'!$I65,0)","v":0}]
["A.5.4",null,"Odvody za odnětí ZPF a LPF",null,null,null,null,0,{"$f":"SUM(I67:I68)","v":0},{"$f":"SUM(J67:J68)","v":0},{"$f":"SUM(K67:K68)","v":0},{"$f":"SUM(L67:L68)","v":0},{"$f":"SUM(M67:M68)","v":0},0,0,0,0,0,0]
["A.5.4.1",null,"z toho","Odvody za trvalé odnětí ZPF a LPF",null,null,null,0,null,{"$f":"'1A'!I67-'2A'!I67-(SUM('2A'!K67:S67))","v":0}]
["A.5.4.2",null,null,"Odvody za dočasné odnětí ZPF a LPF",null,null,null,0,null,{"$f":"'1A'!I68-'2A'!I68-(SUM('2A'!K68:S68))","v":0}]
["A.6","Náklady na přípravu a celkové zabezpečení stavby celkem",null,null,null,null,null,{"$f":"H49+H46+H42+H9+H7","v":0},{"$f":"I49+I46+I42+I9+I7","v":0},{"$f":"J49+J46+J42+J9+J7","v":0},{"$f":"K49+K46+K42+K9+K7+K8","v":0},0,0,0,0,0,0,0,0]

{"sheet":"2B","index":5,"n_rows":44,"n_cols":33,"rows_kept":44,"cut":false,"hidden":false,"merged":[[1,11,2,11],[3,12,4,12],[1,17,2,17],[3,17,4,17],[5,1,5,6],[1,0,1,1],[1,9,2,9],[1,10,2,10],[2,2,2,3],[3,1,3,2],[3,3,3,6],[4,0,4,1],[4,2,4,5],[2,4,2,5],[2,6,2,7],[1,18,2,18],[3,18,4,18],[1,2,1,7],[3,13,4,13],[3,14,4,14],[1,15,2,15],[3,8,5,8],[3,9,5,9],[3,10,4,10],[1,16,2,16],[3,16,4,16],[1,12,2,12],[1,13,2,13],[1,14,2,14],[3,15,4,15],[3,11,4,11]]}
["Náklady stavby ve smíšené CÚ:",null,null,null,{"$f":"'Krycí list SR'!F5","v":0},"-",{"$f":"'Krycí list SR'!H5","v":""},"Formulář 2.B","Náklady v letech výstavby",null,null,null,null,null,null,null,null,null,{"$f":"'Krycí list SR'!$H$1","v":"SRP/2022/prozatimní"}]
["Název stavby:",null,{"$f":"IF('Krycí list SR'!B2=\"\",\"\",'Krycí list SR'!B2)","v":""},null,null,null,null,null,"Do 31.12","Aktuální rok","v roce","v roce","v roce","v roce","v roce","v roce","v roce","v roce","v letech"]
["ISPROFIN:",null,{"$f":"IF('Krycí list SR'!$B$3=\"\",\"\",'Krycí list SR'!$B$3)","v":""},null,"Označení (S-kód):",null,{"$f":"IF('Krycí list SR'!D3=\"\",\"\",'Krycí list SR'!D3)","v":""}]
["Investor:","   SŽ s.o.,",null,{"$f":"IF('Krycí list SR'!$B$5=\"\",\"\",'Krycí list SR'!$B$5)","v":"Stavební správa západ, Ke Štvanici 656/3,186 00  Praha 8"},null,null,null,{"$f":"IF('Krycí list SR'!E3=\"\",\"\",'Krycí list SR'!E3)","v":""},{"$f":"J4-1","v":2021},{"$f":"'Krycí list SR'!F4","v":2022},{"$f":"J4+1","v":2023},2024,2025,2026,2027,2028,2029,2030,{"$f":"CONCATENATE(\"po \",R4)","v":"po 2030"}]
["Jiný investor:",null,{"$f":"IF('Krycí list SR'!$B$7=\"\",\"neurčen\",'Krycí list SR'!$B$7)","v":"neurčen"},null,null,null,null,{"$f":"IF(MIN(J7:S41)<0,\"Chyba: rozdělení nákladů v letech\",\"\")","v":""},null,null,{"$f":"J4+1","v":2023},2024,2025,2026,2027,2028,2029,2030,{"$f":"R4+1","v":2031}]
["B","Realizace stavby",null,null,null,null,null,"náklady v Kč celkem",null,null,{"$f":"'Krycí list SR'!E6","v":"Inflační koeficient:"},null,{"$f":"hide!B71","v":0.02},null,null,null,null,null,null,"Pole pro pracovní výpočty\nbez tisku",null,null,"Podklad pro opravu formátování"]
["B.1","Stavební část",null,null,null,null,null,{"$f":"SUM(I7:S7)","v":0},{"$f":"I8+I11","v":0},{"$f":"J8+J11","v":0},{"$f":"K8+K11","v":0},{"$f":"L8+L11","v":0},{"$f":"M8+M11","v":0},0,0,0,0,0,0,null,null,null,{"$f":"W8+W11","v":0},{"$f":"X8+X11","v":0},{"$f":"Y8+Y11","v":0},{"$f":"Z8+Z11","v":0},{"$f":"AA8+AA11","v":0},0,0,0,0,0,0]
["B.1.1","z toho","Stavební objekty dodávané zhotoviteli",null,null,null,null,{"$f":"SUM(I8:S8)","v":0},null,{"$f":"SUM(J9:J10)","v":0},{"$f":"SUM(K9:K10)","v":0},{"$f":"SUM(L9:L10)","v":0},{"$f":"SUM(M9:M10)","v":0},0,0,0,0,0,0,null,null,null,null,{"$f":"SUM(X9:X10)","v":0},{"$f":"SUM(Y9:Y10)","v":0},{"$f":"SUM(Z9:Z10)","v":0},{"$f":"SUM(AA9:AA10)","v":0},0,0,0,0,0,0]
["B.1.1.1",null,"z toho","Základní rozpočtové náklady jednotlivých SO (ZRN)",null,null,null,0,null,{"$f":"'1B'!$I10*SUMIF(hide!$H$90:$H$99,J$4,hide!$L$90:$L$99)","v":0},{"$f":"'1B'!$I10*SUMIF(hide!$H$90:$H$99,K$4,hide!$L$90:$L$99)* POWER(1+$M$6,1)","v":0},{"$f":"'1B'!$I10*SUMIF(hide!$H$90:$H$99,L$4,hide!$L$90:$L$99)* POWER(1+$M$6,2)","v":0},{"$f":"'1B'!$I10*SUMIF(hide!$H$90:$H$99,M$4,hide!$L$90:$L$99)* POWER(1+$M$6,3)","v":0},{"$f":"'1B'!$I10*SUMIF(hide!$H$90:$H$99,N$4,hide!$L$90:$L$99) * POWER(1+$M$6,4)","v":0},{"$f":"'1B'!$I10*SUMIF(hide!$H$90:$H$99,O$4,hide!$L$90:$L$99) * POWER(1+$M$6,5)","v":0},{"$f":"'1B'!$I10*SUMIF(hide!$H$90:$H$99,P$4,hide!$L$90:$L$99) * POWER(1+$M$6,6)","v":0},{"$f":"'1B'!$I10*SUMIF(hide!$H$90:$H$99,Q$4,hide!$L$90:$L$99) * POWER(1+$M$6,7)","v":0},{"$f":"'1B'!$I10*SUMIF(hide!$H$90:$H$99,R$4,hide!$L$90:$L$99) * POWER(1+$M$6,8)","v":0},{"$f":"'1B'!$I10*SUMIF(hide!$H$90:$H$99,S$4,hide!$L$90:$L$99) * POWER(1+$M$6,9)","v":0},null,null,null,null,{"$f":"'1B'!$I10*SUMIF(hide!$H$90:$H$99,X$4,hide!$L$90:$L$99)","v":0},{"$f":"'1B'!$I10*SUMIF(hide!$H$90:$H$99,Y$4,hide!$L$90:$L$99)* POWER(1+$M$6,1)","v":0},{"$f":"'1B'!$I10*SUMIF(hide!$H$90:$H$99,Z$4,hide!$L$90:$L$99)* POWER(1+$M$6,2)","v":0},{"$f":"'1B'!$I10*SUMIF(hide!$H$90:$H$99,AA$4,hide!$L$90:$L$99)* POWER(1+$M$6,3)","v":0},{"$f":"'1B'!$I10*SUMIF(hide!$H$90:$H$99,AB$4,hide!$L$90:$L$99) * POWER(1+$M$6,4)","v":0},{"$f":"'1B'!$I10*SUMIF(hide!$H$90:$H$99,AC$4,hide!$L$90:$L$99) * POWER(1+$M$6,5)","v":0},{"$f":"'1B'!$I10*SUMIF(hide!$H$90:$H$99,AD$4,hide!$L$90:$L$99) * POWER(1+$M$6,6)","v":0},{"$f":"'1B'!$I10*SUMIF(hide!$H$90:$H$99,AE$4,hide!$L$90:$L$99) * POWER(1+$M$6,7)","v":0},{"$f":"'1B'!$I10*SUMIF(hide!$H$90:$H$99,AF$4,hide!$L$90:$L$99) * POWER(1+$M$6,8)","v":0},{"$f":"'1B'!$I10*SUMIF(hide!$H$90:$H$99,AG$4,hide!$L$90:$L$99) * POWER(1+$M$6,9)","v":0}]
["B.1.1.2",null,null,"Vedlejší rozpočtové náklady nezahrnuté do jednotlivých SO (VRN)",null,null,null,0,null,{"$f":"'1B'!$I11*SUMIF(hide!$H$74:$H$83,J$4,hide!$L$74:$L$83)","v":0},{"$f":"'1B'!$I11*SUMIF(hide!$H$90:$H$99,K$4,hide!$L$90:$L$99) * POWER(1+$M$6,1)","v":0},{"$f":"'1B'!$I11*SUMIF(hide!$H$90:$H$99,L$4,hide!$L$90:$L$99) * POWER(1+$M$6,1)","v":0},{"$f":"'1B'!$I11*SUMIF(hide!$H$90:$H$99,M$4,hide!$L$90:$L$99) * POWER(1+$M$6,1)","v":0},{"$f":"'1B'!$I11*SUMIF(hide!$H$90:$H$99,N$4,hide!$L$90:$L$99) * POWER(1+$M$6,1)","v":0},{"$f":"'1B'!$I11*SUMIF(hide!$H$90:$H$99,O$4,hide!$L$90:$L$99) * POWER(1+$M$6,1)","v":0},{"$f":"'1B'!$I11*SUMIF(hide!$H$90:$H$99,P$4,hide!$L$90:$L$99) * POWER(1+$M$6,1)","v":0},{"$f":"'1B'!$I11*SUMIF(hide!$H$90:$H$99,Q$4,hide!$L$90:$L$99) * POWER(1+$M$6,1)","v":0},{"$f":"'1B'!$I11*SUMIF(hide!$H$90:$H$99,R$4,hide!$L$90:$L$99) * POWER(1+$M$6,1)","v":0},{"$f":"'1B'!$I11*SUMIF(hide!$H$90:$H$99,S$4,hide!$L$90:$L$99) * POWER(1+$M$6,1)","v":0},null,null,null,null,{"$f":"'1B'!$I11*SUMIF(hide!$H$74:$H$83,X$4,hide!$L$74:$L$83)","v":0},{"$f":"'1B'!$I11*SUMIF(hide!$H$90:$H$99,Y$4,hide!$L$90:$L$99) * POWER(1+$M$6,1)","v":0},{"$f":"'1B'!$I11*SUMIF(hide!$H$90:$H$99,Z$4,hide!$L$90:$L$99) * POWER(1+$M$6,1)","v":0},{"$f":"'1B'!$I11*SUMIF(hide!$H$90:$H$99,AA$4,hide!$L$90:$L$99) * POWER(1+$M$6,1)","v":0},{"$f":"'1B'!$I11*SUMIF(hide!$H$90:$H$99,AB$4,hide!$L$90:$L$99) * POWER(1+$M$6,1)","v":0},{"$f":"'1B'!$I11*SUMIF(hide!$H$90:$H$99,AC$4,hide!$L$90:$L$99) * POWER(1+$M$6,1)","v":0},{"$f":"'1B'!$I11*SUMIF(hide!$H$90:$H$99,AD$4,hide!$L$90:$L$99) * POWER(1+$M$6,1)","v":0},{"$f":"'1B'!$I11*SUMIF(hide!$H$90:$H$99,AE$4,hide!$L$90:$L$99) * POWER(1+$M$6,1)","v":0},{"$f":"'1B'!$I11*SUMIF(hide!$H$90:$H$99,AF$4,hide!$L$90:$L$99) * POWER(1+$M$6,1)","v":0},{"$f":"'1B'!$I11*SUMIF(hide!$H$90:$H$99,AG$4,hide!$L$90:$L$99) * POWER(1+$M$6,1)","v":0}]
["B.1.2",null,"Stavební část zajišťovaná přímo investorem",null,null,null,null,0,{"$f":"SUM(I12:I14)","v":0},{"$f":"SUM(J12:J14)","v":0},{"$f":"SUM(K12:K14)","v":0},{"$f":"SUM(L12:L14)","v":0},{"$f":"SUM(M12:M14)","v":0},0,0,0,0,0,0,null,null,null,{"$f":"SUM(W12:W14)","v":0},{"$f":"SUM(X12:X14)","v":0},{"$f":"SUM(Y12:Y14)","v":0},{"$f":"SUM(Z12:Z14)","v":0},{"$f":"SUM(AA12:AA14)","v":0},0,0,0,0,0,0]
["B.1.2.1",null,"z toho","Stavební objekty zajišťované přímo investorem",null,null,null,0,null,{"$f":"('1B'!$I13-I12)*SUMIF(hide!$H$74:$H$83,J$4,hide!$L$74:$L$83)","v":0},{"$f":"('1B'!$I13-I12)*SUMIF(hide!$H$74:$H$83,K$4,hide!$L$74:$L$83)","v":0},{"$f":"('1B'!$I13-I12)*SUMIF(hide!$H$74:$H$83,L$4,hide!$L$74:$L$83)","v":0},{"$f":"('1B'!$I13-I12)*SUMIF(hide!$H$74:$H$83,M$4,hide!$L$74:$L$83)","v":0},{"$f":"('1B'!$I13-I12)*SUMIF(hide!$H$74:$H$83,N$4,hide!$L$74:$L$83)","v":0},{"$f":"('1B'!$I13-I12)*SUMIF(hide!$H$74:$H$83,O$4,hide!$L$74:$L$83)","v":0},{"$f":"('1B'!$I13-I12)*SUMIF(hide!$H$74:$H$83,P$4,hide!$L$74:$L$83)","v":0},{"$f":"('1B'!$I13-I12)*SUMIF(hide!$H$74:$H$83,Q$4,hide!$L$74:$L$83)","v":0},{"$f":"('1B'!$I13-I12)*SUMIF(hide!$H$74:$H$83,R$4,hide!$L$74:$L$83)","v":0},{"$f":"('1B'!$I13-I12)*SUMIF(hide!$H$74:$H$83,S$4,hide!$L$74:$L$83)","v":0},null,null,null,null,{"$f":"('1B'!$I13-W12)*SUMIF(hide!$H$74:$H$83,X$4,hide!$L$74:$L$83)","v":0},{"$f":"('1B'!$I13-W12)*SUMIF(hide!$H$74:$H$83,Y$4,hide!$L$74:$L$83)","v":0},{"$f":"('1B'!$I13-W12)*SUMIF(hide!$H$74:$H$83,Z$4,hide!$L$74:$L$83)","v":0},{"$f":"('1B'!$I13-W12)*SUMIF(hide!$H$74:$H$83,AA$4,hide!$L$74:$L$83)","v":0},{"$f":"('1B'!$I13-W12)*SUMIF(hide!$H$74:$H$83,AB$4,hide!$L$74:$L$83)","v":0},{"$f":"('1B'!$I13-W12)*SUMIF(hide!$H$74:$H$83,AC$4,hide!$L$74:$L$83)","v":0},{"$f":"('1B'!$I13-W12)*SUMIF(hide!$H$74:$H$83,AD$4,hide!$L$74:$L$83)","v":0},{"$f":"('1B'!$I13-W12)*SUMIF(hide!$H$74:$H$83,AE$4,hide!$L$74:$L$83)","v":0},{"$f":"('1B'!$I13-W12)*SUMIF(hide!$H$74:$H$83,AF$4,hide!$L$74:$L$83)","v":0},{"$f":"('1B'!$I13-W12)*SUMIF(hide!$H$74:$H$83,AG$4,hide!$L$74:$L$83)","v":0}]
["B.1.2.2",null,null,"Stavební práce a dodávky zajišťované přímo investorem",null,null,null,0,null,{"$f":"('1B'!$I14-$I$13)*SUMIF(hide!$H$74:$H$83,J$4,hide!$L$74:$L$83)","v":0},{"$f":"('1B'!$I14-$I$13)*SUMIF(hide!$H$74:$H$83,K$4,hide!$L$74:$L$83)","v":0},{"$f":"('1B'!$I14-$I$13)*SUMIF(hide!$H$74:$H$83,L$4,hide!$L$74:$L$83)","v":0},{"$f":"('1B'!$I14-$I$13)*SUMIF(hide!$H$74:$H$83,M$4,hide!$L$74:$L$83)","v":0},{"$f":"('1B'!$I14-$I$13)*SUMIF(hide!$H$74:$H$83,N$4,hide!$L$74:$L$83)","v":0},{"$f":"('1B'!$I14-$I$13)*SUMIF(hide!$H$74:$H$83,O$4,hide!$L$74:$L$83)","v":0},{"$f":"('1B'!$I14-$I$13)*SUMIF(hide!$H$74:$H$83,P$4,hide!$L$74:$L$83)","v":0},{"$f":"('1B'!$I14-$I$13)*SUMIF(hide!$H$74:$H$83,Q$4,hide!$L$74:$L$83)","v":0},{"$f":"('1B'!$I14-$I$13)*SUMIF(hide!$H$74:$H$83,R$4,hide!$L$74:$L$83)","v":0},{"$f":"('1B'!$I14-$I$13)*SUMIF(hide!$H$74:$H$83,S$4,hide!$L$74:$L$83)","v":0},null,null,null,null,{"$f":"('1B'!$I14-$I$13)*SUMIF(hide!$H$74:$H$83,X$4,hide!$L$74:$L$83)","v":0},{"$f":"('1B'!$I14-$I$13)*SUMIF(hide!$H$74:$H$83,Y$4,hide!$L$74:$L$83)","v":0},{"$f":"('1B'!$I14-$I$13)*SUMIF(hide!$H$74:$H$83,Z$4,hide!$L$74:$L$83)","v":0},{"$f":"('1B'!$I14-$I$13)*SUMIF(hide!$H$74:$H$83,AA$4,hide!$L$74:$L$83)","v":0},{"$f":"('1B'!$I14-$I$13)*SUMIF(hide!$H$74:$H$83,AB$4,hide!$L$74:$L$83)","v":0},{"$f":"('1B'!$I14-$I$13)*SUMIF(hide!$H$74:$H$83,AC$4,hide!$L$74:$L$83)","v":0},{"$f":"('1B'!$I14-$I$13)*SUMIF(hide!$H$74:$H$83,AD$4,hide!$L$74:$L$83)","v":0},{"$f":"('1B'!$I14-$I$13)*SUMIF(hide!$H$74:$H$83,AE$4,hide!$L$74:$L$83)","v":0},{"$f":"('1B'!$I14-$I$13)*SUMIF(hide!$H$74:$H$83,AF$4,hide!$L$74:$L$83)","v":0},{"$f":"('1B'!$I14-$I$13)*SUMIF(hide!$H$74:$H$83,AG$4,hide!$L$74:$L$83)","v":0}]
["B.1.2.3",null,null,"Zkoušky, revize a měření zajišťované přímo investorem",null,null,null,0,null,{"$f":"('1B'!$I15-$I$13)*SUMIF(hide!$H$74:$H$83,J$4,hide!$L$74:$L$83)","v":0},{"$f":"('1B'!$I15-$I$13)*SUMIF(hide!$H$74:$H$83,K$4,hide!$L$74:$L$83)","v":0},{"$f":"('1B'!$I15-$I$13)*SUMIF(hide!$H$74:$H$83,L$4,hide!$L$74:$L$83)","v":0},{"$f":"('1B'!$I15-$I$13)*SUMIF(hide!$H$74:$H$83,M$4,hide!$L$74:$L$83)","v":0},{"$f":"('1B'!$I15-$I14)*SUMIF(hide!$H$90:$H$99,N$4,hide!$L$90:$L$99)","v":0},{"$f":"('1B'!$I15-$I14)*SUMIF(hide!$H$90:$H$99,O$4,hide!$L$90:$L$99)","v":0},{"$f":"('1B'!$I15-$I14)*SUMIF(hide!$H$90:$H$99,P$4,hide!$L$90:$L$99)","v":0},{"$f":"('1B'!$I15-$I14)*SUMIF(hide!$H$90:$H$99,Q$4,hide!$L$90:$L$99)","v":0},{"$f":"('1B'!$I15-$I14)*SUMIF(hide!$H$90:$H$99,R$4,hide!$L$90:$L$99)","v":0},{"$f":"('1B'!$I15-$I14)*SUMIF(hide!$H$90:$H$99,S$4,hide!$L$90:$L$99)","v":0},null,null,null,null,{"$f":"('1B'!$I15-$I$13)*SUMIF(hide!$H$74:$H$83,X$4,hide!$L$74:$L$83)","v":0},{"$f":"('1B'!$I15-$I$13)*SUMIF(hide!$H$74:$H$83,Y$4,hide!$L$74:$L$83)","v":0},{"$f":"('1B'!$I15-$I$13)*SUMIF(hide!$H$74:$H$83,Z$4,hide!$L$74:$L$83)","v":0},{"$f":"('1B'!$I15-$I$13)*SUMIF(hide!$H$74:$H$83,AA$4,hide!$L$74:$L$83)","v":0},{"$f":"('1B'!$I15-$I14)*SUMIF(hide!$H$90:$H$99,AB$4,hide!$L$90:$L$99)","v":0},{"$f":"('1B'!$I15-$I14)*SUMIF(hide!$H$90:$H$99,AC$4,hide!$L$90:$L$99)","v":0},{"$f":"('1B'!$I15-$I14)*SUMIF(hide!$H$90:$H$99,AD$4,hide!$L$90:$L$99)","v":0},{"$f":"('1B'!$I15-$I14)*SUMIF(hide!$H$90:$H$99,AE$4,hide!$L$90:$L$99)","v":0},{"$f":"('1B'!$I15-$I14)*SUMIF(hide!$H$90:$H$99,AF$4,hide!$L$90:$L$99)","v":0},{"$f":"('1B'!$I15-$I14)*SUMIF(hide!$H$90:$H$99,AG$4,hide!$L$90:$L$99)","v":0}]
["B.2","Technologická část",null,null,null,null,null,0,{"$f":"I16+I19","v":0},0,0,0,0,0,0,0,0,0,0,null,null,null,{"$f":"W16+W19","v":0},0,0,0,0,0,0,0,0,0,0]
["B.2.1","z toho","Provozní soubory dodávané zhotoviteli",null,null,null,null,0,{"$f":"SUM(I17:I18)","v":0},{"$f":"J17+J18","v":0},{"$f":"SUM(K17:K18)","v":0},0,0,0,0,0,0,0,0,null,null,null,{"$f":"SUM(W17:W18)","v":0},{"$f":"X17+X18","v":0},{"$f":"SUM(Y17:Y18)","v":0},0,0,0,0,0,0,0,0]
["B.2.1.1",null,"z toho","Základní rozpočtové náklady jednotlivých PS (ZRN)",null,null,null,0,null,{"$f":"'1B'!$I18*SUMIF(hide!$H$106:$H$115,J4,hide!$L$106:$L$115)","v":0},{"$f":"'1B'!$I18*SUMIF(hide!$H$106:$H$115,K$4,hide!$L$106:$L$115)* POWER(1+$M$6,1)","v":0},{"$f":"'1B'!$I18*SUMIF(hide!$H$106:$H$115,L$4,hide!$L$106:$L$115)* POWER(1+$M$6,2)","v":0},{"$f":"'1B'!$I18*SUMIF(hide!$H$106:$H$115,M$4,hide!$L$106:$L$115) * POWER(1+$M$6,3)","v":0},{"$f":"'1B'!$I18*SUMIF(hide!$H$106:$H$115,N$4,hide!$L$106:$L$115) * POWER(1+$M$6,4)","v":0},{"$f":"'1B'!$I18*SUMIF(hide!$H$106:$H$115,O$4,hide!$L$106:$L$115) * POWER(1+$M$6,5)","v":0},{"$f":"'1B'!$I18*SUMIF(hide!$H$106:$H$115,P$4,hide!$L$106:$L$115) * POWER(1+$M$6,6)","v":0},{"$f":"'1B'!$I18*SUMIF(hide!$H$106:$H$115,Q$4,hide!$L$106:$L$115) * POWER(1+$M$6,7)","v":0},{"$f":"'1B'!$I18*SUMIF(hide!$H$106:$H$115,R$4,hide!$L$106:$L$115) * POWER(1+$M$6,8)","v":0},{"$f":"'1B'!$I18*SUMIF(hide!$H$106:$H$115,S$4,hide!$L$106:$L$115) * POWER(1+$M$6,9)","v":0},null,null,null,null,{"$f":"'1B'!$I18*SUMIF(hide!$H$106:$H$115,X4,hide!$L$106:$L$115)","v":0},{"$f":"'1B'!$I18*SUMIF(hide!$H$106:$H$115,Y$4,hide!$L$106:$L$115)* POWER(1+$M$6,1)","v":0},{"$f":"'1B'!$I18*SUMIF(hide!$H$106:$H$115,Z$4,hide!$L$106:$L$115)* POWER(1+$M$6,2)","v":0},{"$f":"'1B'!$I18*SUMIF(hide!$H$106:$H$115,AA$4,hide!$L$106:$L$115) * POWER(1+$M$6,3)","v":0},{"$f":"'1B'!$I18*SUMIF(hide!$H$106:$H$115,AB$4,hide!$L$106:$L$115) * POWER(1+$M$6,4)","v":0},{"$f":"'1B'!$I18*SUMIF(hide!$H$106:$H$115,AC$4,hide!$L$106:$L$115) * POWER(1+$M$6,5)","v":0},{"$f":"'1B'!$I18*SUMIF(hide!$H$106:$H$115,AD$4,hide!$L$106:$L$115) * POWER(1+$M$6,6)","v":0},{"$f":"'1B'!$I18*SUMIF(hide!$H$106:$H$115,AE$4,hide!$L$106:$L$115) * POWER(1+$M$6,7)","v":0},{"$f":"'1B'!$I18*SUMIF(hide!$H$106:$H$115,AF$4,hide!$L$106:$L$115) * POWER(1+$M$6,8)","v":0},{"$f":"'1B'!$I18*SUMIF(hide!$H$106:$H$115,AG$4,hide!$L$106:$L$115) * POWER(1+$M$6,9)","v":0}]
["B.2.1.2",null,null,"Vedlejší rozpočtové náklady nezahrnute do jednotlivých PS (VRN)",null,null,null,0,null,{"$f":"'1B'!$I19*SUMIF(hide!$H$106:$H$115,J5,hide!$L$106:$L$115)","v":0},{"$f":"'1B'!$I19*SUMIF(hide!$H$74:$H$83,K$4,hide!$L$74:$L$83) * POWER(1+$M$6,1)","v":0},{"$f":"'1B'!$I19*SUMIF(hide!$H$74:$H$83,L$4,hide!$L$74:$L$83) * POWER(1+$M$6,2)","v":0},{"$f":"'1B'!$I19*SUMIF(hide!$H$74:$H$83,M$4,hide!$L$74:$L$83) * POWER(1+$M$6,3)","v":0},{"$f":"'1B'!$I19*SUMIF(hide!$H$74:$H$83,N$4,hide!$L$74:$L$83) * POWER(1+$M$6,4)","v":0},{"$f":"'1B'!$I19*SUMIF(hide!$H$74:$H$83,O$4,hide!$L$74:$L$83) * POWER(1+$M$6,5)","v":0},{"$f":"'1B'!$I19*SUMIF(hide!$H$74:$H$83,P$4,hide!$L$74:$L$83) * POWER(1+$M$6,6)","v":0},{"$f":"'1B'!$I19*SUMIF(hide!$H$74:$H$83,Q$4,hide!$L$74:$L$83) * POWER(1+$M$6,7)","v":0},{"$f":"'1B'!$I19*SUMIF(hide!$H$74:$H$83,R$4,hide!$L$74:$L$83) * POWER(1+$M$6,8)","v":0},{"$f":"'1B'!$I19*SUMIF(hide!$H$74:$H$83,S$4,hide!$L$74:$L$83) * POWER(1+$M$6,9)","v":0},null,null,null,null,{"$f":"'1B'!$I19*SUMIF(hide!$H$106:$H$115,X5,hide!$L$106:$L$115)","v":0},{"$f":"'1B'!$I19*SUMIF(hide!$H$74:$H$83,Y$4,hide!$L$74:$L$83) * POWER(1+$M$6,1)","v":0},{"$f":"'1B'!$I19*SUMIF(hide!$H$74:$H$83,Z$4,hide!$L$74:$L$83) * POWER(1+$M$6,2)","v":0},{"$f":"'1B'!$I19*SUMIF(hide!$H$74:$H$83,AA$4,hide!$L$74:$L$83) * POWER(1+$M$6,3)","v":0},{"$f":"'1B'!$I19*SUMIF(hide!$H$74:$H$83,AB$4,hide!$L$74:$L$83) * POWER(1+$M$6,4)","v":0},{"$f":"'1B'!$I19*SUMIF(hide!$H$74:$H$83,AC$4,hide!$L$74:$L$83) * POWER(1+$M$6,5)","v":0},{"$f":"'1B'!$I19*SUMIF(hide!$H$74:$H$83,AD$4,hide!$L$74:$L$83) * POWER(1+$M$6,6)","v":0},{"$f":"'1B'!$I19*SUMIF(hide!$H$74:$H$83,AE$4,hide!$L$74:$L$83) * POWER(1+$M$6,7)","v":0},{"$f":"'1B'!$I19*SUMIF(hide!$H$74:$H$83,AF$4,hide!$L$74:$L$83) * POWER(1+$M$6,8)","v":0},{"$f":"'1B'!$I19*SUMIF(hide!$H$74:$H$83,AG$4,hide!$L$74:$L$83) * POWER(1+$M$6,9)","v":0}]
["B.2.2",null,"Technologické část zajišťovaná přímo investorem",null,null,null,null,0,{"$f":"SUM(I20:I22)","v":0},0,0,0,0,0,0,0,0,0,0,null,null,null,{"$f":"SUM(W20:W22)","v":0},0,0,0,0,0,0,0,0,0,0]
["B.2.2.1",null,"z toho","Provozní soubory zajišťované přímo investorem",null,null,null,0,null,{"$f":"('1B'!$I21-$I20)*SUMIF(hide!$H$106:$H$115,J7,hide!$L$106:$L$115)","v":0},{"$f":"('1B'!$I21-$I20)*SUMIF(hide!$H$106:$H$115,K$4,hide!$L$106:$L$115)","v":0},{"$f":"('1B'!$I21-$I20)*SUMIF(hide!$H$106:$H$115,L$4,hide!$L$106:$L$115)","v":0},{"$f":"('1B'!$I21-$I20)*SUMIF(hide!$H$106:$H$115,M$4,hide!$L$106:$L$115)","v":0},{"$f":"('1B'!$I21-$I20)*SUMIF(hide!$H$106:$H$115,N$4,hide!$L$106:$L$115)","v":0},{"$f":"('1B'!$I21-$I20)*SUMIF(hide!$H$106:$H$115,O$4,hide!$L$106:$L$115)","v":0},{"$f":"('1B'!$I21-$I20)*SUMIF(hide!$H$106:$H$115,P$4,hide!$L$106:$L$115)","v":0},{"$f":"('1B'!$I21-$I20)*SUMIF(hide!$H$106:$H$115,Q$4,hide!$L$106:$L$115)","v":0},{"$f":"('1B'!$I21-$I20)*SUMIF(hide!$H$106:$H$115,R$4,hide!$L$106:$L$115)","v":0},{"$f":"('1B'!$I21-$I20)*SUMIF(hide!$H$106:$H$115,S$4,hide!$L$106:$L$115)","v":0},null,null,null,null,{"$f":"('1B'!$I21-$I20)*SUMIF(hide!$H$106:$H$115,X7,hide!$L$106:$L$115)","v":0},{"$f":"('1B'!$I21-$I20)*SUMIF(hide!$H$106:$H$115,Y$4,hide!$L$106:$L$115)","v":0},{"$f":"('1B'!$I21-$I20)*SUMIF(hide!$H$106:$H$115,Z$4,hide!$L$106:$L$115)","v":0},{"$f":"('1B'!$I21-$I20)*SUMIF(hide!$H$106:$H$115,AA$4,hide!$L$106:$L$115)","v":0},{"$f":"('1B'!$I21-$I20)*SUMIF(hide!$H$106:$H$115,AB$4,hide!$L$106:$L$115)","v":0},{"$f":"('1B'!$I21-$I20)*SUMIF(hide!$H$106:$H$115,AC$4,hide!$L$106:$L$115)","v":0},{"$f":"('1B'!$I21-$I20)*SUMIF(hide!$H$106:$H$115,AD$4,hide!$L$106:$L$115)","v":0},{"$f":"('1B'!$I21-$I20)*SUMIF(hide!$H$106:$H$115,AE$4,hide!$L$106:$L$115)","v":0},{"$f":"('1B'!$I21-$I20)*SUMIF(hide!$H$106:$H$115,AF$4,hide!$L$106:$L$115)","v":0},{"$f":"('1B'!$I21-$I20)*SUMIF(hide!$H$106:$H$115,AG$4,hide!$L$106:$L$115)","v":0}]
["B.2.2.2",null,null,"Technologické práce a dodávky zajišťované přímo investorem",null,null,null,0,null,{"$f":"('1B'!$I22-$I21)*SUMIF(hide!$H$106:$H$115,J8,hide!$L$106:$L$115)","v":0},{"$f":"('1B'!$I22-$I21)*SUMIF(hide!$H$106:$H$115,K$4,hide!$L$106:$L$115)","v":0},{"$f":"('1B'!$I22-$I21)*SUMIF(hide!$H$106:$H$115,L$4,hide!$L$106:$L$115)","v":0},{"$f":"('1B'!$I22-$I21)*SUMIF(hide!$H$106:$H$115,M$4,hide!$L$106:$L$115)","v":0},{"$f":"('1B'!$I22-$I21)*SUMIF(hide!$H$106:$H$115,N$4,hide!$L$106:$L$115)","v":0},{"$f":"('1B'!$I22-$I21)*SUMIF(hide!$H$106:$H$115,O$4,hide!$L$106:$L$115)","v":0},{"$f":"('1B'!$I22-$I21)*SUMIF(hide!$H$106:$H$115,P$4,hide!$L$106:$L$115)","v":0},{"$f":"('1B'!$I22-$I21)*SUMIF(hide!$H$106:$H$115,Q$4,hide!$L$106:$L$115)","v":0},{"$f":"('1B'!$I22-$I21)*SUMIF(hide!$H$106:$H$115,R$4,hide!$L$106:$L$115)","v":0},{"$f":"('1B'!$I22-$I21)*SUMIF(hide!$H$106:$H$115,S$4,hide!$L$106:$L$115)","v":0},null,null,null,null,{"$f":"('1B'!$I22-$I21)*SUMIF(hide!$H$106:$H$115,X8,hide!$L$106:$L$115)","v":0},{"$f":"('1B'!$I22-$I21)*SUMIF(hide!$H$106:$H$115,Y$4,hide!$L$106:$L$115)","v":0},{"$f":"('1B'!$I22-$I21)*SUMIF(hide!$H$106:$H$115,Z$4,hide!$L$106:$L$115)","v":0},{"$f":"('1B'!$I22-$I21)*SUMIF(hide!$H$106:$H$115,AA$4,hide!$L$106:$L$115)","v":0},{"$f":"('1B'!$I22-$I21)*SUMIF(hide!$H$106:$H$115,AB$4,hide!$L$106:$L$115)","v":0},{"$f":"('1B'!$I22-$I21)*SUMIF(hide!$H$106:$H$115,AC$4,hide!$L$106:$L$115)","v":0},{"$f":"('1B'!$I22-$I21)*SUMIF(hide!$H$106:$H$115,AD$4,hide!$L$106:$L$115)","v":0},{"$f":"('1B'!$I22-$I21)*SUMIF(hide!$H$106:$H$115,AE$4,hide!$L$106:$L$115)","v":0},{"$f":"('1B'!$I22-$I21)*SUMIF(hide!$H$106:$H$115,AF$4,hide!$L$106:$L$115)","v":0},{"$f":"('1B'!$I22-$I21)*SUMIF(hide!$H$106:$H$115,AG$4,hide!$L$106:$L$115)","v":0}]
["B.2.2.3",null,null,"Revize a měření zajišťované investorem",null,null,null,0,null,{"$f":"('1B'!$I23-$I$13)*SUMIF(hide!$H$74:$H$83,J$4,hide!$L$74:$L$83)","v":0},{"$f":"('1B'!$I23-$I$13)*SUMIF(hide!$H$74:$H$83,K$4,hide!$L$74:$L$83)","v":0},{"$f":"('1B'!$I23-$I$13)*SUMIF(hide!$H$74:$H$83,L$4,hide!$L$74:$L$83)","v":0},{"$f":"('1B'!$I23-$I$13)*SUMIF(hide!$H$74:$H$83,M$4,hide!$L$74:$L$83)","v":0},{"$f":"('1B'!$I23-$I22)*SUMIF(hide!$H$106:$H$115,N$4,hide!$L$106:$L$115)","v":0},{"$f":"('1B'!$I23-$I22)*SUMIF(hide!$H$106:$H$115,O$4,hide!$L$106:$L$115)","v":0},{"$f":"('1B'!$I23-$I22)*SUMIF(hide!$H$106:$H$115,P$4,hide!$L$106:$L$115)","v":0},{"$f":"('1B'!$I23-$I22)*SUMIF(hide!$H$106:$H$115,Q$4,hide!$L$106:$L$115)","v":0},{"$f":"('1B'!$I23-$I22)*SUMIF(hide!$H$106:$H$115,R$4,hide!$L$106:$L$115)","v":0},{"$f":"('1B'!$I23-$I22)*SUMIF(hide!$H$106:$H$115,S$4,hide!$L$106:$L$115)","v":0},null,null,null,null,{"$f":"('1B'!$I23-$I$13)*SUMIF(hide!$H$74:$H$83,X$4,hide!$L$74:$L$83)","v":0},{"$f":"('1B'!$I23-$I$13)*SUMIF(hide!$H$74:$H$83,Y$4,hide!$L$74:$L$83)","v":0},{"$f":"('1B'!$I23-$I$13)*SUMIF(hide!$H$74:$H$83,Z$4,hide!$L$74:$L$83)","v":0},{"$f":"('1B'!$I23-$I$13)*SUMIF(hide!$H$74:$H$83,AA$4,hide!$L$74:$L$83)","v":0},{"$f":"('1B'!$I23-$I22)*SUMIF(hide!$H$106:$H$115,AB$4,hide!$L$106:$L$115)","v":0},{"$f":"('1B'!$I23-$I22)*SUMIF(hide!$H$106:$H$115,AC$4,hide!$L$106:$L$115)","v":0},{"$f":"('1B'!$I23-$I22)*SUMIF(hide!$H$106:$H$115,AD$4,hide!$L$106:$L$115)","v":0},{"$f":"('1B'!$I23-$I22)*SUMIF(hide!$H$106:$H$115,AE$4,hide!$L$106:$L$115)","v":0},{"$f":"('1B'!$I23-$I22)*SUMIF(hide!$H$106:$H$115,AF$4,hide!$L$106:$L$115)","v":0},{"$f":"('1B'!$I23-$I22)*SUMIF(hide!$H$106:$H$115,AG$4,hide!$L$106:$L$115)","v":0}]
["B.3","Ostatní náklady pro zajištění realizace stavby",null,null,null,null,null,0,{"$f":"SUM(I24:I29,I30,I34:I37)","v":0},{"$f":"SUM(J24:J29,J30,J34:J37)","v":0},{"$f":"SUM(K24:K29,K30,K34:K37)","v":0},{"$f":"SUM(L24:L29,L30,L34:L37)","v":0},0,0,0,0,0,0,0,null,null,null,{"$f":"SUM(W24:W29,W30,W34:W37)","v":0},{"$f":"SUM(X24:X29,X30,X34:X37)","v":0},{"$f":"SUM(Y24:Y29,Y30,Y34:Y37)","v":0},{"$f":"SUM(Z24:Z29,Z30,Z34:Z37)","v":0},0,0,0,0,0,0,0]
["B.3.1","z toho","Osvědčení o shodě notifikovanou osobou v realizaci",null,null,null,null,{"$f":"SUM(I24:S24)","v":0},null,{"$f":"'1B'!$I25*SUMIF(hide!$H$74:$H$83,J$4,hide!$L$74:$L$83)","v":0},{"$f":"'1B'!$I25*SUMIF(hide!$H$74:$H$83,K$4,hide!$L$74:$L$83)","v":0},{"$f":"'1B'!$I25*SUMIF(hide!$H$74:$H$83,L$4,hide!$L$74:$L$83)","v":0},{"$f":"'1B'!$I25*SUMIF(hide!$H$74:$H$83,M$4,hide!$L$74:$L$83)","v":0},{"$f":"'1B'!$I25*SUMIF(hide!$H$74:$H$83,N$4,hide!$L$74:$L$83)","v":0},{"$f":"'1B'!$I25*SUMIF(hide!$H$74:$H$83,O$4,hide!$L$74:$L$83)","v":0},{"$f":"'1B'!$I25*SUMIF(hide!$H$74:$H$83,P$4,hide!$L$74:$L$83)","v":0},{"$f":"'1B'!$I25*SUMIF(hide!$H$74:$H$83,Q$4,hide!$L$74:$L$83)","v":0},{"$f":"'1B'!$I25*SUMIF(hide!$H$74:$H$83,R$4,hide!$L$74:$L$83)","v":0},{"$f":"'1B'!$I25*SUMIF(hide!$H$74:$H$83,S$4,hide!$L$74:$L$83)","v":0},null,null,null,null,{"$f":"'1B'!$I25*SUMIF(hide!$H$74:$H$83,X$4,hide!$L$74:$L$83)","v":0},{"$f":"'1B'!$I25*SUMIF(hide!$H$74:$H$83,Y$4,hide!$L$74:$L$83)","v":0},{"$f":"'1B'!$I25*SUMIF(hide!$H$74:$H$83,Z$4,hide!$L$74:$L$83)","v":0},{"$f":"'1B'!$I25*SUMIF(hide!$H$74:$H$83,AA$4,hide!$L$74:$L$83)","v":0},{"$f":"'1B'!$I25*SUMIF(hide!$H$74:$H$83,AB$4,hide!$L$74:$L$83)","v":0},{"$f":"'1B'!$I25*SUMIF(hide!$H$74:$H$83,AC$4,hide!$L$74:$L$83)","v":0},{"$f":"'1B'!$I25*SUMIF(hide!$H$74:$H$83,AD$4,hide!$L$74:$L$83)","v":0},{"$f":"'1B'!$I25*SUMIF(hide!$H$74:$H$83,AE$4,hide!$L$74:$L$83)","v":0},{"$f":"'1B'!$I25*SUMIF(hide!$H$74:$H$83,AF$4,hide!$L$74:$L$83)","v":0},{"$f":"'1B'!$I25*SUMIF(hide!$H$74:$H$83,AG$4,hide!$L$74:$L$83)","v":0}]
["B.3.2",null,"Koordinátor BOZP v realizaci",null,null,null,null,0,null,{"$f":"'1B'!$I26*SUMIF(hide!$H$74:$H$83,J$4,hide!$L$74:$L$83)","v":0},{"$f":"'1B'!$I26*SUMIF(hide!$H$74:$H$83,K$4,hide!$L$74:$L$83)","v":0},{"$f":"'1B'!$I26*SUMIF(hide!$H$74:$H$83,L$4,hide!$L$74:$L$83)","v":0},{"$f":"'1B'!$I26*SUMIF(hide!$H$74:$H$83,M$4,hide!$L$74:$L$83)","v":0},{"$f":"'1B'!$I26*SUMIF(hide!$H$74:$H$83,N$4,hide!$L$74:$L$83)","v":0},{"$f":"'1B'!$I26*SUMIF(hide!$H$74:$H$83,O$4,hide!$L$74:$L$83)","v":0},{"$f":"'1B'!$I26*SUMIF(hide!$H$74:$H$83,P$4,hide!$L$74:$L$83)","v":0},{"$f":"'1B'!$I26*SUMIF(hide!$H$74:$H$83,Q$4,hide!$L$74:$L$83)","v":0},{"$f":"'1B'!$I26*SUMIF(hide!$H$74:$H$83,R$4,hide!$L$74:$L$83)","v":0},{"$f":"'1B'!$I26*SUMIF(hide!$H$74:$H$83,S$4,hide!$L$74:$L$83)","v":0},null,null,null,null,{"$f":"'1B'!$I26*SUMIF(hide!$H$74:$H$83,X$4,hide!$L$74:$L$83)","v":0},{"$f":"'1B'!$I26*SUMIF(hide!$H$74:$H$83,Y$4,hide!$L$74:$L$83)","v":0},{"$f":"'1B'!$I26*SUMIF(hide!$H$74:$H$83,Z$4,hide!$L$74:$L$83)","v":0},{"$f":"'1B'!$I26*SUMIF(hide!$H$74:$H$83,AA$4,hide!$L$74:$L$83)","v":0},{"$f":"'1B'!$I26*SUMIF(hide!$H$74:$H$83,AB$4,hide!$L$74:$L$83)","v":0},{"$f":"'1B'!$I26*SUMIF(hide!$H$74:$H$83,AC$4,hide!$L$74:$L$83)","v":0},{"$f":"'1B'!$I26*SUMIF(hide!$H$74:$H$83,AD$4,hide!$L$74:$L$83)","v":0},{"$f":"'1B'!$I26*SUMIF(hide!$H$74:$H$83,AE$4,hide!$L$74:$L$83)","v":0},{"$f":"'1B'!$I26*SUMIF(hide!$H$74:$H$83,AF$4,hide!$L$74:$L$83)","v":0},{"$f":"'1B'!$I26*SUMIF(hide!$H$74:$H$83,AG$4,hide!$L$74:$L$83)","v":0}]
["B.3.3",null,"Osvědčení o bezpečnosti před uvedením do provozu",null,null,null,null,0,null,{"$f":"'1B'!$I27*SUMIF(hide!$H$74:$H$83,J$4,hide!$L$74:$L$83)","v":0},{"$f":"'1B'!$I27*SUMIF(hide!$H$74:$H$83,K$4,hide!$L$74:$L$83)","v":0},{"$f":"'1B'!$I27*SUMIF(hide!$H$74:$H$83,L$4,hide!$L$74:$L$83)","v":0},{"$f":"'1B'!$I27*SUMIF(hide!$H$74:$H$83,M$4,hide!$L$74:$L$83)","v":0},{"$f":"'1B'!$I27*SUMIF(hide!$H$74:$H$83,N$4,hide!$L$74:$L$83)","v":0},{"$f":"'1B'!$I27*SUMIF(hide!$H$74:$H$83,O$4,hide!$L$74:$L$83)","v":0},{"$f":"'1B'!$I27*SUMIF(hide!$H$74:$H$83,P$4,hide!$L$74:$L$83)","v":0},{"$f":"'1B'!$I27*SUMIF(hide!$H$74:$H$83,Q$4,hide!$L$74:$L$83)","v":0},{"$f":"'1B'!$I27*SUMIF(hide!$H$74:$H$83,R$4,hide!$L$74:$L$83)","v":0},{"$f":"'1B'!$I27*SUMIF(hide!$H$74:$H$83,S$4,hide!$L$74:$L$83)","v":0},null,null,null,null,{"$f":"'1B'!$I27*SUMIF(hide!$H$74:$H$83,X$4,hide!$L$74:$L$83)","v":0},{"$f":"'1B'!$I27*SUMIF(hide!$H$74:$H$83,Y$4,hide!$L$74:$L$83)","v":0},{"$f":"'1B'!$I27*SUMIF(hide!$H$74:$H$83,Z$4,hide!$L$74:$L$83)","v":0},{"$f":"'1B'!$I27*SUMIF(hide!$H$74:$H$83,AA$4,hide!$L$74:$L$83)","v":0},{"$f":"'1B'!$I27*SUMIF(hide!$H$74:$H$83,AB$4,hide!$L$74:$L$83)","v":0},{"$f":"'1B'!$I27*SUMIF(hide!$H$74:$H$83,AC$4,hide!$L$74:$L$83)","v":0},{"$f":"'1B'!$I27*SUMIF(hide!$H$74:$H$83,AD$4,hide!$L$74:$L$83)","v":0},{"$f":"'1B'!$I27*SUMIF(hide!$H$74:$H$83,AE$4,hide!$L$74:$L$83)","v":0},{"$f":"'1B'!$I27*SUMIF(hide!$H$74:$H$83,AF$4,hide!$L$74:$L$83)","v":0},{"$f":"'1B'!$I27*SUMIF(hide!$H$74:$H$83,AG$4,hide!$L$74:$L$83)","v":0}]
["B.3.4",null,"Rekultivace",null,null,null,null,0,null,{"$f":"('1B'!$I28-$I27)*SUMIF(hide!$H$74:$H$83,J$4,hide!$L$74:$L$83)","v":0},{"$f":"('1B'!$I28-$I27)*SUMIF(hide!$H$74:$H$83,K$4,hide!$L$74:$L$83)","v":0},{"$f":"('1B'!$I28-$I27)*SUMIF(hide!$H$74:$H$83,L$4,hide!$L$74:$L$83)","v":0},{"$f":"('1B'!$I28-$I27)*SUMIF(hide!$H$74:$H$83,M$4,hide!$L$74:$L$83)","v":0},{"$f":"('1B'!$I28-$I27)*SUMIF(hide!$H$74:$H$83,N$4,hide!$L$74:$L$83)","v":0},{"$f":"('1B'!$I28-$I27)*SUMIF(hide!$H$74:$H$83,O$4,hide!$L$74:$L$83)","v":0},{"$f":"('1B'!$I28-$I27)*SUMIF(hide!$H$74:$H$83,P$4,hide!$L$74:$L$83)","v":0},{"$f":"('1B'!$I28-$I27)*SUMIF(hide!$H$74:$H$83,Q$4,hide!$L$74:$L$83)","v":0},{"$f":"('1B'!$I28-$I27)*SUMIF(hide!$H$74:$H$83,R$4,hide!$L$74:$L$83)","v":0},{"$f":"('1B'!$I28-$I27)*SUMIF(hide!$H$74:$H$83,S$4,hide!$L$74:$L$83)","v":0},null,null,null,null,{"$f":"('1B'!$I28-$I27)*SUMIF(hide!$H$74:$H$83,X$4,hide!$L$74:$L$83)","v":0},{"$f":"('1B'!$I28-$I27)*SUMIF(hide!$H$74:$H$83,Y$4,hide!$L$74:$L$83)","v":0},{"$f":"('1B'!$I28-$I27)*SUMIF(hide!$H$74:$H$83,Z$4,hide!$L$74:$L$83)","v":0},{"$f":"('1B'!$I28-$I27)*SUMIF(hide!$H$74:$H$83,AA$4,hide!$L$74:$L$83)","v":0},{"$f":"('1B'!$I28-$I27)*SUMIF(hide!$H$74:$H$83,AB$4,hide!$L$74:$L$83)","v":0},{"$f":"('1B'!$I28-$I27)*SUMIF(hide!$H$74:$H$83,AC$4,hide!$L$74:$L$83)","v":0},{"$f":"('1B'!$I28-$I27)*SUMIF(hide!$H$74:$H$83,AD$4,hide!$L$74:$L$83)","v":0},{"$f":"('1B'!$I28-$I27)*SUMIF(hide!$H$74:$H$83,AE$4,hide!$L$74:$L$83)","v":0},{"$f":"('1B'!$I28-$I27)*SUMIF(hide!$H$74:$H$83,AF$4,hide!$L$74:$L$83)","v":0},{"$f":"('1B'!$I28-$I27)*SUMIF(hide!$H$74:$H$83,AG$4,hide!$L$74:$L$83)","v":0}]
["B.3.5",null,"Zajištění veřejných zájmů",null,null,null,null,0,null,{"$f":"('1B'!$I29-$I28)*SUMIF(hide!$H$74:$H$83,J$4,hide!$L$74:$L$83)","v":0},{"$f":"('1B'!$I29-$I28)*SUMIF(hide!$H$74:$H$83,K$4,hide!$L$74:$L$83)","v":0},{"$f":"('1B'!$I29-$I28)*SUMIF(hide!$H$74:$H$83,L$4,hide!$L$74:$L$83)","v":0},{"$f":"('1B'!$I29-$I28)*SUMIF(hide!$H$74:$H$83,M$4,hide!$L$74:$L$83)","v":0},{"$f":"('1B'!$I29-$I28)*SUMIF(hide!$H$74:$H$83,N$4,hide!$L$74:$L$83)","v":0},{"$f":"('1B'!$I29-$I28)*SUMIF(hide!$H$74:$H$83,O$4,hide!$L$74:$L$83)","v":0},{"$f":"('1B'!$I29-$I28)*SUMIF(hide!$H$74:$H$83,P$4,hide!$L$74:$L$83)","v":0},{"$f":"('1B'!$I29-$I28)*SUMIF(hide!$H$74:$H$83,Q$4,hide!$L$74:$L$83)","v":0},{"$f":"('1B'!$I29-$I28)*SUMIF(hide!$H$74:$H$83,R$4,hide!$L$74:$L$83)","v":0},{"$f":"('1B'!$I29-$I28)*SUMIF(hide!$H$74:$H$83,S$4,hide!$L$74:$L$83)","v":0},null,null,null,null,{"$f":"('1B'!$I29-$I28)*SUMIF(hide!$H$74:$H$83,X$4,hide!$L$74:$L$83)","v":0},{"$f":"('1B'!$I29-$I28)*SUMIF(hide!$H$74:$H$83,Y$4,hide!$L$74:$L$83)","v":0},{"$f":"('1B'!$I29-$I28)*SUMIF(hide!$H$74:$H$83,Z$4,hide!$L$74:$L$83)","v":0},{"$f":"('1B'!$I29-$I28)*SUMIF(hide!$H$74:$H$83,AA$4,hide!$L$74:$L$83)","v":0},{"$f":"('1B'!$I29-$I28)*SUMIF(hide!$H$74:$H$83,AB$4,hide!$L$74:$L$83)","v":0},{"$f":"('1B'!$I29-$I28)*SUMIF(hide!$H$74:$H$83,AC$4,hide!$L$74:$L$83)","v":0},{"$f":"('1B'!$I29-$I28)*SUMIF(hide!$H$74:$H$83,AD$4,hide!$L$74:$L$83)","v":0},{"$f":"('1B'!$I29-$I28)*SUMIF(hide!$H$74:$H$83,AE$4,hide!$L$74:$L$83)","v":0},{"$f":"('1B'!$I29-$I28)*SUMIF(hide!$H$74:$H$83,AF$4,hide!$L$74:$L$83)","v":0},{"$f":"('1B'!$I29-$I28)*SUMIF(hide!$H$74:$H$83,AG$4,hide!$L$74:$L$83)","v":0}]
["B.3.6",null,"Hlukové měření pro účely realizace stavby",null,null,null,null,0,null,{"$f":"('1B'!$I30-$I29)*SUMIF(hide!$H$74:$H$83,J$4,hide!$L$74:$L$83)","v":0},{"$f":"('1B'!$I30-$I29)*SUMIF(hide!$H$74:$H$83,K$4,hide!$L$74:$L$83)","v":0},{"$f":"('1B'!$I30-$I29)*SUMIF(hide!$H$74:$H$83,L$4,hide!$L$74:$L$83)","v":0},{"$f":"('1B'!$I30-$I29)*SUMIF(hide!$H$74:$H$83,M$4,hide!$L$74:$L$83)","v":0},{"$f":"('1B'!$I30-$I29)*SUMIF(hide!$H$74:$H$83,N$4,hide!$L$74:$L$83)","v":0},{"$f":"('1B'!$I30-$I29)*SUMIF(hide!$H$74:$H$83,O$4,hide!$L$74:$L$83)","v":0},{"$f":"('1B'!$I30-$I29)*SUMIF(hide!$H$74:$H$83,P$4,hide!$L$74:$L$83)","v":0},{"$f":"('1B'!$I30-$I29)*SUMIF(hide!$H$74:$H$83,Q$4,hide!$L$74:$L$83)","v":0},{"$f":"('1B'!$I30-$I29)*SUMIF(hide!$H$74:$H$83,R$4,hide!$L$74:$L$83)","v":0},{"$f":"('1B'!$I30-$I29)*SUMIF(hide!$H$74:$H$83,S$4,hide!$L$74:$L$83)","v":0},null,null,null,null,{"$f":"('1B'!$I30-$I29)*SUMIF(hide!$H$74:$H$83,X$4,hide!$L$74:$L$83)","v":0},{"$f":"('1B'!$I30-$I29)*SUMIF(hide!$H$74:$H$83,Y$4,hide!$L$74:$L$83)","v":0},{"$f":"('1B'!$I30-$I29)*SUMIF(hide!$H$74:$H$83,Z$4,hide!$L$74:$L$83)","v":0},{"$f":"('1B'!$I30-$I29)*SUMIF(hide!$H$74:$H$83,AA$4,hide!$L$74:$L$83)","v":0},{"$f":"('1B'!$I30-$I29)*SUMIF(hide!$H$74:$H$83,AB$4,hide!$L$74:$L$83)","v":0},{"$f":"('1B'!$I30-$I29)*SUMIF(hide!$H$74:$H$83,AC$4,hide!$L$74:$L$83)","v":0},{"$f":"('1B'!$I30-$I29)*SUMIF(hide!$H$74:$H$83,AD$4,hide!$L$74:$L$83)","v":0},{"$f":"('1B'!$I30-$I29)*SUMIF(hide!$H$74:$H$83,AE$4,hide!$L$74:$L$83)","v":0},{"$f":"('1B'!$I30-$I29)*SUMIF(hide!$H$74:$H$83,AF$4,hide!$L$74:$L$83)","v":0},{"$f":"('1B'!$I30-$I29)*SUMIF(hide!$H$74:$H$83,AG$4,hide!$L$74:$L$83)","v":0}]
["B.3.7",null,"Náhrady",null,null,null,null,{"$f":"SUM(I30:S30)","v":0},{"$f":"SUM(I31:I33)","v":0},{"$f":"SUM(J31:J33)","v":0},{"$f":"SUM(K31:K33)","v":0},{"$f":"SUM(L31:L33)","v":0},0,0,0,0,0,0,0,null,null,null,{"$f":"SUM(W31:W33)","v":0},{"$f":"SUM(X31:X33)","v":0},{"$f":"SUM(Y31:Y33)","v":0},{"$f":"SUM(Z31:Z33)","v":0},0,0,0,0,0,0,0]
["B.3.7.1",null,"z toho","Náhrady za omezení hospodaření",null,null,null,{"$f":"'1B'!I32","v":0},null,{"$f":"'1B'!I32-SUM(K31:S31,I31)","v":0},null,null,null,null,null,null,null,null,null,null,null,null,null,{"$f":"'1B'!W32-SUM(Y31:AG31,W31)","v":0}]
["B.3.7.2",null,null,"Náhrady za omezení provozu",null,null,null,{"$f":"'1B'!I33","v":0},null,{"$f":"'1B'!I33-SUM(I32,K32:S32)","v":0},null,null,null,null,null,null,null,null,null,null,null,null,null,{"$f":"'1B'!W33-SUM(W32,Y32:AG32)","v":0}]
["B.3.7.3",null,null,"Ostatní náhrady v realizaci",null,null,null,{"$f":"SUM(I33:S33)","v":0},null,{"$f":"'1B'!$I34*SUMIF(hide!$H$74:$H$83,J$4,hide!$L$74:$L$83)","v":0},{"$f":"'1B'!$I34*SUMIF(hide!$H$90:$H$99,K$4,hide!$L$90:$L$99) * POWER(1+$M$6,1)","v":0},{"$f":"'1B'!$I34*SUMIF(hide!$H$90:$H$99,L$4,hide!$L$90:$L$99) * POWER(1+$M$6,1)","v":0},{"$f":"'1B'!$I34*SUMIF(hide!$H$90:$H$99,M$4,hide!$L$90:$L$99) * POWER(1+$M$6,1)","v":0},{"$f":"'1B'!$I34*SUMIF(hide!$H$90:$H$99,N$4,hide!$L$90:$L$99) * POWER(1+$M$6,1)","v":0},{"$f":"'1B'!$I34*SUMIF(hide!$H$90:$H$99,O$4,hide!$L$90:$L$99) * POWER(1+$M$6,1)","v":0},{"$f":"'1B'!$I34*SUMIF(hide!$H$90:$H$99,P$4,hide!$L$90:$L$99) * POWER(1+$M$6,1)","v":0},{"$f":"'1B'!$I34*SUMIF(hide!$H$90:$H$99,Q$4,hide!$L$90:$L$99) * POWER(1+$M$6,1)","v":0},{"$f":"'1B'!$I34*SUMIF(hide!$H$90:$H$99,R$4,hide!$L$90:$L$99) * POWER(1+$M$6,1)","v":0},{"$f":"'1B'!$I34*SUMIF(hide!$H$90:$H$99,S$4,hide!$L$90:$L$99) * POWER(1+$M$6,1)","v":0},null,null,null,null,{"$f":"'1B'!$I34*SUMIF(hide!$H$74:$H$83,X$4,hide!$L$74:$L$83)","v":0},{"$f":"'1B'!$I34*SUMIF(hide!$H$90:$H$99,Y$4,hide!$L$90:$L$99) * POWER(1+$M$6,1)","v":0},{"$f":"'1B'!$I34*SUMIF(hide!$H$90:$H$99,Z$4,hide!$L$90:$L$99) * POWER(1+$M$6,1)","v":0},{"$f":"'1B'!$I34*SUMIF(hide!$H$90:$H$99,AA$4,hide!$L$90:$L$99) * POWER(1+$M$6,1)","v":0},{"$f":"'1B'!$I34*SUMIF(hide!$H$90:$H$99,AB$4,hide!$L$90:$L$99) * POWER(1+$M$6,1)","v":0},{"$f":"'1B'!$I34*SUMIF(hide!$H$90:$H$99,AC$4,hide!$L$90:$L$99) * POWER(1+$M$6,1)","v":0},{"$f":"'1B'!$I34*SUMIF(hide!$H$90:$H$99,AD$4,hide!$L$90:$L$99) * POWER(1+$M$6,1)","v":0},{"$f":"'1B'!$I34*SUMIF(hide!$H$90:$H$99,AE$4,hide!$L$90:$L$99) * POWER(1+$M$6,1)","v":0},{"$f":"'1B'!$I34*SUMIF(hide!$H$90:$H$99,AF$4,hide!$L$90:$L$99) * POWER(1+$M$6,1)","v":0},{"$f":"'1B'!$I34*SUMIF(hide!$H$90:$H$99,AG$4,hide!$L$90:$L$99) * POWER(1+$M$6,1)","v":0}]
["B.3.8",null,"Zabezpečovací a konzervační práce",null,null,null,null,{"$f":"'1B'!I35","v":0},null,{"$f":"'1B'!I35-SUM(K34:S34)","v":0},null,null,null,null,null,null,null,null,null,null,null,null,null,{"$f":"'1B'!W35-SUM(Y34:AG34)","v":0}]
["B.3.9",null,"Ostatní nezařazené náklady v realizaci",null,null,null,null,{"$f":"SUM(I35:S35)","v":0},null,{"$f":"'1B'!$I36*SUMIF(hide!$H$74:$H$83,J$4,hide!$L$74:$L$83)","v":0},{"$f":"'1B'!$I36*SUMIF(hide!$H$74:$H$83,K$4,hide!$L$74:$L$83)","v":0},{"$f":"'1B'!$I36*SUMIF(hide!$H$74:$H$83,L$4,hide!$L$74:$L$83)","v":0},{"$f":"'1B'!$I36*SUMIF(hide!$H$74:$H$83,M$4,hide!$L$74:$L$83)","v":0},{"$f":"'1B'!$I36*SUMIF(hide!$H$74:$H$83,N$4,hide!$L$74:$L$83)","v":0},{"$f":"'1B'!$I36*SUMIF(hide!$H$74:$H$83,O$4,hide!$L$74:$L$83)","v":0},{"$f":"'1B'!$I36*SUMIF(hide!$H$74:$H$83,P$4,hide!$L$74:$L$83)","v":0},{"$f":"'1B'!$I36*SUMIF(hide!$H$74:$H$83,Q$4,hide!$L$74:$L$83)","v":0},{"$f":"'1B'!$I36*SUMIF(hide!$H$74:$H$83,R$4,hide!$L$74:$L$83)","v":0},{"$f":"'1B'!$I36*SUMIF(hide!$H$74:$H$83,S$4,hide!$L$74:$L$83)","v":0},null,null,null,null,{"$f":"'1B'!$I36*SUMIF(hide!$H$74:$H$83,X$4,hide!$L$74:$L$83)","v":0},{"$f":"'1B'!$I36*SUMIF(hide!$H$74:$H$83,Y$4,hide!$L$74:$L$83)","v":0},{"$f":"'1B'!$I36*SUMIF(hide!$H$74:$H$83,Z$4,hide!$L$74:$L$83)","v":0},{"$f":"'1B'!$I36*SUMIF(hide!$H$74:$H$83,AA$4,hide!$L$74:$L$83)","v":0},{"$f":"'1B'!$I36*SUMIF(hide!$H$74:$H$83,AB$4,hide!$L$74:$L$83)","v":0},{"$f":"'1B'!$I36*SUMIF(hide!$H$74:$H$83,AC$4,hide!$L$74:$L$83)","v":0},{"$f":"'1B'!$I36*SUMIF(hide!$H$74:$H$83,AD$4,hide!$L$74:$L$83)","v":0},{"$f":"'1B'!$I36*SUMIF(hide!$H$74:$H$83,AE$4,hide!$L$74:$L$83)","v":0},{"$f":"'1B'!$I36*SUMIF(hide!$H$74:$H$83,AF$4,hide!$L$74:$L$83)","v":0},{"$f":"'1B'!$I36*SUMIF(hide!$H$74:$H$83,AG$4,hide!$L$74:$L$83)","v":0}]
["B.3.10",null,"Jiné náklady v realizaci",null,null,null,null,{"$f":"SUM(I36:S36)","v":0},null,{"$f":"'1B'!$I37*SUMIF(hide!$H$74:$H$83,J$4,hide!$L$74:$L$83)","v":0},{"$f":"'1B'!$I37*SUMIF(hide!$H$74:$H$83,K$4,hide!$L$74:$L$83)","v":0},{"$f":"'1B'!$I37*SUMIF(hide!$H$74:$H$83,L$4,hide!$L$74:$L$83)","v":0},{"$f":"'1B'!$I37*SUMIF(hide!$H$74:$H$83,M$4,hide!$L$74:$L$83)","v":0},{"$f":"'1B'!$I37*SUMIF(hide!$H$74:$H$83,N$4,hide!$L$74:$L$83)","v":0},{"$f":"'1B'!$I37*SUMIF(hide!$H$74:$H$83,O$4,hide!$L$74:$L$83)","v":0},{"$f":"'1B'!$I37*SUMIF(hide!$H$74:$H$83,P$4,hide!$L$74:$L$83)","v":0},{"$f":"'1B'!$I37*SUMIF(hide!$H$74:$H$83,Q$4,hide!$L$74:$L$83)","v":0},{"$f":"'1B'!$I37*SUMIF(hide!$H$74:$H$83,R$4,hide!$L$74:$L$83)","v":0},{"$f":"'1B'!$I37*SUMIF(hide!$H$74:$H$83,S$4,hide!$L$74:$L$83)","v":0},null,null,null,null,{"$f":"'1B'!$I37*SUMIF(hide!$H$74:$H$83,X$4,hide!$L$74:$L$83)","v":0},{"$f":"'1B'!$I37*SUMIF(hide!$H$74:$H$83,Y$4,hide!$L$74:$L$83)","v":0},{"$f":"'1B'!$I37*SUMIF(hide!$H$74:$H$83,Z$4,hide!$L$74:$L$83)","v":0},{"$f":"'1B'!$I37*SUMIF(hide!$H$74:$H$83,AA$4,hide!$L$74:$L$83)","v":0},{"$f":"'1B'!$I37*SUMIF(hide!$H$74:$H$83,AB$4,hide!$L$74:$L$83)","v":0},{"$f":"'1B'!$I37*SUMIF(hide!$H$74:$H$83,AC$4,hide!$L$74:$L$83)","v":0},{"$f":"'1B'!$I37*SUMIF(hide!$H$74:$H$83,AD$4,hide!$L$74:$L$83)","v":0},{"$f":"'1B'!$I37*SUMIF(hide!$H$74:$H$83,AE$4,hide!$L$74:$L$83)","v":0},{"$f":"'1B'!$I37*SUMIF(hide!$H$74:$H$83,AF$4,hide!$L$74:$L$83)","v":0},{"$f":"'1B'!$I37*SUMIF(hide!$H$74:$H$83,AG$4,hide!$L$74:$L$83)","v":0}]
["B.3.11",null,"Stavební náklady z rozdílu stádia přípravy a realizace",null,null,null,null,{"$f":"SUM(I37:S37)","v":0},null,{"$f":"'1B'!$I38*SUMIF(hide!$H$74:$H$83,J$4,hide!$L$74:$L$83)","v":0},{"$f":"'1B'!$I38*SUMIF(hide!$H$90:$H$99,K$4,hide!$L$90:$L$99) * POWER(1+$M$6,1)","v":0},{"$f":"'1B'!$I38*SUMIF(hide!$H$90:$H$99,L$4,hide!$L$90:$L$99) * POWER(1+$M$6,1)","v":0},{"$f":"'1B'!$I38*SUMIF(hide!$H$90:$H$99,M$4,hide!$L$90:$L$99) * POWER(1+$M$6,1)","v":0},{"$f":"'1B'!$I38*SUMIF(hide!$H$90:$H$99,N$4,hide!$L$90:$L$99) * POWER(1+$M$6,1)","v":0},{"$f":"'1B'!$I38*SUMIF(hide!$H$90:$H$99,O$4,hide!$L$90:$L$99) * POWER(1+$M$6,1)","v":0},{"$f":"'1B'!$I38*SUMIF(hide!$H$90:$H$99,P$4,hide!$L$90:$L$99) * POWER(1+$M$6,1)","v":0},{"$f":"'1B'!$I38*SUMIF(hide!$H$90:$H$99,Q$4,hide!$L$90:$L$99) * POWER(1+$M$6,1)","v":0},{"$f":"'1B'!$I38*SUMIF(hide!$H$90:$H$99,R$4,hide!$L$90:$L$99) * POWER(1+$M$6,1)","v":0},{"$f":"'1B'!$I38*SUMIF(hide!$H$90:$H$99,S$4,hide!$L$90:$L$99) * POWER(1+$M$6,1)","v":0},null,null,null,null,{"$f":"'1B'!$I38*SUMIF(hide!$H$74:$H$83,X$4,hide!$L$74:$L$83)","v":0},{"$f":"'1B'!$I38*SUMIF(hide!$H$90:$H$99,Y$4,hide!$L$90:$L$99) * POWER(1+$M$6,1)","v":0},{"$f":"'1B'!$I38*SUMIF(hide!$H$90:$H$99,Z$4,hide!$L$90:$L$99) * POWER(1+$M$6,1)","v":0},{"$f":"'1B'!$I38*SUMIF(hide!$H$90:$H$99,AA$4,hide!$L$90:$L$99) * POWER(1+$M$6,1)","v":0},{"$f":"'1B'!$I38*SUMIF(hide!$H$90:$H$99,AB$4,hide!$L$90:$L$99) * POWER(1+$M$6,1)","v":0},{"$f":"'1B'!$I38*SUMIF(hide!$H$90:$H$99,AC$4,hide!$L$90:$L$99) * POWER(1+$M$6,1)","v":0},{"$f":"'1B'!$I38*SUMIF(hide!$H$90:$H$99,AD$4,hide!$L$90:$L$99) * POWER(1+$M$6,1)","v":0},{"$f":"'1B'!$I38*SUMIF(hide!$H$90:$H$99,AE$4,hide!$L$90:$L$99) * POWER(1+$M$6,1)","v":0},{"$f":"'1B'!$I38*SUMIF(hide!$H$90:$H$99,AF$4,hide!$L$90:$L$99) * POWER(1+$M$6,1)","v":0},{"$f":"'1B'!$I38*SUMIF(hide!$H$90:$H$99,AG$4,hide!$L$90:$L$99) * POWER(1+$M$6,1)","v":0}]
["B.4","Příspěvky jiným investorům",null,null,null,null,null,{"$f":"SUM(I38:S38)","v":0},{"$f":"SUM(I39:I41)","v":0},{"$f":"SUM(J39:J41)","v":0},{"$f":"SUM(K39:K41)","v":0},{"$f":"SUM(L39:L41)","v":0},{"$f":"SUM(M39:M41)","v":0},0,0,0,0,0,0,null,null,null,{"$f":"SUM(W39:W41)","v":0},{"$f":"SUM(X39:X41)","v":0},{"$f":"SUM(Y39:Y41)","v":0},{"$f":"SUM(Z39:Z41)","v":0},{"$f":"SUM(AA39:AA41)","v":0},0,0,0,0,0,0]
["B.4.1","z toho","Podíl na účelně vynaložených nákl. ve smyslu zák. č.458/00 Sb.",null,null,null,null,{"$f":"'1B'!I40","v":0},null,{"$f":"'1B'!I40-SUM(I39,K39:S39)","v":0},null,null,null,null,null,null,null,null,null,null,null,null,null,{"$f":"'1B'!W40-SUM(W39,Y39:AG39)","v":0}]
["B.4.2",null,"Podíl na účelně vynaložených nákladech dle zákona č. 127/2005 Sb.",null,null,null,null,{"$f":"'1B'!I41","v":0},null,{"$f":"'1B'!I41-SUM(I40,K40:S40)","v":0},null,null,null,null,null,null,null,null,null,null,null,null,null,{"$f":"'1B'!W41-SUM(W40,Y40:AG40)","v":0}]
["B.4.3",null,"Ostatní příspěvky",null,null,null,null,{"$f":"'1B'!I42","v":0},null,{"$f":"'1B'!I42-SUM(K41:S41,I41)","v":0},null,null,null,null,null,null,null,null,null,null,null,null,null,{"$f":"'1B'!W42-SUM(Y41:AG41,W41)","v":0}]
["B.5","Rezerva",null,null,null,null,null,0,null,{"$f":"'1B'!$I43*SUMIF(hide!$H$74:$H$83,J$4,hide!$L$74:$L$83)","v":0},{"$f":"'1B'!$I43*SUMIF(hide!$H$74:$H$83,K$4,hide!$L$74:$L$83) * POWER(1+$M$6,1)","v":0},{"$f":"'1B'!$I43*SUMIF(hide!$H$74:$H$83,L$4,hide!$L$74:$L$83) * POWER(1+$M$6,2)","v":0},{"$f":"'1B'!$I43*SUMIF(hide!$H$74:$H$83,M$4,hide!$L$74:$L$83) * POWER(1+$M$6,3)","v":0},{"$f":"'1B'!$I43*SUMIF(hide!$H$74:$H$83,N$4,hide!$L$74:$L$83) * POWER(1+$M$6,4)","v":0},{"$f":"'1B'!$I43*SUMIF(hide!$H$74:$H$83,O$4,hide!$L$74:$L$83) * POWER(1+$M$6,5)","v":0},{"$f":"'1B'!$I43*SUMIF(hide!$H$74:$H$83,P$4,hide!$L$74:$L$83) * POWER(1+$M$6,6)","v":0},{"$f":"'1B'!$I43*SUMIF(hide!$H$74:$H$83,Q$4,hide!$L$74:$L$83) * POWER(1+$M$6,7)","v":0},{"$f":"'1B'!$I43*SUMIF(hide!$H$74:$H$83,R$4,hide!$L$74:$L$83) * POWER(1+$M$6,8)","v":0},{"$f":"'1B'!$I43*SUMIF(hide!$H$74:$H$83,S$4,hide!$L$74:$L$83) * POWER(1+$M$6,9)","v":0},null,null,null,null,{"$f":"'1B'!$I43*SUMIF(hide!$H$74:$H$83,X$4,hide!$L$74:$L$83)","v":0},{"$f":"'1B'!$I43*SUMIF(hide!$H$74:$H$83,Y$4,hide!$L$74:$L$83) * POWER(1+$M$6,1)","v":0},{"$f":"'1B'!$I43*SUMIF(hide!$H$74:$H$83,Z$4,hide!$L$74:$L$83) * POWER(1+$M$6,2)","v":0},{"$f":"'1B'!$I43*SUMIF(hide!$H$74:$H$83,AA$4,hide!$L$74:$L$83) * POWER(1+$M$6,3)","v":0},{"$f":"'1B'!$I43*SUMIF(hide!$H$74:$H$83,AB$4,hide!$L$74:$L$83) * POWER(1+$M$6,4)","v":0},{"$f":"'1B'!$I43*SUMIF(hide!$H$74:$H$83,AC$4,hide!$L$74:$L$83) * POWER(1+$M$6,5)","v":0},{"$f":"'1B'!$I43*SUMIF(hide!$H$74:$H$83,AD$4,hide!$L$74:$L$83) * POWER(1+$M$6,6)","v":0},{"$f":"'1B'!$I43*SUMIF(hide!$H$74:$H$83,AE$4,hide!$L$74:$L$83) * POWER(1+$M$6,7)","v":0},{"$f":"'1B'!$I43*SUMIF(hide!$H$74:$H$83,AF$4,hide!$L$74:$L$83) * POWER(1+$M$6,8)","v":0},{"$f":"'1B'!$I43*SUMIF(hide!$H$74:$H$83,AG$4,hide!$L$74:$L$83) * POWER(1+$M$6,9)","v":0}]
["B.6","Náklady na realizaci stavby bez rezervy",null,null,null,null,null,0,{"$f":"I38+I23+I15+I7","v":0},{"$f":"J38+J23+J15+J7","v":0},{"$f":"K38+K23+K15+K7","v":0},{"$f":"L38+L23+L15+L7","v":0},{"$f":"M38+M23+M15+M7","v":0},0,0,0,0,0,0,null,null,null,{"$f":"W38+W23+W15+W7","v":0},{"$f":"X38+X23+X15+X7","v":0},{"$f":"Y38+Y23+Y15+Y7","v":0},{"$f":"Z38+Z23+Z15+Z7","v":0},{"$f":"AA38+AA23+AA15+AA7","v":0},0,0,0,0,0,0]
["B.7","Náklady na realizaci stavby celkem s rezervou",null,null,null,null,null,0,{"$f":"I42+I38+I23+I15+I7","v":0},{"$f":"J42+J38+J23+J15+J7","v":0},{"$f":"K42+K38+K23+K15+K7","v":0},{"$f":"L42+L38+L23+L15+L7","v":0},{"$f":"M42+M38+M23+M15+M7","v":0},0,0,0,0,0,0,null,null,null,{"$f":"W42+W38+W23+W15+W7","v":0},{"$f":"X42+X38+X23+X15+X7","v":0},{"$f":"Y42+Y38+Y23+Y15+Y7","v":0},{"$f":"Z42+Z38+Z23+Z15+Z7","v":0},{"$f":"AA42+AA38+AA23+AA15+AA7","v":0},0,0,0,0,0,0]

{"sheet":"2Bhide","index":6,"n_rows":57,"n_cols":19,"rows_kept":57,"cut":false,"hidden":true,"merged":[[1,18,2,18],[1,0,1,1],[1,2,1,7],[1,9,2,9],[1,10,2,10],[1,11,2,11],[1,12,2,12],[2,0,3,0],[2,1,2,4],[3,1,3,4],[3,8,5,8],[1,13,2,13],[1,14,2,14],[1,15,2,15],[1,16,2,16],[1,17,2,17],[4,2,4,3],[4,4,4,7],[3,9,5,9],[3,10,4,10],[3,11,4,11],[5,1,5,6],[3,15,4,15],[3,16,4,16],[3,17,4,17],[3,18,4,18],[3,12,4,12],[3,13,4,13],[3,14,4,14],[53,1,53,6],[55,0,56,0],[55,1,56,6],[47,1,47,6],[46,1,46,6],[48,1,48,6],[49,1,49,6],[52,1,52,6],[50,1,50,6]]}
["Náklady stavby ve smíšené CÚ:",null,null,null,{"$f":"'Krycí list SR'!F5","v":"00:00:00"},"-",{"$f":"'Krycí list SR'!H5","v":""},"Formulář 2.B","Náklady v letech výstavby"]
["Název stavby:",null,{"$f":"'Krycí list SR'!B2","v":0},null,null,null,null,null,"Do 31.12","Aktuální rok","v roce","v roce","v roce","v roce","v roce","v roce","v roce","v roce","rok"]
["Investor:",{"$f":"'Krycí list SR'!B4","v":"Správa železnic, státní organizace"},null,null,null,null,"IČO:",{"$f":"'Krycí list SR'!D8","v":70994234},{"$f":"IF(MIN(J7:S41)<0,\"Chyba\",\"\")","v":""}]
[null,{"$f":"'Krycí list SR'!B5:D5","v":"Stavební správa západ, Ke Štvanici 656/3,186 00  Praha 8"},null,null,null,null,"DIČ:",{"$f":"'Krycí list SR'!D9","v":"CZ70994234"},{"$f":"J4-1","v":2021},{"$f":"'Krycí list SR'!F4","v":2022},{"$f":"J4+1","v":2023},2024,2025,2026,2027,2028,2029,2030,{"$f":"CONCATENATE(\"po \",R4)","v":"po 2030"}]
["Číslo stavby:",null,{"$f":"'Krycí list SR'!G2","v":0},null,{"$f":"'Krycí list SR'!E3","v":0},null,null,null,null,null,{"$f":"J4+1","v":2023},2024,2025,2026,2027,2028,2029,2030,{"$f":"R4+1","v":2031}]
["B","Realizace stavby",null,null,null,null,null,"náklady v Kč celkem",null,null,"Inflační koeficient:",null,0]
["B.1","Stavební část",null,null,null,null,null,{"$f":"SUM(I7:S7)","v":0},{"$f":"'2B'!I7","v":0},{"$f":"J8+J11","v":0},{"$f":"K8+K11","v":0},{"$f":"L8+L11","v":0},{"$f":"M8+M11","v":0},0,0,0,0,0,0]
["B.1.1","z toho","Stavební objekty dodávané zhotoviteli",null,null,null,null,{"$f":"SUM(I8:S8)","v":0},null,{"$f":"SUM(J9:J10)","v":0},{"$f":"SUM(K9:K10)","v":0},{"$f":"SUM(L9:L10)","v":0},{"$f":"SUM(M9:M10)","v":0},0,0,0,0,0,0]
["B.1.1.1",null,"z toho","Základní rozpočtové náklady jednotlivých SO (ZRN)",null,null,null,0,null,{"$f":"'1B'!$I10*SUMIF(hide!$H$90:$H$99,J$4,hide!$L$90:$L$99)","v":0},{"$f":"'1B'!$I10*SUMIF(hide!$H$90:$H$99,K$4,hide!$L$90:$L$99) * POWER(1+$M$6,1)","v":0},{"$f":"'1B'!$I10*SUMIF(hide!$H$90:$H$99,L$4,hide!$L$90:$L$99) * POWER(1+$M$6,1)","v":0},{"$f":"'1B'!$I10*SUMIF(hide!$H$90:$H$99,M$4,hide!$L$90:$L$99) * POWER(1+$M$6,1)","v":0},{"$f":"'1B'!$I10*SUMIF(hide!$H$90:$H$99,N$4,hide!$L$90:$L$99) * POWER(1+$M$6,1)","v":0},{"$f":"'1B'!$I10*SUMIF(hide!$H$90:$H$99,O$4,hide!$L$90:$L$99) * POWER(1+$M$6,1)","v":0},{"$f":"'1B'!$I10*SUMIF(hide!$H$90:$H$99,P$4,hide!$L$90:$L$99) * POWER(1+$M$6,1)","v":0},{"$f":"'1B'!$I10*SUMIF(hide!$H$90:$H$99,Q$4,hide!$L$90:$L$99) * POWER(1+$M$6,1)","v":0},{"$f":"'1B'!$I10*SUMIF(hide!$H$90:$H$99,R$4,hide!$L$90:$L$99) * POWER(1+$M$6,1)","v":0},{"$f":"'1B'!$I10*SUMIF(hide!$H$90:$H$99,S$4,hide!$L$90:$L$99) * POWER(1+$M$6,1)","v":0}]
["B.1.1.2",null,null,"Vedlejší rozpočtové náklady nezahrnuté do jednotlivých SO (VRN)",null,null,null,0,null,{"$f":"'1B'!$I11*SUMIF(hide!$H$74:$H$83,J$4,hide!$L$74:$L$83)","v":0},{"$f":"'1B'!$I11*SUMIF(hide!$H$90:$H$99,K$4,hide!$L$90:$L$99) * POWER(1+$M$6,1)","v":0},{"$f":"'1B'!$I11*SUMIF(hide!$H$90:$H$99,L$4,hide!$L$90:$L$99) * POWER(1+$M$6,1)","v":0},{"$f":"'1B'!$I11*SUMIF(hide!$H$90:$H$99,M$4,hide!$L$90:$L$99) * POWER(1+$M$6,1)","v":0},{"$f":"'1B'!$I11*SUMIF(hide!$H$90:$H$99,N$4,hide!$L$90:$L$99) * POWER(1+$M$6,1)","v":0},{"$f":"'1B'!$I11*SUMIF(hide!$H$90:$H$99,O$4,hide!$L$90:$L$99) * POWER(1+$M$6,1)","v":0},{"$f":"'1B'!$I11*SUMIF(hide!$H$90:$H$99,P$4,hide!$L$90:$L$99) * POWER(1+$M$6,1)","v":0},{"$f":"'1B'!$I11*SUMIF(hide!$H$90:$H$99,Q$4,hide!$L$90:$L$99) * POWER(1+$M$6,1)","v":0},{"$f":"'1B'!$I11*SUMIF(hide!$H$90:$H$99,R$4,hide!$L$90:$L$99) * POWER(1+$M$6,1)","v":0},{"$f":"'1B'!$I11*SUMIF(hide!$H$90:$H$99,S$4,hide!$L$90:$L$99) * POWER(1+$M$6,1)","v":0}]
["B.1.2",null,"Stavební část zajišťovaná přímo investorem",null,null,null,null,0,null,{"$f":"SUM(J12:J14)","v":0},{"$f":"SUM(K12:K14)","v":0},{"$f":"SUM(L12:L14)","v":0},{"$f":"SUM(M12:M14)","v":0},0,0,0,0,0,0]
["B.1.2.1",null,"z toho","Stavební objekty zajišťované přímo investorem",null,null,null,0,0,{"$f":"'1B'!$I13*SUMIF(hide!$H$74:$H$83,J$4,hide!$L$74:$L$83)","v":0},{"$f":"'1B'!$I13*SUMIF(hide!$H$74:$H$83,K$4,hide!$L$74:$L$83)","v":0},{"$f":"'1B'!$I13*SUMIF(hide!$H$74:$H$83,L$4,hide!$L$74:$L$83)","v":0},{"$f":"'1B'!$I13*SUMIF(hide!$H$74:$H$83,M$4,hide!$L$74:$L$83)","v":0},{"$f":"'1B'!$I13*SUMIF(hide!$H$74:$H$83,N$4,hide!$L$74:$L$83)","v":0},{"$f":"'1B'!$I13*SUMIF(hide!$H$74:$H$83,O$4,hide!$L$74:$L$83)","v":0},{"$f":"'1B'!$I13*SUMIF(hide!$H$74:$H$83,P$4,hide!$L$74:$L$83)","v":0},{"$f":"'1B'!$I13*SUMIF(hide!$H$74:$H$83,Q$4,hide!$L$74:$L$83)","v":0},{"$f":"'1B'!$I13*SUMIF(hide!$H$74:$H$83,R$4,hide!$L$74:$L$83)","v":0},{"$f":"'1B'!$I13*SUMIF(hide!$H$74:$H$83,S$4,hide!$L$74:$L$83)","v":0}]
["B.1.2.2",null,null,"Stavební práce a dodávky zajišťované přímo investorem",null,null,null,0,0,{"$f":"('1B'!$I14-$I$13)*SUMIF(hide!$H$74:$H$83,J$4,hide!$L$74:$L$83)","v":0},{"$f":"('1B'!$I14-$I$13)*SUMIF(hide!$H$74:$H$83,K$4,hide!$L$74:$L$83)","v":0},{"$f":"('1B'!$I14-$I$13)*SUMIF(hide!$H$74:$H$83,L$4,hide!$L$74:$L$83)","v":0},{"$f":"('1B'!$I14-$I$13)*SUMIF(hide!$H$74:$H$83,M$4,hide!$L$74:$L$83)","v":0},{"$f":"('1B'!$I14-$I$13)*SUMIF(hide!$H$74:$H$83,N$4,hide!$L$74:$L$83)","v":0},{"$f":"('1B'!$I14-$I$13)*SUMIF(hide!$H$74:$H$83,O$4,hide!$L$74:$L$83)","v":0},{"$f":"('1B'!$I14-$I$13)*SUMIF(hide!$H$74:$H$83,P$4,hide!$L$74:$L$83)","v":0},{"$f":"('1B'!$I14-$I$13)*SUMIF(hide!$H$74:$H$83,Q$4,hide!$L$74:$L$83)","v":0},{"$f":"('1B'!$I14-$I$13)*SUMIF(hide!$H$74:$H$83,R$4,hide!$L$74:$L$83)","v":0},{"$f":"('1B'!$I14-$I$13)*SUMIF(hide!$H$74:$H$83,S$4,hide!$L$74:$L$83)","v":0}]
["B.1.2.3",null,null,"Zkoušky, revize a měření zajišťované přímo investorem",null,null,null,0,0,{"$f":"('1B'!$I15-$I14)*SUMIF(hide!$H$74:$H$83,J$4,hide!$L$74:$L$83)","v":0},{"$f":"('1B'!$I15-$I14)*SUMIF(hide!$H$90:$H$99,K$4,hide!$L$90:$L$99) * POWER(1+$M$6,1)","v":0},{"$f":"('1B'!$I15-$I14)*SUMIF(hide!$H$90:$H$99,L$4,hide!$L$90:$L$99) * POWER(1+$M$6,1)","v":0},{"$f":"('1B'!$I15-$I14)*SUMIF(hide!$H$90:$H$99,M$4,hide!$L$90:$L$99) * POWER(1+$M$6,1)","v":0},{"$f":"('1B'!$I15-$I14)*SUMIF(hide!$H$90:$H$99,N$4,hide!$L$90:$L$99) * POWER(1+$M$6,1)","v":0},{"$f":"('1B'!$I15-$I14)*SUMIF(hide!$H$90:$H$99,O$4,hide!$L$90:$L$99) * POWER(1+$M$6,1)","v":0},{"$f":"('1B'!$I15-$I14)*SUMIF(hide!$H$90:$H$99,P$4,hide!$L$90:$L$99) * POWER(1+$M$6,1)","v":0},{"$f":"('1B'!$I15-$I14)*SUMIF(hide!$H$90:$H$99,Q$4,hide!$L$90:$L$99) * POWER(1+$M$6,1)","v":0},{"$f":"('1B'!$I15-$I14)*SUMIF(hide!$H$90:$H$99,R$4,hide!$L$90:$L$99) * POWER(1+$M$6,1)","v":0},{"$f":"('1B'!$I15-$I14)*SUMIF(hide!$H$90:$H$99,S$4,hide!$L$90:$L$99) * POWER(1+$M$6,1)","v":0}]
["B.2","Technologická část",null,null,null,null,null,0,{"$f":"I16+I19","v":0},{"$f":"J16+J19","v":0},0,0,0,0,0,0,0,0,0]
["B.2.1","z toho","Provozní soubory dodávané zhotoviteli",null,null,null,null,0,{"$f":"SUM(I17:I18)","v":0},{"$f":"J17+J18","v":0},{"$f":"SUM(K17:K18)","v":0},0,0,0,0,0,0,0,0]
["B.2.1.1",null,"z toho","Základní rozpočtové náklady jednotlivých PS (ZRN)",null,null,null,0,null,{"$f":"'1B'!$I18*SUMIF(hide!$H$106:$H$115,J4,hide!$L$106:$L$115)","v":0},{"$f":"'1B'!$I18*SUMIF(hide!$H$106:$H$115,K$4,hide!$L$106:$L$115) * POWER(1+$M$6,1)","v":0},{"$f":"'1B'!$I18*SUMIF(hide!$H$106:$H$115,L$4,hide!$L$106:$L$115) * POWER(1+$M$6,1)","v":0},{"$f":"'1B'!$I18*SUMIF(hide!$H$106:$H$115,M$4,hide!$L$106:$L$115) * POWER(1+$M$6,1)","v":0},{"$f":"'1B'!$I18*SUMIF(hide!$H$106:$H$115,N$4,hide!$L$106:$L$115) * POWER(1+$M$6,1)","v":0},{"$f":"'1B'!$I18*SUMIF(hide!$H$106:$H$115,O$4,hide!$L$106:$L$115) * POWER(1+$M$6,1)","v":0},{"$f":"'1B'!$I18*SUMIF(hide!$H$106:$H$115,P$4,hide!$L$106:$L$115) * POWER(1+$M$6,1)","v":0},{"$f":"'1B'!$I18*SUMIF(hide!$H$106:$H$115,Q$4,hide!$L$106:$L$115) * POWER(1+$M$6,1)","v":0},{"$f":"'1B'!$I18*SUMIF(hide!$H$106:$H$115,R$4,hide!$L$106:$L$115) * POWER(1+$M$6,1)","v":0},{"$f":"'1B'!$I18*SUMIF(hide!$H$106:$H$115,S$4,hide!$L$106:$L$115) * POWER(1+$M$6,1)","v":0}]
["B.2.1.2",null,null,"Vedlejší rozpočtové náklady nezahrnute do jednotlivých PS (VRN)",null,null,null,0,null,{"$f":"'1B'!$I19*SUMIF(hide!$H$106:$H$115,J5,hide!$L$106:$L$115)","v":0},{"$f":"'1B'!$I19*SUMIF(hide!$H$74:$H$83,K$4,hide!$L$74:$L$83) * POWER(1+$M$6,1)","v":0},{"$f":"'1B'!$I19*SUMIF(hide!$H$74:$H$83,L$4,hide!$L$74:$L$83) * POWER(1+$M$6,2)","v":0},{"$f":"'1B'!$I19*SUMIF(hide!$H$74:$H$83,M$4,hide!$L$74:$L$83) * POWER(1+$M$6,3)","v":0},{"$f":"'1B'!$I19*SUMIF(hide!$H$74:$H$83,N$4,hide!$L$74:$L$83) * POWER(1+$M$6,4)","v":0},{"$f":"'1B'!$I19*SUMIF(hide!$H$74:$H$83,O$4,hide!$L$74:$L$83) * POWER(1+$M$6,5)","v":0},{"$f":"'1B'!$I19*SUMIF(hide!$H$74:$H$83,P$4,hide!$L$74:$L$83) * POWER(1+$M$6,6)","v":0},{"$f":"'1B'!$I19*SUMIF(hide!$H$74:$H$83,Q$4,hide!$L$74:$L$83) * POWER(1+$M$6,7)","v":0},{"$f":"'1B'!$I19*SUMIF(hide!$H$74:$H$83,R$4,hide!$L$74:$L$83) * POWER(1+$M$6,8)","v":0},{"$f":"'1B'!$I19*SUMIF(hide!$H$74:$H$83,S$4,hide!$L$74:$L$83) * POWER(1+$M$6,9)","v":0}]
["B.2.2",null,"Technologické část zajišťovaná přímo investorem",null,null,null,null,0,{"$f":"SUM(I20:I22)","v":0},{"$f":"SUM(J20:J22)","v":0},0,0,0,0,0,0,0,0,0]
["B.2.2.1",null,"z toho","Provozní soubory zajišťované přímo investorem",null,null,null,0,{"$f":"'2B'!I20","v":0},{"$f":"('1B'!$I21-$I20)*SUMIF(hide!$H$106:$H$115,J7,hide!$L$106:$L$115)","v":0},{"$f":"('1B'!$I21-$I20)*SUMIF(hide!$H$106:$H$115,K$4,hide!$L$106:$L$115) * POWER(1+$M$6,1)","v":0},{"$f":"('1B'!$I21-$I20)*SUMIF(hide!$H$106:$H$115,L$4,hide!$L$106:$L$115) * POWER(1+$M$6,1)","v":0},{"$f":"('1B'!$I21-$I20)*SUMIF(hide!$H$106:$H$115,M$4,hide!$L$106:$L$115) * POWER(1+$M$6,1)","v":0},{"$f":"('1B'!$I21-$I20)*SUMIF(hide!$H$106:$H$115,N$4,hide!$L$106:$L$115) * POWER(1+$M$6,1)","v":0},{"$f":"('1B'!$I21-$I20)*SUMIF(hide!$H$106:$H$115,O$4,hide!$L$106:$L$115) * POWER(1+$M$6,1)","v":0},{"$f":"('1B'!$I21-$I20)*SUMIF(hide!$H$106:$H$115,P$4,hide!$L$106:$L$115) * POWER(1+$M$6,1)","v":0},{"$f":"('1B'!$I21-$I20)*SUMIF(hide!$H$106:$H$115,Q$4,hide!$L$106:$L$115) * POWER(1+$M$6,1)","v":0},{"$f":"('1B'!$I21-$I20)*SUMIF(hide!$H$106:$H$115,R$4,hide!$L$106:$L$115) * POWER(1+$M$6,1)","v":0},{"$f":"('1B'!$I21-$I20)*SUMIF(hide!$H$106:$H$115,S$4,hide!$L$106:$L$115) * POWER(1+$M$6,1)","v":0}]
["B.2.2.2",null,null,"Technologické práce a dodávky zajišťované přímo investorem",null,null,null,0,{"$f":"'2B'!I21","v":0},{"$f":"('1B'!$I22-$I21)*SUMIF(hide!$H$106:$H$115,J8,hide!$L$106:$L$115)","v":0},{"$f":"('1B'!$I22-$I21)*SUMIF(hide!$H$106:$H$115,K$4,hide!$L$106:$L$115) * POWER(1+$M$6,1)","v":0},{"$f":"('1B'!$I22-$I21)*SUMIF(hide!$H$106:$H$115,L$4,hide!$L$106:$L$115) * POWER(1+$M$6,1)","v":0},{"$f":"('1B'!$I22-$I21)*SUMIF(hide!$H$106:$H$115,M$4,hide!$L$106:$L$115) * POWER(1+$M$6,1)","v":0},{"$f":"('1B'!$I22-$I21)*SUMIF(hide!$H$106:$H$115,N$4,hide!$L$106:$L$115) * POWER(1+$M$6,1)","v":0},{"$f":"('1B'!$I22-$I21)*SUMIF(hide!$H$106:$H$115,O$4,hide!$L$106:$L$115) * POWER(1+$M$6,1)","v":0},{"$f":"('1B'!$I22-$I21)*SUMIF(hide!$H$106:$H$115,P$4,hide!$L$106:$L$115) * POWER(1+$M$6,1)","v":0},{"$f":"('1B'!$I22-$I21)*SUMIF(hide!$H$106:$H$115,Q$4,hide!$L$106:$L$115) * POWER(1+$M$6,1)","v":0},{"$f":"('1B'!$I22-$I21)*SUMIF(hide!$H$106:$H$115,R$4,hide!$L$106:$L$115) * POWER(1+$M$6,1)","v":0},{"$f":"('1B'!$I22-$I21)*SUMIF(hide!$H$106:$H$115,S$4,hide!$L$106:$L$115) * POWER(1+$M$6,1)","v":0}]
["B.2.2.3",null,null,"Revize a měření zajišťované investorem",null,null,null,0,{"$f":"'2B'!I22","v":0},{"$f":"('1B'!$I23-$I22)*SUMIF(hide!$H$106:$H$115,J9,hide!$L$106:$L$115)","v":0},{"$f":"('1B'!$I23-$I22)*SUMIF(hide!$H$106:$H$115,K$4,hide!$L$106:$L$115) * POWER(1+$M$6,1)","v":0},{"$f":"('1B'!$I23-$I22)*SUMIF(hide!$H$106:$H$115,L$4,hide!$L$106:$L$115) * POWER(1+$M$6,1)","v":0},{"$f":"('1B'!$I23-$I22)*SUMIF(hide!$H$106:$H$115,M$4,hide!$L$106:$L$115) * POWER(1+$M$6,1)","v":0},{"$f":"('1B'!$I23-$I22)*SUMIF(hide!$H$106:$H$115,N$4,hide!$L$106:$L$115) * POWER(1+$M$6,1)","v":0},{"$f":"('1B'!$I23-$I22)*SUMIF(hide!$H$106:$H$115,O$4,hide!$L$106:$L$115) * POWER(1+$M$6,1)","v":0},{"$f":"('1B'!$I23-$I22)*SUMIF(hide!$H$106:$H$115,P$4,hide!$L$106:$L$115) * POWER(1+$M$6,1)","v":0},{"$f":"('1B'!$I23-$I22)*SUMIF(hide!$H$106:$H$115,Q$4,hide!$L$106:$L$115) * POWER(1+$M$6,1)","v":0},{"$f":"('1B'!$I23-$I22)*SUMIF(hide!$H$106:$H$115,R$4,hide!$L$106:$L$115) * POWER(1+$M$6,1)","v":0},{"$f":"('1B'!$I23-$I22)*SUMIF(hide!$H$106:$H$115,S$4,hide!$L$106:$L$115) * POWER(1+$M$6,1)","v":0}]
["B.3","Ostatní náklady pro zajištění realizace stavby",null,null,null,null,null,0,{"$f":"SUM(I24:I29,I30,I34:I37)","v":0},{"$f":"SUM(J24:J29,J30,J34:J37)","v":0},{"$f":"SUM(K24:K29,K30,K34:K37)","v":0},{"$f":"SUM(L24:L29,L30,L34:L37)","v":0},0,0,0,0,0,0,0]
["B.3.1","z toho","Osvědčení o shodě notifikovanou osobou v realizaci",null,null,null,null,{"$f":"SUM(I24:S24)","v":0},null,{"$f":"'1B'!$I25*SUMIF(hide!$H$74:$H$83,J$4,hide!$L$74:$L$83)","v":0},{"$f":"'1B'!$I25*SUMIF(hide!$H$74:$H$83,K$4,hide!$L$74:$L$83)","v":0},{"$f":"'1B'!$I25*SUMIF(hide!$H$74:$H$83,L$4,hide!$L$74:$L$83)","v":0},{"$f":"'1B'!$I25*SUMIF(hide!$H$74:$H$83,M$4,hide!$L$74:$L$83)","v":0},{"$f":"'1B'!$I25*SUMIF(hide!$H$74:$H$83,N$4,hide!$L$74:$L$83)","v":0},{"$f":"'1B'!$I25*SUMIF(hide!$H$74:$H$83,O$4,hide!$L$74:$L$83)","v":0},{"$f":"'1B'!$I25*SUMIF(hide!$H$74:$H$83,P$4,hide!$L$74:$L$83)","v":0},{"$f":"'1B'!$I25*SUMIF(hide!$H$74:$H$83,Q$4,hide!$L$74:$L$83)","v":0},{"$f":"'1B'!$I25*SUMIF(hide!$H$74:$H$83,R$4,hide!$L$74:$L$83)","v":0},{"$f":"'1B'!$I25*SUMIF(hide!$H$74:$H$83,S$4,hide!$L$74:$L$83)","v":0}]
["B.3.2",null,"Koordinátor BOZP v realizaci",null,null,null,null,0,null,{"$f":"'1B'!$I26*SUMIF(hide!$H$74:$H$83,J$4,hide!$L$74:$L$83)","v":0},{"$f":"'1B'!$I26*SUMIF(hide!$H$74:$H$83,K$4,hide!$L$74:$L$83)","v":0},{"$f":"'1B'!$I26*SUMIF(hide!$H$74:$H$83,L$4,hide!$L$74:$L$83)","v":0},{"$f":"'1B'!$I26*SUMIF(hide!$H$74:$H$83,M$4,hide!$L$74:$L$83)","v":0},{"$f":"'1B'!$I26*SUMIF(hide!$H$74:$H$83,N$4,hide!$L$74:$L$83)","v":0},{"$f":"'1B'!$I26*SUMIF(hide!$H$74:$H$83,O$4,hide!$L$74:$L$83)","v":0},{"$f":"'1B'!$I26*SUMIF(hide!$H$74:$H$83,P$4,hide!$L$74:$L$83)","v":0},{"$f":"'1B'!$I26*SUMIF(hide!$H$74:$H$83,Q$4,hide!$L$74:$L$83)","v":0},{"$f":"'1B'!$I26*SUMIF(hide!$H$74:$H$83,R$4,hide!$L$74:$L$83)","v":0},{"$f":"'1B'!$I26*SUMIF(hide!$H$74:$H$83,S$4,hide!$L$74:$L$83)","v":0}]
["B.3.3",null,"Osvědčení o bezpečnosti před uvedením do provozu",null,null,null,null,0,null,{"$f":"'1B'!$I27*SUMIF(hide!$H$74:$H$83,J$4,hide!$L$74:$L$83)","v":0},{"$f":"'1B'!$I27*SUMIF(hide!$H$74:$H$83,K$4,hide!$L$74:$L$83)","v":0},{"$f":"'1B'!$I27*SUMIF(hide!$H$74:$H$83,L$4,hide!$L$74:$L$83)","v":0},{"$f":"'1B'!$I27*SUMIF(hide!$H$74:$H$83,M$4,hide!$L$74:$L$83)","v":0},{"$f":"'1B'!$I27*SUMIF(hide!$H$74:$H$83,N$4,hide!$L$74:$L$83)","v":0},{"$f":"'1B'!$I27*SUMIF(hide!$H$74:$H$83,O$4,hide!$L$74:$L$83)","v":0},{"$f":"'1B'!$I27*SUMIF(hide!$H$74:$H$83,P$4,hide!$L$74:$L$83)","v":0},{"$f":"'1B'!$I27*SUMIF(hide!$H$74:$H$83,Q$4,hide!$L$74:$L$83)","v":0},{"$f":"'1B'!$I27*SUMIF(hide!$H$74:$H$83,R$4,hide!$L$74:$L$83)","v":0},{"$f":"'1B'!$I27*SUMIF(hide!$H$74:$H$83,S$4,hide!$L$74:$L$83)","v":0}]
["B.3.4",null,"Rekultivace",null,null,null,null,0,{"$f":"'2B'!I27","v":0},{"$f":"('1B'!$I28-$I27)*SUMIF(hide!$H$74:$H$83,J$4,hide!$L$74:$L$83)","v":0},{"$f":"('1B'!$I28-$I27)*SUMIF(hide!$H$74:$H$83,K$4,hide!$L$74:$L$83)","v":0},{"$f":"('1B'!$I28-$I27)*SUMIF(hide!$H$74:$H$83,L$4,hide!$L$74:$L$83)","v":0},{"$f":"('1B'!$I28-$I27)*SUMIF(hide!$H$74:$H$83,M$4,hide!$L$74:$L$83)","v":0},{"$f":"('1B'!$I28-$I27)*SUMIF(hide!$H$74:$H$83,N$4,hide!$L$74:$L$83)","v":0},{"$f":"('1B'!$I28-$I27)*SUMIF(hide!$H$74:$H$83,O$4,hide!$L$74:$L$83)","v":0},{"$f":"('1B'!$I28-$I27)*SUMIF(hide!$H$74:$H$83,P$4,hide!$L$74:$L$83)","v":0},{"$f":"('1B'!$I28-$I27)*SUMIF(hide!$H$74:$H$83,Q$4,hide!$L$74:$L$83)","v":0},{"$f":"('1B'!$I28-$I27)*SUMIF(hide!$H$74:$H$83,R$4,hide!$L$74:$L$83)","v":0},{"$f":"('1B'!$I28-$I27)*SUMIF(hide!$H$74:$H$83,S$4,hide!$L$74:$L$83)","v":0}]
["B.3.5",null,"Zajištění veřejných zájmů",null,null,null,null,0,{"$f":"'2B'!I28","v":0},{"$f":"('1B'!$I29-$I28)*SUMIF(hide!$H$74:$H$83,J$4,hide!$L$74:$L$83)","v":0},{"$f":"('1B'!$I29-$I28)*SUMIF(hide!$H$74:$H$83,K$4,hide!$L$74:$L$83)","v":0},{"$f":"('1B'!$I29-$I28)*SUMIF(hide!$H$74:$H$83,L$4,hide!$L$74:$L$83)","v":0},{"$f":"('1B'!$I29-$I28)*SUMIF(hide!$H$74:$H$83,M$4,hide!$L$74:$L$83)","v":0},{"$f":"('1B'!$I29-$I28)*SUMIF(hide!$H$74:$H$83,N$4,hide!$L$74:$L$83)","v":0},{"$f":"('1B'!$I29-$I28)*SUMIF(hide!$H$74:$H$83,O$4,hide!$L$74:$L$83)","v":0},{"$f":"('1B'!$I29-$I28)*SUMIF(hide!$H$74:$H$83,P$4,hide!$L$74:$L$83)","v":0},{"$f":"('1B'!$I29-$I28)*SUMIF(hide!$H$74:$H$83,Q$4,hide!$L$74:$L$83)","v":0},{"$f":"('1B'!$I29-$I28)*SUMIF(hide!$H$74:$H$83,R$4,hide!$L$74:$L$83)","v":0},{"$f":"('1B'!$I29-$I28)*SUMIF(hide!$H$74:$H$83,S$4,hide!$L$74:$L$83)","v":0}]
["B.3.6",null,"Hlukové měření pro účely realizace stavby",null,null,null,null,0,{"$f":"'2B'!I29","v":0},{"$f":"('1B'!$I30-$I29)*SUMIF(hide!$H$74:$H$83,J$4,hide!$L$74:$L$83)","v":0},{"$f":"('1B'!$I30-$I29)*SUMIF(hide!$H$74:$H$83,K$4,hide!$L$74:$L$83)","v":0},{"$f":"('1B'!$I30-$I29)*SUMIF(hide!$H$74:$H$83,L$4,hide!$L$74:$L$83)","v":0},{"$f":"('1B'!$I30-$I29)*SUMIF(hide!$H$74:$H$83,M$4,hide!$L$74:$L$83)","v":0},{"$f":"('1B'!$I30-$I29)*SUMIF(hide!$H$74:$H$83,N$4,hide!$L$74:$L$83)","v":0},{"$f":"('1B'!$I30-$I29)*SUMIF(hide!$H$74:$H$83,O$4,hide!$L$74:$L$83)","v":0},{"$f":"('1B'!$I30-$I29)*SUMIF(hide!$H$74:$H$83,P$4,hide!$L$74:$L$83)","v":0},{"$f":"('1B'!$I30-$I29)*SUMIF(hide!$H$74:$H$83,Q$4,hide!$L$74:$L$83)","v":0},{"$f":"('1B'!$I30-$I29)*SUMIF(hide!$H$74:$H$83,R$4,hide!$L$74:$L$83)","v":0},{"$f":"('1B'!$I30-$I29)*SUMIF(hide!$H$74:$H$83,S$4,hide!$L$74:$L$83)","v":0}]
["B.3.7",null,"Náhrady",null,null,null,null,{"$f":"SUM(I30:S30)","v":0},null,{"$f":"SUM(J31:J33)","v":0},{"$f":"SUM(K31:K33)","v":0},{"$f":"SUM(L31:L33)","v":0},0,0,0,0,0,0,0]
["B.3.7.1",null,"z toho","Náhrady za omezení hospodaření",null,null,null,{"$f":"SUM(I31:S31)","v":0},null,{"$f":"'2B'!J31","v":0},{"$f":"'2B'!K31","v":0},{"$f":"'2B'!L31","v":0},{"$f":"'2B'!M31","v":0},{"$f":"'2B'!N31","v":0},{"$f":"'2B'!O31","v":0},{"$f":"'2B'!P31","v":0},{"$f":"'2B'!Q31","v":0},{"$f":"'2B'!R31","v":0},{"$f":"'2B'!S31","v":0}]
["B.3.7.2",null,null,"Náhrady za omezení provozu",null,null,null,0,null,{"$f":"'2B'!J32","v":0},{"$f":"'2B'!K32","v":0},{"$f":"'2B'!L32","v":0},{"$f":"'2B'!M32","v":0},{"$f":"'2B'!N32","v":0},{"$f":"'2B'!O32","v":0},{"$f":"'2B'!P32","v":0},{"$f":"'2B'!Q32","v":0},{"$f":"'2B'!R32","v":0},{"$f":"'2B'!S32","v":0}]
["B.3.7.3",null,null,"Ostatní náhrady v realizaci",null,null,null,0,null,{"$f":"'2B'!J33","v":0},{"$f":"'2B'!K33","v":0},{"$f":"'2B'!L33","v":0},{"$f":"'2B'!M33","v":0},{"$f":"'2B'!N33","v":0},{"$f":"'2B'!O33","v":0},{"$f":"'2B'!P33","v":0},{"$f":"'2B'!Q33","v":0},{"$f":"'2B'!R33","v":0},{"$f":"'2B'!S33","v":0}]
["B.3.8",null,"Zabezpečovací a konzervační práce",null,null,null,null,0,null,{"$f":"'2B'!J34","v":0},{"$f":"'2B'!K34","v":0},{"$f":"'2B'!L34","v":0},{"$f":"'2B'!M34","v":0},{"$f":"'2B'!N34","v":0},{"$f":"'2B'!O34","v":0},{"$f":"'2B'!P34","v":0},{"$f":"'2B'!Q34","v":0},{"$f":"'2B'!R34","v":0},{"$f":"'2B'!S34","v":0}]
["B.3.9",null,"Ostatní nezařazené náklady v realizaci",null,null,null,null,0,null,{"$f":"'1B'!$I36*SUMIF(hide!$H$74:$H$83,J$4,hide!$L$74:$L$83)","v":0},{"$f":"'1B'!$I36*SUMIF(hide!$H$74:$H$83,K$4,hide!$L$74:$L$83)","v":0},{"$f":"'1B'!$I36*SUMIF(hide!$H$74:$H$83,L$4,hide!$L$74:$L$83)","v":0},{"$f":"'1B'!$I36*SUMIF(hide!$H$74:$H$83,M$4,hide!$L$74:$L$83)","v":0},{"$f":"'1B'!$I36*SUMIF(hide!$H$74:$H$83,N$4,hide!$L$74:$L$83)","v":0},{"$f":"'1B'!$I36*SUMIF(hide!$H$74:$H$83,O$4,hide!$L$74:$L$83)","v":0},{"$f":"'1B'!$I36*SUMIF(hide!$H$74:$H$83,P$4,hide!$L$74:$L$83)","v":0},{"$f":"'1B'!$I36*SUMIF(hide!$H$74:$H$83,Q$4,hide!$L$74:$L$83)","v":0},{"$f":"'1B'!$I36*SUMIF(hide!$H$74:$H$83,R$4,hide!$L$74:$L$83)","v":0},{"$f":"'1B'!$I36*SUMIF(hide!$H$74:$H$83,S$4,hide!$L$74:$L$83)","v":0}]
["B.3.10",null,"Jiné náklady v realizaci",null,null,null,null,0,null,{"$f":"'1B'!$I37*SUMIF(hide!$H$74:$H$83,J$4,hide!$L$74:$L$83)","v":0},{"$f":"'1B'!$I37*SUMIF(hide!$H$74:$H$83,K$4,hide!$L$74:$L$83)","v":0},{"$f":"'1B'!$I37*SUMIF(hide!$H$74:$H$83,L$4,hide!$L$74:$L$83)","v":0},{"$f":"'1B'!$I37*SUMIF(hide!$H$74:$H$83,M$4,hide!$L$74:$L$83)","v":0},{"$f":"'1B'!$I37*SUMIF(hide!$H$74:$H$83,N$4,hide!$L$74:$L$83)","v":0},{"$f":"'1B'!$I37*SUMIF(hide!$H$74:$H$83,O$4,hide!$L$74:$L$83)","v":0},{"$f":"'1B'!$I37*SUMIF(hide!$H$74:$H$83,P$4,hide!$L$74:$L$83)","v":0},{"$f":"'1B'!$I37*SUMIF(hide!$H$74:$H$83,Q$4,hide!$L$74:$L$83)","v":0},{"$f":"'1B'!$I37*SUMIF(hide!$H$74:$H$83,R$4,hide!$L$74:$L$83)","v":0},{"$f":"'1B'!$I37*SUMIF(hide!$H$74:$H$83,S$4,hide!$L$74:$L$83)","v":0}]
["B.3.11",null,"Náklady na výstavbu z rozdílu stádia přípravy a realizace",null,null,null,null,0,null,{"$f":"'1B'!$I38*SUMIF(hide!$H$74:$H$83,J$4,hide!$L$74:$L$83)","v":0},{"$f":"'1B'!$I38*SUMIF(hide!$H$74:$H$83,K$4,hide!$L$74:$L$83)","v":0},{"$f":"'1B'!$I38*SUMIF(hide!$H$74:$H$83,L$4,hide!$L$74:$L$83)","v":0},{"$f":"'1B'!$I38*SUMIF(hide!$H$74:$H$83,M$4,hide!$L$74:$L$83)","v":0},{"$f":"'1B'!$I38*SUMIF(hide!$H$74:$H$83,N$4,hide!$L$74:$L$83)","v":0},{"$f":"'1B'!$I38*SUMIF(hide!$H$74:$H$83,O$4,hide!$L$74:$L$83)","v":0},{"$f":"'1B'!$I38*SUMIF(hide!$H$74:$H$83,P$4,hide!$L$74:$L$83)","v":0},{"$f":"'1B'!$I38*SUMIF(hide!$H$74:$H$83,Q$4,hide!$L$74:$L$83)","v":0},{"$f":"'1B'!$I38*SUMIF(hide!$H$74:$H$83,R$4,hide!$L$74:$L$83)","v":0},{"$f":"'1B'!$I38*SUMIF(hide!$H$74:$H$83,S$4,hide!$L$74:$L$83)","v":0}]
["B.4","Příspěvky jiným investorům",null,null,null,null,null,{"$f":"SUM(I38:S38)","v":0},{"$f":"SUM(I39:I41)","v":0},{"$f":"SUM(J39:J41)","v":0},{"$f":"SUM(K39:K41)","v":0},{"$f":"SUM(L39:L41)","v":0},{"$f":"SUM(M39:M41)","v":0},0,0,0,0,0,0]
["B.4.1","z toho","Podíl na účelně vynaložených nákl. ve smyslu zák. č.458/00 Sb.",null,null,null,null,0,{"$f":"'2B'!I39","v":0},{"$f":"'2B'!J39","v":0},{"$f":"'2B'!K39","v":0},{"$f":"'2B'!L39","v":0},{"$f":"'2B'!M39","v":0},{"$f":"'2B'!N39","v":0},{"$f":"'2B'!O39","v":0},{"$f":"'2B'!P39","v":0},{"$f":"'2B'!Q39","v":0},{"$f":"'2B'!R39","v":0},{"$f":"'2B'!S39","v":0}]
["B.4.2",null,"Podíl na účelně vynaložených nákladech dle zákona č. 127/2005 Sb.",null,null,null,null,0,{"$f":"'2B'!I40","v":0},{"$f":"'2B'!J40","v":0},{"$f":"'2B'!K40","v":0},{"$f":"'2B'!L40","v":0},{"$f":"'2B'!M40","v":0},{"$f":"'2B'!N40","v":0},{"$f":"'2B'!O40","v":0},{"$f":"'2B'!P40","v":0},{"$f":"'2B'!Q40","v":0},{"$f":"'2B'!R40","v":0},{"$f":"'2B'!S40","v":0}]
["B.4.3",null,"Ostatní příspěvky",null,null,null,null,0,null,{"$f":"'2B'!J41","v":0},{"$f":"'2B'!K41","v":0},{"$f":"'2B'!L41","v":0},{"$f":"'2B'!M41","v":0},{"$f":"'2B'!N41","v":0},{"$f":"'2B'!O41","v":0},{"$f":"'2B'!P41","v":0},{"$f":"'2B'!Q41","v":0},{"$f":"'2B'!R41","v":0},{"$f":"'2B'!S41","v":0}]
["B.5","Rezerva",null,null,null,null,null,0,null,{"$f":"'1B'!$I43*SUMIF(hide!$H$74:$H$83,J$4,hide!$L$74:$L$83)","v":0},{"$f":"'1B'!$I43*SUMIF(hide!$H$74:$H$83,K$4,hide!$L$74:$L$83) * POWER(1+$M$6,1)","v":0},{"$f":"'1B'!$I43*SUMIF(hide!$H$74:$H$83,L$4,hide!$L$74:$L$83) * POWER(1+$M$6,2)","v":0},{"$f":"'1B'!$I43*SUMIF(hide!$H$74:$H$83,M$4,hide!$L$74:$L$83) * POWER(1+$M$6,3)","v":0},{"$f":"'1B'!$I43*SUMIF(hide!$H$74:$H$83,N$4,hide!$L$74:$L$83) * POWER(1+$M$6,4)","v":0},{"$f":"'1B'!$I43*SUMIF(hide!$H$74:$H$83,O$4,hide!$L$74:$L$83) * POWER(1+$M$6,5)","v":0},{"$f":"'1B'!$I43*SUMIF(hide!$H$74:$H$83,P$4,hide!$L$74:$L$83) * POWER(1+$M$6,6)","v":0},{"$f":"'1B'!$I43*SUMIF(hide!$H$74:$H$83,Q$4,hide!$L$74:$L$83) * POWER(1+$M$6,7)","v":0},{"$f":"'1B'!$I43*SUMIF(hide!$H$74:$H$83,R$4,hide!$L$74:$L$83) * POWER(1+$M$6,8)","v":0},{"$f":"'1B'!$I43*SUMIF(hide!$H$74:$H$83,S$4,hide!$L$74:$L$83) * POWER(1+$M$6,9)","v":0}]
["B.6","Náklady na realizaci stavby bez rezervy",null,null,null,null,null,0,{"$f":"I38+I23+I15+I7","v":0},{"$f":"J38+J23+J15+J7","v":0},{"$f":"K38+K23+K15+K7","v":0},{"$f":"L38+L23+L15+L7","v":0},{"$f":"M38+M23+M15+M7","v":0},0,0,0,0,0,0]
["B.7","Náklady na realizaci stavby celkem s rezervou",null,null,null,null,null,0,{"$f":"I42+I38+I23+I15+I7","v":0},{"$f":"J42+J38+J23+J15+J7","v":0},{"$f":"K42+K38+K23+K15+K7","v":0},{"$f":"L42+L38+L23+L15+L7","v":0},{"$f":"M42+M38+M23+M15+M7","v":0},0,0,0,0,0,0]
[]
["STANOVENÍ DPH BEZ INFALCE"]
["CIN","Celkové investiční náklady bez DPH",null,null,null,null,null,{"$f":"SUM(I47:S47)","v":0},{"$f":"I49+I54","v":0},0,0,0,0,0,0,0,0,0,0]
["A.1","Náklady inženýrské činnosti ve výstavbě",null,null,null,null,null,{"$f":"SUM(I48:S48)","v":0},{"$f":"SUM('2A'!I7:I8)","v":0},{"$f":"SUM('2A'!J7:J7)","v":0},{"$f":"SUM('2A'!K7:K8)","v":0},{"$f":"SUM('2A'!L7:L8)","v":0},{"$f":"SUM('2A'!M7:M8)","v":0},{"$f":"SUM('2A'!N7:N8)","v":0},{"$f":"SUM('2A'!O7:O8)","v":0},{"$f":"SUM('2A'!P7:P8)","v":0},{"$f":"SUM('2A'!Q7:Q8)","v":0},{"$f":"SUM('2A'!R7:R8)","v":0},{"$f":"SUM('2A'!S7:S8)","v":0}]
[{"$f":"'2A'!A$69","v":"A.6"},{"$f":"'2A'!B$69","v":"Náklady na přípravu a celkové zabezpečení stavby celkem"},null,null,null,null,null,0,{"$f":"'2A'!I$69","v":0},{"$f":"'2A'!J$69","v":0},{"$f":"'2A'!K$69","v":0},{"$f":"'2A'!L$69","v":0},{"$f":"'2A'!M$69","v":0},{"$f":"'2A'!N$69","v":0},{"$f":"'2A'!O$69","v":0},{"$f":"'2A'!P$69","v":0},{"$f":"'2A'!Q$69","v":0},{"$f":"'2A'!R$69","v":0},{"$f":"'2A'!S$69","v":0}]
["B.1.2.2","Stavební práce a dodávky zajišťované přímo investorem",null,null,null,null,null,0,{"$f":"I13","v":0},0,0,0,0,0,0,0,0,0,0]
["B.1.2.3","Zkoušky, revize a měření zajišťované přímo investorem",null,null,null,null,null,null,{"$f":"I14","v":0},0,0,0,0,0,0,0,0,0,0]
["B.2.2.2","Technologické práce a dodávky zajišťované přímo investorem",null,null,null,null,null,null,{"$f":"I21","v":0},0,0,0,0,0,0,0,0,0,0]
["B.2.2.3","Revize a měření zajišťované investorem",null,null,null,null,null,0,{"$f":"I22","v":0},0,0,0,0,0,0,0,0,0,0]
["B.7","Náklady na realizaci stavby celkem s rezervou",null,null,null,null,null,0,{"$f":"I44","v":0},0,0,0,0,0,0,0,0,0,0]
["SUMA PRO DPH",null,null,null,null,null,null,null,{"$f":"I49+I54-SUM(I50:I53,I48)","v":0},{"$f":"J49+J54-SUM(J50:J53,J48)","v":0},{"$f":"K49+K54-SUM(K50:K53,K48)","v":0},0,0,0,0,0,0,0,0]
[{"$f":"'2C'!A$19","v":"C.5"},{"$f":"'2C'!B$19","v":"DPH"},null,null,null,null,null,{"$f":"'2C'!H$19","v":"[%]"},{"$f":"'2C'!I$19","v":"Dle fakturace"},{"$f":"'2C'!J$19","v":0.21},{"$f":"'2C'!K$19","v":0.21},{"$f":"'2C'!L$19","v":0.21},{"$f":"'2C'!M$19","v":0.21},{"$f":"'2C'!N$19","v":0.21},{"$f":"'2C'!O$19","v":0.21},{"$f":"'2C'!P$19","v":0.21},{"$f":"'2C'!Q$19","v":0.21},{"$f":"'2C'!R$19","v":0.21},{"$f":"'2C'!S$19","v":0.21}]
[null,null,null,null,null,null,null,{"$f":"SUM(I57:S57)","v":0},{"$f":"'2C'!I20+'2C'!I21","v":0},{"$f":"J55*J56","v":0},{"$f":"K55*K56","v":0},0,0,0,0,0,0,0,0]

{"sheet":"2C","index":7,"n_rows":22,"n_cols":20,"rows_kept":22,"cut":false,"hidden":false,"merged":[[18,0,20,0],[4,2,4,5],[2,2,2,3],[2,4,2,5],[2,6,2,7],[3,1,3,2],[3,3,3,6],[18,1,20,1],[19,2,20,6],[19,7,20,7],[3,8,5,8],[16,8,16,10],[1,13,2,13],[1,2,1,7],[5,1,5,6],[7,2,7,5],[1,0,1,1],[3,9,5,9],[1,11,2,11],[3,12,4,12],[3,13,4,13],[1,12,2,12],[1,8,2,8],[4,0,4,1],[1,9,2,9],[1,10,2,10],[3,10,4,10],[3,11,4,11],[3,18,4,18],[1,14,2,14],[1,15,2,15],[1,16,2,16],[1,17,2,17],[3,17,4,17],[3,14,4,14],[3,15,4,15],[3,16,4,16],[1,18,2,18],[19,9,20,9],[19,10,20,10],[19,16,20,16],[19,17,20,17],[19,18,20,18],[19,11,20,11],[19,12,20,12],[19,13,20,13],[19,14,20,14],[19,15,20,15]]}
["Náklady stavby ve smíšené CÚ:",null,null,null,{"$f":"'Krycí list SR'!F5","v":0},"-",{"$f":"'Krycí list SR'!H5","v":""},"Formulář 2.C","Náklady v letech výstavby",null,null,null,null,null,null,null,null,null,{"$f":"'Krycí list SR'!$H$1","v":"SRP/2022/prozatimní"}]
["Název stavby:",null,{"$f":"IF('Krycí list SR'!B2=\"\",\"\",'Krycí list SR'!B2)","v":""},null,null,null,null,null,"Do 31.12","Aktuální rok","v roce","v roce","v roce","v roce","v roce","v roce","v roce","v roce","v letech"]
["ISPROFIN:",null,{"$f":"IF('Krycí list SR'!$B$3=\"\",\"\",'Krycí list SR'!$B$3)","v":""},null,"Označení (S-kód):",null,{"$f":"IF('Krycí list SR'!D3=\"\",\"\",'Krycí list SR'!D3)","v":""}]
["Investor:","   SŽ s.o.,",null,{"$f":"IF('Krycí list SR'!$B$5=\"\",\"\",'Krycí list SR'!$B$5)","v":"Stavební správa západ, Ke Štvanici 656/3,186 00  Praha 8"},null,null,null,{"$f":"IF('Krycí list SR'!E3=\"\",\"\",'Krycí list SR'!E3)","v":""},{"$f":"J4-1","v":2021},{"$f":"'Krycí list SR'!F4","v":2022},{"$f":"J4+1","v":2023},2024,2025,2026,2027,2028,2029,2030,{"$f":"CONCATENATE(\"po \",R4)","v":"po 2030"}]
["Jiný investor:",null,{"$f":"IF('Krycí list SR'!$B$7=\"\",\"neurčen\",'Krycí list SR'!$B$7)","v":"neurčen"},null,null,null,null,null,null,null,{"$f":"J4+1","v":2023},2024,2025,2026,2027,2028,2029,2030,{"$f":"R4+1","v":2031}]
["C","Rekapitulace nákladů",null,null,null,null,null,"náklady v Kč celkem",null,null,"Inflační koeficient:",null,{"$f":"hide!B71","v":0.02},null,null,null,null,null,null,"Pole pro pracovní výpočty\nbez tisku"]
["C.1","Pořizovací investiční náklady",null,null,null,null,"PIN",{"$f":"SUM(I7:S7)","v":0},{"$f":"I8+I12","v":0},{"$f":"J8+J12","v":0},{"$f":"K8+K12","v":0},{"$f":"L8+L12","v":0},0,0,0,0,0,0,0]
["C.1.1","z toho","Celkové investiční náklady",null,null,null,"CIN",0,{"$f":"I9+I10+I11","v":0},{"$f":"J9+J10+J11","v":0},{"$f":"K9+K10+K11","v":0},{"$f":"L9+L10+L11","v":0},0,0,0,0,0,0,0]
["C.1.1.1",null,"z toho","Náklady na přípravu a celkové zabezpečení výstavby",null,null,null,0,{"$f":"'2A'!I69","v":0},{"$f":"'2A'!J69","v":0},{"$f":"'2A'!K69","v":0},{"$f":"'2A'!L69","v":0},{"$f":"'2A'!M69","v":0},{"$f":"'2A'!N69","v":0},{"$f":"'2A'!O69","v":0},{"$f":"'2A'!P69","v":0},{"$f":"'2A'!Q69","v":0},{"$f":"'2A'!R69","v":0},{"$f":"'2A'!S69","v":0}]
["C.1.1.2",null,null,"Náklady na realizaci stavby bez rezervy",null,null,null,0,{"$f":"'2B'!I43","v":0},{"$f":"'2B'!J43","v":0},{"$f":"'2B'!K43","v":0},{"$f":"'2B'!L43","v":0},{"$f":"'2B'!M43","v":0},{"$f":"'2B'!N43","v":0},{"$f":"'2B'!O43","v":0},{"$f":"'2B'!P43","v":0},{"$f":"'2B'!Q43","v":0},{"$f":"'2B'!R43","v":0},{"$f":"'2B'!S43","v":0}]
["C.1.1.3",null,null,"Rezerva stavby",null,null,null,0,{"$f":"'2B'!I42","v":0},{"$f":"'2B'!J42","v":0},{"$f":"'2B'!K42","v":0},{"$f":"'2B'!L42","v":0},{"$f":"'2B'!M42","v":0},{"$f":"'2B'!N42","v":0},{"$f":"'2B'!O42","v":0},{"$f":"'2B'!P42","v":0},{"$f":"'2B'!Q42","v":0},{"$f":"'2B'!R42","v":0},{"$f":"'2B'!S42","v":0}]
["C.1.2",null,"Hodnota zůstatkového majetku SŽ, který bude stavbou odstraněn",null,null,null,null,0,null,{"$f":"'1C'!I13-SUM(I12,K12:S12)","v":0}]
["C.2","Provozní náklady        ",null,null,null,null,"PRN",0,null,{"$f":"'1C'!I14-SUM(I13,K13:S13)","v":0}]
["C.3","Příjmy generované stavbou ",null,null,null,null,null,0,{"$f":"SUM(I15:I16)","v":0},{"$f":"SUM(J15:J16)","v":0},{"$f":"SUM(K15:K16)","v":0},{"$f":"SUM(L15:L16)","v":0},0,0,0,0,0,0,{"$f":"SUM(S15:S16)","v":0}]
["C.3.1","z toho","Zdroje z výzisku materiálu SŽ",null,null,null,null,0,null,{"$f":"'1C'!I16-SUM(I15,K15:S15)","v":0}]
["C.3.2",null,"Ostatní zdroje",null,null,null,null,0,null,{"$f":"'1C'!I17-SUM('2C'!I16,'2C'!K16:S16)","v":0}]
[null,null,null,null,null,null,null,null,{"$f":"IF(I8=0,\"\",IF(I19=\"Neuplatněno DPH\",\"\",IF((I20+I21)>0,\"\",\"chyba: v poli I19 a I20\nnutno stanovit DPH\")))","v":""}]
["C.4","Celkové náklady stavby bez DPH               ",null,null,null,null,"CNS",0,{"$f":"I7+I13","v":0},0,0,0,0,0,0,0,0,0,0]
["C.5","DPH","Daň z přidané hodnoty v letech výstavby [%]:",null,null,null,null,"[%]","Dle fakturace",0.21,0.21,0.21,0.21,0.21,0.21,0.21,0.21,0.21,0.21]
[null,null,"Daň z přidané hodnoty celkem [Kč]:",null,null,null,null,{"$f":"SUM(I20:S21)","v":0},null,{"$f":"J19*(J8-SUM('2A'!J7:J8,'2B'!J13,'2B'!J14,'2B'!J21,'2B'!J22))","v":0},{"$f":"K19*(K8-SUM('2A'!K7:K8,'2B'!K13,'2B'!K14,'2B'!K21,'2B'!K22))","v":0},{"$f":"L19*(L8-SUM('2A'!L7:L8,'2B'!L13,'2B'!L14,'2B'!L21,'2B'!L22))","v":0},{"$f":"M19*(M8-SUM('2A'!M7:M8,'2B'!M13,'2B'!M14,'2B'!M21,'2B'!M22))","v":0},{"$f":"N19*(N8-SUM('2A'!N7:N8,'2B'!N13,'2B'!N14,'2B'!N21,'2B'!N22))","v":0},{"$f":"O19*(O8-SUM('2A'!O7:O8,'2B'!O13,'2B'!O14,'2B'!O21,'2B'!O22))","v":0},{"$f":"P19*(P8-SUM('2A'!P7:P8,'2B'!P13,'2B'!P14,'2B'!P21,'2B'!P22))","v":0},{"$f":"Q19*(Q8-SUM('2A'!Q7:Q8,'2B'!Q13,'2B'!Q14,'2B'!Q21,'2B'!Q22))","v":0},{"$f":"R19*(R8-SUM('2A'!R7:R8,'2B'!R13,'2B'!R14,'2B'!R21,'2B'!R22))","v":0},{"$f":"S19*(S8-SUM('2A'!S7:S8,'2B'!S13,'2B'!S14,'2B'!S21,'2B'!S22))","v":0}]
[null,null,null,null,null,null,null,null,{"$f":"IF(I19=\"Dle fakturace\",0,IF(I19=\"Předpoklad pro daný rok\",0,IF(I19=\"Neuplatněno DPH\",0,(I19*(I8-SUM('2A'!I7:I8,'2B'!I13,'2B'!I14,'2B'!I21,'2B'!I22))))))","v":0}]
["C.6","Celkové náklady stavby vč. DPH                          ",null,null,null,null,"CND",{"$f":"SUM(I22:S22)","v":0},{"$f":"I21+I20+I18","v":0},{"$f":"J20+J18","v":0},{"$f":"K20+K18","v":0},0,0,0,0,0,0,0,0]

{"sheet":"3SO","index":8,"n_rows":1200,"n_cols":14,"rows_kept":1200,"cut":false,"hidden":false,"merged":[[9,1,9,8],[4,5,6,5],[1,8,1,9],[1,6,1,7],[2,6,2,7],[5,1,5,2],[4,1,4,2],[1,2,2,2],[3,6,5,6],[3,7,4,7],[2,8,2,9],[3,8,5,8],[3,9,4,9],[2,10,3,10],[3,1,3,2],[6,1,6,2],[7,10,8,10],[7,6,8,6],[7,8,8,8],[0,4,2,5],[4,4,6,4],[0,6,0,9]]}
["Formulář 3SO",null,"Rekapitulace nákladů stavebních objektů","Náklady dle rozdělení majetku\n(SŽ/Ostatní)","Předpokládané období realizace s ohledem na čerpání finančních prostředků:\n(měsíc.rok)\n\n",null,"Náklady na realizaci jednotlivých SO",null,null,null,{"$f":"'Krycí list SR'!H1","v":"SRP/2022/prozatimní"}]
["Název stavby:",null,{"$f":"IF('Krycí list SR'!B2=\"\",\"\",'Krycí list SR'!B2)","v":""},"SŽ celkem\n[Kč]\n(B.1.1.1)",null,null,"B.1.1.1",null,"B.1.2.1",null,"B.5"]
[null,null,null,{"$f":"SUMIF(D12:D1200,\"SŽ\",G12:G1200)","v":0},null,null,"ZRN - Zhotovitel\n(Uvádí se náklady, které zajišťuje pro účely stavby zhotovitel)",null,"ZRN - Investor\n(Uvádí se náklady, které zajišťuje pro účely stavby přímo investor)",null,"Rezerva SO"]
["ISPROFIN:",{"$f":"IF('Krycí list SR'!$B$3=\"\",\"\",'Krycí list SR'!$B$3)","v":""},null,"SŽ celkem\n[Kč]\n(B.1.2.1)","Zahájení","Dokončení","B.1.1.1 ","Podíl způsobilých nákladů \npro financování z fondu EU","B.1.2.1 ","Podíl způsobilých nákladů \npro financování z fondu EU"]
["Označení:\n(S-kód)",{"$f":"IF('Krycí list SR'!D3=\"\",\"\",'Krycí list SR'!D3)","v":""},null,{"$f":"SUMIF(D12:D1200,\"SŽ\",I12:I1200)","v":0},"zahájení realizace\nnebo zahájení čerpání finančních prostředků \n(viz poznámka)","ukončení realizace\nnebo zahájení čerpání finančních prostředků \n(viz poznámka)",null,null,null,null,"procentní sazba z B.1.1.1"]
["Investor:",{"$f":"'Krycí list SR'!B4:D4","v":"Správa železnic, státní organizace"},null,"Ostatní celkem\n[Kč]\n(B.1.1.1)",null,null,null,"Způsobilé celkem \n[Kč]",null,"Způsobilé celkem \n[Kč]",0.1]
["Zástupce investora:",{"$f":"IF('Krycí list SR'!B5:D5=\"\",\"\",'Krycí list SR'!B5:D5)","v":"Stavební správa západ, Ke Štvanici 656/3,186 00  Praha 8"},null,{"$f":"G8-D3","v":0},null,null,"Celkem\n[Kč]",{"$f":"SUM(H12:H1200)","v":0},"Celkem \n[Kč]",{"$f":"SUM(J12:J1200)","v":0},"Celkem\n[Kč]"]
["CÚ:",{"$f":"'Krycí list SR'!F4","v":2022},{"$f":"IF('Krycí list SR'!E3=\"\",\"\",'Krycí list SR'!E3)","v":""},"Ostatní celkem\n[Kč]\n(B.1.2.1)","[mm.rrrr]","[mm.rrrr]",{"$f":"SUM(G12:G1200)","v":0},"Nezpůsobilé celkem \n[Kč]",{"$f":"SUM(I12:I1200)","v":0},"Nezpůsobilé celkem \n[Kč]",{"$f":"SUM(K12:K8376)","v":0}]
["Kategorie monitoringu","Číslo SO","Název stavebního objektu",{"$f":"I8-D5","v":0},{"$f":"IF(MIN(E12:E1200)=0,\"\",MIN(E12:E1200))","v":""},{"$f":"IF(MAX(F12:F1200)=0,\"\",MAX(F12:F1200))","v":""},null,{"$f":"G8-H7","v":0},null,{"$f":"I8-J7","v":0},null,"Pole pro pracovní výpočty\nbez tisku"]
["Stavba:",{"$f":"C2","v":""},null,null,null,null,null,null,null,{"$f":"A4","v":"ISPROFIN:"},{"$f":"B4","v":""}]
["Monitoring","Číslo SO","Název stavebního objektu","Rozdělení majetku","realizace od","realizace do","náklady SO (B.1.1.1)","z toho způsobilé","náklady SO (B.1.2.1)","z toho způsobilé","rezerva SO",null,null,"Označení majetku"]
[null,null,null,{"$f":"IF(N12>0,\"Chyba v označení\",\"\")","v":""},null,null,null,null,null,null,null,null,null,{"$f":"SUM(N13:N1200)","v":0}]
[null,null,null,null,null,null,null,null,null,null,{"$f":"G13*$K$6","v":0},null,null,{"$f":"IF(D13=\"SŽ\",0,IF(D13=\"Ostatní\",0,IF(D13=\"\",0,1)))","v":0}]
[null,null,null,null,null,null,null,null,null,null,{"$f":"G14*$K$6","v":0},null,null,{"$f":"IF(D14=\"SŽ\",0,IF(D14=\"Ostatní\",0,IF(D14=\"\",0,1)))","v":0}]
[null,null,null,null,null,null,null,null,null,null,0,null,null,0]
[null,null,null,null,null,null,null,null,null,null,0,null,null,0]
[null,null,null,null,null,null,null,null,null,null,0,null,null,0]
[null,null,null,null,null,null,null,null,null,null,0,null,null,0]
[null,null,null,null,null,null,null,null,null,null,0,null,null,0]
[null,null,null,null,null,null,null,null,null,null,0,null,null,0]
[null,null,null,null,null,null,null,null,null,null,0,null,null,0]
[null,null,null,null,null,null,null,null,null,null,0,null,null,0]
[null,null,null,null,null,null,null,null,null,null,0,null,null,0]
[null,null,null,null,null,null,null,null,null,null,0,null,null,0]
[null,null,null,null,null,null,null,null,null,null,0,null,null,0]
[null,null,null,null,null,null,null,null,null,null,0,null,null,0]
[null,null,null,null,null,null,null,null,null,null,0,null,null,0]
[null,null,null,null,null,null,null,null,null,null,0,null,null,0]
[null,null,null,null,null,null,null,null,null,null,0,null,null,0]
[null,null,null,null,null,null,null,null,null,null,0,null,null,0]
[null,null,null,null,null,null,null,null,null,null,0,null,null,0]
[null,null,null,null,null,null,null,null,null,null,0,null,null,0]
[null,null,null,null,null,null,null,null,null,null,0,null,null,0]
[null,null,null,null,null,null,null,null,null,null,0,null,null,0]
[null,null,null,null,null,null,null,null,null,null,0,null,null,0]
[null,null,null,null,null,null,null,null,null,null,0,null,null,0]
[null,null,null,null,null,null,null,null,null,null,0,null,null,0]
[null,null,null,null,null,null,null,null,null,null,0,null,null,0]
[null,null,null,null,null,null,null,null,null,null,0,null,null,0]
[null,null,null,null,null,null,null,null,null,null,0,null,null,0]
[null,null,null,null,null,null,null,null,null,null,0,null,null,0]
[null,null,null,null,null,null,null,null,null,null,0,null,null,0]
[null,null,null,null,null,null,null,null,null,null,0,null,null,0]
[null,null,null,null,null,null,null,null,null,null,0,null,null,0]
[null,null,null,null,null,null,null,null,null,null,0,null,null,0]
[null,null,null,null,null,null,null,null,null,null,0,null,null,0]
[null,null,null,null,null,null,null,null,null,null,0,null,null,0]
[null,null,null,null,null,null,null,null,null,null,0,null,null,0]
[null,null,null,null,null,null,null,null,null,null,0,null,null,0]
[null,null,null,null,null,null,null,null,null,null,0,null,null,0]
[null,null,null,null,null,null,null,null,null,null,0,null,null,0]
[null,null,null,null,null,null,null,null,null,null,0,null,null,0]
[null,null,null,null,null,null,null,null,null,null,0,null,null,0]
[null,null,null,null,null,null,null,null,null,null,0,null,null,0]
[null,null,null,null,null,null,null,null,null,null,0,null,null,0]
[null,null,null,null,null,null,null,null,null,null,0,null,null,0]
[null,null,null,null,null,null,null,null,null,null,0,null,null,0]
[null,null,null,null,null,null,null,null,null,null,0,null,null,0]
[null,null,null,null,null,null,null,null,null,null,0,null,null,0]
[null,null,null,null,null,null,null,null,null,null,0,null,null,0]
[null,null,null,null,null,null,null,null,null,null,0,null,null,0]
[null,null,null,null,null,null,null,null,null,null,0,null,null,0]
[null,null,null,null,null,null,null,null,null,null,0,null,null,0]
[null,null,null,null,null,null,null,null,null,null,0,null,null,0]
[null,null,null,null,null,null,null,null,null,null,0,null,null,0]
[null,null,null,null,null,null,null,null,null,null,0,null,null,0]
[null,null,null,null,null,null,null,null,null,null,0,null,null,0]
[null,null,null,null,null,null,null,null,null,null,0,null,null,0]
[null,null,null,null,null,null,null,null,null,null,0,null,null,0]
[null,null,null,null,null,null,null,null,null,null,0,null,null,0]
[null,null,null,null,null,null,null,null,null,null,0,null,null,0]
[null,null,null,null,null,null,null,null,null,null,0,null,null,0]
[null,null,null,null,null,null,null,null,null,null,0,null,null,0]
[null,null,null,null,null,null,null,null,null,null,0,null,null,0]
[null,null,null,null,null,null,null,null,null,null,0,null,null,0]
[null,null,null,null,null,null,null,null,null,null,0,null,null,0]
[null,null,null,null,null,null,null,null,null,null,0,null,null,0]
[null,null,null,null,null,null,null,null,null,null,{"$f":"G78*$K$6","v":0},null,null,{"$f":"IF(D78=\"SŽ\",0,IF(D78=\"Ostatní\",0,IF(D78=\"\",0,1)))","v":0}]
[null,null,null,null,null,null,null,null,null,null,0,null,null,0]
[null,null,null,null,null,null,null,null,null,null,0,null,null,0]
[null,null,null,null,null,null,null,null,null,null,0,null,null,0]
[null,null,null,null,null,null,null,null,null,null,0,null,null,0]
[null,null,null,null,null,null,null,null,null,null,0,null,null,0]
[null,null,null,null,null,null,null,null,null,null,0,null,null,0]
[null,null,null,null,null,null,null,null,null,null,0,null,null,0]
[null,null,null,null,null,null,null,null,null,null,0,null,null,0]
[null,null,null,null,null,null,null,null,null,null,0,null,null,0]
[null,null,null,null,null,null,null,null,null,null,0,null,null,0]
[null,null,null,null,null,null,null,null,null,null,0,null,null,0]
[null,null,null,null,null,null,null,null,null,null,0,null,null,0]
[null,null,null,null,null,null,null,null,null,null,0,null,null,0]
[null,null,null,null,null,null,null,null,null,null,0,null,null,0]
[null,null,null,null,null,null,null,null,null,null,0,null,null,0]
[null,null,null,null,null,null,null,null,null,null,0,null,null,0]
[null,null,null,null,null,null,null,null,null,null,0,null,null,0]
[null,null,null,null,null,null,null,null,null,null,0,null,null,0]
[null,null,null,null,null,null,null,null,null,null,0,null,null,0]
[null,null,null,null,null,null,null,null,null,null,0,null,null,0]
[null,null,null,null,null,null,null,null,null,null,0,null,null,0]
[null,null,null,null,null,null,null,null,null,null,0,null,null,0]
[null,null,null,null,null,null,null,null,null,null,0,null,null,0]
[null,null,null,null,null,null,null,null,null,null,0,null,null,0]
[null,null,null,null,null,null,null,null,null,null,0,null,null,0]
[null,null,null,null,null,null,null,null,null,null,0,null,null,0]
[null,null,null,null,null,null,null,null,null,null,0,null,null,0]
[null,null,null,null,null,null,null,null,null,null,0,null,null,0]
[null,null,null,null,null,null,null,null,null,null,0,null,null,0]
[null,null,null,null,null,null,null,null,null,null,0,null,null,0]
[null,null,null,null,null,null,null,null,null,null,0,null,null,0]
[null,null,null,null,null,null,null,null,null,null,0,null,null,0]
[null,null,null,null,null,null,null,null,null,null,0,null,null,0]
[null,null,null,null,null,null,null,null,null,null,0,null,null,0]
[null,null,null,null,null,null,null,null,null,null,0,null,null,0]
[null,null,null,null,null,null,null,null,null,null,0,null,null,0]
[null,null,null,null,null,null,null,null,null,null,0,null,null,0]
[null,null,null,null,null,null,null,null,null,null,0,null,null,0]
[null,null,null,null,null,null,null,null,null,null,0,null,null,0]
[null,null,null,null,null,null,null,null,null,null,0,null,null,0]
[null,null,null,null,null,null,null,null,null,null,0,null,null,0]
[null,null,null,null,null,null,null,null,null,null,0,null,null,0]
[null,null,null,null,null,null,null,null,null,null,0,null,null,0]
[null,null,null,null,null,null,null,null,null,null,0,null,null,0]
[null,null,null,null,null,null,null,null,null,null,0,null,null,0]
[null,null,null,null,null,null,null,null,null,null,0,null,null,0]
[null,null,null,null,null,null,null,null,null,null,0,null,null,0]
[null,null,null,null,null,null,null,null,null,null,0,null,null,0]
[null,null,null,null,null,null,null,null,null,null,0,null,null,0]
[null,null,null,null,null,null,null,{"$f":"G128","v":0},null,null,0,null,null,0]
[null,null,null,null,null,null,null,0,null,null,0,null,null,0]
[null,null,null,null,null,null,null,0,null,null,0,null,null,0]
[null,null,null,null,null,null,null,0,null,null,0,null,null,0]
[null,null,null,null,null,null,null,0,null,null,0,null,null,0]
[null,null,null,null,null,null,null,0,null,null,0,null,null,0]
[null,null,null,null,null,null,null,0,null,null,0,null,null,0]
[null,null,null,null,null,null,null,0,null,null,0,null,null,0]
[null,null,null,null,null,null,null,0,null,null,0,null,null,0]
[null,null,null,null,null,null,null,0,null,null,0,null,null,0]
[null,null,null,null,null,null,null,0,null,null,0,null,null,0]
[null,null,null,null,null,null,null,0,null,null,0,null,null,0]
[null,null,null,null,null,null,null,0,null,null,0,null,null,0]
[null,null,null,null,null,null,null,0,null,null,0,null,null,0]
[null,null,null,null,null,null,null,0,null,null,{"$f":"G142*$K$6","v":0},null,null,{"$f":"IF(D142=\"SŽ\",0,IF(D142=\"Ostatní\",0,IF(D142=\"\",0,1)))","v":0}]
[null,null,null,null,null,null,null,null,null,null,0,null,null,0]
[null,null,null,null,null,null,null,null,null,null,0,null,null,0]
[null,null,null,null,null,null,null,null,null,null,0,null,null,0]
[null,null,null,null,null,null,null,null,null,null,0,null,null,0]
[null,null,null,null,null,null,null,null,null,null,0,null,null,0]
[null,null,null,null,null,null,null,null,null,null,0,null,null,0]
[null,null,null,null,null,null,null,null,null,null,0,null,null,0]
[null,null,null,null,null,null,null,null,null,null,0,null,null,0]
[null,null,null,null,null,null,null,null,null,null,0,null,null,0]
[null,null,null,null,null,null,null,null,null,null,0,null,null,0]
[null,null,null,null,null,null,null,null,null,null,0,null,null,0]
[null,null,null,null,null,null,null,null,null,null,0,null,null,0]
[null,null,null,null,null,null,null,null,null,null,0,null,null,0]
[null,null,null,null,null,null,null,null,null,null,0,null,null,0]
[null,null,null,null,null,null,null,null,null,null,0,null,null,0]
[null,null,null,null,null,null,null,null,null,null,0,null,null,0]
[null,null,null,null,null,null,null,null,null,null,0,null,null,0]
[null,null,null,null,null,null,null,null,null,null,0,null,null,0]
[null,null,null,null,null,null,null,null,null,null,0,null,null,0]
[null,null,null,null,null,null,null,null,null,null,0,null,null,0]
[null,null,null,null,null,null,null,null,null,null,0,null,null,0]
[null,null,null,null,null,null,null,null,null,null,0,null,null,0]
[null,null,null,null,null,null,null,null,null,null,0,null,null,0]
[null,null,null,null,null,null,null,null,null,null,0,null,null,0]
[null,null,null,null,null,null,null,null,null,null,0,null,null,0]
[null,null,null,null,null,null,null,null,null,null,0,null,null,0]
[null,null,null,null,null,null,null,null,null,null,0,null,null,0]
[null,null,null,null,null,null,null,null,null,null,0,null,null,0]
[null,null,null,null,null,null,null,null,null,null,0,null,null,0]
[null,null,null,null,null,null,null,null,null,null,0,null,null,0]
[null,null,null,null,null,null,null,null,null,null,0,null,null,0]
[null,null,null,null,null,null,null,null,null,null,0,null,null,0]
[null,null,null,null,null,null,null,null,null,null,0,null,null,0]
[null,null,null,null,null,null,null,null,null,null,0,null,null,0]
[null,null,null,null,null,null,null,null,null,null,0,null,null,0]
[null,null,null,null,null,null,null,null,null,null,0,null,null,0]
[null,null,null,null,null,null,null,null,null,null,0,null,null,0]
[null,null,null,null,null,null,null,null,null,null,0,null,null,0]
[null,null,null,null,null,null,null,null,null,null,0,null,null,0]
[null,null,null,null,null,null,null,null,null,null,0,null,null,0]
[null,null,null,null,null,null,null,null,null,null,0,null,null,0]
[null,null,null,null,null,null,null,null,null,null,0,null,null,0]
[null,null,null,null,null,null,null,null,null,null,0,null,null,0]
[null,null,null,null,null,null,null,null,null,null,0,null,null,0]
[null,null,null,null,null,null,null,null,null,null,0,null,null,0]
[null,null,null,null,null,null,null,null,null,null,0,null,null,0]
[null,null,null,null,null,null,null,null,null,null,0,null,null,0]
[null,null,null,null,null,null,null,null,null,null,0,null,null,0]
[null,null,null,null,null,null,null,null,null,null,0,null,null,0]
[null,null,null,null,null,null,null,null,null,null,0,null,null,0]
[null,null,null,null,null,null,null,null,null,null,0,null,null,0]
[null,null,null,null,null,null,null,null,null,null,0,null,null,0]
[null,null,null,null,null,null,null,null,null,null,0,null,null,0]
[null,null,null,null,null,null,null,null,null,null,0,null,null,0]
[null,null,null,null,null,null,null,null,null,null,0,null,null,0]
[null,null,null,null,null,null,null,null,null,null,0,null,null,0]
[null,null,null,null,null,null,null,null,null,null,0,null,null,0]
[null,null,null,null,null,null,null,null,null,null,0,null,null,0]
[null,null,null,null,null,null,null,null,null,null,0,null,null,0]
[null,null,null,null,null,null,null,null,null,null,0,null,null,0]
[null,null,null,null,null,null,null,null,null,null,0,null,null,0]
[null,null,null,null,null,null,null,null,null,null,0,null,null,0]
[null,null,null,null,null,null,null,null,null,null,0,null,null,0]
[null,null,null,null,null,null,null,null,null,null,{"$f":"G206*$K$6","v":0},null,null,{"$f":"IF(D206=\"SŽ\",0,IF(D206=\"Ostatní\",0,IF(D206=\"\",0,1)))","v":0}]
[null,null,null,null,null,null,null,null,null,null,0,null,null,0]
[null,null,null,null,null,null,null,null,null,null,0,null,null,0]
[null,null,null,null,null,null,null,null,null,null,0,null,null,0]
[null,null,null,null,null,null,null,null,null,null,0,null,null,0]
[null,null,null,null,null,null,null,null,null,null,0,null,null,0]
[null,null,null,null,null,null,null,null,null,null,0,null,null,0]
[null,null,null,null,null,null,null,null,null,null,0,null,null,0]
[null,null,null,null,null,null,null,null,null,null,0,null,null,0]
[null,null,null,null,null,null,null,null,null,null,0,null,null,0]
[null,null,null,null,null,null,null,null,null,null,0,null,null,0]
[null,null,null,null,null,null,null,null,null,null,0,null,null,0]
[null,null,null,null,null,null,null,null,null,null,0,null,null,0]
[null,null,null,null,null,null,null,null,null,null,0,null,null,0]
[null,null,null,null,null,null,null,null,null,null,0,null,null,0]
[null,null,null,null,null,null,null,null,null,null,0,null,null,0]
[null,null,null,null,null,null,null,null,null,null,0,null,null,0]
[null,null,null,null,null,null,null,null,null,null,0,null,null,0]
[null,null,null,null,null,null,null,null,null,null,0,null,null,0]
[null,null,null,null,null,null,null,null,null,null,0,null,null,0]
[null,null,null,null,null,null,null,null,null,null,0,null,null,0]
[null,null,null,null,null,null,null,null,null,null,0,null,null,0]
[null,null,null,null,null,null,null,null,null,null,0,null,null,0]
[null,null,null,null,null,null,null,null,null,null,0,null,null,0]
[null,null,null,null,null,null,null,null,null,null,0,null,null,0]
[null,null,null,null,null,null,null,null,null,null,0,null,null,0]
[null,null,null,null,null,null,null,null,null,null,0,null,null,0]
[null,null,null,null,null,null,null,null,null,null,0,null,null,0]
[null,null,null,null,null,null,null,null,null,null,0,null,null,0]
[null,null,null,null,null,null,null,null,null,null,0,null,null,0]
[null,null,null,null,null,null,null,null,null,null,0,null,null,0]
[null,null,null,null,null,null,null,null,null,null,0,null,null,0]
[null,null,null,null,null,null,null,null,null,null,0,null,null,0]
[null,null,null,null,null,null,null,null,null,null,0,null,null,0]
[null,null,null,null,null,null,null,null,null,null,0,null,null,0]
[null,null,null,null,null,null,null,null,null,null,0,null,null,0]
[null,null,null,null,null,null,null,null,null,null,0,null,null,0]
[null,null,null,null,null,null,null,null,null,null,0,null,null,0]
[null,null,null,null,null,null,null,null,null,null,0,null,null,0]
[null,null,null,null,null,null,null,null,null,null,0,null,null,0]
[null,null,null,null,null,null,null,null,null,null,0,null,null,0]
[null,null,null,null,null,null,null,null,null,null,0,null,null,0]
[null,null,null,null,null,null,null,null,null,null,0,null,null,0]
[null,null,null,null,null,null,null,null,null,null,0,null,null,0]
[null,null,null,null,null,null,null,null,null,null,0,null,null,0]
[null,null,null,null,null,null,null,null,null,null,0,null,null,0]
[null,null,null,null,null,null,null,null,null,null,0,null,null,0]
[null,null,null,null,null,null,null,null,null,null,0,null,null,0]
[null,null,null,null,null,null,null,null,null,null,0,null,null,0]
[null,null,null,null,null,null,null,null,null,null,0,null,null,0]
[null,null,null,null,null,null,null,null,null,null,0,null,null,0]
[null,null,null,null,null,null,null,null,null,null,0,null,null,0]
[null,null,null,null,null,null,null,null,null,null,0,null,null,0]
[null,null,null,null,null,null,null,null,null,null,0,null,null,0]
[null,null,null,null,null,null,null,null,null,null,0,null,null,0]
[null,null,null,null,null,null,null,null,null,null,0,null,null,0]
[null,null,null,null,null,null,null,null,null,null,0,null,null,0]
[null,null,null,null,null,null,null,null,null,null,0,null,null,0]
[null,null,null,null,null,null,null,null,null,null,0,null,null,0]
[null,null,null,null,null,null,null,null,null,null,0,null,null,0]
[null,null,null,null,null,null,null,null,null,null,0,null,null,0]
[null,null,null,null,null,null,null,null,null,null,0,null,null,0]
[null,null,null,null,null,null,null,null,null,null,0,null,null,0]
[null,null,null,null,null,null,null,null,null,null,0,null,null,0]
[null,null,null,null,null,null,null,null,null,null,{"$f":"G270*$K$6","v":0},null,null,{"$f":"IF(D270=\"SŽ\",0,IF(D270=\"Ostatní\",0,IF(D270=\"\",0,1)))","v":0}]
[null,null,null,null,null,null,null,null,null,null,0,null,null,0]
[null,null,null,null,null,null,null,null,null,null,0,null,null,0]
[null,null,null,null,null,null,null,null,null,null,0,null,null,0]
[null,null,null,null,null,null,null,null,null,null,0,null,null,0]
[null,null,null,null,null,null,null,null,null,null,0,null,null,0]
[null,null,null,null,null,null,null,null,null,null,0,null,null,0]
[null,null,null,null,null,null,null,null,null,null,0,null,null,0]
[null,null,null,null,null,null,null,null,null,null,0,null,null,0]
[null,null,null,null,null,null,null,null,null,null,0,null,null,0]
[null,null,null,null,null,null,null,null,null,null,0,null,null,0]
[null,null,null,null,null,null,null,null,null,null,0,null,null,0]
[null,null,null,null,null,null,null,null,null,null,0,null,null,0]
[null,null,null,null,null,null,null,null,null,null,0,null,null,0]
[null,null,null,null,null,null,null,null,null,null,0,null,null,0]
[null,null,null,null,null,null,null,null,null,null,0,null,null,0]
[null,null,null,null,null,null,null,null,null,null,0,null,null,0]
[null,null,null,null,null,null,null,null,null,null,0,null,null,0]
[null,null,null,null,null,null,null,null,null,null,0,null,null,0]
[null,null,null,null,null,null,null,null,null,null,0,null,null,0]
[null,null,null,null,null,null,null,null,null,null,0,null,null,0]
[null,null,null,null,null,null,null,null,null,null,0,null,null,0]
[null,null,null,null,null,null,null,null,null,null,0,null,null,0]
[null,null,null,null,null,null,null,null,null,null,0,null,null,0]
[null,null,null,null,null,null,null,null,null,null,0,null,null,0]
[null,null,null,null,null,null,null,null,null,null,0,null,null,0]
[null,null,null,null,null,null,null,null,null,null,0,null,null,0]
[null,null,null,null,null,null,null,null,null,null,0,null,null,0]
[null,null,null,null,null,null,null,null,null,null,0,null,null,0]
[null,null,null,null,null,null,null,null,null,null,0,null,null,0]
[null,null,null,null,null,null,null,null,null,null,0,null,null,0]
[null,null,null,null,null,null,null,null,null,null,0,null,null,0]
[null,null,null,null,null,null,null,null,null,null,0,null,null,0]
[null,null,null,null,null,null,null,null,null,null,0,null,null,0]
[null,null,null,null,null,null,null,null,null,null,0,null,null,0]
[null,null,null,null,null,null,null,null,null,null,0,null,null,0]
[null,null,null,null,null,null,null,null,null,null,0,null,null,0]
[null,null,null,null,null,null,null,null,null,null,0,null,null,0]
[null,null,null,null,null,null,null,null,null,null,0,null,null,0]
[null,null,null,null,null,null,null,null,null,null,0,null,null,0]
[null,null,null,null,null,null,null,null,null,null,0,null,null,0]
[null,null,null,null,null,null,null,null,null,null,0,null,null,0]
[null,null,null,null,null,null,null,null,null,null,0,null,null,0]
[null,null,null,null,null,null,null,null,null,null,0,null,null,0]
[null,null,null,null,null,null,null,null,null,null,0,null,null,0]
[null,null,null,null,null,null,null,null,null,null,0,null,null,0]
[null,null,null,null,null,null,null,null,null,null,0,null,null,0]
[null,null,null,null,null,null,null,null,null,null,0,null,null,0]
[null,null,null,null,null,null,null,null,null,null,0,null,null,0]
[null,null,null,null,null,null,null,null,null,null,0,null,null,0]
[null,null,null,null,null,null,null,null,null,null,0,null,null,0]
[null,null,null,null,null,null,null,null,null,null,0,null,null,0]
[null,null,null,null,null,null,null,null,null,null,0,null,null,0]
[null,null,null,null,null,null,null,null,null,null,0,null,null,0]
[null,null,null,null,null,null,null,null,null,null,0,null,null,0]
[null,null,null,null,null,null,null,null,null,null,0,null,null,0]
[null,null,null,null,null,null,null,null,null,null,0,null,null,0]
[null,null,null,null,null,null,null,null,null,null,0,null,null,0]
[null,null,null,null,null,null,null,null,null,null,0,null,null,0]
[null,null,null,null,null,null,null,null,null,null,0,null,null,0]
[null,null,null,null,null,null,null,null,null,null,0,null,null,0]
[null,null,null,null,null,null,null,null,null,null,0,null,null,0]
[null,null,null,null,null,null,null,null,null,null,0,null,null,0]
[null,null,null,null,null,null,null,null,null,null,0,null,null,0]
[null,null,null,null,null,null,null,null,null,null,{"$f":"G334*$K$6","v":0},null,null,{"$f":"IF(D334=\"SŽ\",0,IF(D334=\"Ostatní\",0,IF(D334=\"\",0,1)))","v":0}]
[null,null,null,null,null,null,null,null,null,null,0,null,null,0]
[null,null,null,null,null,null,null,null,null,null,0,null,null,0]
[null,null,null,null,null,null,null,null,null,null,0,null,null,0]
[null,null,null,null,null,null,null,null,null,null,0,null,null,0]
[null,null,null,null,null,null,null,null,null,null,0,null,null,0]
[null,null,null,null,null,null,null,null,null,null,0,null,null,0]
[null,null,null,null,null,null,null,null,null,null,0,null,null,0]
[null,null,null,null,null,null,null,null,null,null,0,null,null,0]
[null,null,null,null,null,null,null,null,null,null,0,null,null,0]
[null,null,null,null,null,null,null,null,null,null,0,null,null,0]
[null,null,null,null,null,null,null,null,null,null,0,null,null,0]
[null,null,null,null,null,null,null,null,null,null,0,null,null,0]
[null,null,null,null,null,null,null,null,null,null,0,null,null,0]
[null,null,null,null,null,null,null,null,null,null,0,null,null,0]
[null,null,null,null,null,null,null,null,null,null,0,null,null,0]
[null,null,null,null,null,null,null,null,null,null,0,null,null,0]
[null,null,null,null,null,null,null,null,null,null,0,null,null,0]
[null,null,null,null,null,null,null,null,null,null,0,null,null,0]
[null,null,null,null,null,null,null,null,null,null,0,null,null,0]
[null,null,null,null,null,null,null,null,null,null,0,null,null,0]
[null,null,null,null,null,null,null,null,null,null,0,null,null,0]
[null,null,null,null,null,null,null,null,null,null,0,null,null,0]
[null,null,null,null,null,null,null,null,null,null,0,null,null,0]
[null,null,null,null,null,null,null,null,null,null,0,null,null,0]
[null,null,null,null,null,null,null,null,null,null,0,null,null,0]
[null,null,null,null,null,null,null,null,null,null,0,null,null,0]
[null,null,null,null,null,null,null,null,null,null,0,null,null,0]
[null,null,null,null,null,null,null,null,null,null,0,null,null,0]
[null,null,null,null,null,null,null,null,null,null,0,null,null,0]
[null,null,null,null,null,null,null,null,null,null,0,null,null,0]
[null,null,null,null,null,null,null,null,null,null,0,null,null,0]
[null,null,null,null,null,null,null,null,null,null,0,null,null,0]
[null,null,null,null,null,null,null,null,null,null,0,null,null,0]
[null,null,null,null,null,null,null,null,null,null,0,null,null,0]
[null,null,null,null,null,null,null,null,null,null,0,null,null,0]
[null,null,null,null,null,null,null,null,null,null,0,null,null,0]
[null,null,null,null,null,null,null,null,null,null,0,null,null,0]
[null,null,null,null,null,null,null,null,null,null,0,null,null,0]
[null,null,null,null,null,null,null,null,null,null,0,null,null,0]
[null,null,null,null,null,null,null,null,null,null,0,null,null,0]
[null,null,null,null,null,null,null,null,null,null,0,null,null,0]
[null,null,null,null,null,null,null,null,null,null,0,null,null,0]
[null,null,null,null,null,null,null,null,null,null,0,null,null,0]
[null,null,null,null,null,null,null,null,null,null,0,null,null,0]
[null,null,null,null,null,null,null,null,null,null,0,null,null,0]
[null,null,null,null,null,null,null,null,null,null,0,null,null,0]
[null,null,null,null,null,null,null,null,null,null,0,null,null,0]
[null,null,null,null,null,null,null,null,null,null,0,null,null,0]
[null,null,null,null,null,null,null,null,null,null,0,null,null,0]
[null,null,null,null,null,null,null,null,null,null,0,null,null,0]
[null,null,null,null,null,null,null,null,null,null,0,null,null,0]
[null,null,null,null,null,null,null,null,null,null,0,null,null,0]
[null,null,null,null,null,null,null,null,null,null,0,null,null,0]
[null,null,null,null,null,null,null,null,null,null,0,null,null,0]
[null,null,null,null,null,null,null,null,null,null,0,null,null,0]
[null,null,null,null,null,null,null,null,null,null,0,null,null,0]
[null,null,null,null,null,null,null,null,null,null,0,null,null,0]
[null,null,null,null,null,null,null,null,null,null,0,null,null,0]
[null,null,null,null,null,null,null,null,null,null,0,null,null,0]
[null,null,null,null,null,null,null,null,null,null,0,null,null,0]
[null,null,null,null,null,null,null,null,null,null,0,null,null,0]
[null,null,null,null,null,null,null,null,null,null,0,null,null,0]
[null,null,null,null,null,null,null,null,null,null,0,null,null,0]
[null,null,null,null,null,null,null,null,null,null,{"$f":"G398*$K$6","v":0},null,null,{"$f":"IF(D398=\"SŽ\",0,IF(D398=\"Ostatní\",0,IF(D398=\"\",0,1)))","v":0}]
[null,null,null,null,null,null,null,null,null,null,0,null,null,0]
[null,null,null,null,null,null,null,null,null,null,0,null,null,0]
[null,null,null,null,null,null,null,null,null,null,0,null,null,0]
[null,null,null,null,null,null,null,null,null,null,0,null,null,0]
[null,null,null,null,null,null,null,null,null,null,0,null,null,0]
[null,null,null,null,null,null,null,null,null,null,0,null,null,0]
[null,null,null,null,null,null,null,null,null,null,0,null,null,0]
[null,null,null,null,null,null,null,null,null,null,0,null,null,0]
[null,null,null,null,null,null,null,null,null,null,0,null,null,0]
[null,null,null,null,null,null,null,null,null,null,0,null,null,0]
[null,null,null,null,null,null,null,null,null,null,0,null,null,0]
[null,null,null,null,null,null,null,null,null,null,0,null,null,0]
[null,null,null,null,null,null,null,null,null,null,0,null,null,0]
[null,null,null,null,null,null,null,null,null,null,0,null,null,0]
[null,null,null,null,null,null,null,null,null,null,0,null,null,0]
[null,null,null,null,null,null,null,null,null,null,0,null,null,0]
[null,null,null,null,null,null,null,null,null,null,0,null,null,0]
[null,null,null,null,null,null,null,null,null,null,0,null,null,0]
[null,null,null,null,null,null,null,null,null,null,0,null,null,0]
[null,null,null,null,null,null,null,null,null,null,0,null,null,0]
[null,null,null,null,null,null,null,null,null,null,0,null,null,0]
[null,null,null,null,null,null,null,null,null,null,0,null,null,0]
[null,null,null,null,null,null,null,null,null,null,0,null,null,0]
[null,null,null,null,null,null,null,null,null,null,0,null,null,0]
[null,null,null,null,null,null,null,null,null,null,0,null,null,0]
[null,null,null,null,null,null,null,null,null,null,0,null,null,0]
[null,null,null,null,null,null,null,null,null,null,0,null,null,0]
[null,null,null,null,null,null,null,null,null,null,0,null,null,0]
[null,null,null,null,null,null,null,null,null,null,0,null,null,0]
[null,null,null,null,null,null,null,null,null,null,0,null,null,0]
[null,null,null,null,null,null,null,null,null,null,0,null,null,0]
[null,null,null,null,null,null,null,null,null,null,0,null,null,0]
[null,null,null,null,null,null,null,null,null,null,0,null,null,0]
[null,null,null,null,null,null,null,null,null,null,0,null,null,0]
[null,null,null,null,null,null,null,null,null,null,0,null,null,0]
[null,null,null,null,null,null,null,null,null,null,0,null,null,0]
[null,null,null,null,null,null,null,null,null,null,0,null,null,0]
[null,null,null,null,null,null,null,null,null,null,0,null,null,0]
[null,null,null,null,null,null,null,null,null,null,0,null,null,0]
[null,null,null,null,null,null,null,null,null,null,0,null,null,0]
[null,null,null,null,null,null,null,null,null,null,0,null,null,0]
[null,null,null,null,null,null,null,null,null,null,0,null,null,0]
[null,null,null,null,null,null,null,null,null,null,0,null,null,0]
[null,null,null,null,null,null,null,null,null,null,0,null,null,0]
[null,null,null,null,null,null,null,null,null,null,0,null,null,0]
[null,null,null,null,null,null,null,null,null,null,0,null,null,0]
[null,null,null,null,null,null,null,null,null,null,0,null,null,0]
[null,null,null,null,null,null,null,null,null,null,0,null,null,0]
[null,null,null,null,null,null,null,null,null,null,0,null,null,0]
[null,null,null,null,null,null,null,null,null,null,0,null,null,0]
[null,null,null,null,null,null,null,null,null,null,0,null,null,0]
[null,null,null,null,null,null,null,null,null,null,0,null,null,0]
[null,null,null,null,null,null,null,null,null,null,0,null,null,0]
[null,null,null,null,null,null,null,null,null,null,0,null,null,0]
[null,null,null,null,null,null,null,null,null,null,0,null,null,0]
[null,null,null,null,null,null,null,null,null,null,0,null,null,0]
[null,null,null,null,null,null,null,null,null,null,0,null,null,0]
[null,null,null,null,null,null,null,null,null,null,0,null,null,0]
[null,null,null,null,null,null,null,null,null,null,0,null,null,0]
[null,null,null,null,null,null,null,null,null,null,0,null,null,0]
[null,null,null,null,null,null,null,null,null,null,0,null,null,0]
[null,null,null,null,null,null,null,null,null,null,0,null,null,0]
[null,null,null,null,null,null,null,null,null,null,0,null,null,0]
[null,null,null,null,null,null,null,null,null,null,{"$f":"G462*$K$6","v":0},null,null,{"$f":"IF(D462=\"SŽ\",0,IF(D462=\"Ostatní\",0,IF(D462=\"\",0,1)))","v":0}]
[null,null,null,null,null,null,null,null,null,null,0,null,null,0]
[null,null,null,null,null,null,null,null,null,null,0,null,null,0]
[null,null,null,null,null,null,null,null,null,null,0,null,null,0]
[null,null,null,null,null,null,null,null,null,null,0,null,null,0]
[null,null,null,null,null,null,null,null,null,null,0,null,null,0]
[null,null,null,null,null,null,null,null,null,null,0,null,null,0]
[null,null,null,null,null,null,null,null,null,null,0,null,null,0]
[null,null,null,null,null,null,null,null,null,null,0,null,null,0]
[null,null,null,null,null,null,null,null,null,null,0,null,null,0]
[null,null,null,null,null,null,null,null,null,null,0,null,null,0]
[null,null,null,null,null,null,null,null,null,null,0,null,null,0]
[null,null,null,null,null,null,null,null,null,null,0,null,null,0]
[null,null,null,null,null,null,null,null,null,null,0,null,null,0]
[null,null,null,null,null,null,null,null,null,null,0,null,null,0]
[null,null,null,null,null,null,null,null,null,null,0,null,null,0]
[null,null,null,null,null,null,null,null,null,null,0,null,null,0]
[null,null,null,null,null,null,null,null,null,null,0,null,null,0]
[null,null,null,null,null,null,null,null,null,null,0,null,null,0]
[null,null,null,null,null,null,null,null,null,null,0,null,null,0]
[null,null,null,null,null,null,null,null,null,null,0,null,null,0]
[null,null,null,null,null,null,null,null,null,null,0,null,null,0]
[null,null,null,null,null,null,null,null,null,null,0,null,null,0]
[null,null,null,null,null,null,null,null,null,null,0,null,null,0]
[null,null,null,null,null,null,null,null,null,null,0,null,null,0]
[null,null,null,null,null,null,null,null,null,null,0,null,null,0]
[null,null,null,null,null,null,null,null,null,null,0,null,null,0]
[null,null,null,null,null,null,null,null,null,null,0,null,null,0]
[null,null,null,null,null,null,null,null,null,null,0,null,null,0]
[null,null,null,null,null,null,null,null,null,null,0,null,null,0]
[null,null,null,null,null,null,null,null,null,null,0,null,null,0]
[null,null,null,null,null,null,null,null,null,null,0,null,null,0]
[null,null,null,null,null,null,null,null,null,null,0,null,null,0]
[null,null,null,null,null,null,null,null,null,null,0,null,null,0]
[null,null,null,null,null,null,null,null,null,null,0,null,null,0]
[null,null,null,null,null,null,null,null,null,null,0,null,null,0]
[null,null,null,null,null,null,null,null,null,null,0,null,null,0]
[null,null,null,null,null,null,null,null,null,null,0,null,null,0]
[null,null,null,null,null,null,null,null,null,null,0,null,null,0]
[null,null,null,null,null,null,null,null,null,null,0,null,null,0]
[null,null,null,null,null,null,null,null,null,null,0,null,null,0]
[null,null,null,null,null,null,null,null,null,null,0,null,null,0]
[null,null,null,null,null,null,null,null,null,null,0,null,null,0]
[null,null,null,null,null,null,null,null,null,null,0,null,null,0]
[null,null,null,null,null,null,null,null,null,null,0,null,null,0]
[null,null,null,null,null,null,null,null,null,null,0,null,null,0]
[null,null,null,null,null,null,null,null,null,null,0,null,null,0]
[null,null,null,null,null,null,null,null,null,null,0,null,null,0]
[null,null,null,null,null,null,null,null,null,null,0,null,null,0]
[null,null,null,null,null,null,null,null,null,null,0,null,null,0]
[null,null,null,null,null,null,null,null,null,null,0,null,null,0]
[null,null,null,null,null,null,null,null,null,null,0,null,null,0]
[null,null,null,null,null,null,null,null,null,null,0,null,null,0]
[null,null,null,null,null,null,null,null,null,null,0,null,null,0]
[null,null,null,null,null,null,null,null,null,null,0,null,null,0]
[null,null,null,null,null,null,null,null,null,null,0,null,null,0]
[null,null,null,null,null,null,null,null,null,null,0,null,null,0]
[null,null,null,null,null,null,null,null,null,null,0,null,null,0]
[null,null,null,null,null,null,null,null,null,null,0,null,null,0]
[null,null,null,null,null,null,null,null,null,null,0,null,null,0]
[null,null,null,null,null,null,null,null,null,null,0,null,null,0]
[null,null,null,null,null,null,null,null,null,null,0,null,null,0]
[null,null,null,null,null,null,null,null,null,null,0,null,null,0]
[null,null,null,null,null,null,null,null,null,null,0,null,null,0]
[null,null,null,null,null,null,null,null,null,null,{"$f":"G526*$K$6","v":0},null,null,{"$f":"IF(D526=\"SŽ\",0,IF(D526=\"Ostatní\",0,IF(D526=\"\",0,1)))","v":0}]
[null,null,null,null,null,null,null,null,null,null,0,null,null,0]
[null,null,null,null,null,null,null,null,null,null,0,null,null,0]
[null,null,null,null,null,null,null,null,null,null,0,null,null,0]
[null,null,null,null,null,null,null,null,null,null,0,null,null,0]
[null,null,null,null,null,null,null,null,null,null,0,null,null,0]
[null,null,null,null,null,null,null,null,null,null,0,null,null,0]
[null,null,null,null,null,null,null,null,null,null,0,null,null,0]
[null,null,null,null,null,null,null,null,null,null,0,null,null,0]
[null,null,null,null,null,null,null,null,null,null,0,null,null,0]
[null,null,null,null,null,null,null,null,null,null,0,null,null,0]
[null,null,null,null,null,null,null,null,null,null,0,null,null,0]
[null,null,null,null,null,null,null,null,null,null,0,null,null,0]
[null,null,null,null,null,null,null,null,null,null,0,null,null,0]
[null,null,null,null,null,null,null,null,null,null,0,null,null,0]
[null,null,null,null,null,null,null,null,null,null,0,null,null,0]
[null,null,null,null,null,null,null,null,null,null,0,null,null,0]
[null,null,null,null,null,null,null,null,null,null,0,null,null,0]
[null,null,null,null,null,null,null,null,null,null,0,null,null,0]
[null,null,null,null,null,null,null,null,null,null,0,null,null,0]
[null,null,null,null,null,null,null,null,null,null,0,null,null,0]
[null,null,null,null,null,null,null,null,null,null,0,null,null,0]
[null,null,null,null,null,null,null,null,null,null,0,null,null,0]
[null,null,null,null,null,null,null,null,null,null,0,null,null,0]
[null,null,null,null,null,null,null,null,null,null,0,null,null,0]
[null,null,null,null,null,null,null,null,null,null,0,null,null,0]
[null,null,null,null,null,null,null,null,null,null,0,null,null,0]
[null,null,null,null,null,null,null,null,null,null,0,null,null,0]
[null,null,null,null,null,null,null,null,null,null,0,null,null,0]
[null,null,null,null,null,null,null,null,null,null,0,null,null,0]
[null,null,null,null,null,null,null,null,null,null,0,null,null,0]
[null,null,null,null,null,null,null,null,null,null,0,null,null,0]
[null,null,null,null,null,null,null,null,null,null,0,null,null,0]
[null,null,null,null,null,null,null,null,null,null,0,null,null,0]
[null,null,null,null,null,null,null,null,null,null,0,null,null,0]
[null,null,null,null,null,null,null,null,null,null,0,null,null,0]
[null,null,null,null,null,null,null,null,null,null,0,null,null,0]
[null,null,null,null,null,null,null,null,null,null,0,null,null,0]
[null,null,null,null,null,null,null,null,null,null,0,null,null,0]
[null,null,null,null,null,null,null,null,null,null,0,null,null,0]
[null,null,null,null,null,null,null,null,null,null,0,null,null,0]
[null,null,null,null,null,null,null,null,null,null,0,null,null,0]
[null,null,null,null,null,null,null,null,null,null,0,null,null,0]
[null,null,null,null,null,null,null,null,null,null,0,null,null,0]
[null,null,null,null,null,null,null,null,null,null,0,null,null,0]
[null,null,null,null,null,null,null,null,null,null,0,null,null,0]
[null,null,null,null,null,null,null,null,null,null,0,null,null,0]
[null,null,null,null,null,null,null,null,null,null,0,null,null,0]
[null,null,null,null,null,null,null,null,null,null,0,null,null,0]
[null,null,null,null,null,null,null,null,null,null,0,null,null,0]
[null,null,null,null,null,null,null,null,null,null,0,null,null,0]
[null,null,null,null,null,null,null,null,null,null,0,null,null,0]
[null,null,null,null,null,null,null,null,null,null,0,null,null,0]
[null,null,null,null,null,null,null,null,null,null,0,null,null,0]
[null,null,null,null,null,null,null,null,null,null,0,null,null,0]
[null,null,null,null,null,null,null,null,null,null,0,null,null,0]
[null,null,null,null,null,null,null,null,null,null,0,null,null,0]
[null,null,null,null,null,null,null,null,null,null,0,null,null,0]
[null,null,null,null,null,null,null,null,null,null,0,null,null,0]
[null,null,null,null,null,null,null,null,null,null,0,null,null,0]
[null,null,null,null,null,null,null,null,null,null,0,null,null,0]
[null,null,null,null,null,null,null,null,null,null,0,null,null,0]
[null,null,null,null,null,null,null,null,null,null,0,null,null,0]
[null,null,null,null,null,null,null,null,null,null,0,null,null,0]
[null,null,null,null,null,null,null,null,null,null,{"$f":"G590*$K$6","v":0},null,null,{"$f":"IF(D590=\"SŽ\",0,IF(D590=\"Ostatní\",0,IF(D590=\"\",0,1)))","v":0}]
[null,null,null,null,null,null,null,null,null,null,0,null,null,0]
[null,null,null,null,null,null,null,null,null,null,0,null,null,0]
[null,null,null,null,null,null,null,null,null,null,0,null,null,0]
[null,null,null,null,null,null,null,null,null,null,0,null,null,0]
[null,null,null,null,null,null,null,null,null,null,0,null,null,0]
[null,null,null,null,null,null,null,null,null,null,0,null,null,0]
[null,null,null,null,null,null,null,null,null,null,0,null,null,0]
[null,null,null,null,null,null,null,null,null,null,0,null,null,0]
[null,null,null,null,null,null,null,null,null,null,0,null,null,0]
[null,null,null,null,null,null,null,null,null,null,0,null,null,0]
[null,null,null,null,null,null,null,null,null,null,0,null,null,0]
[null,null,null,null,null,null,null,null,null,null,0,null,null,0]
[null,null,null,null,null,null,null,null,null,null,0,null,null,0]
[null,null,null,null,null,null,null,null,null,null,0,null,null,0]
[null,null,null,null,null,null,null,null,null,null,0,null,null,0]
[null,null,null,null,null,null,null,null,null,null,0,null,null,0]
[null,null,null,null,null,null,null,null,null,null,0,null,null,0]
[null,null,null,null,null,null,null,null,null,null,0,null,null,0]
[null,null,null,null,null,null,null,null,null,null,0,null,null,0]
[null,null,null,null,null,null,null,null,null,null,0,null,null,0]
[null,null,null,null,null,null,null,null,null,null,0,null,null,0]
[null,null,null,null,null,null,null,null,null,null,0,null,null,0]
[null,null,null,null,null,null,null,null,null,null,0,null,null,0]
[null,null,null,null,null,null,null,null,null,null,0,null,null,0]
[null,null,null,null,null,null,null,null,null,null,0,null,null,0]
[null,null,null,null,null,null,null,null,null,null,0,null,null,0]
[null,null,null,null,null,null,null,null,null,null,0,null,null,0]
[null,null,null,null,null,null,null,null,null,null,0,null,null,0]
[null,null,null,null,null,null,null,null,null,null,0,null,null,0]
[null,null,null,null,null,null,null,null,null,null,0,null,null,0]
[null,null,null,null,null,null,null,null,null,null,0,null,null,0]
[null,null,null,null,null,null,null,null,null,null,0,null,null,0]
[null,null,null,null,null,null,null,null,null,null,0,null,null,0]
[null,null,null,null,null,null,null,null,null,null,0,null,null,0]
[null,null,null,null,null,null,null,null,null,null,0,null,null,0]
[null,null,null,null,null,null,null,null,null,null,0,null,null,0]
[null,null,null,null,null,null,null,null,null,null,0,null,null,0]
[null,null,null,null,null,null,null,null,null,null,0,null,null,0]
[null,null,null,null,null,null,null,null,null,null,0,null,null,0]
[null,null,null,null,null,null,null,null,null,null,0,null,null,0]
[null,null,null,null,null,null,null,null,null,null,0,null,null,0]
[null,null,null,null,null,null,null,null,null,null,0,null,null,0]
[null,null,null,null,null,null,null,null,null,null,0,null,null,0]
[null,null,null,null,null,null,null,null,null,null,0,null,null,0]
[null,null,null,null,null,null,null,null,null,null,0,null,null,0]
[null,null,null,null,null,null,null,null,null,null,0,null,null,0]
[null,null,null,null,null,null,null,null,null,null,0,null,null,0]
[null,null,null,null,null,null,null,null,null,null,0,null,null,0]
[null,null,null,null,null,null,null,null,null,null,0,null,null,0]
[null,null,null,null,null,null,null,null,null,null,0,null,null,0]
[null,null,null,null,null,null,null,null,null,null,0,null,null,0]
[null,null,null,null,null,null,null,null,null,null,0,null,null,0]
[null,null,null,null,null,null,null,null,null,null,0,null,null,0]
[null,null,null,null,null,null,null,null,null,null,0,null,null,0]
[null,null,null,null,null,null,null,null,null,null,0,null,null,0]
[null,null,null,null,null,null,null,null,null,null,0,null,null,0]
[null,null,null,null,null,null,null,null,null,null,0,null,null,0]
[null,null,null,null,null,null,null,null,null,null,0,null,null,0]
[null,null,null,null,null,null,null,null,null,null,0,null,null,0]
[null,null,null,null,null,null,null,null,null,null,0,null,null,0]
[null,null,null,null,null,null,null,null,null,null,0,null,null,0]
[null,null,null,null,null,null,null,null,null,null,0,null,null,0]
[null,null,null,null,null,null,null,null,null,null,0,null,null,0]
[null,null,null,null,null,null,null,null,null,null,{"$f":"G654*$K$6","v":0},null,null,{"$f":"IF(D654=\"SŽ\",0,IF(D654=\"Ostatní\",0,IF(D654=\"\",0,1)))","v":0}]
[null,null,null,null,null,null,null,null,null,null,0,null,null,0]
[null,null,null,null,null,null,null,null,null,null,0,null,null,0]
[null,null,null,null,null,null,null,null,null,null,0,null,null,0]
[null,null,null,null,null,null,null,null,null,null,0,null,null,0]
[null,null,null,null,null,null,null,null,null,null,0,null,null,0]
[null,null,null,null,null,null,null,null,null,null,0,null,null,0]
[null,null,null,null,null,null,null,null,null,null,0,null,null,0]
[null,null,null,null,null,null,null,null,null,null,0,null,null,0]
[null,null,null,null,null,null,null,null,null,null,0,null,null,0]
[null,null,null,null,null,null,null,null,null,null,0,null,null,0]
[null,null,null,null,null,null,null,null,null,null,0,null,null,0]
[null,null,null,null,null,null,null,null,null,null,0,null,null,0]
[null,null,null,null,null,null,null,null,null,null,0,null,null,0]
[null,null,null,null,null,null,null,null,null,null,0,null,null,0]
[null,null,null,null,null,null,null,null,null,null,0,null,null,0]
[null,null,null,null,null,null,null,null,null,null,0,null,null,0]
[null,null,null,null,null,null,null,null,null,null,0,null,null,0]
[null,null,null,null,null,null,null,null,null,null,0,null,null,0]
[null,null,null,null,null,null,null,null,null,null,0,null,null,0]
[null,null,null,null,null,null,null,null,null,null,0,null,null,0]
[null,null,null,null,null,null,null,null,null,null,0,null,null,0]
[null,null,null,null,null,null,null,null,null,null,0,null,null,0]
[null,null,null,null,null,null,null,null,null,null,0,null,null,0]
[null,null,null,null,null,null,null,null,null,null,0,null,null,0]
[null,null,null,null,null,null,null,null,null,null,0,null,null,0]
[null,null,null,null,null,null,null,null,null,null,0,null,null,0]
[null,null,null,null,null,null,null,null,null,null,0,null,null,0]
[null,null,null,null,null,null,null,null,null,null,0,null,null,0]
[null,null,null,null,null,null,null,null,null,null,0,null,null,0]
[null,null,null,null,null,null,null,null,null,null,0,null,null,0]
[null,null,null,null,null,null,null,null,null,null,0,null,null,0]
[null,null,null,null,null,null,null,null,null,null,0,null,null,0]
[null,null,null,null,null,null,null,null,null,null,0,null,null,0]
[null,null,null,null,null,null,null,null,null,null,0,null,null,0]
[null,null,null,null,null,null,null,null,null,null,0,null,null,0]
[null,null,null,null,null,null,null,null,null,null,0,null,null,0]
[null,null,null,null,null,null,null,null,null,null,0,null,null,0]
[null,null,null,null,null,null,null,null,null,null,0,null,null,0]
[null,null,null,null,null,null,null,null,null,null,0,null,null,0]
[null,null,null,null,null,null,null,null,null,null,0,null,null,0]
[null,null,null,null,null,null,null,null,null,null,0,null,null,0]
[null,null,null,null,null,null,null,null,null,null,0,null,null,0]
[null,null,null,null,null,null,null,null,null,null,0,null,null,0]
[null,null,null,null,null,null,null,null,null,null,0,null,null,0]
[null,null,null,null,null,null,null,null,null,null,0,null,null,0]
[null,null,null,null,null,null,null,null,null,null,0,null,null,0]
[null,null,null,null,null,null,null,null,null,null,0,null,null,0]
[null,null,null,null,null,null,null,null,null,null,0,null,null,0]
[null,null,null,null,null,null,null,null,null,null,0,null,null,0]
[null,null,null,null,null,null,null,null,null,null,0,null,null,0]
[null,null,null,null,null,null,null,null,null,null,0,null,null,0]
[null,null,null,null,null,null,null,null,null,null,0,null,null,0]
[null,null,null,null,null,null,null,null,null,null,0,null,null,0]
[null,null,null,null,null,null,null,null,null,null,0,null,null,0]
[null,null,null,null,null,null,null,null,null,null,0,null,null,0]
[null,null,null,null,null,null,null,null,null,null,0,null,null,0]
[null,null,null,null,null,null,null,null,null,null,0,null,null,0]
[null,null,null,null,null,null,null,null,null,null,0,null,null,0]
[null,null,null,null,null,null,null,null,null,null,0,null,null,0]
[null,null,null,null,null,null,null,null,null,null,0,null,null,0]
[null,null,null,null,null,null,null,null,null,null,0,null,null,0]
[null,null,null,null,null,null,null,null,null,null,0,null,null,0]
[null,null,null,null,null,null,null,null,null,null,0,null,null,0]
[null,null,null,null,null,null,null,null,null,null,{"$f":"G718*$K$6","v":0},null,null,{"$f":"IF(D718=\"SŽ\",0,IF(D718=\"Ostatní\",0,IF(D718=\"\",0,1)))","v":0}]
[null,null,null,null,null,null,null,null,null,null,0,null,null,0]
[null,null,null,null,null,null,null,null,null,null,0,null,null,0]
[null,null,null,null,null,null,null,null,null,null,0,null,null,0]
[null,null,null,null,null,null,null,null,null,null,0,null,null,0]
[null,null,null,null,null,null,null,null,null,null,0,null,null,0]
[null,null,null,null,null,null,null,null,null,null,0,null,null,0]
[null,null,null,null,null,null,null,null,null,null,0,null,null,0]
[null,null,null,null,null,null,null,null,null,null,0,null,null,0]
[null,null,null,null,null,null,null,null,null,null,0,null,null,0]
[null,null,null,null,null,null,null,null,null,null,0,null,null,0]
[null,null,null,null,null,null,null,null,null,null,0,null,null,0]
[null,null,null,null,null,null,null,null,null,null,0,null,null,0]
[null,null,null,null,null,null,null,null,null,null,0,null,null,0]
[null,null,null,null,null,null,null,null,null,null,0,null,null,0]
[null,null,null,null,null,null,null,null,null,null,0,null,null,0]
[null,null,null,null,null,null,null,null,null,null,0,null,null,0]
[null,null,null,null,null,null,null,null,null,null,0,null,null,0]
[null,null,null,null,null,null,null,null,null,null,0,null,null,0]
[null,null,null,null,null,null,null,null,null,null,0,null,null,0]
[null,null,null,null,null,null,null,null,null,null,0,null,null,0]
[null,null,null,null,null,null,null,null,null,null,0,null,null,0]
[null,null,null,null,null,null,null,null,null,null,0,null,null,0]
[null,null,null,null,null,null,null,null,null,null,0,null,null,0]
[null,null,null,null,null,null,null,null,null,null,0,null,null,0]
[null,null,null,null,null,null,null,null,null,null,0,null,null,0]
[null,null,null,null,null,null,null,null,null,null,0,null,null,0]
[null,null,null,null,null,null,null,null,null,null,0,null,null,0]
[null,null,null,null,null,null,null,null,null,null,0,null,null,0]
[null,null,null,null,null,null,null,null,null,null,0,null,null,0]
[null,null,null,null,null,null,null,null,null,null,0,null,null,0]
[null,null,null,null,null,null,null,null,null,null,0,null,null,0]
[null,null,null,null,null,null,null,null,null,null,0,null,null,0]
[null,null,null,null,null,null,null,null,null,null,0,null,null,0]
[null,null,null,null,null,null,null,null,null,null,0,null,null,0]
[null,null,null,null,null,null,null,null,null,null,0,null,null,0]
[null,null,null,null,null,null,null,null,null,null,0,null,null,0]
[null,null,null,null,null,null,null,null,null,null,0,null,null,0]
[null,null,null,null,null,null,null,null,null,null,0,null,null,0]
[null,null,null,null,null,null,null,null,null,null,0,null,null,0]
[null,null,null,null,null,null,null,null,null,null,0,null,null,0]
[null,null,null,null,null,null,null,null,null,null,0,null,null,0]
[null,null,null,null,null,null,null,null,null,null,0,null,null,0]
[null,null,null,null,null,null,null,null,null,null,0,null,null,0]
[null,null,null,null,null,null,null,null,null,null,0,null,null,0]
[null,null,null,null,null,null,null,null,null,null,0,null,null,0]
[null,null,null,null,null,null,null,null,null,null,0,null,null,0]
[null,null,null,null,null,null,null,null,null,null,0,null,null,0]
[null,null,null,null,null,null,null,null,null,null,0,null,null,0]
[null,null,null,null,null,null,null,null,null,null,0,null,null,0]
[null,null,null,null,null,null,null,null,null,null,0,null,null,0]
[null,null,null,null,null,null,null,null,null,null,0,null,null,0]
[null,null,null,null,null,null,null,null,null,null,0,null,null,0]
[null,null,null,null,null,null,null,null,null,null,0,null,null,0]
[null,null,null,null,null,null,null,null,null,null,0,null,null,0]
[null,null,null,null,null,null,null,null,null,null,0,null,null,0]
[null,null,null,null,null,null,null,null,null,null,0,null,null,0]
[null,null,null,null,null,null,null,null,null,null,0,null,null,0]
[null,null,null,null,null,null,null,null,null,null,0,null,null,0]
[null,null,null,null,null,null,null,null,null,null,0,null,null,0]
[null,null,null,null,null,null,null,null,null,null,0,null,null,0]
[null,null,null,null,null,null,null,null,null,null,0,null,null,0]
[null,null,null,null,null,null,null,null,null,null,0,null,null,0]
[null,null,null,null,null,null,null,null,null,null,0,null,null,0]
[null,null,null,null,null,null,null,null,null,null,{"$f":"G782*$K$6","v":0},null,null,{"$f":"IF(D782=\"SŽ\",0,IF(D782=\"Ostatní\",0,IF(D782=\"\",0,1)))","v":0}]
[null,null,null,null,null,null,null,null,null,null,0,null,null,0]
[null,null,null,null,null,null,null,null,null,null,0,null,null,0]
[null,null,null,null,null,null,null,null,null,null,0,null,null,0]
[null,null,null,null,null,null,null,null,null,null,0,null,null,0]
[null,null,null,null,null,null,null,null,null,null,0,null,null,0]
[null,null,null,null,null,null,null,null,null,null,0,null,null,0]
[null,null,null,null,null,null,null,null,null,null,0,null,null,0]
[null,null,null,null,null,null,null,null,null,null,0,null,null,0]
[null,null,null,null,null,null,null,null,null,null,0,null,null,0]
[null,null,null,null,null,null,null,null,null,null,0,null,null,0]
[null,null,null,null,null,null,null,null,null,null,0,null,null,0]
[null,null,null,null,null,null,null,null,null,null,0,null,null,0]
[null,null,null,null,null,null,null,null,null,null,0,null,null,0]
[null,null,null,null,null,null,null,null,null,null,0,null,null,0]
[null,null,null,null,null,null,null,null,null,null,0,null,null,0]
[null,null,null,null,null,null,null,null,null,null,0,null,null,0]
[null,null,null,null,null,null,null,null,null,null,0,null,null,0]
[null,null,null,null,null,null,null,null,null,null,0,null,null,0]
[null,null,null,null,null,null,null,null,null,null,0,null,null,0]
[null,null,null,null,null,null,null,null,null,null,0,null,null,0]
[null,null,null,null,null,null,null,null,null,null,0,null,null,0]
[null,null,null,null,null,null,null,null,null,null,0,null,null,0]
[null,null,null,null,null,null,null,null,null,null,0,null,null,0]
[null,null,null,null,null,null,null,null,null,null,0,null,null,0]
[null,null,null,null,null,null,null,null,null,null,0,null,null,0]
[null,null,null,null,null,null,null,null,null,null,0,null,null,0]
[null,null,null,null,null,null,null,null,null,null,0,null,null,0]
[null,null,null,null,null,null,null,null,null,null,0,null,null,0]
[null,null,null,null,null,null,null,null,null,null,0,null,null,0]
[null,null,null,null,null,null,null,null,null,null,0,null,null,0]
[null,null,null,null,null,null,null,null,null,null,0,null,null,0]
[null,null,null,null,null,null,null,null,null,null,0,null,null,0]
[null,null,null,null,null,null,null,null,null,null,0,null,null,0]
[null,null,null,null,null,null,null,null,null,null,0,null,null,0]
[null,null,null,null,null,null,null,null,null,null,0,null,null,0]
[null,null,null,null,null,null,null,null,null,null,0,null,null,0]
[null,null,null,null,null,null,null,null,null,null,0,null,null,0]
[null,null,null,null,null,null,null,null,null,null,0,null,null,0]
[null,null,null,null,null,null,null,null,null,null,0,null,null,0]
[null,null,null,null,null,null,null,null,null,null,0,null,null,0]
[null,null,null,null,null,null,null,null,null,null,0,null,null,0]
[null,null,null,null,null,null,null,null,null,null,0,null,null,0]
[null,null,null,null,null,null,null,null,null,null,0,null,null,0]
[null,null,null,null,null,null,null,null,null,null,0,null,null,0]
[null,null,null,null,null,null,null,null,null,null,0,null,null,0]
[null,null,null,null,null,null,null,null,null,null,0,null,null,0]
[null,null,null,null,null,null,null,null,null,null,0,null,null,0]
[null,null,null,null,null,null,null,null,null,null,0,null,null,0]
[null,null,null,null,null,null,null,null,null,null,0,null,null,0]
[null,null,null,null,null,null,null,null,null,null,0,null,null,0]
[null,null,null,null,null,null,null,null,null,null,0,null,null,0]
[null,null,null,null,null,null,null,null,null,null,0,null,null,0]
[null,null,null,null,null,null,null,null,null,null,0,null,null,0]
[null,null,null,null,null,null,null,null,null,null,0,null,null,0]
[null,null,null,null,null,null,null,null,null,null,0,null,null,0]
[null,null,null,null,null,null,null,null,null,null,0,null,null,0]
[null,null,null,null,null,null,null,null,null,null,0,null,null,0]
[null,null,null,null,null,null,null,null,null,null,0,null,null,0]
[null,null,null,null,null,null,null,null,null,null,0,null,null,0]
[null,null,null,null,null,null,null,null,null,null,0,null,null,0]
[null,null,null,null,null,null,null,null,null,null,0,null,null,0]
[null,null,null,null,null,null,null,null,null,null,0,null,null,0]
[null,null,null,null,null,null,null,null,null,null,0,null,null,0]
[null,null,null,null,null,null,null,null,null,null,{"$f":"G846*$K$6","v":0},null,null,{"$f":"IF(D846=\"SŽ\",0,IF(D846=\"Ostatní\",0,IF(D846=\"\",0,1)))","v":0}]
[null,null,null,null,null,null,null,null,null,null,0,null,null,0]
[null,null,null,null,null,null,null,null,null,null,0,null,null,0]
[null,null,null,null,null,null,null,null,null,null,0,null,null,0]
[null,null,null,null,null,null,null,null,null,null,0,null,null,0]
[null,null,null,null,null,null,null,null,null,null,0,null,null,0]
[null,null,null,null,null,null,null,null,null,null,0,null,null,0]
[null,null,null,null,null,null,null,null,null,null,0,null,null,0]
[null,null,null,null,null,null,null,null,null,null,0,null,null,0]
[null,null,null,null,null,null,null,null,null,null,0,null,null,0]
[null,null,null,null,null,null,null,null,null,null,0,null,null,0]
[null,null,null,null,null,null,null,null,null,null,0,null,null,0]
[null,null,null,null,null,null,null,null,null,null,0,null,null,0]
[null,null,null,null,null,null,null,null,null,null,0,null,null,0]
[null,null,null,null,null,null,null,null,null,null,0,null,null,0]
[null,null,null,null,null,null,null,null,null,null,0,null,null,0]
[null,null,null,null,null,null,null,null,null,null,0,null,null,0]
[null,null,null,null,null,null,null,null,null,null,0,null,null,0]
[null,null,null,null,null,null,null,null,null,null,0,null,null,0]
[null,null,null,null,null,null,null,null,null,null,0,null,null,0]
[null,null,null,null,null,null,null,null,null,null,0,null,null,0]
[null,null,null,null,null,null,null,null,null,null,0,null,null,0]
[null,null,null,null,null,null,null,null,null,null,0,null,null,0]
[null,null,null,null,null,null,null,null,null,null,0,null,null,0]
[null,null,null,null,null,null,null,null,null,null,0,null,null,0]
[null,null,null,null,null,null,null,null,null,null,0,null,null,0]
[null,null,null,null,null,null,null,null,null,null,0,null,null,0]
[null,null,null,null,null,null,null,null,null,null,0,null,null,0]
[null,null,null,null,null,null,null,null,null,null,0,null,null,0]
[null,null,null,null,null,null,null,null,null,null,0,null,null,0]
[null,null,null,null,null,null,null,null,null,null,0,null,null,0]
[null,null,null,null,null,null,null,null,null,null,0,null,null,0]
[null,null,null,null,null,null,null,null,null,null,0,null,null,0]
[null,null,null,null,null,null,null,null,null,null,0,null,null,0]
[null,null,null,null,null,null,null,null,null,null,0,null,null,0]
[null,null,null,null,null,null,null,null,null,null,0,null,null,0]
[null,null,null,null,null,null,null,null,null,null,0,null,null,0]
[null,null,null,null,null,null,null,null,null,null,0,null,null,0]
[null,null,null,null,null,null,null,null,null,null,0,null,null,0]
[null,null,null,null,null,null,null,null,null,null,0,null,null,0]
[null,null,null,null,null,null,null,null,null,null,0,null,null,0]
[null,null,null,null,null,null,null,null,null,null,0,null,null,0]
[null,null,null,null,null,null,null,null,null,null,0,null,null,0]
[null,null,null,null,null,null,null,null,null,null,0,null,null,0]
[null,null,null,null,null,null,null,null,null,null,0,null,null,0]
[null,null,null,null,null,null,null,null,null,null,0,null,null,0]
[null,null,null,null,null,null,null,null,null,null,0,null,null,0]
[null,null,null,null,null,null,null,null,null,null,0,null,null,0]
[null,null,null,null,null,null,null,null,null,null,0,null,null,0]
[null,null,null,null,null,null,null,null,null,null,0,null,null,0]
[null,null,null,null,null,null,null,null,null,null,0,null,null,0]
[null,null,null,null,null,null,null,null,null,null,0,null,null,0]
[null,null,null,null,null,null,null,null,null,null,0,null,null,0]
[null,null,null,null,null,null,null,null,null,null,0,null,null,0]
[null,null,null,null,null,null,null,null,null,null,0,null,null,0]
[null,null,null,null,null,null,null,null,null,null,0,null,null,0]
[null,null,null,null,null,null,null,null,null,null,0,null,null,0]
[null,null,null,null,null,null,null,null,null,null,0,null,null,0]
[null,null,null,null,null,null,null,null,null,null,0,null,null,0]
[null,null,null,null,null,null,null,null,null,null,0,null,null,0]
[null,null,null,null,null,null,null,null,null,null,0,null,null,0]
[null,null,null,null,null,null,null,null,null,null,0,null,null,0]
[null,null,null,null,null,null,null,null,null,null,0,null,null,0]
[null,null,null,null,null,null,null,null,null,null,0,null,null,0]
[null,null,null,null,null,null,null,null,null,null,{"$f":"G910*$K$6","v":0},null,null,{"$f":"IF(D910=\"SŽ\",0,IF(D910=\"Ostatní\",0,IF(D910=\"\",0,1)))","v":0}]
[null,null,null,null,null,null,null,null,null,null,0,null,null,0]
[null,null,null,null,null,null,null,null,null,null,0,null,null,0]
[null,null,null,null,null,null,null,null,null,null,0,null,null,0]
[null,null,null,null,null,null,null,null,null,null,0,null,null,0]
[null,null,null,null,null,null,null,null,null,null,0,null,null,0]
[null,null,null,null,null,null,null,null,null,null,0,null,null,0]
[null,null,null,null,null,null,null,null,null,null,0,null,null,0]
[null,null,null,null,null,null,null,null,null,null,0,null,null,0]
[null,null,null,null,null,null,null,null,null,null,0,null,null,0]
[null,null,null,null,null,null,null,null,null,null,0,null,null,0]
[null,null,null,null,null,null,null,null,null,null,0,null,null,0]
[null,null,null,null,null,null,null,null,null,null,0,null,null,0]
[null,null,null,null,null,null,null,null,null,null,0,null,null,0]
[null,null,null,null,null,null,null,null,null,null,0,null,null,0]
[null,null,null,null,null,null,null,null,null,null,0,null,null,0]
[null,null,null,null,null,null,null,null,null,null,0,null,null,0]
[null,null,null,null,null,null,null,null,null,null,0,null,null,0]
[null,null,null,null,null,null,null,null,null,null,0,null,null,0]
[null,null,null,null,null,null,null,null,null,null,0,null,null,0]
[null,null,null,null,null,null,null,null,null,null,0,null,null,0]
[null,null,null,null,null,null,null,null,null,null,0,null,null,0]
[null,null,null,null,null,null,null,null,null,null,0,null,null,0]
[null,null,null,null,null,null,null,null,null,null,0,null,null,0]
[null,null,null,null,null,null,null,null,null,null,0,null,null,0]
[null,null,null,null,null,null,null,null,null,null,0,null,null,0]
[null,null,null,null,null,null,null,null,null,null,0,null,null,0]
[null,null,null,null,null,null,null,null,null,null,0,null,null,0]
[null,null,null,null,null,null,null,null,null,null,0,null,null,0]
[null,null,null,null,null,null,null,null,null,null,0,null,null,0]
[null,null,null,null,null,null,null,null,null,null,0,null,null,0]
[null,null,null,null,null,null,null,null,null,null,0,null,null,0]
[null,null,null,null,null,null,null,null,null,null,0,null,null,0]
[null,null,null,null,null,null,null,null,null,null,0,null,null,0]
[null,null,null,null,null,null,null,null,null,null,0,null,null,0]
[null,null,null,null,null,null,null,null,null,null,0,null,null,0]
[null,null,null,null,null,null,null,null,null,null,0,null,null,0]
[null,null,null,null,null,null,null,null,null,null,0,null,null,0]
[null,null,null,null,null,null,null,null,null,null,0,null,null,0]
[null,null,null,null,null,null,null,null,null,null,0,null,null,0]
[null,null,null,null,null,null,null,null,null,null,0,null,null,0]
[null,null,null,null,null,null,null,null,null,null,0,null,null,0]
[null,null,null,null,null,null,null,null,null,null,0,null,null,0]
[null,null,null,null,null,null,null,null,null,null,0,null,null,0]
[null,null,null,null,null,null,null,null,null,null,0,null,null,0]
[null,null,null,null,null,null,null,null,null,null,0,null,null,0]
[null,null,null,null,null,null,null,null,null,null,0,null,null,0]
[null,null,null,null,null,null,null,null,null,null,0,null,null,0]
[null,null,null,null,null,null,null,null,null,null,0,null,null,0]
[null,null,null,null,null,null,null,null,null,null,0,null,null,0]
[null,null,null,null,null,null,null,null,null,null,0,null,null,0]
[null,null,null,null,null,null,null,null,null,null,0,null,null,0]
[null,null,null,null,null,null,null,null,null,null,0,null,null,0]
[null,null,null,null,null,null,null,null,null,null,0,null,null,0]
[null,null,null,null,null,null,null,null,null,null,0,null,null,0]
[null,null,null,null,null,null,null,null,null,null,0,null,null,0]
[null,null,null,null,null,null,null,null,null,null,0,null,null,0]
[null,null,null,null,null,null,null,null,null,null,0,null,null,0]
[null,null,null,null,null,null,null,null,null,null,0,null,null,0]
[null,null,null,null,null,null,null,null,null,null,0,null,null,0]
[null,null,null,null,null,null,null,null,null,null,0,null,null,0]
[null,null,null,null,null,null,null,null,null,null,0,null,null,0]
[null,null,null,null,null,null,null,null,null,null,0,null,null,0]
[null,null,null,null,null,null,null,null,null,null,0,null,null,0]
[null,null,null,null,null,null,null,null,null,null,{"$f":"G974*$K$6","v":0},null,null,{"$f":"IF(D974=\"SŽ\",0,IF(D974=\"Ostatní\",0,IF(D974=\"\",0,1)))","v":0}]
[null,null,null,null,null,null,null,null,null,null,0,null,null,0]
[null,null,null,null,null,null,null,null,null,null,0,null,null,0]
[null,null,null,null,null,null,null,null,null,null,0,null,null,0]
[null,null,null,null,null,null,null,null,null,null,0,null,null,0]
[null,null,null,null,null,null,null,null,null,null,0,null,null,0]
[null,null,null,null,null,null,null,null,null,null,0,null,null,0]
[null,null,null,null,null,null,null,null,null,null,0,null,null,0]
[null,null,null,null,null,null,null,null,null,null,0,null,null,0]
[null,null,null,null,null,null,null,null,null,null,0,null,null,0]
[null,null,null,null,null,null,null,null,null,null,0,null,null,0]
[null,null,null,null,null,null,null,null,null,null,0,null,null,0]
[null,null,null,null,null,null,null,null,null,null,0,null,null,0]
[null,null,null,null,null,null,null,null,null,null,0,null,null,0]
[null,null,null,null,null,null,null,null,null,null,0,null,null,0]
[null,null,null,null,null,null,null,null,null,null,0,null,null,0]
[null,null,null,null,null,null,null,null,null,null,0,null,null,0]
[null,null,null,null,null,null,null,null,null,null,0,null,null,0]
[null,null,null,null,null,null,null,null,null,null,0,null,null,0]
[null,null,null,null,null,null,null,null,null,null,0,null,null,0]
[null,null,null,null,null,null,null,null,null,null,0,null,null,0]
[null,null,null,null,null,null,null,null,null,null,0,null,null,0]
[null,null,null,null,null,null,null,null,null,null,0,null,null,0]
[null,null,null,null,null,null,null,null,null,null,0,null,null,0]
[null,null,null,null,null,null,null,null,null,null,0,null,null,0]
[null,null,null,null,null,null,null,null,null,null,0,null,null,0]
[null,null,null,null,null,null,null,null,null,null,0,null,null,0]
[null,null,null,null,null,null,null,null,null,null,0,null,null,0]
[null,null,null,null,null,null,null,null,null,null,0,null,null,0]
[null,null,null,null,null,null,null,null,null,null,0,null,null,0]
[null,null,null,null,null,null,null,null,null,null,0,null,null,0]
[null,null,null,null,null,null,null,null,null,null,0,null,null,0]
[null,null,null,null,null,null,null,null,null,null,0,null,null,0]
[null,null,null,null,null,null,null,null,null,null,0,null,null,0]
[null,null,null,null,null,null,null,null,null,null,0,null,null,0]
[null,null,null,null,null,null,null,null,null,null,0,null,null,0]
[null,null,null,null,null,null,null,null,null,null,0,null,null,0]
[null,null,null,null,null,null,null,null,null,null,0,null,null,0]
[null,null,null,null,null,null,null,null,null,null,0,null,null,0]
[null,null,null,null,null,null,null,null,null,null,0,null,null,0]
[null,null,null,null,null,null,null,null,null,null,0,null,null,0]
[null,null,null,null,null,null,null,null,null,null,0,null,null,0]
[null,null,null,null,null,null,null,null,null,null,0,null,null,0]
[null,null,null,null,null,null,null,null,null,null,0,null,null,0]
[null,null,null,null,null,null,null,null,null,null,0,null,null,0]
[null,null,null,null,null,null,null,null,null,null,0,null,null,0]
[null,null,null,null,null,null,null,null,null,null,0,null,null,0]
[null,null,null,null,null,null,null,null,null,null,0,null,null,0]
[null,null,null,null,null,null,null,null,null,null,0,null,null,0]
[null,null,null,null,null,null,null,null,null,null,0,null,null,0]
[null,null,null,null,null,null,null,null,null,null,0,null,null,0]
[null,null,null,null,null,null,null,null,null,null,0,null,null,0]
[null,null,null,null,null,null,null,null,null,null,0,null,null,0]
[null,null,null,null,null,null,null,null,null,null,0,null,null,0]
[null,null,null,null,null,null,null,null,null,null,0,null,null,0]
[null,null,null,null,null,null,null,null,null,null,0,null,null,0]
[null,null,null,null,null,null,null,null,null,null,0,null,null,0]
[null,null,null,null,null,null,null,null,null,null,0,null,null,0]
[null,null,null,null,null,null,null,null,null,null,0,null,null,0]
[null,null,null,null,null,null,null,null,null,null,0,null,null,0]
[null,null,null,null,null,null,null,null,null,null,0,null,null,0]
[null,null,null,null,null,null,null,null,null,null,0,null,null,0]
[null,null,null,null,null,null,null,null,null,null,0,null,null,0]
[null,null,null,null,null,null,null,null,null,null,0,null,null,0]
[null,null,null,null,null,null,null,null,null,null,{"$f":"G1038*$K$6","v":0},null,null,{"$f":"IF(D1038=\"SŽ\",0,IF(D1038=\"Ostatní\",0,IF(D1038=\"\",0,1)))","v":0}]
[null,null,null,null,null,null,null,null,null,null,0,null,null,0]
[null,null,null,null,null,null,null,null,null,null,0,null,null,0]
[null,null,null,null,null,null,null,null,null,null,0,null,null,0]
[null,null,null,null,null,null,null,null,null,null,0,null,null,0]
[null,null,null,null,null,null,null,null,null,null,0,null,null,0]
[null,null,null,null,null,null,null,null,null,null,0,null,null,0]
[null,null,null,null,null,null,null,null,null,null,0,null,null,0]
[null,null,null,null,null,null,null,null,null,null,0,null,null,0]
[null,null,null,null,null,null,null,null,null,null,0,null,null,0]
[null,null,null,null,null,null,null,null,null,null,0,null,null,0]
[null,null,null,null,null,null,null,null,null,null,0,null,null,0]
[null,null,null,null,null,null,null,null,null,null,0,null,null,0]
[null,null,null,null,null,null,null,null,null,null,0,null,null,0]
[null,null,null,null,null,null,null,null,null,null,0,null,null,0]
[null,null,null,null,null,null,null,null,null,null,0,null,null,0]
[null,null,null,null,null,null,null,null,null,null,0,null,null,0]
[null,null,null,null,null,null,null,null,null,null,0,null,null,0]
[null,null,null,null,null,null,null,null,null,null,0,null,null,0]
[null,null,null,null,null,null,null,null,null,null,0,null,null,0]
[null,null,null,null,null,null,null,null,null,null,0,null,null,0]
[null,null,null,null,null,null,null,null,null,null,0,null,null,0]
[null,null,null,null,null,null,null,null,null,null,0,null,null,0]
[null,null,null,null,null,null,null,null,null,null,0,null,null,0]
[null,null,null,null,null,null,null,null,null,null,0,null,null,0]
[null,null,null,null,null,null,null,null,null,null,0,null,null,0]
[null,null,null,null,null,null,null,null,null,null,0,null,null,0]
[null,null,null,null,null,null,null,null,null,null,0,null,null,0]
[null,null,null,null,null,null,null,null,null,null,0,null,null,0]
[null,null,null,null,null,null,null,null,null,null,0,null,null,0]
[null,null,null,null,null,null,null,null,null,null,0,null,null,0]
[null,null,null,null,null,null,null,null,null,null,0,null,null,0]
[null,null,null,null,null,null,null,null,null,null,0,null,null,0]
[null,null,null,null,null,null,null,null,null,null,0,null,null,0]
[null,null,null,null,null,null,null,null,null,null,0,null,null,0]
[null,null,null,null,null,null,null,null,null,null,0,null,null,0]
[null,null,null,null,null,null,null,null,null,null,0,null,null,0]
[null,null,null,null,null,null,null,null,null,null,0,null,null,0]
[null,null,null,null,null,null,null,null,null,null,0,null,null,0]
[null,null,null,null,null,null,null,null,null,null,0,null,null,0]
[null,null,null,null,null,null,null,null,null,null,0,null,null,0]
[null,null,null,null,null,null,null,null,null,null,0,null,null,0]
[null,null,null,null,null,null,null,null,null,null,0,null,null,0]
[null,null,null,null,null,null,null,null,null,null,0,null,null,0]
[null,null,null,null,null,null,null,null,null,null,0,null,null,0]
[null,null,null,null,null,null,null,null,null,null,0,null,null,0]
[null,null,null,null,null,null,null,null,null,null,0,null,null,0]
[null,null,null,null,null,null,null,null,null,null,0,null,null,0]
[null,null,null,null,null,null,null,null,null,null,0,null,null,0]
[null,null,null,null,null,null,null,null,null,null,0,null,null,0]
[null,null,null,null,null,null,null,null,null,null,0,null,null,0]
[null,null,null,null,null,null,null,null,null,null,0,null,null,0]
[null,null,null,null,null,null,null,null,null,null,0,null,null,0]
[null,null,null,null,null,null,null,null,null,null,0,null,null,0]
[null,null,null,null,null,null,null,null,null,null,0,null,null,0]
[null,null,null,null,null,null,null,null,null,null,0,null,null,0]
[null,null,null,null,null,null,null,null,null,null,0,null,null,0]
[null,null,null,null,null,null,null,null,null,null,0,null,null,0]
[null,null,null,null,null,null,null,null,null,null,0,null,null,0]
[null,null,null,null,null,null,null,null,null,null,0,null,null,0]
[null,null,null,null,null,null,null,null,null,null,0,null,null,0]
[null,null,null,null,null,null,null,null,null,null,0,null,null,0]
[null,null,null,null,null,null,null,null,null,null,0,null,null,0]
[null,null,null,null,null,null,null,null,null,null,0,null,null,0]
[null,null,null,null,null,null,null,null,null,null,{"$f":"G1102*$K$6","v":0},null,null,{"$f":"IF(D1102=\"SŽ\",0,IF(D1102=\"Ostatní\",0,IF(D1102=\"\",0,1)))","v":0}]
[null,null,null,null,null,null,null,null,null,null,0,null,null,0]
[null,null,null,null,null,null,null,null,null,null,0,null,null,0]
[null,null,null,null,null,null,null,null,null,null,0,null,null,0]
[null,null,null,null,null,null,null,null,null,null,0,null,null,0]
[null,null,null,null,null,null,null,null,null,null,0,null,null,0]
[null,null,null,null,null,null,null,null,null,null,0,null,null,0]
[null,null,null,null,null,null,null,null,null,null,0,null,null,0]
[null,null,null,null,null,null,null,null,null,null,0,null,null,0]
[null,null,null,null,null,null,null,null,null,null,0,null,null,0]
[null,null,null,null,null,null,null,null,null,null,0,null,null,0]
[null,null,null,null,null,null,null,null,null,null,0,null,null,0]
[null,null,null,null,null,null,null,null,null,null,0,null,null,0]
[null,null,null,null,null,null,null,null,null,null,0,null,null,0]
[null,null,null,null,null,null,null,null,null,null,0,null,null,0]
[null,null,null,null,null,null,null,null,null,null,0,null,null,0]
[null,null,null,null,null,null,null,null,null,null,0,null,null,0]
[null,null,null,null,null,null,null,null,null,null,0,null,null,0]
[null,null,null,null,null,null,null,null,null,null,0,null,null,0]
[null,null,null,null,null,null,null,null,null,null,0,null,null,0]
[null,null,null,null,null,null,null,null,null,null,0,null,null,0]
[null,null,null,null,null,null,null,null,null,null,0,null,null,0]
[null,null,null,null,null,null,null,null,null,null,0,null,null,0]
[null,null,null,null,null,null,null,null,null,null,0,null,null,0]
[null,null,null,null,null,null,null,null,null,null,0,null,null,0]
[null,null,null,null,null,null,null,null,null,null,0,null,null,0]
[null,null,null,null,null,null,null,null,null,null,0,null,null,0]
[null,null,null,null,null,null,null,null,null,null,0,null,null,0]
[null,null,null,null,null,null,null,null,null,null,0,null,null,0]
[null,null,null,null,null,null,null,null,null,null,0,null,null,0]
[null,null,null,null,null,null,null,null,null,null,0,null,null,0]
[null,null,null,null,null,null,null,null,null,null,0,null,null,0]
[null,null,null,null,null,null,null,null,null,null,0,null,null,0]
[null,null,null,null,null,null,null,null,null,null,0,null,null,0]
[null,null,null,null,null,null,null,null,null,null,0,null,null,0]
[null,null,null,null,null,null,null,null,null,null,0,null,null,0]
[null,null,null,null,null,null,null,null,null,null,0,null,null,0]
[null,null,null,null,null,null,null,null,null,null,0,null,null,0]
[null,null,null,null,null,null,null,null,null,null,0,null,null,0]
[null,null,null,null,null,null,null,null,null,null,0,null,null,0]
[null,null,null,null,null,null,null,null,null,null,0,null,null,0]
[null,null,null,null,null,null,null,null,null,null,0,null,null,0]
[null,null,null,null,null,null,null,null,null,null,0,null,null,0]
[null,null,null,null,null,null,null,null,null,null,0,null,null,0]
[null,null,null,null,null,null,null,null,null,null,0,null,null,0]
[null,null,null,null,null,null,null,null,null,null,0,null,null,0]
[null,null,null,null,null,null,null,null,null,null,0,null,null,0]
[null,null,null,null,null,null,null,null,null,null,0,null,null,0]
[null,null,null,null,null,null,null,null,null,null,0,null,null,0]
[null,null,null,null,null,null,null,null,null,null,0,null,null,0]
[null,null,null,null,null,null,null,null,null,null,0,null,null,0]
[null,null,null,null,null,null,null,null,null,null,0,null,null,0]
[null,null,null,null,null,null,null,null,null,null,0,null,null,0]
[null,null,null,null,null,null,null,null,null,null,0,null,null,0]
[null,null,null,null,null,null,null,null,null,null,0,null,null,0]
[null,null,null,null,null,null,null,null,null,null,0,null,null,0]
[null,null,null,null,null,null,null,null,null,null,0,null,null,0]
[null,null,null,null,null,null,null,null,null,null,0,null,null,0]
[null,null,null,null,null,null,null,null,null,null,0,null,null,0]
[null,null,null,null,null,null,null,null,null,null,0,null,null,0]
[null,null,null,null,null,null,null,null,null,null,0,null,null,0]
[null,null,null,null,null,null,null,null,null,null,0,null,null,0]
[null,null,null,null,null,null,null,null,null,null,0,null,null,0]
[null,null,null,null,null,null,null,null,null,null,0,null,null,0]
[null,null,null,null,null,null,null,null,null,null,{"$f":"G1166*$K$6","v":0},null,null,{"$f":"IF(D1166=\"SŽ\",0,IF(D1166=\"Ostatní\",0,IF(D1166=\"\",0,1)))","v":0}]
[null,null,null,null,null,null,null,null,null,null,0,null,null,0]
[null,null,null,null,null,null,null,null,null,null,0,null,null,0]
[null,null,null,null,null,null,null,null,null,null,0,null,null,0]
[null,null,null,null,null,null,null,null,null,null,0,null,null,0]
[null,null,null,null,null,null,null,null,null,null,0,null,null,0]
[null,null,null,null,null,null,null,null,null,null,0,null,null,0]
[null,null,null,null,null,null,null,null,null,null,0,null,null,0]
[null,null,null,null,null,null,null,null,null,null,0,null,null,0]
[null,null,null,null,null,null,null,null,null,null,0,null,null,0]
[null,null,null,null,null,null,null,null,null,null,0,null,null,0]
[null,null,null,null,null,null,null,null,null,null,0,null,null,0]
[null,null,null,null,null,null,null,null,null,null,0,null,null,0]
[null,null,null,null,null,null,null,null,null,null,0,null,null,0]
[null,null,null,null,null,null,null,null,null,null,0,null,null,0]
[null,null,null,null,null,null,null,null,null,null,0,null,null,0]
[null,null,null,null,null,null,null,null,null,null,0,null,null,0]
[null,null,null,null,null,null,null,null,null,null,0,null,null,0]
[null,null,null,null,null,null,null,null,null,null,0,null,null,0]
[null,null,null,null,null,null,null,null,null,null,0,null,null,0]
[null,null,null,null,null,null,null,null,null,null,0,null,null,0]
[null,null,null,null,null,null,null,null,null,null,0,null,null,0]
[null,null,null,null,null,null,null,null,null,null,0,null,null,0]
[null,null,null,null,null,null,null,null,null,null,0,null,null,0]
[null,null,null,null,null,null,null,null,null,null,0,null,null,0]
[null,null,null,null,null,null,null,null,null,null,0,null,null,0]
[null,null,null,null,null,null,null,null,null,null,0,null,null,0]
[null,null,null,null,null,null,null,null,null,null,0,null,null,0]
[null,null,null,null,null,null,null,null,null,null,0,null,null,0]
[null,null,null,null,null,null,null,null,null,null,0,null,null,0]
[null,null,null,null,null,null,null,null,null,null,0,null,null,0]
[null,null,null,null,null,null,null,null,null,null,0,null,null,0]
[null,null,null,null,null,null,null,null,null,null,0,null,null,0]
[null,null,null,null,null,null,null,null,null,null,0,null,null,0]
[null,null,null,null,null,null,null,null,null,null,0,null,null,0]

{"sheet":"3PS","index":9,"n_rows":1200,"n_cols":14,"rows_kept":1200,"cut":false,"hidden":false,"merged":[[0,6,0,9],[6,1,6,2],[3,1,3,2],[4,1,4,2],[5,1,5,2],[1,2,2,2],[0,4,2,5],[4,4,6,4],[4,5,6,5],[9,1,9,8],[1,6,1,7],[1,8,1,9],[2,6,2,7],[2,8,2,9],[7,10,8,10],[3,6,5,6],[3,7,4,7],[3,8,5,8],[3,9,4,9],[7,6,8,6],[7,8,8,8],[2,10,3,10]]}
["Formulář 3PS",null,"Rekapitulace nákladů provozních souborů","Náklady dle rozdělení majetku\n(SŽ/Ostatní)","Předpokládané období realizace s ohledem na čerpání finančních prostředků:\n(měsíc.rok)\n\n",null,"Náklady na realizaci jednotlivých PS",null,null,null,{"$f":"'Krycí list SR'!H1","v":"SRP/2022/prozatimní"}]
["Název stavby:",null,{"$f":"IF('Krycí list SR'!B2=\"\",\"\",'Krycí list SR'!B2)","v":""},"SŽ celkem\n[Kč]\n(B.2.1.1)",null,null,"B.2.1.1",null,"B.2.2.1",null,"B.5"]
[null,null,null,{"$f":"SUMIF(D12:D1200,\"SŽ\",G12:G1200)","v":0},null,null,"ZRN - Zhotovitel\n(Uvádí se náklady, které zajišťuje pro účely stavby zhotovitel)",null,"ZRN - Investor\n(Uvádí se náklady, které zajišťuje pro účely stavby přímo investor)",null,"Rezerva PS"]
["ISPROFIN:",{"$f":"IF('Krycí list SR'!$B$3=\"\",\"\",'Krycí list SR'!$B$3)","v":""},null,"SŽ celkem\n[Kč]\n(B.2.2.1)","Zahájení","Dokončení","B.2.1.1 ","Podíl způsobilých nákladů \npro financování z fondu EU","B.2.2.1 ","Podíl způsobilých nákladů \npro financování z fondu EU"]
["Označení:\n(S-kód)",{"$f":"IF('Krycí list SR'!D3=\"\",\"\",'Krycí list SR'!D3)","v":""},null,{"$f":"SUMIF(D12:D1200,\"SŽ\",I12:I1200)","v":0},"zahájení realizace\nnebo zahájení čerpání finančních prostředků \n(viz poznámka)","ukončení realizace\nnebo zahájení čerpání finančních prostředků \n(viz poznámka)",null,null,null,null,"procentní sazba z B.2.1.1"]
["Investor:",{"$f":"'Krycí list SR'!B4:D4","v":"Správa železnic, státní organizace"},null,"Ostatní celkem\n[Kč]\n(B.2.1.1)",null,null,null,"Způsobilé celkem \n[Kč]",null,"Způsobilé celkem \n[Kč]",0.1]
["Zástupce investora:",{"$f":"IF('Krycí list SR'!B5:D5=\"\",\"\",'Krycí list SR'!B5:D5)","v":"Stavební správa západ, Ke Štvanici 656/3,186 00  Praha 8"},null,{"$f":"G8-D3","v":0},null,null,"Celkem\n[Kč]",{"$f":"SUM(H12:H1200)","v":0},"Celkem \n[Kč]",{"$f":"SUM(J12:J1200)","v":0},"Celkem\n[Kč]"]
["CÚ:",{"$f":"'Krycí list SR'!F4","v":2022},{"$f":"IF('Krycí list SR'!E3=\"\",\"\",'Krycí list SR'!E3)","v":""},"Ostatní celkem\n[Kč]\n(B.2.2.1)","[mm.rrrr]","[mm.rrrr]",{"$f":"SUM(G12:G1200)","v":0},"Nezpůsobilé celkem \n[Kč]",{"$f":"SUM(I12:I1200)","v":0},"Nezpůsobilé celkem \n[Kč]",{"$f":"SUM(K12:K8375)","v":0}]
["Kategorie monitoringu","Číslo PS","Název provozního souboru",{"$f":"I8-D5","v":0},{"$f":"IF(MIN(E12:E1200)=0,\"\",MIN(E12:E1200))","v":""},{"$f":"IF(MAX(F12:F1200)=0,\"\",MAX(F12:F1200))","v":""},null,{"$f":"G8-H7","v":0},null,{"$f":"I8-J7","v":0},null,"Pole pro pracovní výpočty\nbez tisku"]
["Stavba:",{"$f":"C2","v":""},null,null,null,null,null,null,null,{"$f":"A4","v":"ISPROFIN:"},{"$f":"B4","v":""}]
["Monitoring","Číslo PS","Název provozního souboru","Rozdělení majetku","realizace od","realizace do","náklady PS (B.2.1.1)","z toho způsobilé","náklady PS (B.2.1.1)","z toho způsobilé","rezerva PS",null,null,"Označení majetku"]
[null,null,null,{"$f":"IF(N12>0,\"Chyba v označení\",\"\")","v":""},null,null,null,null,null,null,{"$f":"$G12*$K$6","v":0},null,null,{"$f":"SUM(N13:N1200)","v":0}]
["D.1.1",null,null,null,null,null,null,null,null,null,{"$f":"$G13*$K$6","v":0},null,null,{"$f":"IF(D13=\"SŽ\",0,IF(D13=\"Ostatní\",0,IF(D13=\"\",0,1)))","v":0}]
[null,null,null,null,null,null,null,null,null,null,0,null,null,{"$f":"IF(D14=\"SŽ\",0,IF(D14=\"Ostatní\",0,IF(D14=\"\",0,1)))","v":0}]
[null,null,null,null,null,null,null,null,null,null,0,null,null,0]
[null,null,null,null,null,null,null,null,null,null,0,null,null,0]
[null,null,null,null,null,null,null,null,null,null,0,null,null,0]
[null,null,null,null,null,null,null,null,null,null,0,null,null,0]
[null,null,null,null,null,null,null,null,null,null,0,null,null,0]
[null,null,null,null,null,null,null,null,null,null,0,null,null,0]
[null,null,null,null,null,null,null,null,null,null,0,null,null,0]
[null,null,null,null,null,null,null,null,null,null,0,null,null,0]
[null,null,null,null,null,null,null,null,null,null,0,null,null,0]
[null,null,null,null,null,null,null,null,null,null,0,null,null,0]
[null,null,null,null,null,null,null,null,null,null,0,null,null,0]
[null,null,null,null,null,null,null,null,null,null,0,null,null,0]
[null,null,null,null,null,null,null,null,null,null,0,null,null,0]
[null,null,null,null,null,null,null,null,null,null,0,null,null,0]
[null,null,null,null,null,null,null,null,null,null,0,null,null,0]
[null,null,null,null,null,null,null,null,null,null,0,null,null,0]
[null,null,null,null,null,null,null,null,null,null,0,null,null,0]
[null,null,null,null,null,null,null,null,null,null,0,null,null,0]
[null,null,null,null,null,null,null,null,null,null,0,null,null,0]
[null,null,null,null,null,null,null,null,null,null,0,null,null,0]
[null,null,null,null,null,null,null,null,null,null,0,null,null,0]
[null,null,null,null,null,null,null,null,null,null,0,null,null,0]
[null,null,null,null,null,null,null,null,null,null,0,null,null,0]
[null,null,null,null,null,null,null,null,null,null,0,null,null,0]
[null,null,null,null,null,null,null,null,null,null,0,null,null,0]
[null,null,null,null,null,null,null,null,null,null,0,null,null,0]
[null,null,null,null,null,null,null,null,null,null,0,null,null,0]
[null,null,null,null,null,null,null,null,null,null,0,null,null,0]
[null,null,null,null,null,null,null,null,null,null,0,null,null,0]
[null,null,null,null,null,null,null,null,null,null,0,null,null,0]
[null,null,null,null,null,null,null,null,null,null,0,null,null,0]
[null,null,null,null,null,null,null,null,null,null,0,null,null,0]
[null,null,null,null,null,null,null,null,null,null,0,null,null,0]
[null,null,null,null,null,null,null,null,null,null,0,null,null,0]
[null,null,null,null,null,null,null,null,null,null,0,null,null,0]
[null,null,null,null,null,null,null,null,null,null,0,null,null,0]
[null,null,null,null,null,null,null,null,null,null,0,null,null,0]
[null,null,null,null,null,null,null,null,null,null,0,null,null,0]
[null,null,null,null,null,null,null,null,null,null,0,null,null,0]
[null,null,null,null,null,null,null,null,null,null,0,null,null,0]
[null,null,null,null,null,null,null,null,null,null,0,null,null,0]
[null,null,null,null,null,null,null,null,null,null,0,null,null,0]
[null,null,null,null,null,null,null,null,null,null,0,null,null,0]
[null,null,null,null,null,null,null,null,null,null,0,null,null,0]
[null,null,null,null,null,null,null,null,null,null,0,null,null,0]
[null,null,null,null,null,null,null,null,null,null,0,null,null,0]
[null,null,null,null,null,null,null,null,null,null,0,null,null,0]
[null,null,null,null,null,null,null,null,null,null,0,null,null,0]
[null,null,null,null,null,null,null,null,null,null,0,null,null,0]
[null,null,null,null,null,null,null,null,null,null,0,null,null,0]
[null,null,null,null,null,null,null,null,null,null,0,null,null,0]
[null,null,null,null,null,null,null,null,null,null,0,null,null,0]
[null,null,null,null,null,null,null,null,null,null,0,null,null,0]
[null,null,null,null,null,null,null,null,null,null,0,null,null,0]
[null,null,null,null,null,null,null,null,null,null,0,null,null,0]
[null,null,null,null,null,null,null,null,null,null,0,null,null,0]
[null,null,null,null,null,null,null,null,null,null,0,null,null,0]
[null,null,null,null,null,null,null,null,null,null,0,null,null,0]
[null,null,null,null,null,null,null,null,null,null,0,null,null,0]
[null,null,null,null,null,null,null,null,null,null,0,null,null,0]
[null,null,null,null,null,null,null,null,null,null,0,null,null,0]
[null,null,null,null,null,null,null,null,null,null,0,null,null,0]
[null,null,null,null,null,null,null,null,null,null,{"$f":"$G77*$K$6","v":0},null,null,0]
[null,null,null,null,null,null,null,null,null,null,0,null,null,{"$f":"IF(D78=\"SŽ\",0,IF(D78=\"Ostatní\",0,IF(D78=\"\",0,1)))","v":0}]
[null,null,null,null,null,null,null,null,null,null,0,null,null,0]
[null,null,null,null,null,null,null,null,null,null,0,null,null,0]
[null,null,null,null,null,null,null,null,null,null,0,null,null,0]
[null,null,null,null,null,null,null,null,null,null,0,null,null,0]
[null,null,null,null,null,null,null,null,null,null,0,null,null,0]
[null,null,null,null,null,null,null,null,null,null,0,null,null,0]
[null,null,null,null,null,null,null,null,null,null,0,null,null,0]
[null,null,null,null,null,null,null,null,null,null,0,null,null,0]
[null,null,null,null,null,null,null,null,null,null,0,null,null,0]
[null,null,null,null,null,null,null,null,null,null,0,null,null,0]
[null,null,null,null,null,null,null,null,null,null,0,null,null,0]
[null,null,null,null,null,null,null,null,null,null,0,null,null,0]
[null,null,null,null,null,null,null,null,null,null,0,null,null,0]
[null,null,null,null,null,null,null,null,null,null,0,null,null,0]
[null,null,null,null,null,null,null,null,null,null,0,null,null,0]
[null,null,null,null,null,null,null,null,null,null,0,null,null,0]
[null,null,null,null,null,null,null,null,null,null,0,null,null,0]
[null,null,null,null,null,null,null,null,null,null,0,null,null,0]
[null,null,null,null,null,null,null,null,null,null,0,null,null,0]
[null,null,null,null,null,null,null,null,null,null,0,null,null,0]
[null,null,null,null,null,null,null,null,null,null,0,null,null,0]
[null,null,null,null,null,null,null,null,null,null,0,null,null,0]
[null,null,null,null,null,null,null,null,null,null,0,null,null,0]
[null,null,null,null,null,null,null,null,null,null,0,null,null,0]
[null,null,null,null,null,null,null,null,null,null,0,null,null,0]
[null,null,null,null,null,null,null,null,null,null,0,null,null,0]
[null,null,null,null,null,null,null,null,null,null,0,null,null,0]
[null,null,null,null,null,null,null,null,null,null,0,null,null,0]
[null,null,null,null,null,null,null,null,null,null,0,null,null,0]
[null,null,null,null,null,null,null,null,null,null,0,null,null,0]
[null,null,null,null,null,null,null,null,null,null,0,null,null,0]
[null,null,null,null,null,null,null,null,null,null,0,null,null,0]
[null,null,null,null,null,null,null,null,null,null,0,null,null,0]
[null,null,null,null,null,null,null,null,null,null,0,null,null,0]
[null,null,null,null,null,null,null,null,null,null,0,null,null,0]
[null,null,null,null,null,null,null,null,null,null,0,null,null,0]
[null,null,null,null,null,null,null,null,null,null,0,null,null,0]
[null,null,null,null,null,null,null,null,null,null,0,null,null,0]
[null,null,null,null,null,null,null,null,null,null,0,null,null,0]
[null,null,null,null,null,null,null,null,null,null,0,null,null,0]
[null,null,null,null,null,null,null,null,null,null,0,null,null,0]
[null,null,null,null,null,null,null,null,null,null,0,null,null,0]
[null,null,null,null,null,null,null,null,null,null,0,null,null,0]
[null,null,null,null,null,null,null,null,null,null,0,null,null,0]
[null,null,null,null,null,null,null,null,null,null,0,null,null,0]
[null,null,null,null,null,null,null,null,null,null,0,null,null,0]
[null,null,null,null,null,null,null,null,null,null,0,null,null,0]
[null,null,null,null,null,null,null,null,null,null,0,null,null,0]
[null,null,null,null,null,null,null,null,null,null,0,null,null,0]
[null,null,null,null,null,null,null,null,null,null,0,null,null,0]
[null,null,null,null,null,null,null,null,null,null,0,null,null,0]
[null,null,null,null,null,null,null,null,null,null,0,null,null,0]
[null,null,null,null,null,null,null,null,null,null,0,null,null,0]
[null,null,null,null,null,null,null,null,null,null,0,null,null,0]
[null,null,null,null,null,null,null,null,null,null,0,null,null,0]
[null,null,null,null,null,null,null,null,null,null,0,null,null,0]
[null,null,null,null,null,null,null,null,null,null,0,null,null,0]
[null,null,null,null,null,null,null,null,null,null,0,null,null,0]
[null,null,null,null,null,null,null,null,null,null,0,null,null,0]
[null,null,null,null,null,null,null,null,null,null,0,null,null,0]
[null,null,null,null,null,null,null,null,null,null,0,null,null,0]
[null,null,null,null,null,null,null,null,null,null,0,null,null,0]
[null,null,null,null,null,null,null,null,null,null,{"$f":"$G141*$K$6","v":0},null,null,0]
[null,null,null,null,null,null,null,null,null,null,0,null,null,{"$f":"IF(D142=\"SŽ\",0,IF(D142=\"Ostatní\",0,IF(D142=\"\",0,1)))","v":0}]
[null,null,null,null,null,null,null,null,null,null,0,null,null,0]
[null,null,null,null,null,null,null,null,null,null,0,null,null,0]
[null,null,null,null,null,null,null,null,null,null,0,null,null,0]
[null,null,null,null,null,null,null,null,null,null,0,null,null,0]
[null,null,null,null,null,null,null,null,null,null,0,null,null,0]
[null,null,null,null,null,null,null,null,null,null,0,null,null,0]
[null,null,null,null,null,null,null,null,null,null,0,null,null,0]
[null,null,null,null,null,null,null,null,null,null,0,null,null,0]
[null,null,null,null,null,null,null,null,null,null,0,null,null,0]
[null,null,null,null,null,null,null,null,null,null,0,null,null,0]
[null,null,null,null,null,null,null,null,null,null,0,null,null,0]
[null,null,null,null,null,null,null,null,null,null,0,null,null,0]
[null,null,null,null,null,null,null,null,null,null,0,null,null,0]
[null,null,null,null,null,null,null,null,null,null,0,null,null,0]
[null,null,null,null,null,null,null,null,null,null,0,null,null,0]
[null,null,null,null,null,null,null,null,null,null,0,null,null,0]
[null,null,null,null,null,null,null,null,null,null,0,null,null,0]
[null,null,null,null,null,null,null,null,null,null,0,null,null,0]
[null,null,null,null,null,null,null,null,null,null,0,null,null,0]
[null,null,null,null,null,null,null,null,null,null,0,null,null,0]
[null,null,null,null,null,null,null,null,null,null,0,null,null,0]
[null,null,null,null,null,null,null,null,null,null,0,null,null,0]
[null,null,null,null,null,null,null,null,null,null,0,null,null,0]
[null,null,null,null,null,null,null,null,null,null,0,null,null,0]
[null,null,null,null,null,null,null,null,null,null,0,null,null,0]
[null,null,null,null,null,null,null,null,null,null,0,null,null,0]
[null,null,null,null,null,null,null,null,null,null,0,null,null,0]
[null,null,null,null,null,null,null,null,null,null,0,null,null,0]
[null,null,null,null,null,null,null,null,null,null,0,null,null,0]
[null,null,null,null,null,null,null,null,null,null,0,null,null,0]
[null,null,null,null,null,null,null,null,null,null,0,null,null,0]
[null,null,null,null,null,null,null,null,null,null,0,null,null,0]
[null,null,null,null,null,null,null,null,null,null,0,null,null,0]
[null,null,null,null,null,null,null,null,null,null,0,null,null,0]
[null,null,null,null,null,null,null,null,null,null,0,null,null,0]
[null,null,null,null,null,null,null,null,null,null,0,null,null,0]
[null,null,null,null,null,null,null,null,null,null,0,null,null,0]
[null,null,null,null,null,null,null,null,null,null,0,null,null,0]
[null,null,null,null,null,null,null,null,null,null,0,null,null,0]
[null,null,null,null,null,null,null,null,null,null,0,null,null,0]
[null,null,null,null,null,null,null,null,null,null,0,null,null,0]
[null,null,null,null,null,null,null,null,null,null,0,null,null,0]
[null,null,null,null,null,null,null,null,null,null,0,null,null,0]
[null,null,null,null,null,null,null,null,null,null,0,null,null,0]
[null,null,null,null,null,null,null,null,null,null,0,null,null,0]
[null,null,null,null,null,null,null,null,null,null,0,null,null,0]
[null,null,null,null,null,null,null,null,null,null,0,null,null,0]
[null,null,null,null,null,null,null,null,null,null,0,null,null,0]
[null,null,null,null,null,null,null,null,null,null,0,null,null,0]
[null,null,null,null,null,null,null,null,null,null,0,null,null,0]
[null,null,null,null,null,null,null,null,null,null,0,null,null,0]
[null,null,null,null,null,null,null,null,null,null,0,null,null,0]
[null,null,null,null,null,null,null,null,null,null,0,null,null,0]
[null,null,null,null,null,null,null,null,null,null,0,null,null,0]
[null,null,null,null,null,null,null,null,null,null,0,null,null,0]
[null,null,null,null,null,null,null,null,null,null,0,null,null,0]
[null,null,null,null,null,null,null,null,null,null,0,null,null,0]
[null,null,null,null,null,null,null,null,null,null,0,null,null,0]
[null,null,null,null,null,null,null,null,null,null,0,null,null,0]
[null,null,null,null,null,null,null,null,null,null,0,null,null,0]
[null,null,null,null,null,null,null,null,null,null,0,null,null,0]
[null,null,null,null,null,null,null,null,null,null,0,null,null,0]
[null,null,null,null,null,null,null,null,null,null,{"$f":"$G205*$K$6","v":0},null,null,0]
[null,null,null,null,null,null,null,null,null,null,0,null,null,{"$f":"IF(D206=\"SŽ\",0,IF(D206=\"Ostatní\",0,IF(D206=\"\",0,1)))","v":0}]
[null,null,null,null,null,null,null,null,null,null,0,null,null,0]
[null,null,null,null,null,null,null,null,null,null,0,null,null,0]
[null,null,null,null,null,null,null,null,null,null,0,null,null,0]
[null,null,null,null,null,null,null,null,null,null,0,null,null,0]
[null,null,null,null,null,null,null,null,null,null,0,null,null,0]
[null,null,null,null,null,null,null,null,null,null,0,null,null,0]
[null,null,null,null,null,null,null,null,null,null,0,null,null,0]
[null,null,null,null,null,null,null,null,null,null,0,null,null,0]
[null,null,null,null,null,null,null,null,null,null,0,null,null,0]
[null,null,null,null,null,null,null,null,null,null,0,null,null,0]
[null,null,null,null,null,null,null,null,null,null,0,null,null,0]
[null,null,null,null,null,null,null,null,null,null,0,null,null,0]
[null,null,null,null,null,null,null,null,null,null,0,null,null,0]
[null,null,null,null,null,null,null,null,null,null,0,null,null,0]
[null,null,null,null,null,null,null,null,null,null,0,null,null,0]
[null,null,null,null,null,null,null,null,null,null,0,null,null,0]
[null,null,null,null,null,null,null,null,null,null,0,null,null,0]
[null,null,null,null,null,null,null,null,null,null,0,null,null,0]
[null,null,null,null,null,null,null,null,null,null,0,null,null,0]
[null,null,null,null,null,null,null,null,null,null,0,null,null,0]
[null,null,null,null,null,null,null,null,null,null,0,null,null,0]
[null,null,null,null,null,null,null,null,null,null,0,null,null,0]
[null,null,null,null,null,null,null,null,null,null,0,null,null,0]
[null,null,null,null,null,null,null,null,null,null,0,null,null,0]
[null,null,null,null,null,null,null,null,null,null,0,null,null,0]
[null,null,null,null,null,null,null,null,null,null,0,null,null,0]
[null,null,null,null,null,null,null,null,null,null,0,null,null,0]
[null,null,null,null,null,null,null,null,null,null,0,null,null,0]
[null,null,null,null,null,null,null,null,null,null,0,null,null,0]
[null,null,null,null,null,null,null,null,null,null,0,null,null,0]
[null,null,null,null,null,null,null,null,null,null,0,null,null,0]
[null,null,null,null,null,null,null,null,null,null,0,null,null,0]
[null,null,null,null,null,null,null,null,null,null,0,null,null,0]
[null,null,null,null,null,null,null,null,null,null,0,null,null,0]
[null,null,null,null,null,null,null,null,null,null,0,null,null,0]
[null,null,null,null,null,null,null,null,null,null,0,null,null,0]
[null,null,null,null,null,null,null,null,null,null,0,null,null,0]
[null,null,null,null,null,null,null,null,null,null,0,null,null,0]
[null,null,null,null,null,null,null,null,null,null,0,null,null,0]
[null,null,null,null,null,null,null,null,null,null,0,null,null,0]
[null,null,null,null,null,null,null,null,null,null,0,null,null,0]
[null,null,null,null,null,null,null,null,null,null,0,null,null,0]
[null,null,null,null,null,null,null,null,null,null,0,null,null,0]
[null,null,null,null,null,null,null,null,null,null,0,null,null,0]
[null,null,null,null,null,null,null,null,null,null,0,null,null,0]
[null,null,null,null,null,null,null,null,null,null,0,null,null,0]
[null,null,null,null,null,null,null,null,null,null,0,null,null,0]
[null,null,null,null,null,null,null,null,null,null,0,null,null,0]
[null,null,null,null,null,null,null,null,null,null,0,null,null,0]
[null,null,null,null,null,null,null,null,null,null,0,null,null,0]
[null,null,null,null,null,null,null,null,null,null,0,null,null,0]
[null,null,null,null,null,null,null,null,null,null,0,null,null,0]
[null,null,null,null,null,null,null,null,null,null,0,null,null,0]
[null,null,null,null,null,null,null,null,null,null,0,null,null,0]
[null,null,null,null,null,null,null,null,null,null,0,null,null,0]
[null,null,null,null,null,null,null,null,null,null,0,null,null,0]
[null,null,null,null,null,null,null,null,null,null,0,null,null,0]
[null,null,null,null,null,null,null,null,null,null,0,null,null,0]
[null,null,null,null,null,null,null,null,null,null,0,null,null,0]
[null,null,null,null,null,null,null,null,null,null,0,null,null,0]
[null,null,null,null,null,null,null,null,null,null,0,null,null,0]
[null,null,null,null,null,null,null,null,null,null,0,null,null,0]
[null,null,null,null,null,null,null,null,null,null,{"$f":"$G269*$K$6","v":0},null,null,0]
[null,null,null,null,null,null,null,null,null,null,0,null,null,{"$f":"IF(D270=\"SŽ\",0,IF(D270=\"Ostatní\",0,IF(D270=\"\",0,1)))","v":0}]
[null,null,null,null,null,null,null,null,null,null,0,null,null,0]
[null,null,null,null,null,null,null,null,null,null,0,null,null,0]
[null,null,null,null,null,null,null,null,null,null,0,null,null,0]
[null,null,null,null,null,null,null,null,null,null,0,null,null,0]
[null,null,null,null,null,null,null,null,null,null,0,null,null,0]
[null,null,null,null,null,null,null,null,null,null,0,null,null,0]
[null,null,null,null,null,null,null,null,null,null,0,null,null,0]
[null,null,null,null,null,null,null,null,null,null,0,null,null,0]
[null,null,null,null,null,null,null,null,null,null,0,null,null,0]
[null,null,null,null,null,null,null,null,null,null,0,null,null,0]
[null,null,null,null,null,null,null,null,null,null,0,null,null,0]
[null,null,null,null,null,null,null,null,null,null,0,null,null,0]
[null,null,null,null,null,null,null,null,null,null,0,null,null,0]
[null,null,null,null,null,null,null,null,null,null,0,null,null,0]
[null,null,null,null,null,null,null,null,null,null,0,null,null,0]
[null,null,null,null,null,null,null,null,null,null,0,null,null,0]
[null,null,null,null,null,null,null,null,null,null,0,null,null,0]
[null,null,null,null,null,null,null,null,null,null,0,null,null,0]
[null,null,null,null,null,null,null,null,null,null,0,null,null,0]
[null,null,null,null,null,null,null,null,null,null,0,null,null,0]
[null,null,null,null,null,null,null,null,null,null,0,null,null,0]
[null,null,null,null,null,null,null,null,null,null,0,null,null,0]
[null,null,null,null,null,null,null,null,null,null,0,null,null,0]
[null,null,null,null,null,null,null,null,null,null,0,null,null,0]
[null,null,null,null,null,null,null,null,null,null,0,null,null,0]
[null,null,null,null,null,null,null,null,null,null,0,null,null,0]
[null,null,null,null,null,null,null,null,null,null,0,null,null,0]
[null,null,null,null,null,null,null,null,null,null,0,null,null,0]
[null,null,null,null,null,null,null,null,null,null,0,null,null,0]
[null,null,null,null,null,null,null,null,null,null,0,null,null,0]
[null,null,null,null,null,null,null,null,null,null,0,null,null,0]
[null,null,null,null,null,null,null,null,null,null,0,null,null,0]
[null,null,null,null,null,null,null,null,null,null,0,null,null,0]
[null,null,null,null,null,null,null,null,null,null,0,null,null,0]
[null,null,null,null,null,null,null,null,null,null,0,null,null,0]
[null,null,null,null,null,null,null,null,null,null,0,null,null,0]
[null,null,null,null,null,null,null,null,null,null,0,null,null,0]
[null,null,null,null,null,null,null,null,null,null,0,null,null,0]
[null,null,null,null,null,null,null,null,null,null,0,null,null,0]
[null,null,null,null,null,null,null,null,null,null,0,null,null,0]
[null,null,null,null,null,null,null,null,null,null,0,null,null,0]
[null,null,null,null,null,null,null,null,null,null,0,null,null,0]
[null,null,null,null,null,null,null,null,null,null,0,null,null,0]
[null,null,null,null,null,null,null,null,null,null,0,null,null,0]
[null,null,null,null,null,null,null,null,null,null,0,null,null,0]
[null,null,null,null,null,null,null,null,null,null,0,null,null,0]
[null,null,null,null,null,null,null,null,null,null,0,null,null,0]
[null,null,null,null,null,null,null,null,null,null,0,null,null,0]
[null,null,null,null,null,null,null,null,null,null,0,null,null,0]
[null,null,null,null,null,null,null,null,null,null,0,null,null,0]
[null,null,null,null,null,null,null,null,null,null,0,null,null,0]
[null,null,null,null,null,null,null,null,null,null,0,null,null,0]
[null,null,null,null,null,null,null,null,null,null,0,null,null,0]
[null,null,null,null,null,null,null,null,null,null,0,null,null,0]
[null,null,null,null,null,null,null,null,null,null,0,null,null,0]
[null,null,null,null,null,null,null,null,null,null,0,null,null,0]
[null,null,null,null,null,null,null,null,null,null,0,null,null,0]
[null,null,null,null,null,null,null,null,null,null,0,null,null,0]
[null,null,null,null,null,null,null,null,null,null,0,null,null,0]
[null,null,null,null,null,null,null,null,null,null,0,null,null,0]
[null,null,null,null,null,null,null,null,null,null,0,null,null,0]
[null,null,null,null,null,null,null,null,null,null,0,null,null,0]
[null,null,null,null,null,null,null,null,null,null,{"$f":"$G333*$K$6","v":0},null,null,0]
[null,null,null,null,null,null,null,null,null,null,0,null,null,{"$f":"IF(D334=\"SŽ\",0,IF(D334=\"Ostatní\",0,IF(D334=\"\",0,1)))","v":0}]
[null,null,null,null,null,null,null,null,null,null,0,null,null,0]
[null,null,null,null,null,null,null,null,null,null,0,null,null,0]
[null,null,null,null,null,null,null,null,null,null,0,null,null,0]
[null,null,null,null,null,null,null,null,null,null,0,null,null,0]
[null,null,null,null,null,null,null,null,null,null,0,null,null,0]
[null,null,null,null,null,null,null,null,null,null,0,null,null,0]
[null,null,null,null,null,null,null,null,null,null,0,null,null,0]
[null,null,null,null,null,null,null,null,null,null,0,null,null,0]
[null,null,null,null,null,null,null,null,null,null,0,null,null,0]
[null,null,null,null,null,null,null,null,null,null,0,null,null,0]
[null,null,null,null,null,null,null,null,null,null,0,null,null,0]
[null,null,null,null,null,null,null,null,null,null,0,null,null,0]
[null,null,null,null,null,null,null,null,null,null,0,null,null,0]
[null,null,null,null,null,null,null,null,null,null,0,null,null,0]
[null,null,null,null,null,null,null,null,null,null,0,null,null,0]
[null,null,null,null,null,null,null,null,null,null,0,null,null,0]
[null,null,null,null,null,null,null,null,null,null,0,null,null,0]
[null,null,null,null,null,null,null,null,null,null,0,null,null,0]
[null,null,null,null,null,null,null,null,null,null,0,null,null,0]
[null,null,null,null,null,null,null,null,null,null,0,null,null,0]
[null,null,null,null,null,null,null,null,null,null,0,null,null,0]
[null,null,null,null,null,null,null,null,null,null,0,null,null,0]
[null,null,null,null,null,null,null,null,null,null,0,null,null,0]
[null,null,null,null,null,null,null,null,null,null,0,null,null,0]
[null,null,null,null,null,null,null,null,null,null,0,null,null,0]
[null,null,null,null,null,null,null,null,null,null,0,null,null,0]
[null,null,null,null,null,null,null,null,null,null,0,null,null,0]
[null,null,null,null,null,null,null,null,null,null,0,null,null,0]
[null,null,null,null,null,null,null,null,null,null,0,null,null,0]
[null,null,null,null,null,null,null,null,null,null,0,null,null,0]
[null,null,null,null,null,null,null,null,null,null,0,null,null,0]
[null,null,null,null,null,null,null,null,null,null,0,null,null,0]
[null,null,null,null,null,null,null,null,null,null,0,null,null,0]
[null,null,null,null,null,null,null,null,null,null,0,null,null,0]
[null,null,null,null,null,null,null,null,null,null,0,null,null,0]
[null,null,null,null,null,null,null,null,null,null,0,null,null,0]
[null,null,null,null,null,null,null,null,null,null,0,null,null,0]
[null,null,null,null,null,null,null,null,null,null,0,null,null,0]
[null,null,null,null,null,null,null,null,null,null,0,null,null,0]
[null,null,null,null,null,null,null,null,null,null,0,null,null,0]
[null,null,null,null,null,null,null,null,null,null,0,null,null,0]
[null,null,null,null,null,null,null,null,null,null,0,null,null,0]
[null,null,null,null,null,null,null,null,null,null,0,null,null,0]
[null,null,null,null,null,null,null,null,null,null,0,null,null,0]
[null,null,null,null,null,null,null,null,null,null,0,null,null,0]
[null,null,null,null,null,null,null,null,null,null,0,null,null,0]
[null,null,null,null,null,null,null,null,null,null,0,null,null,0]
[null,null,null,null,null,null,null,null,null,null,0,null,null,0]
[null,null,null,null,null,null,null,null,null,null,0,null,null,0]
[null,null,null,null,null,null,null,null,null,null,0,null,null,0]
[null,null,null,null,null,null,null,null,null,null,0,null,null,0]
[null,null,null,null,null,null,null,null,null,null,0,null,null,0]
[null,null,null,null,null,null,null,null,null,null,0,null,null,0]
[null,null,null,null,null,null,null,null,null,null,0,null,null,0]
[null,null,null,null,null,null,null,null,null,null,0,null,null,0]
[null,null,null,null,null,null,null,null,null,null,0,null,null,0]
[null,null,null,null,null,null,null,null,null,null,0,null,null,0]
[null,null,null,null,null,null,null,null,null,null,0,null,null,0]
[null,null,null,null,null,null,null,null,null,null,0,null,null,0]
[null,null,null,null,null,null,null,null,null,null,0,null,null,0]
[null,null,null,null,null,null,null,null,null,null,0,null,null,0]
[null,null,null,null,null,null,null,null,null,null,0,null,null,0]
[null,null,null,null,null,null,null,null,null,null,{"$f":"$G397*$K$6","v":0},null,null,0]
[null,null,null,null,null,null,null,null,null,null,0,null,null,{"$f":"IF(D398=\"SŽ\",0,IF(D398=\"Ostatní\",0,IF(D398=\"\",0,1)))","v":0}]
[null,null,null,null,null,null,null,null,null,null,0,null,null,0]
[null,null,null,null,null,null,null,null,null,null,0,null,null,0]
[null,null,null,null,null,null,null,null,null,null,0,null,null,0]
[null,null,null,null,null,null,null,null,null,null,0,null,null,0]
[null,null,null,null,null,null,null,null,null,null,0,null,null,0]
[null,null,null,null,null,null,null,null,null,null,0,null,null,0]
[null,null,null,null,null,null,null,null,null,null,0,null,null,0]
[null,null,null,null,null,null,null,null,null,null,0,null,null,0]
[null,null,null,null,null,null,null,null,null,null,0,null,null,0]
[null,null,null,null,null,null,null,null,null,null,0,null,null,0]
[null,null,null,null,null,null,null,null,null,null,0,null,null,0]
[null,null,null,null,null,null,null,null,null,null,0,null,null,0]
[null,null,null,null,null,null,null,null,null,null,0,null,null,0]
[null,null,null,null,null,null,null,null,null,null,0,null,null,0]
[null,null,null,null,null,null,null,null,null,null,0,null,null,0]
[null,null,null,null,null,null,null,null,null,null,0,null,null,0]
[null,null,null,null,null,null,null,null,null,null,0,null,null,0]
[null,null,null,null,null,null,null,null,null,null,0,null,null,0]
[null,null,null,null,null,null,null,null,null,null,0,null,null,0]
[null,null,null,null,null,null,null,null,null,null,0,null,null,0]
[null,null,null,null,null,null,null,null,null,null,0,null,null,0]
[null,null,null,null,null,null,null,null,null,null,0,null,null,0]
[null,null,null,null,null,null,null,null,null,null,0,null,null,0]
[null,null,null,null,null,null,null,null,null,null,0,null,null,0]
[null,null,null,null,null,null,null,null,null,null,0,null,null,0]
[null,null,null,null,null,null,null,null,null,null,0,null,null,0]
[null,null,null,null,null,null,null,null,null,null,0,null,null,0]
[null,null,null,null,null,null,null,null,null,null,0,null,null,0]
[null,null,null,null,null,null,null,null,null,null,0,null,null,0]
[null,null,null,null,null,null,null,null,null,null,0,null,null,0]
[null,null,null,null,null,null,null,null,null,null,0,null,null,0]
[null,null,null,null,null,null,null,null,null,null,0,null,null,0]
[null,null,null,null,null,null,null,null,null,null,0,null,null,0]
[null,null,null,null,null,null,null,null,null,null,0,null,null,0]
[null,null,null,null,null,null,null,null,null,null,0,null,null,0]
[null,null,null,null,null,null,null,null,null,null,0,null,null,0]
[null,null,null,null,null,null,null,null,null,null,0,null,null,0]
[null,null,null,null,null,null,null,null,null,null,0,null,null,0]
[null,null,null,null,null,null,null,null,null,null,0,null,null,0]
[null,null,null,null,null,null,null,null,null,null,0,null,null,0]
[null,null,null,null,null,null,null,null,null,null,0,null,null,0]
[null,null,null,null,null,null,null,null,null,null,0,null,null,0]
[null,null,null,null,null,null,null,null,null,null,0,null,null,0]
[null,null,null,null,null,null,null,null,null,null,0,null,null,0]
[null,null,null,null,null,null,null,null,null,null,0,null,null,0]
[null,null,null,null,null,null,null,null,null,null,0,null,null,0]
[null,null,null,null,null,null,null,null,null,null,0,null,null,0]
[null,null,null,null,null,null,null,null,null,null,0,null,null,0]
[null,null,null,null,null,null,null,null,null,null,0,null,null,0]
[null,null,null,null,null,null,null,null,null,null,0,null,null,0]
[null,null,null,null,null,null,null,null,null,null,0,null,null,0]
[null,null,null,null,null,null,null,null,null,null,0,null,null,0]
[null,null,null,null,null,null,null,null,null,null,0,null,null,0]
[null,null,null,null,null,null,null,null,null,null,0,null,null,0]
[null,null,null,null,null,null,null,null,null,null,0,null,null,0]
[null,null,null,null,null,null,null,null,null,null,0,null,null,0]
[null,null,null,null,null,null,null,null,null,null,0,null,null,0]
[null,null,null,null,null,null,null,null,null,null,0,null,null,0]
[null,null,null,null,null,null,null,null,null,null,0,null,null,0]
[null,null,null,null,null,null,null,null,null,null,0,null,null,0]
[null,null,null,null,null,null,null,null,null,null,0,null,null,0]
[null,null,null,null,null,null,null,null,null,null,0,null,null,0]
[null,null,null,null,null,null,null,null,null,null,{"$f":"$G461*$K$6","v":0},null,null,0]
[null,null,null,null,null,null,null,null,null,null,0,null,null,{"$f":"IF(D462=\"SŽ\",0,IF(D462=\"Ostatní\",0,IF(D462=\"\",0,1)))","v":0}]
[null,null,null,null,null,null,null,null,null,null,0,null,null,0]
[null,null,null,null,null,null,null,null,null,null,0,null,null,0]
[null,null,null,null,null,null,null,null,null,null,0,null,null,0]
[null,null,null,null,null,null,null,null,null,null,0,null,null,0]
[null,null,null,null,null,null,null,null,null,null,0,null,null,0]
[null,null,null,null,null,null,null,null,null,null,0,null,null,0]
[null,null,null,null,null,null,null,null,null,null,0,null,null,0]
[null,null,null,null,null,null,null,null,null,null,0,null,null,0]
[null,null,null,null,null,null,null,null,null,null,0,null,null,0]
[null,null,null,null,null,null,null,null,null,null,0,null,null,0]
[null,null,null,null,null,null,null,null,null,null,0,null,null,0]
[null,null,null,null,null,null,null,null,null,null,0,null,null,0]
[null,null,null,null,null,null,null,null,null,null,0,null,null,0]
[null,null,null,null,null,null,null,null,null,null,0,null,null,0]
[null,null,null,null,null,null,null,null,null,null,0,null,null,0]
[null,null,null,null,null,null,null,null,null,null,0,null,null,0]
[null,null,null,null,null,null,null,null,null,null,0,null,null,0]
[null,null,null,null,null,null,null,null,null,null,0,null,null,0]
[null,null,null,null,null,null,null,null,null,null,0,null,null,0]
[null,null,null,null,null,null,null,null,null,null,0,null,null,0]
[null,null,null,null,null,null,null,null,null,null,0,null,null,0]
[null,null,null,null,null,null,null,null,null,null,0,null,null,0]
[null,null,null,null,null,null,null,null,null,null,0,null,null,0]
[null,null,null,null,null,null,null,null,null,null,0,null,null,0]
[null,null,null,null,null,null,null,null,null,null,0,null,null,0]
[null,null,null,null,null,null,null,null,null,null,0,null,null,0]
[null,null,null,null,null,null,null,null,null,null,0,null,null,0]
[null,null,null,null,null,null,null,null,null,null,0,null,null,0]
[null,null,null,null,null,null,null,null,null,null,0,null,null,0]
[null,null,null,null,null,null,null,null,null,null,0,null,null,0]
[null,null,null,null,null,null,null,null,null,null,0,null,null,0]
[null,null,null,null,null,null,null,null,null,null,0,null,null,0]
[null,null,null,null,null,null,null,null,null,null,0,null,null,0]
[null,null,null,null,null,null,null,null,null,null,0,null,null,0]
[null,null,null,null,null,null,null,null,null,null,0,null,null,0]
[null,null,null,null,null,null,null,null,null,null,0,null,null,0]
[null,null,null,null,null,null,null,null,null,null,0,null,null,0]
[null,null,null,null,null,null,null,null,null,null,0,null,null,0]
[null,null,null,null,null,null,null,null,null,null,0,null,null,0]
[null,null,null,null,null,null,null,null,null,null,0,null,null,0]
[null,null,null,null,null,null,null,null,null,null,0,null,null,0]
[null,null,null,null,null,null,null,null,null,null,0,null,null,0]
[null,null,null,null,null,null,null,null,null,null,0,null,null,0]
[null,null,null,null,null,null,null,null,null,null,0,null,null,0]
[null,null,null,null,null,null,null,null,null,null,0,null,null,0]
[null,null,null,null,null,null,null,null,null,null,0,null,null,0]
[null,null,null,null,null,null,null,null,null,null,0,null,null,0]
[null,null,null,null,null,null,null,null,null,null,0,null,null,0]
[null,null,null,null,null,null,null,null,null,null,0,null,null,0]
[null,null,null,null,null,null,null,null,null,null,0,null,null,0]
[null,null,null,null,null,null,null,null,null,null,0,null,null,0]
[null,null,null,null,null,null,null,null,null,null,0,null,null,0]
[null,null,null,null,null,null,null,null,null,null,0,null,null,0]
[null,null,null,null,null,null,null,null,null,null,0,null,null,0]
[null,null,null,null,null,null,null,null,null,null,0,null,null,0]
[null,null,null,null,null,null,null,null,null,null,0,null,null,0]
[null,null,null,null,null,null,null,null,null,null,0,null,null,0]
[null,null,null,null,null,null,null,null,null,null,0,null,null,0]
[null,null,null,null,null,null,null,null,null,null,0,null,null,0]
[null,null,null,null,null,null,null,null,null,null,0,null,null,0]
[null,null,null,null,null,null,null,null,null,null,0,null,null,0]
[null,null,null,null,null,null,null,null,null,null,0,null,null,0]
[null,null,null,null,null,null,null,null,null,null,{"$f":"$G525*$K$6","v":0},null,null,0]
[null,null,null,null,null,null,null,null,null,null,0,null,null,{"$f":"IF(D526=\"SŽ\",0,IF(D526=\"Ostatní\",0,IF(D526=\"\",0,1)))","v":0}]
[null,null,null,null,null,null,null,null,null,null,0,null,null,0]
[null,null,null,null,null,null,null,null,null,null,0,null,null,0]
[null,null,null,null,null,null,null,null,null,null,0,null,null,0]
[null,null,null,null,null,null,null,null,null,null,0,null,null,0]
[null,null,null,null,null,null,null,null,null,null,0,null,null,0]
[null,null,null,null,null,null,null,null,null,null,0,null,null,0]
[null,null,null,null,null,null,null,null,null,null,0,null,null,0]
[null,null,null,null,null,null,null,null,null,null,0,null,null,0]
[null,null,null,null,null,null,null,null,null,null,0,null,null,0]
[null,null,null,null,null,null,null,null,null,null,0,null,null,0]
[null,null,null,null,null,null,null,null,null,null,0,null,null,0]
[null,null,null,null,null,null,null,null,null,null,0,null,null,0]
[null,null,null,null,null,null,null,null,null,null,0,null,null,0]
[null,null,null,null,null,null,null,null,null,null,0,null,null,0]
[null,null,null,null,null,null,null,null,null,null,0,null,null,0]
[null,null,null,null,null,null,null,null,null,null,0,null,null,0]
[null,null,null,null,null,null,null,null,null,null,0,null,null,0]
[null,null,null,null,null,null,null,null,null,null,0,null,null,0]
[null,null,null,null,null,null,null,null,null,null,0,null,null,0]
[null,null,null,null,null,null,null,null,null,null,0,null,null,0]
[null,null,null,null,null,null,null,null,null,null,0,null,null,0]
[null,null,null,null,null,null,null,null,null,null,0,null,null,0]
[null,null,null,null,null,null,null,null,null,null,0,null,null,0]
[null,null,null,null,null,null,null,null,null,null,0,null,null,0]
[null,null,null,null,null,null,null,null,null,null,0,null,null,0]
[null,null,null,null,null,null,null,null,null,null,0,null,null,0]
[null,null,null,null,null,null,null,null,null,null,0,null,null,0]
[null,null,null,null,null,null,null,null,null,null,0,null,null,0]
[null,null,null,null,null,null,null,null,null,null,0,null,null,0]
[null,null,null,null,null,null,null,null,null,null,0,null,null,0]
[null,null,null,null,null,null,null,null,null,null,0,null,null,0]
[null,null,null,null,null,null,null,null,null,null,0,null,null,0]
[null,null,null,null,null,null,null,null,null,null,0,null,null,0]
[null,null,null,null,null,null,null,null,null,null,0,null,null,0]
[null,null,null,null,null,null,null,null,null,null,0,null,null,0]
[null,null,null,null,null,null,null,null,null,null,0,null,null,0]
[null,null,null,null,null,null,null,null,null,null,0,null,null,0]
[null,null,null,null,null,null,null,null,null,null,0,null,null,0]
[null,null,null,null,null,null,null,null,null,null,0,null,null,0]
[null,null,null,null,null,null,null,null,null,null,0,null,null,0]
[null,null,null,null,null,null,null,null,null,null,0,null,null,0]
[null,null,null,null,null,null,null,null,null,null,0,null,null,0]
[null,null,null,null,null,null,null,null,null,null,0,null,null,0]
[null,null,null,null,null,null,null,null,null,null,0,null,null,0]
[null,null,null,null,null,null,null,null,null,null,0,null,null,0]
[null,null,null,null,null,null,null,null,null,null,0,null,null,0]
[null,null,null,null,null,null,null,null,null,null,0,null,null,0]
[null,null,null,null,null,null,null,null,null,null,0,null,null,0]
[null,null,null,null,null,null,null,null,null,null,0,null,null,0]
[null,null,null,null,null,null,null,null,null,null,0,null,null,0]
[null,null,null,null,null,null,null,null,null,null,0,null,null,0]
[null,null,null,null,null,null,null,null,null,null,0,null,null,0]
[null,null,null,null,null,null,null,null,null,null,0,null,null,0]
[null,null,null,null,null,null,null,null,null,null,0,null,null,0]
[null,null,null,null,null,null,null,null,null,null,0,null,null,0]
[null,null,null,null,null,null,null,null,null,null,0,null,null,0]
[null,null,null,null,null,null,null,null,null,null,0,null,null,0]
[null,null,null,null,null,null,null,null,null,null,0,null,null,0]
[null,null,null,null,null,null,null,null,null,null,0,null,null,0]
[null,null,null,null,null,null,null,null,null,null,0,null,null,0]
[null,null,null,null,null,null,null,null,null,null,0,null,null,0]
[null,null,null,null,null,null,null,null,null,null,0,null,null,0]
[null,null,null,null,null,null,null,null,null,null,{"$f":"$G589*$K$6","v":0},null,null,0]
[null,null,null,null,null,null,null,null,null,null,0,null,null,{"$f":"IF(D590=\"SŽ\",0,IF(D590=\"Ostatní\",0,IF(D590=\"\",0,1)))","v":0}]
[null,null,null,null,null,null,null,null,null,null,0,null,null,0]
[null,null,null,null,null,null,null,null,null,null,0,null,null,0]
[null,null,null,null,null,null,null,null,null,null,0,null,null,0]
[null,null,null,null,null,null,null,null,null,null,0,null,null,0]
[null,null,null,null,null,null,null,null,null,null,0,null,null,0]
[null,null,null,null,null,null,null,null,null,null,0,null,null,0]
[null,null,null,null,null,null,null,null,null,null,0,null,null,0]
[null,null,null,null,null,null,null,null,null,null,0,null,null,0]
[null,null,null,null,null,null,null,null,null,null,0,null,null,0]
[null,null,null,null,null,null,null,null,null,null,0,null,null,0]
[null,null,null,null,null,null,null,null,null,null,0,null,null,0]
[null,null,null,null,null,null,null,null,null,null,0,null,null,0]
[null,null,null,null,null,null,null,null,null,null,0,null,null,0]
[null,null,null,null,null,null,null,null,null,null,0,null,null,0]
[null,null,null,null,null,null,null,null,null,null,0,null,null,0]
[null,null,null,null,null,null,null,null,null,null,0,null,null,0]
[null,null,null,null,null,null,null,null,null,null,0,null,null,0]
[null,null,null,null,null,null,null,null,null,null,0,null,null,0]
[null,null,null,null,null,null,null,null,null,null,0,null,null,0]
[null,null,null,null,null,null,null,null,null,null,0,null,null,0]
[null,null,null,null,null,null,null,null,null,null,0,null,null,0]
[null,null,null,null,null,null,null,null,null,null,0,null,null,0]
[null,null,null,null,null,null,null,null,null,null,0,null,null,0]
[null,null,null,null,null,null,null,null,null,null,0,null,null,0]
[null,null,null,null,null,null,null,null,null,null,0,null,null,0]
[null,null,null,null,null,null,null,null,null,null,0,null,null,0]
[null,null,null,null,null,null,null,null,null,null,0,null,null,0]
[null,null,null,null,null,null,null,null,null,null,0,null,null,0]
[null,null,null,null,null,null,null,null,null,null,0,null,null,0]
[null,null,null,null,null,null,null,null,null,null,0,null,null,0]
[null,null,null,null,null,null,null,null,null,null,0,null,null,0]
[null,null,null,null,null,null,null,null,null,null,0,null,null,0]
[null,null,null,null,null,null,null,null,null,null,0,null,null,0]
[null,null,null,null,null,null,null,null,null,null,0,null,null,0]
[null,null,null,null,null,null,null,null,null,null,0,null,null,0]
[null,null,null,null,null,null,null,null,null,null,0,null,null,0]
[null,null,null,null,null,null,null,null,null,null,0,null,null,0]
[null,null,null,null,null,null,null,null,null,null,0,null,null,0]
[null,null,null,null,null,null,null,null,null,null,0,null,null,0]
[null,null,null,null,null,null,null,null,null,null,0,null,null,0]
[null,null,null,null,null,null,null,null,null,null,0,null,null,0]
[null,null,null,null,null,null,null,null,null,null,0,null,null,0]
[null,null,null,null,null,null,null,null,null,null,0,null,null,0]
[null,null,null,null,null,null,null,null,null,null,0,null,null,0]
[null,null,null,null,null,null,null,null,null,null,0,null,null,0]
[null,null,null,null,null,null,null,null,null,null,0,null,null,0]
[null,null,null,null,null,null,null,null,null,null,0,null,null,0]
[null,null,null,null,null,null,null,null,null,null,0,null,null,0]
[null,null,null,null,null,null,null,null,null,null,0,null,null,0]
[null,null,null,null,null,null,null,null,null,null,0,null,null,0]
[null,null,null,null,null,null,null,null,null,null,0,null,null,0]
[null,null,null,null,null,null,null,null,null,null,0,null,null,0]
[null,null,null,null,null,null,null,null,null,null,0,null,null,0]
[null,null,null,null,null,null,null,null,null,null,0,null,null,0]
[null,null,null,null,null,null,null,null,null,null,0,null,null,0]
[null,null,null,null,null,null,null,null,null,null,0,null,null,0]
[null,null,null,null,null,null,null,null,null,null,0,null,null,0]
[null,null,null,null,null,null,null,null,null,null,0,null,null,0]
[null,null,null,null,null,null,null,null,null,null,0,null,null,0]
[null,null,null,null,null,null,null,null,null,null,0,null,null,0]
[null,null,null,null,null,null,null,null,null,null,0,null,null,0]
[null,null,null,null,null,null,null,null,null,null,0,null,null,0]
[null,null,null,null,null,null,null,null,null,null,{"$f":"$G653*$K$6","v":0},null,null,0]
[null,null,null,null,null,null,null,null,null,null,0,null,null,{"$f":"IF(D654=\"SŽ\",0,IF(D654=\"Ostatní\",0,IF(D654=\"\",0,1)))","v":0}]
[null,null,null,null,null,null,null,null,null,null,0,null,null,0]
[null,null,null,null,null,null,null,null,null,null,0,null,null,0]
[null,null,null,null,null,null,null,null,null,null,0,null,null,0]
[null,null,null,null,null,null,null,null,null,null,0,null,null,0]
[null,null,null,null,null,null,null,null,null,null,0,null,null,0]
[null,null,null,null,null,null,null,null,null,null,0,null,null,0]
[null,null,null,null,null,null,null,null,null,null,0,null,null,0]
[null,null,null,null,null,null,null,null,null,null,0,null,null,0]
[null,null,null,null,null,null,null,null,null,null,0,null,null,0]
[null,null,null,null,null,null,null,null,null,null,0,null,null,0]
[null,null,null,null,null,null,null,null,null,null,0,null,null,0]
[null,null,null,null,null,null,null,null,null,null,0,null,null,0]
[null,null,null,null,null,null,null,null,null,null,0,null,null,0]
[null,null,null,null,null,null,null,null,null,null,0,null,null,0]
[null,null,null,null,null,null,null,null,null,null,0,null,null,0]
[null,null,null,null,null,null,null,null,null,null,0,null,null,0]
[null,null,null,null,null,null,null,null,null,null,0,null,null,0]
[null,null,null,null,null,null,null,null,null,null,0,null,null,0]
[null,null,null,null,null,null,null,null,null,null,0,null,null,0]
[null,null,null,null,null,null,null,null,null,null,0,null,null,0]
[null,null,null,null,null,null,null,null,null,null,0,null,null,0]
[null,null,null,null,null,null,null,null,null,null,0,null,null,0]
[null,null,null,null,null,null,null,null,null,null,0,null,null,0]
[null,null,null,null,null,null,null,null,null,null,0,null,null,0]
[null,null,null,null,null,null,null,null,null,null,0,null,null,0]
[null,null,null,null,null,null,null,null,null,null,0,null,null,0]
[null,null,null,null,null,null,null,null,null,null,0,null,null,0]
[null,null,null,null,null,null,null,null,null,null,0,null,null,0]
[null,null,null,null,null,null,null,null,null,null,0,null,null,0]
[null,null,null,null,null,null,null,null,null,null,0,null,null,0]
[null,null,null,null,null,null,null,null,null,null,0,null,null,0]
[null,null,null,null,null,null,null,null,null,null,0,null,null,0]
[null,null,null,null,null,null,null,null,null,null,0,null,null,0]
[null,null,null,null,null,null,null,null,null,null,0,null,null,0]
[null,null,null,null,null,null,null,null,null,null,0,null,null,0]
[null,null,null,null,null,null,null,null,null,null,0,null,null,0]
[null,null,null,null,null,null,null,null,null,null,0,null,null,0]
[null,null,null,null,null,null,null,null,null,null,0,null,null,0]
[null,null,null,null,null,null,null,null,null,null,0,null,null,0]
[null,null,null,null,null,null,null,null,null,null,0,null,null,0]
[null,null,null,null,null,null,null,null,null,null,0,null,null,0]
[null,null,null,null,null,null,null,null,null,null,0,null,null,0]
[null,null,null,null,null,null,null,null,null,null,0,null,null,0]
[null,null,null,null,null,null,null,null,null,null,0,null,null,0]
[null,null,null,null,null,null,null,null,null,null,0,null,null,0]
[null,null,null,null,null,null,null,null,null,null,0,null,null,0]
[null,null,null,null,null,null,null,null,null,null,0,null,null,0]
[null,null,null,null,null,null,null,null,null,null,0,null,null,0]
[null,null,null,null,null,null,null,null,null,null,0,null,null,0]
[null,null,null,null,null,null,null,null,null,null,0,null,null,0]
[null,null,null,null,null,null,null,null,null,null,0,null,null,0]
[null,null,null,null,null,null,null,null,null,null,0,null,null,0]
[null,null,null,null,null,null,null,null,null,null,0,null,null,0]
[null,null,null,null,null,null,null,null,null,null,0,null,null,0]
[null,null,null,null,null,null,null,null,null,null,0,null,null,0]
[null,null,null,null,null,null,null,null,null,null,0,null,null,0]
[null,null,null,null,null,null,null,null,null,null,0,null,null,0]
[null,null,null,null,null,null,null,null,null,null,0,null,null,0]
[null,null,null,null,null,null,null,null,null,null,0,null,null,0]
[null,null,null,null,null,null,null,null,null,null,0,null,null,0]
[null,null,null,null,null,null,null,null,null,null,0,null,null,0]
[null,null,null,null,null,null,null,null,null,null,0,null,null,0]
[null,null,null,null,null,null,null,null,null,null,{"$f":"$G717*$K$6","v":0},null,null,0]
[null,null,null,null,null,null,null,null,null,null,0,null,null,{"$f":"IF(D718=\"SŽ\",0,IF(D718=\"Ostatní\",0,IF(D718=\"\",0,1)))","v":0}]
[null,null,null,null,null,null,null,null,null,null,0,null,null,0]
[null,null,null,null,null,null,null,null,null,null,0,null,null,0]
[null,null,null,null,null,null,null,null,null,null,0,null,null,0]
[null,null,null,null,null,null,null,null,null,null,0,null,null,0]
[null,null,null,null,null,null,null,null,null,null,0,null,null,0]
[null,null,null,null,null,null,null,null,null,null,0,null,null,0]
[null,null,null,null,null,null,null,null,null,null,0,null,null,0]
[null,null,null,null,null,null,null,null,null,null,0,null,null,0]
[null,null,null,null,null,null,null,null,null,null,0,null,null,0]
[null,null,null,null,null,null,null,null,null,null,0,null,null,0]
[null,null,null,null,null,null,null,null,null,null,0,null,null,0]
[null,null,null,null,null,null,null,null,null,null,0,null,null,0]
[null,null,null,null,null,null,null,null,null,null,0,null,null,0]
[null,null,null,null,null,null,null,null,null,null,0,null,null,0]
[null,null,null,null,null,null,null,null,null,null,0,null,null,0]
[null,null,null,null,null,null,null,null,null,null,0,null,null,0]
[null,null,null,null,null,null,null,null,null,null,0,null,null,0]
[null,null,null,null,null,null,null,null,null,null,0,null,null,0]
[null,null,null,null,null,null,null,null,null,null,0,null,null,0]
[null,null,null,null,null,null,null,null,null,null,0,null,null,0]
[null,null,null,null,null,null,null,null,null,null,0,null,null,0]
[null,null,null,null,null,null,null,null,null,null,0,null,null,0]
[null,null,null,null,null,null,null,null,null,null,0,null,null,0]
[null,null,null,null,null,null,null,null,null,null,0,null,null,0]
[null,null,null,null,null,null,null,null,null,null,0,null,null,0]
[null,null,null,null,null,null,null,null,null,null,0,null,null,0]
[null,null,null,null,null,null,null,null,null,null,0,null,null,0]
[null,null,null,null,null,null,null,null,null,null,0,null,null,0]
[null,null,null,null,null,null,null,null,null,null,0,null,null,0]
[null,null,null,null,null,null,null,null,null,null,0,null,null,0]
[null,null,null,null,null,null,null,null,null,null,0,null,null,0]
[null,null,null,null,null,null,null,null,null,null,0,null,null,0]
[null,null,null,null,null,null,null,null,null,null,0,null,null,0]
[null,null,null,null,null,null,null,null,null,null,0,null,null,0]
[null,null,null,null,null,null,null,null,null,null,0,null,null,0]
[null,null,null,null,null,null,null,null,null,null,0,null,null,0]
[null,null,null,null,null,null,null,null,null,null,0,null,null,0]
[null,null,null,null,null,null,null,null,null,null,0,null,null,0]
[null,null,null,null,null,null,null,null,null,null,0,null,null,0]
[null,null,null,null,null,null,null,null,null,null,0,null,null,0]
[null,null,null,null,null,null,null,null,null,null,0,null,null,0]
[null,null,null,null,null,null,null,null,null,null,0,null,null,0]
[null,null,null,null,null,null,null,null,null,null,0,null,null,0]
[null,null,null,null,null,null,null,null,null,null,0,null,null,0]
[null,null,null,null,null,null,null,null,null,null,0,null,null,0]
[null,null,null,null,null,null,null,null,null,null,0,null,null,0]
[null,null,null,null,null,null,null,null,null,null,0,null,null,0]
[null,null,null,null,null,null,null,null,null,null,0,null,null,0]
[null,null,null,null,null,null,null,null,null,null,0,null,null,0]
[null,null,null,null,null,null,null,null,null,null,0,null,null,0]
[null,null,null,null,null,null,null,null,null,null,0,null,null,0]
[null,null,null,null,null,null,null,null,null,null,0,null,null,0]
[null,null,null,null,null,null,null,null,null,null,0,null,null,0]
[null,null,null,null,null,null,null,null,null,null,0,null,null,0]
[null,null,null,null,null,null,null,null,null,null,0,null,null,0]
[null,null,null,null,null,null,null,null,null,null,0,null,null,0]
[null,null,null,null,null,null,null,null,null,null,0,null,null,0]
[null,null,null,null,null,null,null,null,null,null,0,null,null,0]
[null,null,null,null,null,null,null,null,null,null,0,null,null,0]
[null,null,null,null,null,null,null,null,null,null,0,null,null,0]
[null,null,null,null,null,null,null,null,null,null,0,null,null,0]
[null,null,null,null,null,null,null,null,null,null,0,null,null,0]
[null,null,null,null,null,null,null,null,null,null,{"$f":"$G781*$K$6","v":0},null,null,0]
[null,null,null,null,null,null,null,null,null,null,0,null,null,{"$f":"IF(D782=\"SŽ\",0,IF(D782=\"Ostatní\",0,IF(D782=\"\",0,1)))","v":0}]
[null,null,null,null,null,null,null,null,null,null,0,null,null,0]
[null,null,null,null,null,null,null,null,null,null,0,null,null,0]
[null,null,null,null,null,null,null,null,null,null,0,null,null,0]
[null,null,null,null,null,null,null,null,null,null,0,null,null,0]
[null,null,null,null,null,null,null,null,null,null,0,null,null,0]
[null,null,null,null,null,null,null,null,null,null,0,null,null,0]
[null,null,null,null,null,null,null,null,null,null,0,null,null,0]
[null,null,null,null,null,null,null,null,null,null,0,null,null,0]
[null,null,null,null,null,null,null,null,null,null,0,null,null,0]
[null,null,null,null,null,null,null,null,null,null,0,null,null,0]
[null,null,null,null,null,null,null,null,null,null,0,null,null,0]
[null,null,null,null,null,null,null,null,null,null,0,null,null,0]
[null,null,null,null,null,null,null,null,null,null,0,null,null,0]
[null,null,null,null,null,null,null,null,null,null,0,null,null,0]
[null,null,null,null,null,null,null,null,null,null,0,null,null,0]
[null,null,null,null,null,null,null,null,null,null,0,null,null,0]
[null,null,null,null,null,null,null,null,null,null,0,null,null,0]
[null,null,null,null,null,null,null,null,null,null,0,null,null,0]
[null,null,null,null,null,null,null,null,null,null,0,null,null,0]
[null,null,null,null,null,null,null,null,null,null,0,null,null,0]
[null,null,null,null,null,null,null,null,null,null,0,null,null,0]
[null,null,null,null,null,null,null,null,null,null,0,null,null,0]
[null,null,null,null,null,null,null,null,null,null,0,null,null,0]
[null,null,null,null,null,null,null,null,null,null,0,null,null,0]
[null,null,null,null,null,null,null,null,null,null,0,null,null,0]
[null,null,null,null,null,null,null,null,null,null,0,null,null,0]
[null,null,null,null,null,null,null,null,null,null,0,null,null,0]
[null,null,null,null,null,null,null,null,null,null,0,null,null,0]
[null,null,null,null,null,null,null,null,null,null,0,null,null,0]
[null,null,null,null,null,null,null,null,null,null,0,null,null,0]
[null,null,null,null,null,null,null,null,null,null,0,null,null,0]
[null,null,null,null,null,null,null,null,null,null,0,null,null,0]
[null,null,null,null,null,null,null,null,null,null,0,null,null,0]
[null,null,null,null,null,null,null,null,null,null,0,null,null,0]
[null,null,null,null,null,null,null,null,null,null,0,null,null,0]
[null,null,null,null,null,null,null,null,null,null,0,null,null,0]
[null,null,null,null,null,null,null,null,null,null,0,null,null,0]
[null,null,null,null,null,null,null,null,null,null,0,null,null,0]
[null,null,null,null,null,null,null,null,null,null,0,null,null,0]
[null,null,null,null,null,null,null,null,null,null,0,null,null,0]
[null,null,null,null,null,null,null,null,null,null,0,null,null,0]
[null,null,null,null,null,null,null,null,null,null,0,null,null,0]
[null,null,null,null,null,null,null,null,null,null,0,null,null,0]
[null,null,null,null,null,null,null,null,null,null,0,null,null,0]
[null,null,null,null,null,null,null,null,null,null,0,null,null,0]
[null,null,null,null,null,null,null,null,null,null,0,null,null,0]
[null,null,null,null,null,null,null,null,null,null,0,null,null,0]
[null,null,null,null,null,null,null,null,null,null,0,null,null,0]
[null,null,null,null,null,null,null,null,null,null,0,null,null,0]
[null,null,null,null,null,null,null,null,null,null,0,null,null,0]
[null,null,null,null,null,null,null,null,null,null,0,null,null,0]
[null,null,null,null,null,null,null,null,null,null,0,null,null,0]
[null,null,null,null,null,null,null,null,null,null,0,null,null,0]
[null,null,null,null,null,null,null,null,null,null,0,null,null,0]
[null,null,null,null,null,null,null,null,null,null,0,null,null,0]
[null,null,null,null,null,null,null,null,null,null,0,null,null,0]
[null,null,null,null,null,null,null,null,null,null,0,null,null,0]
[null,null,null,null,null,null,null,null,null,null,0,null,null,0]
[null,null,null,null,null,null,null,null,null,null,0,null,null,0]
[null,null,null,null,null,null,null,null,null,null,0,null,null,0]
[null,null,null,null,null,null,null,null,null,null,0,null,null,0]
[null,null,null,null,null,null,null,null,null,null,0,null,null,0]
[null,null,null,null,null,null,null,null,null,null,{"$f":"$G845*$K$6","v":0},null,null,0]
[null,null,null,null,null,null,null,null,null,null,0,null,null,{"$f":"IF(D846=\"SŽ\",0,IF(D846=\"Ostatní\",0,IF(D846=\"\",0,1)))","v":0}]
[null,null,null,null,null,null,null,null,null,null,0,null,null,0]
[null,null,null,null,null,null,null,null,null,null,0,null,null,0]
[null,null,null,null,null,null,null,null,null,null,0,null,null,0]
[null,null,null,null,null,null,null,null,null,null,0,null,null,0]
[null,null,null,null,null,null,null,null,null,null,0,null,null,0]
[null,null,null,null,null,null,null,null,null,null,0,null,null,0]
[null,null,null,null,null,null,null,null,null,null,0,null,null,0]
[null,null,null,null,null,null,null,null,null,null,0,null,null,0]
[null,null,null,null,null,null,null,null,null,null,0,null,null,0]
[null,null,null,null,null,null,null,null,null,null,0,null,null,0]
[null,null,null,null,null,null,null,null,null,null,0,null,null,0]
[null,null,null,null,null,null,null,null,null,null,0,null,null,0]
[null,null,null,null,null,null,null,null,null,null,0,null,null,0]
[null,null,null,null,null,null,null,null,null,null,0,null,null,0]
[null,null,null,null,null,null,null,null,null,null,0,null,null,0]
[null,null,null,null,null,null,null,null,null,null,0,null,null,0]
[null,null,null,null,null,null,null,null,null,null,0,null,null,0]
[null,null,null,null,null,null,null,null,null,null,0,null,null,0]
[null,null,null,null,null,null,null,null,null,null,0,null,null,0]
[null,null,null,null,null,null,null,null,null,null,0,null,null,0]
[null,null,null,null,null,null,null,null,null,null,0,null,null,0]
[null,null,null,null,null,null,null,null,null,null,0,null,null,0]
[null,null,null,null,null,null,null,null,null,null,0,null,null,0]
[null,null,null,null,null,null,null,null,null,null,0,null,null,0]
[null,null,null,null,null,null,null,null,null,null,0,null,null,0]
[null,null,null,null,null,null,null,null,null,null,0,null,null,0]
[null,null,null,null,null,null,null,null,null,null,0,null,null,0]
[null,null,null,null,null,null,null,null,null,null,0,null,null,0]
[null,null,null,null,null,null,null,null,null,null,0,null,null,0]
[null,null,null,null,null,null,null,null,null,null,0,null,null,0]
[null,null,null,null,null,null,null,null,null,null,0,null,null,0]
[null,null,null,null,null,null,null,null,null,null,0,null,null,0]
[null,null,null,null,null,null,null,null,null,null,0,null,null,0]
[null,null,null,null,null,null,null,null,null,null,0,null,null,0]
[null,null,null,null,null,null,null,null,null,null,0,null,null,0]
[null,null,null,null,null,null,null,null,null,null,0,null,null,0]
[null,null,null,null,null,null,null,null,null,null,0,null,null,0]
[null,null,null,null,null,null,null,null,null,null,0,null,null,0]
[null,null,null,null,null,null,null,null,null,null,0,null,null,0]
[null,null,null,null,null,null,null,null,null,null,0,null,null,0]
[null,null,null,null,null,null,null,null,null,null,0,null,null,0]
[null,null,null,null,null,null,null,null,null,null,0,null,null,0]
[null,null,null,null,null,null,null,null,null,null,0,null,null,0]
[null,null,null,null,null,null,null,null,null,null,0,null,null,0]
[null,null,null,null,null,null,null,null,null,null,0,null,null,0]
[null,null,null,null,null,null,null,null,null,null,0,null,null,0]
[null,null,null,null,null,null,null,null,null,null,0,null,null,0]
[null,null,null,null,null,null,null,null,null,null,0,null,null,0]
[null,null,null,null,null,null,null,null,null,null,0,null,null,0]
[null,null,null,null,null,null,null,null,null,null,0,null,null,0]
[null,null,null,null,null,null,null,null,null,null,0,null,null,0]
[null,null,null,null,null,null,null,null,null,null,0,null,null,0]
[null,null,null,null,null,null,null,null,null,null,0,null,null,0]
[null,null,null,null,null,null,null,null,null,null,0,null,null,0]
[null,null,null,null,null,null,null,null,null,null,0,null,null,0]
[null,null,null,null,null,null,null,null,null,null,0,null,null,0]
[null,null,null,null,null,null,null,null,null,null,0,null,null,0]
[null,null,null,null,null,null,null,null,null,null,0,null,null,0]
[null,null,null,null,null,null,null,null,null,null,0,null,null,0]
[null,null,null,null,null,null,null,null,null,null,0,null,null,0]
[null,null,null,null,null,null,null,null,null,null,0,null,null,0]
[null,null,null,null,null,null,null,null,null,null,0,null,null,0]
[null,null,null,null,null,null,null,null,null,null,{"$f":"$G909*$K$6","v":0},null,null,0]
[null,null,null,null,null,null,null,null,null,null,0,null,null,{"$f":"IF(D910=\"SŽ\",0,IF(D910=\"Ostatní\",0,IF(D910=\"\",0,1)))","v":0}]
[null,null,null,null,null,null,null,null,null,null,0,null,null,0]
[null,null,null,null,null,null,null,null,null,null,0,null,null,0]
[null,null,null,null,null,null,null,null,null,null,0,null,null,0]
[null,null,null,null,null,null,null,null,null,null,0,null,null,0]
[null,null,null,null,null,null,null,null,null,null,0,null,null,0]
[null,null,null,null,null,null,null,null,null,null,0,null,null,0]
[null,null,null,null,null,null,null,null,null,null,0,null,null,0]
[null,null,null,null,null,null,null,null,null,null,0,null,null,0]
[null,null,null,null,null,null,null,null,null,null,0,null,null,0]
[null,null,null,null,null,null,null,null,null,null,0,null,null,0]
[null,null,null,null,null,null,null,null,null,null,0,null,null,0]
[null,null,null,null,null,null,null,null,null,null,0,null,null,0]
[null,null,null,null,null,null,null,null,null,null,0,null,null,0]
[null,null,null,null,null,null,null,null,null,null,0,null,null,0]
[null,null,null,null,null,null,null,null,null,null,0,null,null,0]
[null,null,null,null,null,null,null,null,null,null,0,null,null,0]
[null,null,null,null,null,null,null,null,null,null,0,null,null,0]
[null,null,null,null,null,null,null,null,null,null,0,null,null,0]
[null,null,null,null,null,null,null,null,null,null,0,null,null,0]
[null,null,null,null,null,null,null,null,null,null,0,null,null,0]
[null,null,null,null,null,null,null,null,null,null,0,null,null,0]
[null,null,null,null,null,null,null,null,null,null,0,null,null,0]
[null,null,null,null,null,null,null,null,null,null,0,null,null,0]
[null,null,null,null,null,null,null,null,null,null,0,null,null,0]
[null,null,null,null,null,null,null,null,null,null,0,null,null,0]
[null,null,null,null,null,null,null,null,null,null,0,null,null,0]
[null,null,null,null,null,null,null,null,null,null,0,null,null,0]
[null,null,null,null,null,null,null,null,null,null,0,null,null,0]
[null,null,null,null,null,null,null,null,null,null,0,null,null,0]
[null,null,null,null,null,null,null,null,null,null,0,null,null,0]
[null,null,null,null,null,null,null,null,null,null,0,null,null,0]
[null,null,null,null,null,null,null,null,null,null,0,null,null,0]
[null,null,null,null,null,null,null,null,null,null,0,null,null,0]
[null,null,null,null,null,null,null,null,null,null,0,null,null,0]
[null,null,null,null,null,null,null,null,null,null,0,null,null,0]
[null,null,null,null,null,null,null,null,null,null,0,null,null,0]
[null,null,null,null,null,null,null,null,null,null,0,null,null,0]
[null,null,null,null,null,null,null,null,null,null,0,null,null,0]
[null,null,null,null,null,null,null,null,null,null,0,null,null,0]
[null,null,null,null,null,null,null,null,null,null,0,null,null,0]
[null,null,null,null,null,null,null,null,null,null,0,null,null,0]
[null,null,null,null,null,null,null,null,null,null,0,null,null,0]
[null,null,null,null,null,null,null,null,null,null,0,null,null,0]
[null,null,null,null,null,null,null,null,null,null,0,null,null,0]
[null,null,null,null,null,null,null,null,null,null,0,null,null,0]
[null,null,null,null,null,null,null,null,null,null,0,null,null,0]
[null,null,null,null,null,null,null,null,null,null,0,null,null,0]
[null,null,null,null,null,null,null,null,null,null,0,null,null,0]
[null,null,null,null,null,null,null,null,null,null,0,null,null,0]
[null,null,null,null,null,null,null,null,null,null,0,null,null,0]
[null,null,null,null,null,null,null,null,null,null,0,null,null,0]
[null,null,null,null,null,null,null,null,null,null,0,null,null,0]
[null,null,null,null,null,null,null,null,null,null,0,null,null,0]
[null,null,null,null,null,null,null,null,null,null,0,null,null,0]
[null,null,null,null,null,null,null,null,null,null,0,null,null,0]
[null,null,null,null,null,null,null,null,null,null,0,null,null,0]
[null,null,null,null,null,null,null,null,null,null,0,null,null,0]
[null,null,null,null,null,null,null,null,null,null,0,null,null,0]
[null,null,null,null,null,null,null,null,null,null,0,null,null,0]
[null,null,null,null,null,null,null,null,null,null,0,null,null,0]
[null,null,null,null,null,null,null,null,null,null,0,null,null,0]
[null,null,null,null,null,null,null,null,null,null,0,null,null,0]
[null,null,null,null,null,null,null,null,null,null,{"$f":"$G973*$K$6","v":0},null,null,0]
[null,null,null,null,null,null,null,null,null,null,0,null,null,{"$f":"IF(D974=\"SŽ\",0,IF(D974=\"Ostatní\",0,IF(D974=\"\",0,1)))","v":0}]
[null,null,null,null,null,null,null,null,null,null,0,null,null,0]
[null,null,null,null,null,null,null,null,null,null,0,null,null,0]
[null,null,null,null,null,null,null,null,null,null,0,null,null,0]
[null,null,null,null,null,null,null,null,null,null,0,null,null,0]
[null,null,null,null,null,null,null,null,null,null,0,null,null,0]
[null,null,null,null,null,null,null,null,null,null,0,null,null,0]
[null,null,null,null,null,null,null,null,null,null,0,null,null,0]
[null,null,null,null,null,null,null,null,null,null,0,null,null,0]
[null,null,null,null,null,null,null,null,null,null,0,null,null,0]
[null,null,null,null,null,null,null,null,null,null,0,null,null,0]
[null,null,null,null,null,null,null,null,null,null,0,null,null,0]
[null,null,null,null,null,null,null,null,null,null,0,null,null,0]
[null,null,null,null,null,null,null,null,null,null,0,null,null,0]
[null,null,null,null,null,null,null,null,null,null,0,null,null,0]
[null,null,null,null,null,null,null,null,null,null,0,null,null,0]
[null,null,null,null,null,null,null,null,null,null,0,null,null,0]
[null,null,null,null,null,null,null,null,null,null,0,null,null,0]
[null,null,null,null,null,null,null,null,null,null,0,null,null,0]
[null,null,null,null,null,null,null,null,null,null,0,null,null,0]
[null,null,null,null,null,null,null,null,null,null,0,null,null,0]
[null,null,null,null,null,null,null,null,null,null,0,null,null,0]
[null,null,null,null,null,null,null,null,null,null,0,null,null,0]
[null,null,null,null,null,null,null,null,null,null,0,null,null,0]
[null,null,null,null,null,null,null,null,null,null,0,null,null,0]
[null,null,null,null,null,null,null,null,null,null,0,null,null,0]
[null,null,null,null,null,null,null,null,null,null,0,null,null,0]
[null,null,null,null,null,null,null,null,null,null,0,null,null,0]
[null,null,null,null,null,null,null,null,null,null,0,null,null,0]
[null,null,null,null,null,null,null,null,null,null,0,null,null,0]
[null,null,null,null,null,null,null,null,null,null,0,null,null,0]
[null,null,null,null,null,null,null,null,null,null,0,null,null,0]
[null,null,null,null,null,null,null,null,null,null,0,null,null,0]
[null,null,null,null,null,null,null,null,null,null,0,null,null,0]
[null,null,null,null,null,null,null,null,null,null,0,null,null,0]
[null,null,null,null,null,null,null,null,null,null,0,null,null,0]
[null,null,null,null,null,null,null,null,null,null,0,null,null,0]
[null,null,null,null,null,null,null,null,null,null,0,null,null,0]
[null,null,null,null,null,null,null,null,null,null,0,null,null,0]
[null,null,null,null,null,null,null,null,null,null,0,null,null,0]
[null,null,null,null,null,null,null,null,null,null,0,null,null,0]
[null,null,null,null,null,null,null,null,null,null,0,null,null,0]
[null,null,null,null,null,null,null,null,null,null,0,null,null,0]
[null,null,null,null,null,null,null,null,null,null,0,null,null,0]
[null,null,null,null,null,null,null,null,null,null,0,null,null,0]
[null,null,null,null,null,null,null,null,null,null,0,null,null,0]
[null,null,null,null,null,null,null,null,null,null,0,null,null,0]
[null,null,null,null,null,null,null,null,null,null,0,null,null,0]
[null,null,null,null,null,null,null,null,null,null,0,null,null,0]
[null,null,null,null,null,null,null,null,null,null,0,null,null,0]
[null,null,null,null,null,null,null,null,null,null,0,null,null,0]
[null,null,null,null,null,null,null,null,null,null,0,null,null,0]
[null,null,null,null,null,null,null,null,null,null,0,null,null,0]
[null,null,null,null,null,null,null,null,null,null,0,null,null,0]
[null,null,null,null,null,null,null,null,null,null,0,null,null,0]
[null,null,null,null,null,null,null,null,null,null,0,null,null,0]
[null,null,null,null,null,null,null,null,null,null,0,null,null,0]
[null,null,null,null,null,null,null,null,null,null,0,null,null,0]
[null,null,null,null,null,null,null,null,null,null,0,null,null,0]
[null,null,null,null,null,null,null,null,null,null,0,null,null,0]
[null,null,null,null,null,null,null,null,null,null,0,null,null,0]
[null,null,null,null,null,null,null,null,null,null,0,null,null,0]
[null,null,null,null,null,null,null,null,null,null,0,null,null,0]
[null,null,null,null,null,null,null,null,null,null,{"$f":"$G1037*$K$6","v":0},null,null,0]
[null,null,null,null,null,null,null,null,null,null,0,null,null,{"$f":"IF(D1038=\"SŽ\",0,IF(D1038=\"Ostatní\",0,IF(D1038=\"\",0,1)))","v":0}]
[null,null,null,null,null,null,null,null,null,null,0,null,null,0]
[null,null,null,null,null,null,null,null,null,null,0,null,null,0]
[null,null,null,null,null,null,null,null,null,null,0,null,null,0]
[null,null,null,null,null,null,null,null,null,null,0,null,null,0]
[null,null,null,null,null,null,null,null,null,null,0,null,null,0]
[null,null,null,null,null,null,null,null,null,null,0,null,null,0]
[null,null,null,null,null,null,null,null,null,null,0,null,null,0]
[null,null,null,null,null,null,null,null,null,null,0,null,null,0]
[null,null,null,null,null,null,null,null,null,null,0,null,null,0]
[null,null,null,null,null,null,null,null,null,null,0,null,null,0]
[null,null,null,null,null,null,null,null,null,null,0,null,null,0]
[null,null,null,null,null,null,null,null,null,null,0,null,null,0]
[null,null,null,null,null,null,null,null,null,null,0,null,null,0]
[null,null,null,null,null,null,null,null,null,null,0,null,null,0]
[null,null,null,null,null,null,null,null,null,null,0,null,null,0]
[null,null,null,null,null,null,null,null,null,null,0,null,null,0]
[null,null,null,null,null,null,null,null,null,null,0,null,null,0]
[null,null,null,null,null,null,null,null,null,null,0,null,null,0]
[null,null,null,null,null,null,null,null,null,null,0,null,null,0]
[null,null,null,null,null,null,null,null,null,null,0,null,null,0]
[null,null,null,null,null,null,null,null,null,null,0,null,null,0]
[null,null,null,null,null,null,null,null,null,null,0,null,null,0]
[null,null,null,null,null,null,null,null,null,null,0,null,null,0]
[null,null,null,null,null,null,null,null,null,null,0,null,null,0]
[null,null,null,null,null,null,null,null,null,null,0,null,null,0]
[null,null,null,null,null,null,null,null,null,null,0,null,null,0]
[null,null,null,null,null,null,null,null,null,null,0,null,null,0]
[null,null,null,null,null,null,null,null,null,null,0,null,null,0]
[null,null,null,null,null,null,null,null,null,null,0,null,null,0]
[null,null,null,null,null,null,null,null,null,null,0,null,null,0]
[null,null,null,null,null,null,null,null,null,null,0,null,null,0]
[null,null,null,null,null,null,null,null,null,null,0,null,null,0]
[null,null,null,null,null,null,null,null,null,null,0,null,null,0]
[null,null,null,null,null,null,null,null,null,null,0,null,null,0]
[null,null,null,null,null,null,null,null,null,null,0,null,null,0]
[null,null,null,null,null,null,null,null,null,null,0,null,null,0]
[null,null,null,null,null,null,null,null,null,null,0,null,null,0]
[null,null,null,null,null,null,null,null,null,null,0,null,null,0]
[null,null,null,null,null,null,null,null,null,null,0,null,null,0]
[null,null,null,null,null,null,null,null,null,null,0,null,null,0]
[null,null,null,null,null,null,null,null,null,null,0,null,null,0]
[null,null,null,null,null,null,null,null,null,null,0,null,null,0]
[null,null,null,null,null,null,null,null,null,null,0,null,null,0]
[null,null,null,null,null,null,null,null,null,null,0,null,null,0]
[null,null,null,null,null,null,null,null,null,null,0,null,null,0]
[null,null,null,null,null,null,null,null,null,null,0,null,null,0]
[null,null,null,null,null,null,null,null,null,null,0,null,null,0]
[null,null,null,null,null,null,null,null,null,null,0,null,null,0]
[null,null,null,null,null,null,null,null,null,null,0,null,null,0]
[null,null,null,null,null,null,null,null,null,null,0,null,null,0]
[null,null,null,null,null,null,null,null,null,null,0,null,null,0]
[null,null,null,null,null,null,null,null,null,null,0,null,null,0]
[null,null,null,null,null,null,null,null,null,null,0,null,null,0]
[null,null,null,null,null,null,null,null,null,null,0,null,null,0]
[null,null,null,null,null,null,null,null,null,null,0,null,null,0]
[null,null,null,null,null,null,null,null,null,null,0,null,null,0]
[null,null,null,null,null,null,null,null,null,null,0,null,null,0]
[null,null,null,null,null,null,null,null,null,null,0,null,null,0]
[null,null,null,null,null,null,null,null,null,null,0,null,null,0]
[null,null,null,null,null,null,null,null,null,null,0,null,null,0]
[null,null,null,null,null,null,null,null,null,null,0,null,null,0]
[null,null,null,null,null,null,null,null,null,null,0,null,null,0]
[null,null,null,null,null,null,null,null,null,null,{"$f":"$G1101*$K$6","v":0},null,null,0]
[null,null,null,null,null,null,null,null,null,null,0,null,null,{"$f":"IF(D1102=\"SŽ\",0,IF(D1102=\"Ostatní\",0,IF(D1102=\"\",0,1)))","v":0}]
[null,null,null,null,null,null,null,null,null,null,0,null,null,0]
[null,null,null,null,null,null,null,null,null,null,0,null,null,0]
[null,null,null,null,null,null,null,null,null,null,0,null,null,0]
[null,null,null,null,null,null,null,null,null,null,0,null,null,0]
[null,null,null,null,null,null,null,null,null,null,0,null,null,0]
[null,null,null,null,null,null,null,null,null,null,0,null,null,0]
[null,null,null,null,null,null,null,null,null,null,0,null,null,0]
[null,null,null,null,null,null,null,null,null,null,0,null,null,0]
[null,null,null,null,null,null,null,null,null,null,0,null,null,0]
[null,null,null,null,null,null,null,null,null,null,0,null,null,0]
[null,null,null,null,null,null,null,null,null,null,0,null,null,0]
[null,null,null,null,null,null,null,null,null,null,0,null,null,0]
[null,null,null,null,null,null,null,null,null,null,0,null,null,0]
[null,null,null,null,null,null,null,null,null,null,0,null,null,0]
[null,null,null,null,null,null,null,null,null,null,0,null,null,0]
[null,null,null,null,null,null,null,null,null,null,0,null,null,0]
[null,null,null,null,null,null,null,null,null,null,0,null,null,0]
[null,null,null,null,null,null,null,null,null,null,0,null,null,0]
[null,null,null,null,null,null,null,null,null,null,0,null,null,0]
[null,null,null,null,null,null,null,null,null,null,0,null,null,0]
[null,null,null,null,null,null,null,null,null,null,0,null,null,0]
[null,null,null,null,null,null,null,null,null,null,0,null,null,0]
[null,null,null,null,null,null,null,null,null,null,0,null,null,0]
[null,null,null,null,null,null,null,null,null,null,0,null,null,0]
[null,null,null,null,null,null,null,null,null,null,0,null,null,0]
[null,null,null,null,null,null,null,null,null,null,0,null,null,0]
[null,null,null,null,null,null,null,null,null,null,0,null,null,0]
[null,null,null,null,null,null,null,null,null,null,0,null,null,0]
[null,null,null,null,null,null,null,null,null,null,0,null,null,0]
[null,null,null,null,null,null,null,null,null,null,0,null,null,0]
[null,null,null,null,null,null,null,null,null,null,0,null,null,0]
[null,null,null,null,null,null,null,null,null,null,0,null,null,0]
[null,null,null,null,null,null,null,null,null,null,0,null,null,0]
[null,null,null,null,null,null,null,null,null,null,0,null,null,0]
[null,null,null,null,null,null,null,null,null,null,0,null,null,0]
[null,null,null,null,null,null,null,null,null,null,0,null,null,0]
[null,null,null,null,null,null,null,null,null,null,0,null,null,0]
[null,null,null,null,null,null,null,null,null,null,0,null,null,0]
[null,null,null,null,null,null,null,null,null,null,0,null,null,0]
[null,null,null,null,null,null,null,null,null,null,0,null,null,0]
[null,null,null,null,null,null,null,null,null,null,0,null,null,0]
[null,null,null,null,null,null,null,null,null,null,0,null,null,0]
[null,null,null,null,null,null,null,null,null,null,0,null,null,0]
[null,null,null,null,null,null,null,null,null,null,0,null,null,0]
[null,null,null,null,null,null,null,null,null,null,0,null,null,0]
[null,null,null,null,null,null,null,null,null,null,0,null,null,0]
[null,null,null,null,null,null,null,null,null,null,0,null,null,0]
[null,null,null,null,null,null,null,null,null,null,0,null,null,0]
[null,null,null,null,null,null,null,null,null,null,0,null,null,0]
[null,null,null,null,null,null,null,null,null,null,0,null,null,0]
[null,null,null,null,null,null,null,null,null,null,0,null,null,0]
[null,null,null,null,null,null,null,null,null,null,0,null,null,0]
[null,null,null,null,null,null,null,null,null,null,0,null,null,0]
[null,null,null,null,null,null,null,null,null,null,0,null,null,0]
[null,null,null,null,null,null,null,null,null,null,0,null,null,0]
[null,null,null,null,null,null,null,null,null,null,0,null,null,0]
[null,null,null,null,null,null,null,null,null,null,0,null,null,0]
[null,null,null,null,null,null,null,null,null,null,0,null,null,0]
[null,null,null,null,null,null,null,null,null,null,0,null,null,0]
[null,null,null,null,null,null,null,null,null,null,0,null,null,0]
[null,null,null,null,null,null,null,null,null,null,0,null,null,0]
[null,null,null,null,null,null,null,null,null,null,0,null,null,0]
[null,null,null,null,null,null,null,null,null,null,{"$f":"$G1165*$K$6","v":0},null,null,0]
[null,null,null,null,null,null,null,null,null,null,0,null,null,{"$f":"IF(D1166=\"SŽ\",0,IF(D1166=\"Ostatní\",0,IF(D1166=\"\",0,1)))","v":0}]
[null,null,null,null,null,null,null,null,null,null,0,null,null,0]
[null,null,null,null,null,null,null,null,null,null,0,null,null,0]
[null,null,null,null,null,null,null,null,null,null,0,null,null,0]
[null,null,null,null,null,null,null,null,null,null,0,null,null,0]
[null,null,null,null,null,null,null,null,null,null,0,null,null,0]
[null,null,null,null,null,null,null,null,null,null,0,null,null,0]
[null,null,null,null,null,null,null,null,null,null,0,null,null,0]
[null,null,null,null,null,null,null,null,null,null,0,null,null,0]
[null,null,null,null,null,null,null,null,null,null,0,null,null,0]
[null,null,null,null,null,null,null,null,null,null,0,null,null,0]
[null,null,null,null,null,null,null,null,null,null,0,null,null,0]
[null,null,null,null,null,null,null,null,null,null,0,null,null,0]
[null,null,null,null,null,null,null,null,null,null,0,null,null,0]
[null,null,null,null,null,null,null,null,null,null,0,null,null,0]
[null,null,null,null,null,null,null,null,null,null,0,null,null,0]
[null,null,null,null,null,null,null,null,null,null,0,null,null,0]
[null,null,null,null,null,null,null,null,null,null,0,null,null,0]
[null,null,null,null,null,null,null,null,null,null,0,null,null,0]
[null,null,null,null,null,null,null,null,null,null,0,null,null,0]
[null,null,null,null,null,null,null,null,null,null,0,null,null,0]
[null,null,null,null,null,null,null,null,null,null,0,null,null,0]
[null,null,null,null,null,null,null,null,null,null,0,null,null,0]
[null,null,null,null,null,null,null,null,null,null,0,null,null,0]
[null,null,null,null,null,null,null,null,null,null,0,null,null,0]
[null,null,null,null,null,null,null,null,null,null,0,null,null,0]
[null,null,null,null,null,null,null,null,null,null,0,null,null,0]
[null,null,null,null,null,null,null,null,null,null,0,null,null,0]
[null,null,null,null,null,null,null,null,null,null,0,null,null,0]
[null,null,null,null,null,null,null,null,null,null,0,null,null,0]
[null,null,null,null,null,null,null,null,null,null,0,null,null,0]
[null,null,null,null,null,null,null,null,null,null,0,null,null,0]
[null,null,null,null,null,null,null,null,null,null,0,null,null,0]
[null,null,null,null,null,null,null,null,null,null,0,null,null,0]
[null,null,null,null,null,null,null,null,null,null,0,null,null,0]

{"sheet":"FR","index":10,"n_rows":45,"n_cols":8,"rows_kept":45,"cut":false,"hidden":false,"merged":[[1,3,1,4],[26,0,26,3],[43,1,44,4],[3,0,3,4],[7,1,7,4],[5,1,5,4],[10,0,12,0],[27,0,27,4],[6,1,6,4],[8,1,8,4],[4,1,4,4],[28,0,28,4],[30,0,30,4],[31,0,31,4],[32,1,32,4],[35,0,35,4],[39,1,39,4],[40,1,40,2],[33,1,33,2],[29,0,29,4],[36,0,36,4],[37,0,37,4],[38,0,38,4]]}
[null,null,null,null,{"$f":"'Krycí list SR'!H1","v":"SRP/2022/prozatimní"},null,null,"Logo pro spolufinancování:"]
[null,null,null,"Správa železnic, státní organizace\nDlážděná 1003/7, 110 00 Praha 1"]
[null,null,null,null,"Příloha č. 1a"]
["FINANČNÍ ROZPOČET"]
["NÁZEV PROGRAMU:","Operační program Doprava"]
["PRIORITNÍ OSA :","Infrastruktura pro železniční a další udržitelnou dopravu"]
["INVESTIČNÍ PRIORITA:","Rozvoj a obnova komplexních, vysoce kvalitních a interoperabilních železničních systémů a podpora opatření na snižování hluku"]
["SPECIFICKÝ  CÍL:","1.1. Zlepšení infrastruktury pro vyšší konkurenceschopnost o větší využití železniční dopravy"]
["NÁZEV PROJEKTU:",{"$f":"IF('Krycí list SR'!B2=\"\",\"\",'Krycí list SR'!B2)","v":""}]
[{"$f":"IF('Krycí list SR'!E3=\"\",\"\",'Krycí list SR'!E3)","v":""},"ISPROFIN:",{"$f":"IF('Krycí list SR'!$B$3=\"\",\"\",'Krycí list SR'!$B$3)","v":""},"Kategorie dráhy:",{"$f":"IF('Krycí list SR'!B9=\"\",\"\",'Krycí list SR'!B9)","v":""}]
["Zařazení nákladů","Celkové náklady","Nezpůsobilé náklady","Způsobilé náklady","Podíl způsobilých nákladů z celkových nákladů"]
[null,"(A)","(B)","(C)=(A)-(B)"]
[null,"[ Kč ]","[ Kč ]","[ Kč ]","[%]"]
[{"$f":"IF(D14>0,\"1. Poplatky za plány/stavební projekt  *)\",\"1. Poplatky za plány/stavební projekt\")","v":"1. Poplatky za plány/stavební projekt"},{"$f":"ROUND('Komentář FR'!D28,0)+((C14+D14)-ROUND('Komentář FR'!D28,0))","v":0},{"$f":"ROUND('Komentář FR'!E28,0)","v":0},{"$f":"ROUND('Komentář FR'!F28,0)","v":0},{"$f":"(IF(D14=0,0,D14/B14))","v":0}]
[{"$f":"IF(D15>0,\"2. Nákup pozemků *)\",\"2. Nákup pozemků\")","v":"2. Nákup pozemků"},{"$f":"'Komentář FR'!D35","v":0},{"$f":"'Komentář FR'!E35","v":0},{"$f":"'Komentář FR'!F35","v":0},{"$f":"IF(D15=0,0,D15/B15)","v":0}]
[{"$f":"IF(D16>0,\"3. Výstavba  *)\",\"3. Výstavba\")","v":"3. Výstavba"},{"$f":"ROUND(ROUND('Komentář FR'!D66,0)+((C16+D16)-ROUND('Komentář FR'!D66,0)),0)","v":0},{"$f":"ROUND('Komentář FR'!E66,0)","v":0},{"$f":"ROUND(('Komentář FR'!F66-E27),0)-((D14+D15+D18+D20+D21+D22+ROUND(('Komentář FR'!F66-E27),0))-ROUND(D23,0))","v":0},0]
["4. Stroje a zařízení",0,0,0,0]
[{"$f":"IF(D18>0,\"5. Nepředvídatelné události  *)\",\"5. Nepředvídatelné události\")","v":"5. Nepředvídatelné události"},{"$f":"ROUND('Komentář FR'!D69,0)+((C18+D18)-ROUND('Komentář FR'!D69,0))","v":0},{"$f":"ROUND('Komentář FR'!E69,0)","v":0},{"$f":"ROUND('Komentář FR'!F69,0)","v":0},{"$f":"IF(D18=0,0,D18/B18)","v":0}]
["6. Úprava ceny (v případě potřeby)",0,0,0,0]
[{"$f":"IF(D20>0,\"7. Propagace  *)\",\"7. Propagace\")","v":"7. Propagace"},{"$f":"ROUND('Komentář FR'!D74,0)+((C20+D20)-ROUND('Komentář FR'!D74,0))","v":0},{"$f":"ROUND('Komentář FR'!E74,0)","v":0},{"$f":"ROUND('Komentář FR'!F71,0)","v":0},{"$f":"IF(D20=0,0,D20/B20)","v":0}]
[{"$f":"IF(D21>0,\"8. Dozor v průběhu výstavby  *)\",\"8. Dozor v průběhu výstavby\")","v":"8. Dozor v průběhu výstavby"},{"$f":"ROUND('Komentář FR'!D77,0)+((C21+D21)-ROUND('Komentář FR'!D77,0))","v":0},{"$f":"ROUND('Komentář FR'!E77,0)","v":0},{"$f":"ROUND('Komentář FR'!F77,0)","v":0},{"$f":"IF(D21=0,0,D21/B21)","v":0}]
[{"$f":"IF(D22>0,\"9. Technická pomoc  *)\",\"9. Technická pomoc\")","v":"9. Technická pomoc"},{"$f":"C22+D22","v":0},{"$f":"ROUND('Komentář FR'!E87,0)-((C14+C15+C16+C17+C18+C19+C20+C21+ROUND('Komentář FR'!E87,0))-ROUND(C23,0))","v":0},{"$f":"ROUND('Komentář FR'!F87,0)","v":0},0]
["10.  Mezisoučet",{"$f":"ROUND('Komentář FR'!D88,0)","v":0},{"$f":"B23-D23","v":0},{"$f":"ROUND('Komentář FR'!F90,0)","v":0},{"$f":"IF(D23=0,0,D23/B23)","v":0}]
["11. DPH",{"$f":"'2C'!H20","v":0},{"$f":"B24","v":0},0,0]
["12.  CELKEM ",{"$f":"B24+B23","v":0},{"$f":"C24+C23","v":0},{"$f":"SUM(D23:D24)","v":0},{"$f":"IF(D25=0,0,D25/B25)","v":0}]
["Poznámky:"]
[{"$f":"IF('1C'!I16=0,\"\",\"V řádku 3. Výstavba jsou způsobilé náklady snížené o příjmy generované stavbou v rozsahu zdrojů z výzisku materiálu SŽDC:\")","v":""},null,null,null,{"$f":"IF('1C'!I16=0,,'1C'!I16)","v":0}]
[" - *) tento náklad je předmětem žádosti o spolufinancování z dotačních z fondů EU "]
["Vypracoval :"]
["jméno a příjmení"]
["obchodní název společnosti, v případě fyzické osoby podnikající  IČO"]
["adresa"]
["Datum :","dd.mm.rrrr"]
["Podpis:"]
[]
["Kontroloval:"]
["jméno a příjmení"]
["organizační složka SŽ"]
[]
["Datum :","dd.mm.rrrr"]
["Podpis:"]
[]
["Dle schváleného souhrnného rozpočtu souhlasím se sloupcem A"]
[]
["Datum:"]

{"sheet":"Komentář FR","index":11,"n_rows":91,"n_cols":33,"rows_kept":91,"cut":false,"hidden":false,"merged":[[87,0,87,2],[76,9,76,12],[86,9,86,12],[87,7,87,8],[74,23,75,23],[74,25,75,25],[74,27,75,27],[74,29,75,29],[74,30,75,30],[74,28,75,28],[74,26,75,26],[74,24,75,24],[74,9,75,9],[74,11,75,11],[74,13,75,13],[74,17,75,17],[74,19,75,19],[74,21,75,21],[74,22,75,22],[74,20,75,20],[74,18,75,18],[74,16,75,16],[74,14,75,14],[74,12,75,12],[69,12,70,12],[69,18,70,18],[69,24,70,24],[69,25,70,25],[69,26,70,26],[69,27,70,27],[69,28,70,28],[69,20,70,20],[69,22,70,22],[70,6,73,6],[75,6,76,6],[1,13,1,14],[0,9,0,30],[68,9,68,12],[66,12,67,12],[1,25,1,26],[1,27,1,28],[1,29,1,30],[2,13,2,14],[2,15,2,16],[2,17,2,18],[2,19,2,20],[2,21,2,22],[2,23,2,24],[2,25,2,26],[2,27,2,28],[2,29,2,30],[1,9,1,10],[2,9,2,10],[1,11,1,12],[2,11,2,12],[1,15,1,16],[1,17,1,18],[1,0,2,0],[67,8,68,8],[1,7,2,7],[67,6,68,6],[1,19,1,20],[1,21,1,22],[1,23,1,24],[66,14,67,14],[66,13,67,13],[66,15,67,15],[66,17,67,17],[66,19,67,19],[27,9,27,12],[34,9,34,12],[65,9,65,12],[66,9,67,9],[66,10,67,10],[66,11,67,11],[66,16,67,16],[66,18,67,18],[66,20,67,20],[66,22,67,22],[66,24,67,24],[66,21,67,21],[67,31,68,31],[67,32,68,32],[0,31,1,32],[3,31,3,32],[28,31,28,32],[35,31,35,32],[66,31,66,32],[0,2,0,5],[1,1,2,2],[66,30,67,30],[66,29,67,29],[66,26,67,26],[66,28,67,28],[66,23,67,23],[66,25,67,25],[66,27,67,27],[88,7,88,8],[89,7,89,8],[77,31,77,32],[74,31,74,32],[75,31,76,31],[75,32,76,32],[69,31,69,32],[70,31,73,31],[70,32,73,32],[74,10,75,10],[69,29,70,29],[69,30,70,30],[73,9,73,12],[69,9,70,9],[69,11,70,11],[69,13,70,13],[69,15,70,15],[69,17,70,17],[69,19,70,19],[69,21,70,21],[69,23,70,23],[69,10,70,10],[69,16,70,16],[69,14,70,14]]}
["Komentář k FR ve smíšené CÚ",null,{"$f":"'Krycí list SR'!B2","v":0},null,null,null,null,null,null,"Náklady v letech",null,null,null,null,null,null,null,null,null,null,null,null,null,null,null,null,null,null,null,null,null,"Kontrolní součet"]
["Zařazení nákladů","Popis položky",null,"Náklady\ncelkem","Z toho nezpůsobilé","Z toho způsobilé","Způsobilé náklady\n\n%","V případě způsobilých nákladů způsob zajištění","Poznámka k stanovení způsobilosti nákladů:","Do 31.12",null,"Aktuální rok",null,"v roce",null,"v roce",null,"v roce",null,"v roce",null,"v roce",null,"v roce",null,"v roce",null,"v roce",null,"v letech"]
[null,null,null,"[Kč]","[Kč]","[Kč]",null,null,null,{"$f":"'2A'!I4","v":2021},null,{"$f":"'2A'!J4","v":2022},null,{"$f":"'2A'!K4","v":2023},null,{"$f":"'2A'!L4","v":2024},null,{"$f":"'2A'!M4","v":2025},null,{"$f":"'2A'!N4","v":2026},null,{"$f":"'2A'!O4","v":2027},null,{"$f":"'2A'!P4","v":2028},null,{"$f":"'2A'!Q4","v":2029},null,{"$f":"'2A'!R4","v":2030},null,{"$f":"'2A'!S4","v":"po 2030"},null,"Za položku celkem","Způsobilé za položku"]
[1,null,"Poplatky za plány/stavební projekt",null,null,{"$f":"IF(MIN(E5:E27)<0,\"Chyba v rozdělení způsobilosti  \",\"\")","v":""},null,"řádek 1","Poplatky za plány/stavební projekt",{"$f":"SUM(J$5:J$27)","v":0},"způsobilost dle %",{"$f":"SUM(L$5:L$27)","v":0},"způsobilost dle %",0,"způsobilost dle %",0,"způsobilost dle %",0,"způsobilost dle %",0,"způsobilost dle %",0,"způsobilost dle %",0,"způsobilost dle %",0,"způsobilost dle %",0,"způsobilost dle %",0,"způsobilost dle %","1. Poplatky za plány/stavební projekt"]
[null,"A.2.1.1.1","Geodetické práce a mapové podklady",{"$f":"'2A'!H12","v":0},{"$f":"D5-F5","v":0},null,{"$f":"IF($D5=0,0,$F5/'2A'!$H12)","v":0},null,"Způsobilé náklady v případě výběrového řízení dle pravidel EU (jako součást dokumentace) předběžně nezpůsobilé",{"$f":"'2A'!I12","v":0},{"$f":"J5*$G5","v":0},{"$f":"'2A'!J12","v":0},{"$f":"L5*$G5","v":0},{"$f":"'2A'!K12","v":0},{"$f":"N5*$G5","v":0},{"$f":"'2A'!L12","v":0},{"$f":"P5*$G5","v":0},{"$f":"'2A'!M12","v":0},{"$f":"R5*$G5","v":0},{"$f":"'2A'!N12","v":0},{"$f":"T5*$G5","v":0},{"$f":"'2A'!O12","v":0},{"$f":"V5*$G5","v":0},{"$f":"'2A'!P12","v":0},{"$f":"X5*$G5","v":0},{"$f":"'2A'!Q12","v":0},{"$f":"Z5*$G5","v":0},{"$f":"'2A'!R12","v":0},{"$f":"AB5*$G5","v":0},{"$f":"'2A'!S12","v":0},{"$f":"AD5*$G5","v":0},{"$f":"J5+L5+N5+P5+R5+T5+V5+X5+Z5+AB5+AD5","v":0},{"$f":"K5+M5+O5+Q5+S5+U5+W5+Y5+AA5+AC5+AD5+AE5","v":0}]
[null,"A.2.1.1.2","Průzkumné práce pro předprojektové dokumentace",{"$f":"'2A'!H13","v":0},0,null,{"$f":"IF($D6=0,0,$F6/'2A'!$H13)","v":0},null,"Způsobilé náklady v případě výběrového řízení dle pravidel EU (jako součást dokumentace) předběžně nezpůsobilé",{"$f":"'2A'!I13","v":0},{"$f":"J6*$G6","v":0},{"$f":"'2A'!J13","v":0},0,{"$f":"'2A'!K13","v":0},{"$f":"N6*$G6","v":0},{"$f":"'2A'!L13","v":0},{"$f":"P6*$G6","v":0},{"$f":"'2A'!M13","v":0},{"$f":"R6*$G6","v":0},{"$f":"'2A'!N13","v":0},{"$f":"T6*$G6","v":0},{"$f":"'2A'!O13","v":0},{"$f":"V6*$G6","v":0},{"$f":"'2A'!P13","v":0},{"$f":"X6*$G6","v":0},{"$f":"'2A'!Q13","v":0},{"$f":"Z6*$G6","v":0},{"$f":"'2A'!R13","v":0},{"$f":"AB6*$G6","v":0},{"$f":"'2A'!S13","v":0},{"$f":"AD6*$G6","v":0},{"$f":"J6+L6+N6+P6+R6+T6+V6+X6+Z6+AB6+AD6","v":0},{"$f":"K6+M6+O6+Q6+S6+U6+W6+Y6+AA6+AC6+AD6+AE6","v":0}]
[null,"A.2.1.1.3","Posouzení vlivu stavby na životní prostředí",{"$f":"'2A'!H14","v":0},0,null,{"$f":"IF($D7=0,0,$F7/'2A'!$H14)","v":0},null,"Způsobilé náklady v případě výběrového řízení dle pravidel EU (jako součást dokumentace) předběžně nezpůsobilé",{"$f":"'2A'!I14","v":0},0,{"$f":"'2A'!J14","v":0},0,{"$f":"'2A'!K14","v":0},{"$f":"N7*$G7","v":0},{"$f":"'2A'!L14","v":0},{"$f":"P7*$G7","v":0},{"$f":"'2A'!M14","v":0},{"$f":"R7*$G7","v":0},{"$f":"'2A'!N14","v":0},{"$f":"T7*$G7","v":0},{"$f":"'2A'!O14","v":0},{"$f":"V7*$G7","v":0},{"$f":"'2A'!P14","v":0},{"$f":"X7*$G7","v":0},{"$f":"'2A'!Q14","v":0},{"$f":"Z7*$G7","v":0},{"$f":"'2A'!R14","v":0},{"$f":"AB7*$G7","v":0},{"$f":"'2A'!S14","v":0},{"$f":"AD7*$G7","v":0},0,0]
[null,"A.2.1.1.4","Inženýrská činnost pro předprojektové dokumentace",{"$f":"'2A'!H15","v":0},0,null,{"$f":"IF($D8=0,0,$F8/'2A'!$H15)","v":0},null,"Způsobilé náklady v případě výběrového řízení dle pravidel EU (jako součást dokumentace) předběžně nezpůsobilé",{"$f":"'2A'!I15","v":0},0,{"$f":"'2A'!J15","v":0},0,{"$f":"'2A'!K15","v":0},{"$f":"N8*$G8","v":0},{"$f":"'2A'!L15","v":0},{"$f":"P8*$G8","v":0},{"$f":"'2A'!M15","v":0},{"$f":"R8*$G8","v":0},{"$f":"'2A'!N15","v":0},{"$f":"T8*$G8","v":0},{"$f":"'2A'!O15","v":0},{"$f":"V8*$G8","v":0},{"$f":"'2A'!P15","v":0},{"$f":"X8*$G8","v":0},{"$f":"'2A'!Q15","v":0},{"$f":"Z8*$G8","v":0},{"$f":"'2A'!R15","v":0},{"$f":"AB8*$G8","v":0},{"$f":"'2A'!S15","v":0},{"$f":"AD8*$G8","v":0},0,0]
[null,"A.2.1.1.5","Ostatní náklady pro předprojektové dokumentace",{"$f":"'2A'!H16","v":0},0,null,{"$f":"IF($D9=0,0,$F9/'2A'!$H16)","v":0},null,"Způsobilé náklady v případě výběrového řízení dle pravidel EU (jako součást dokumentace) předběžně nezpůsobilé",{"$f":"'2A'!I16","v":0},0,{"$f":"'2A'!J16","v":0},0,{"$f":"'2A'!K16","v":0},{"$f":"N9*$G9","v":0},{"$f":"'2A'!L16","v":0},{"$f":"P9*$G9","v":0},{"$f":"'2A'!M16","v":0},{"$f":"R9*$G9","v":0},{"$f":"'2A'!N16","v":0},{"$f":"T9*$G9","v":0},{"$f":"'2A'!O16","v":0},{"$f":"V9*$G9","v":0},{"$f":"'2A'!P16","v":0},{"$f":"X9*$G9","v":0},{"$f":"'2A'!Q16","v":0},{"$f":"Z9*$G9","v":0},{"$f":"'2A'!R16","v":0},{"$f":"AB9*$G9","v":0},{"$f":"'2A'!S16","v":0},{"$f":"AD9*$G9","v":0},0,0]
[null,"A.2.1.2","Záměr projektu",{"$f":"'2A'!H17","v":0},0,null,{"$f":"IF($D10=0,0,$F10/'2A'!$H17)","v":0},null,"Způsobilé náklady v případě výběrového řízení dle pravidel EU předběžně nezpůsobilé",{"$f":"'2A'!I17","v":0},0,{"$f":"'2A'!J17","v":0},0,{"$f":"'2A'!K17","v":0},{"$f":"N10*$G10","v":0},{"$f":"'2A'!L17","v":0},{"$f":"P10*$G10","v":0},{"$f":"'2A'!M17","v":0},{"$f":"R10*$G10","v":0},{"$f":"'2A'!N17","v":0},{"$f":"T10*$G10","v":0},{"$f":"'2A'!O17","v":0},{"$f":"V10*$G10","v":0},{"$f":"'2A'!P17","v":0},{"$f":"X10*$G10","v":0},{"$f":"'2A'!Q17","v":0},{"$f":"Z10*$G10","v":0},{"$f":"'2A'!R17","v":0},{"$f":"AB10*$G10","v":0},{"$f":"'2A'!S17","v":0},{"$f":"AD10*$G10","v":0},0,0]
[null,"Neobsazeno",null,null,null,null,null,null,null,null,0,null,0,null,{"$f":"N11*$G11","v":0},null,{"$f":"P11*$G11","v":0},null,{"$f":"R11*$G11","v":0},null,{"$f":"T11*$G11","v":0},null,{"$f":"V11*$G11","v":0},null,{"$f":"X11*$G11","v":0},null,{"$f":"Z11*$G11","v":0},null,{"$f":"AB11*$G11","v":0},null,{"$f":"AD11*$G11","v":0},0,0]
[null,"A.2.1.3","Dokumentace pro územní řízení",{"$f":"'2A'!H19","v":0},0,null,{"$f":"IF($D12=0,0,$F12/'2A'!$H19)","v":0},null,"Způsobilé náklady v případě výběrového řízení dle pravidel EU předběžně nezpůsobilé",{"$f":"'2A'!I19","v":0},0,{"$f":"'2A'!J19","v":0},0,{"$f":"'2A'!K19","v":0},{"$f":"N12*$G12","v":0},{"$f":"'2A'!L19","v":0},{"$f":"P12*$G12","v":0},{"$f":"'2A'!M19","v":0},{"$f":"R12*$G12","v":0},{"$f":"'2A'!N19","v":0},{"$f":"T12*$G12","v":0},{"$f":"'2A'!O19","v":0},{"$f":"V12*$G12","v":0},{"$f":"'2A'!P19","v":0},{"$f":"X12*$G12","v":0},{"$f":"'2A'!Q19","v":0},{"$f":"Z12*$G12","v":0},{"$f":"'2A'!R19","v":0},{"$f":"AB12*$G12","v":0},{"$f":"'2A'!S19","v":0},{"$f":"AD12*$G12","v":0},0,0]
[null,"A.2.1.4","Dodatky k předprojektovým dokumentacím pro přípravu stavby",{"$f":"'2A'!H20","v":0},0,null,{"$f":"IF($D13=0,0,$F13/'2A'!$H20)","v":0},null,"Způsobilé náklady v případě výběrového řízení dle pravidel EU předběžně nezpůsobilé",{"$f":"'2A'!I20","v":0},0,{"$f":"'2A'!J20","v":0},0,{"$f":"'2A'!K20","v":0},{"$f":"N13*$G13","v":0},{"$f":"'2A'!L20","v":0},{"$f":"P13*$G13","v":0},{"$f":"'2A'!M20","v":0},{"$f":"R13*$G13","v":0},{"$f":"'2A'!N20","v":0},{"$f":"T13*$G13","v":0},{"$f":"'2A'!O20","v":0},{"$f":"V13*$G13","v":0},{"$f":"'2A'!P20","v":0},{"$f":"X13*$G13","v":0},{"$f":"'2A'!Q20","v":0},{"$f":"Z13*$G13","v":0},{"$f":"'2A'!R20","v":0},{"$f":"AB13*$G13","v":0},{"$f":"'2A'!S20","v":0},{"$f":"AD13*$G13","v":0},0,0]
[null,"A.2.2.1.1","Geodetické práce a mapové podklady",{"$f":"'2A'!H23","v":0},0,null,{"$f":"IF($D14=0,0,$F14/'2A'!$H23)","v":0},null,"Způsobilé náklady v případě výběrového řízení dle pravidel EU (jako součást Projektové dokumentace)",{"$f":"'2A'!I23","v":0},0,{"$f":"'2A'!J23","v":0},0,{"$f":"'2A'!K23","v":0},{"$f":"N14*$G14","v":0},{"$f":"'2A'!L23","v":0},{"$f":"P14*$G14","v":0},{"$f":"'2A'!M23","v":0},{"$f":"R14*$G14","v":0},{"$f":"'2A'!N23","v":0},{"$f":"T14*$G14","v":0},{"$f":"'2A'!O23","v":0},{"$f":"V14*$G14","v":0},{"$f":"'2A'!P23","v":0},{"$f":"X14*$G14","v":0},{"$f":"'2A'!Q23","v":0},{"$f":"Z14*$G14","v":0},{"$f":"'2A'!R23","v":0},{"$f":"AB14*$G14","v":0},{"$f":"'2A'!S23","v":0},{"$f":"AD14*$G14","v":0},0,0]
[null,"A.2.2.1.2","Geotechnický průzkum",{"$f":"'2A'!H24","v":0},0,null,{"$f":"IF($D15=0,0,$F15/'2A'!$H24)","v":0},null,"Způsobilé náklady v případě výběrového řízení dle pravidel EU (jako součást Projektové dokumentace)",{"$f":"'2A'!I24","v":0},0,{"$f":"'2A'!J24","v":0},0,{"$f":"'2A'!K24","v":0},{"$f":"N15*$G15","v":0},{"$f":"'2A'!L24","v":0},{"$f":"P15*$G15","v":0},{"$f":"'2A'!M24","v":0},{"$f":"R15*$G15","v":0},{"$f":"'2A'!N24","v":0},{"$f":"T15*$G15","v":0},{"$f":"'2A'!O24","v":0},{"$f":"V15*$G15","v":0},{"$f":"'2A'!P24","v":0},{"$f":"X15*$G15","v":0},{"$f":"'2A'!Q24","v":0},{"$f":"Z15*$G15","v":0},{"$f":"'2A'!R24","v":0},{"$f":"AB15*$G15","v":0},{"$f":"'2A'!S24","v":0},{"$f":"AD15*$G15","v":0},0,0]
[null,"A.2.2.1.3","Ostatní průzkumné práce",{"$f":"'2A'!H25","v":0},0,null,{"$f":"IF($D16=0,0,$F16/'2A'!$H25)","v":0},null,"Způsobilé náklady v případě výběrového řízení dle pravidel EU (jako součást Projektové dokumentace)",{"$f":"'2A'!I25","v":0},0,{"$f":"'2A'!J25","v":0},0,{"$f":"'2A'!K25","v":0},{"$f":"N16*$G16","v":0},{"$f":"'2A'!L25","v":0},{"$f":"P16*$G16","v":0},{"$f":"'2A'!M25","v":0},{"$f":"R16*$G16","v":0},{"$f":"'2A'!N25","v":0},{"$f":"T16*$G16","v":0},{"$f":"'2A'!O25","v":0},{"$f":"V16*$G16","v":0},{"$f":"'2A'!P25","v":0},{"$f":"X16*$G16","v":0},{"$f":"'2A'!Q25","v":0},{"$f":"Z16*$G16","v":0},{"$f":"'2A'!R25","v":0},{"$f":"AB16*$G16","v":0},{"$f":"'2A'!S25","v":0},{"$f":"AD16*$G16","v":0},0,0]
[null,"A.2.2.1.4","Inženýrská činnost pro projektovou dokumentaci",{"$f":"'2A'!H26","v":0},0,null,{"$f":"IF($D17=0,0,$F17/'2A'!$H26)","v":0},null,"Způsobilé náklady v případě výběrového řízení dle pravidel EU (jako součást Projektové dokumentace)",{"$f":"'2A'!I26","v":0},0,{"$f":"'2A'!J26","v":0},0,{"$f":"'2A'!K26","v":0},{"$f":"N17*$G17","v":0},{"$f":"'2A'!L26","v":0},{"$f":"P17*$G17","v":0},{"$f":"'2A'!M26","v":0},{"$f":"R17*$G17","v":0},{"$f":"'2A'!N26","v":0},{"$f":"T17*$G17","v":0},{"$f":"'2A'!O26","v":0},{"$f":"V17*$G17","v":0},{"$f":"'2A'!P26","v":0},{"$f":"X17*$G17","v":0},{"$f":"'2A'!Q26","v":0},{"$f":"Z17*$G17","v":0},{"$f":"'2A'!R26","v":0},{"$f":"AB17*$G17","v":0},{"$f":"'2A'!S26","v":0},{"$f":"AD17*$G17","v":0},0,0]
[null,"A.2.2.1.5","Ostatní náklady pro projektovou dokumentaci",{"$f":"'2A'!H27","v":0},0,null,{"$f":"IF($D18=0,0,$F18/'2A'!$H27)","v":0},null,"Způsobilé náklady v případě výběrového řízení dle pravidel EU (jako součást Projektové dokumentace)",{"$f":"'2A'!I27","v":0},0,{"$f":"'2A'!J27","v":0},0,{"$f":"'2A'!K27","v":0},{"$f":"N18*$G18","v":0},{"$f":"'2A'!L27","v":0},{"$f":"P18*$G18","v":0},{"$f":"'2A'!M27","v":0},{"$f":"R18*$G18","v":0},{"$f":"'2A'!N27","v":0},{"$f":"T18*$G18","v":0},{"$f":"'2A'!O27","v":0},{"$f":"V18*$G18","v":0},{"$f":"'2A'!P27","v":0},{"$f":"X18*$G18","v":0},{"$f":"'2A'!Q27","v":0},{"$f":"Z18*$G18","v":0},{"$f":"'2A'!R27","v":0},{"$f":"AB18*$G18","v":0},{"$f":"'2A'!S27","v":0},{"$f":"AD18*$G18","v":0},0,0]
[null,"A.2.2.2","Projektová dokumentace pro ohlášení stavby (DOS)",{"$f":"'2A'!H28","v":0},0,null,{"$f":"IF($D19=0,0,$F19/'2A'!$H28)","v":0},null,"Způsobilé náklady v případě výběrového řízení dle pravidel EU",{"$f":"'2A'!I28","v":0},0,{"$f":"'2A'!J28","v":0},0,{"$f":"'2A'!K28","v":0},{"$f":"N19*$G19","v":0},{"$f":"'2A'!L28","v":0},{"$f":"P19*$G19","v":0},{"$f":"'2A'!M28","v":0},{"$f":"R19*$G19","v":0},{"$f":"'2A'!N28","v":0},{"$f":"T19*$G19","v":0},{"$f":"'2A'!O28","v":0},{"$f":"V19*$G19","v":0},{"$f":"'2A'!P28","v":0},{"$f":"X19*$G19","v":0},{"$f":"'2A'!Q28","v":0},{"$f":"Z19*$G19","v":0},{"$f":"'2A'!R28","v":0},{"$f":"AB19*$G19","v":0},{"$f":"'2A'!S28","v":0},{"$f":"AD19*$G19","v":0},0,0]
[null,"A.2.2.3","Projektová dokumentace pro stavební povolení (DSP)",{"$f":"'2A'!H29","v":0},0,null,{"$f":"IF($D20=0,0,$F20/'2A'!$H29)","v":0},null,"Způsobilé náklady v případě výběrového řízení dle pravidel EU",{"$f":"'2A'!I29","v":0},0,{"$f":"'2A'!J29","v":0},0,{"$f":"'2A'!K29","v":0},{"$f":"N20*$G20","v":0},{"$f":"'2A'!L29","v":0},{"$f":"P20*$G20","v":0},{"$f":"'2A'!M29","v":0},{"$f":"R20*$G20","v":0},{"$f":"'2A'!N29","v":0},{"$f":"T20*$G20","v":0},{"$f":"'2A'!O29","v":0},{"$f":"V20*$G20","v":0},{"$f":"'2A'!P29","v":0},{"$f":"X20*$G20","v":0},{"$f":"'2A'!Q29","v":0},{"$f":"Z20*$G20","v":0},{"$f":"'2A'!R29","v":0},{"$f":"AB20*$G20","v":0},{"$f":"'2A'!S29","v":0},{"$f":"AD20*$G20","v":0},0,0]
[null,"A.2.2.4","Projektová dokumentace pro provádění stavby (PDPS)",{"$f":"'2A'!H30","v":0},0,null,{"$f":"IF($D21=0,0,$F21/'2A'!$H30)","v":0},null,"Způsobilé náklady v případě výběrového řízení dle pravidel EU",{"$f":"'2A'!I30","v":0},0,{"$f":"'2A'!J30","v":0},0,{"$f":"'2A'!K30","v":0},{"$f":"N21*$G21","v":0},{"$f":"'2A'!L30","v":0},{"$f":"P21*$G21","v":0},{"$f":"'2A'!M30","v":0},{"$f":"R21*$G21","v":0},{"$f":"'2A'!N30","v":0},{"$f":"T21*$G21","v":0},{"$f":"'2A'!O30","v":0},{"$f":"V21*$G21","v":0},{"$f":"'2A'!P30","v":0},{"$f":"X21*$G21","v":0},{"$f":"'2A'!Q30","v":0},{"$f":"Z21*$G21","v":0},{"$f":"'2A'!R30","v":0},{"$f":"AB21*$G21","v":0},{"$f":"'2A'!S30","v":0},{"$f":"AD21*$G21","v":0},0,0]
[null,"A.2.2.5","Dodatky k projektové dokumentaci",{"$f":"'2A'!H31","v":0},{"$f":"D22-F22","v":0},null,{"$f":"IF($D22=0,0,$F22/'2A'!$H31)","v":0},null,"Nezpůsobilé náklady",{"$f":"'2A'!I31","v":0},0,{"$f":"'2A'!J31","v":0},0,{"$f":"'2A'!K31","v":0},{"$f":"N22*$G22","v":0},{"$f":"'2A'!L31","v":0},{"$f":"P22*$G22","v":0},{"$f":"'2A'!M31","v":0},{"$f":"R22*$G22","v":0},{"$f":"'2A'!N31","v":0},{"$f":"T22*$G22","v":0},{"$f":"'2A'!O31","v":0},{"$f":"V22*$G22","v":0},{"$f":"'2A'!P31","v":0},{"$f":"X22*$G22","v":0},{"$f":"'2A'!Q31","v":0},{"$f":"Z22*$G22","v":0},{"$f":"'2A'!R31","v":0},{"$f":"AB22*$G22","v":0},{"$f":"'2A'!S31","v":0},{"$f":"AD22*$G22","v":0},0,0]
[null,"A.2.4.1","Osvědčení o shodě notifikovanou osobou v přípravě",{"$f":"'2A'!H34","v":0},0,null,{"$f":"IF($D23=0,0,$F23/'2A'!$H34)","v":0},null,"Způsobilé náklady v případě výběrového řízení dle pravidel EU (jako součást Projektové dokumentace)",{"$f":"'2A'!I34","v":0},0,{"$f":"'2A'!J34","v":0},0,{"$f":"'2A'!K34","v":0},{"$f":"N23*$G23","v":0},{"$f":"'2A'!L34","v":0},{"$f":"P23*$G23","v":0},{"$f":"'2A'!M34","v":0},{"$f":"R23*$G23","v":0},{"$f":"'2A'!N34","v":0},{"$f":"T23*$G23","v":0},{"$f":"'2A'!O34","v":0},{"$f":"V23*$G23","v":0},{"$f":"'2A'!P34","v":0},{"$f":"X23*$G23","v":0},{"$f":"'2A'!Q34","v":0},{"$f":"Z23*$G23","v":0},{"$f":"'2A'!R34","v":0},{"$f":"AB23*$G23","v":0},{"$f":"'2A'!S34","v":0},{"$f":"AD23*$G23","v":0},0,0]
[null,"A.2.4.2","Koordinátor BOZP v přípravě",{"$f":"'2A'!H35","v":0},0,null,{"$f":"IF($D24=0,0,$F24/'2A'!$H35)","v":0},null,"Způsobilé náklady v případě výběrového řízení dle pravidel EU (jako součást Projektové dokumentace)",{"$f":"'2A'!I35","v":0},0,{"$f":"'2A'!J35","v":0},0,{"$f":"'2A'!K35","v":0},{"$f":"N24*$G24","v":0},{"$f":"'2A'!L35","v":0},{"$f":"P24*$G24","v":0},{"$f":"'2A'!M35","v":0},{"$f":"R24*$G24","v":0},{"$f":"'2A'!N35","v":0},{"$f":"T24*$G24","v":0},{"$f":"'2A'!O35","v":0},{"$f":"V24*$G24","v":0},{"$f":"'2A'!P35","v":0},{"$f":"X24*$G24","v":0},{"$f":"'2A'!Q35","v":0},{"$f":"Z24*$G24","v":0},{"$f":"'2A'!R35","v":0},{"$f":"AB24*$G24","v":0},{"$f":"'2A'!S35","v":0},{"$f":"AD24*$G24","v":0},0,0]
[null,"A.2.4.3","Zpracování žádosti o spolufinancování stavby ",{"$f":"'2A'!H36","v":0},0,null,{"$f":"IF($D25=0,0,$F25/'2A'!$H36)","v":0},null,"Způsobilé náklady v případě výběrového řízení dle pravidel EU (jako součást Projektové dokumentace)",{"$f":"'2A'!I36","v":0},0,{"$f":"'2A'!J36","v":0},0,{"$f":"'2A'!K36","v":0},{"$f":"N25*$G25","v":0},{"$f":"'2A'!L36","v":0},{"$f":"P25*$G25","v":0},{"$f":"'2A'!M36","v":0},{"$f":"R25*$G25","v":0},{"$f":"'2A'!N36","v":0},{"$f":"T25*$G25","v":0},{"$f":"'2A'!O36","v":0},{"$f":"V25*$G25","v":0},{"$f":"'2A'!P36","v":0},{"$f":"X25*$G25","v":0},{"$f":"'2A'!Q36","v":0},{"$f":"Z25*$G25","v":0},{"$f":"'2A'!R36","v":0},{"$f":"AB25*$G25","v":0},{"$f":"'2A'!S36","v":0},{"$f":"AD25*$G25","v":0},0,0]
[null,"A.2.4.4","Ostatní nezařazené činnosti v přípravě",{"$f":"'2A'!H37","v":0},0,null,{"$f":"IF($D26=0,0,$F26/'2A'!$H37)","v":0},null,"Způsobilé náklady v případě výběrového řízení dle pravidel EU (jako součást Projektové dokumentace)",{"$f":"'2A'!I37","v":0},0,{"$f":"'2A'!J37","v":0},0,{"$f":"'2A'!K37","v":0},{"$f":"N26*$G26","v":0},{"$f":"'2A'!L37","v":0},{"$f":"P26*$G26","v":0},{"$f":"'2A'!M37","v":0},{"$f":"R26*$G26","v":0},{"$f":"'2A'!N37","v":0},{"$f":"T26*$G26","v":0},{"$f":"'2A'!O37","v":0},{"$f":"V26*$G26","v":0},{"$f":"'2A'!P37","v":0},{"$f":"X26*$G26","v":0},{"$f":"'2A'!Q37","v":0},{"$f":"Z26*$G26","v":0},{"$f":"'2A'!R37","v":0},{"$f":"AB26*$G26","v":0},{"$f":"'2A'!S37","v":0},{"$f":"AD26*$G26","v":0},0,0]
[null,"A.2.5","Dokumentace skutečného provedení",{"$f":"'2A'!H38","v":0},0,null,{"$f":"IF($D27=0,0,$F27/'2A'!$H38)","v":0},null,"Způsobilé v případě, že jsou náklady součástí SOD se zhotovitelem (zařazeno v SO 98-98)",{"$f":"'2A'!I38","v":0},0,{"$f":"'2A'!J38","v":0},0,{"$f":"'2A'!K38","v":0},{"$f":"N27*$G27","v":0},{"$f":"'2A'!L38","v":0},{"$f":"P27*$G27","v":0},{"$f":"'2A'!M38","v":0},{"$f":"R27*$G27","v":0},{"$f":"'2A'!N38","v":0},{"$f":"T27*$G27","v":0},{"$f":"'2A'!O38","v":0},{"$f":"V27*$G27","v":0},{"$f":"'2A'!P38","v":0},{"$f":"X27*$G27","v":0},{"$f":"'2A'!Q38","v":0},{"$f":"Z27*$G27","v":0},{"$f":"'2A'!R38","v":0},{"$f":"AB27*$G27","v":0},{"$f":"'2A'!S38","v":0},{"$f":"AD27*$G27","v":0},0,0]
["Celkem za 1:",null,null,{"$f":"SUM(D5:D27)","v":0},{"$f":"SUM(E5:E27)","v":0},{"$f":"SUM(F5:F27)","v":0},{"$f":"IF(SUM(G5:G27)=0,,F28/D28)","v":0},{"$f":"SUM(J28:AE28)","v":0},"Způsobilé náklady dle %",{"$f":"SUM(K5:K27,M5:M27)","v":0},null,null,null,{"$f":"SUM(O5:O27)","v":0},null,{"$f":"SUM(Q5:Q27)","v":0},null,{"$f":"SUM(S5:S27)","v":0},null,{"$f":"SUM(U5:U27)","v":0},null,{"$f":"SUM(W5:W27)","v":0},null,{"$f":"SUM(Y5:Y27)","v":0},null,{"$f":"SUM(AA5:AA27)","v":0},null,{"$f":"SUM(AC5:AC27)","v":0},null,{"$f":"SUM(AE5:AE27)","v":0},null,{"$f":"SUM(AF5:AF27)","v":0},0]
["2",null,"Nákup pozemků*",null,null,{"$f":"IF(MIN(E30:E34)<0,\"Chyba v rozdělení způsobilosti  \",\"\")","v":""},null,"řádek 2","Nákup pozemků*",{"$f":"SUM(J$30:J$34)","v":0},"způsobilost dle %",{"$f":"SUM(L$30:L$34)","v":0},"způsobilost dle %",{"$f":"SUM(N$30:N$34)","v":0},"způsobilost dle %",{"$f":"SUM(P$30:P$34)","v":0},"způsobilost dle %",{"$f":"SUM(R$30:R$34)","v":0},"způsobilost dle %",{"$f":"SUM(T$30:T$34)","v":0},"způsobilost dle %",{"$f":"SUM(V$30:V$34)","v":0},"způsobilost dle %",{"$f":"SUM(X$30:X$34)","v":0},"způsobilost dle %",{"$f":"SUM(Z$30:Z$34)","v":0},"způsobilost dle %",{"$f":"SUM(AB$30:AB$34)","v":0},"způsobilost dle %",{"$f":"SUM(AD$30:AD$34)","v":0},"způsobilost dle %","2. Nákup pozemků"]
[null,"A.3.1","Výkupy pozemků",{"$f":"'2A'!H43","v":0},{"$f":"D30-F30","v":0},null,{"$f":"IF($D30=0,0,$F30/'2A'!$H43)","v":0},null,"Způsobilé náklady v maximální výši 10% z celkových způsobilých nákladů stavby",{"$f":"'2A'!I43","v":0},{"$f":"J30*$G30","v":0},{"$f":"'2A'!J43","v":0},{"$f":"L30*$G30","v":0},{"$f":"'2A'!K43","v":0},{"$f":"N30*$G30","v":0},{"$f":"'2A'!L43","v":0},{"$f":"P30*$G30","v":0},{"$f":"'2A'!M43","v":0},{"$f":"R30*$G30","v":0},{"$f":"'2A'!N43","v":0},{"$f":"T30*$G30","v":0},{"$f":"'2A'!O43","v":0},{"$f":"V30*$G30","v":0},{"$f":"'2A'!P43","v":0},{"$f":"X30*$G30","v":0},{"$f":"'2A'!Q43","v":0},{"$f":"Z30*$G30","v":0},{"$f":"'2A'!R43","v":0},{"$f":"AB30*$G30","v":0},{"$f":"'2A'!S43","v":0},{"$f":"AD30*$G30","v":0},{"$f":"J30+L30+N30+P30+R30+T30+V30+X30+Z30+AB30+AD30","v":0},{"$f":"K30+M30+O30+Q30+S30+U30+W30+Y30+AA30+AC30+AD30+AE30","v":0}]
[null,"A.3.2","Výkupy staveb",{"$f":"'2A'!H44","v":0},{"$f":"D31-F31","v":0},null,{"$f":"IF($D31=0,0,$F31/'2A'!$H44)","v":0},null,"Způsobilé náklady v maximální výši 10% z celkových způsobilých nákladů stavby",{"$f":"'2A'!I44","v":0},{"$f":"J31*$G31","v":0},{"$f":"'2A'!J44","v":0},{"$f":"L31*$G31","v":0},{"$f":"'2A'!K44","v":0},{"$f":"N31*$G31","v":0},{"$f":"'2A'!L44","v":0},{"$f":"P31*$G31","v":0},{"$f":"'2A'!M44","v":0},{"$f":"R31*$G31","v":0},{"$f":"'2A'!N44","v":0},{"$f":"T31*$G31","v":0},{"$f":"'2A'!O44","v":0},{"$f":"V31*$G31","v":0},{"$f":"'2A'!P44","v":0},{"$f":"X31*$G31","v":0},{"$f":"'2A'!Q44","v":0},{"$f":"Z31*$G31","v":0},{"$f":"'2A'!R44","v":0},{"$f":"AB31*$G31","v":0},{"$f":"'2A'!S44","v":0},{"$f":"AD31*$G31","v":0},0,0]
[null,"A.3.3","Věcná břemena a služebnosti",{"$f":"'2A'!H45","v":0},{"$f":"D32","v":0},null,{"$f":"IF($D32=0,0,$F32/'2A'!$H45)","v":0},null,"Nezpůsobilé náklady",{"$f":"'2A'!I45","v":0},{"$f":"J32*$G32","v":0},{"$f":"'2A'!J45","v":0},{"$f":"L32*$G32","v":0},{"$f":"'2A'!K45","v":0},0,{"$f":"'2A'!L45","v":0},0,{"$f":"'2A'!M45","v":0},0,{"$f":"'2A'!N45","v":0},0,{"$f":"'2A'!O45","v":0},0,{"$f":"'2A'!P45","v":0},0,{"$f":"'2A'!Q45","v":0},0,{"$f":"'2A'!R45","v":0},0,{"$f":"'2A'!S45","v":0},0,0,0]
[null,"A.5.4.1","Odvody za trvalé odnětí ZPF a LPF",{"$f":"'2A'!H67","v":0},{"$f":"D33","v":0},null,{"$f":"IF($D33=0,0,$F33/'2A'!$H67)","v":0},null,"Nezpůsobilé náklady",{"$f":"'2A'!I67","v":0},{"$f":"J33*$G33","v":0},{"$f":"'2A'!J67","v":0},{"$f":"L33*$G33","v":0},{"$f":"'2A'!K67","v":0},0,{"$f":"'2A'!L67","v":0},0,{"$f":"'2A'!M67","v":0},0,{"$f":"'2A'!N67","v":0},0,{"$f":"'2A'!O67","v":0},0,{"$f":"'2A'!P67","v":0},0,{"$f":"'2A'!Q67","v":0},0,{"$f":"'2A'!R67","v":0},0,{"$f":"'2A'!S67","v":0},0,0,0]
[null,"A.5.4.2","Odvody za dočasné odnětí ZPF a LPF",{"$f":"'2A'!H68","v":0},{"$f":"D34","v":0},null,{"$f":"IF($D34=0,0,$F34/'2A'!$H67)","v":0},null,"Nezpůsobilé náklady",{"$f":"'2A'!I68","v":0},{"$f":"J34*$G34","v":0},{"$f":"'2A'!J68","v":0},{"$f":"L34*$G34","v":0},{"$f":"'2A'!K68","v":0},0,{"$f":"'2A'!L68","v":0},0,{"$f":"'2A'!M68","v":0},0,{"$f":"'2A'!N68","v":0},0,{"$f":"'2A'!O68","v":0},0,{"$f":"'2A'!P68","v":0},0,{"$f":"'2A'!Q68","v":0},0,{"$f":"'2A'!R68","v":0},0,{"$f":"'2A'!S68","v":0},0,0,0]
["Celkem za 1:",null,null,{"$f":"SUM(D30:D34)","v":0},{"$f":"SUM(E30:E34)","v":0},{"$f":"SUM(F30:F34)","v":0},{"$f":"IF(SUM(G30:G34)=0,,F35/D35)","v":0},{"$f":"SUM(J35:AE35)","v":0},"Způsobilé náklady dle %",{"$f":"SUM(K30:K34,M30:M34)","v":0},null,null,null,{"$f":"SUM(O30:O34)","v":0},null,{"$f":"SUM(Q30:Q34)","v":0},null,{"$f":"SUM(S30:S34)","v":0},null,{"$f":"SUM(U30:U34)","v":0},null,{"$f":"SUM(W30:W34)","v":0},null,{"$f":"SUM(Y30:Y34)","v":0},null,{"$f":"SUM(AA30:AA34)","v":0},null,{"$f":"SUM(AC30:AC34)","v":0},{"$f":"SUM(AD30:AD34)","v":0},{"$f":"SUM(AE30:AE34)","v":0},null,{"$f":"SUM(AF30:AF34)","v":0},{"$f":"SUM(AH30:AH34)","v":0}]
["3",null,"Výstavba",null,null,{"$f":"IF(MIN(E37:E65)<0,\"Chyba v rozdělení způsobilosti   \",\"\")","v":""},null,"řádek 3","Výstavba",{"$f":"SUM(J37:J65)","v":0},"způsobilost dle %",{"$f":"SUM(L37:L65)","v":0},"způsobilost dle %",{"$f":"SUM(N37:N65)","v":0},"způsobilost dle %",{"$f":"SUM(P37:P65)","v":0},"způsobilost dle %",{"$f":"SUM(R37:R65)","v":0},"způsobilost dle %",{"$f":"SUM(T37:T65)","v":0},"způsobilost dle %",{"$f":"SUM(V37:V65)","v":0},"způsobilost dle %",{"$f":"SUM(X37:X65)","v":0},"způsobilost dle %",{"$f":"SUM(Z37:Z65)","v":0},"způsobilost dle %",{"$f":"SUM(AB37:AB65)","v":0},"způsobilost dle %",{"$f":"SUM(AD37:AD65)","v":0},"způsobilost dle %","3. Výstavba"]
[null,"A.4.1","Nájmy hrazené investorem přímo",{"$f":"'2A'!H47","v":0},{"$f":"D37-F37","v":0},null,{"$f":"IF($D37=0,0,$F37/'2A'!$H47)","v":0},null,"Nezpůsobilé náklady",{"$f":"'2A'!I47","v":0},{"$f":"J37*$G37","v":0},{"$f":"'2A'!J47","v":0},{"$f":"L37*$G37","v":0},{"$f":"'2A'!K47","v":0},{"$f":"N37*$G37","v":0},{"$f":"'2A'!L47","v":0},{"$f":"P37*$G37","v":0},{"$f":"'2A'!M47","v":0},{"$f":"R37*$G37","v":0},{"$f":"'2A'!N47","v":0},{"$f":"T37*$G37","v":0},{"$f":"'2A'!O47","v":0},{"$f":"V37*$G37","v":0},{"$f":"'2A'!P47","v":0},{"$f":"X37*$G37","v":0},{"$f":"'2A'!Q47","v":0},{"$f":"Z37*$G37","v":0},{"$f":"'2A'!R47","v":0},{"$f":"AB37*$G37","v":0},{"$f":"'2A'!S47","v":0},{"$f":"AD37*$G37","v":0},{"$f":"J37+L37+N37+P37+R37+T37+V37+X37+Z37+AB37+AD37","v":0},{"$f":"K37+M37+O37+Q37+S37+U37+W37+Y37+AA37+AC37+AD37+AE37","v":0}]
[null,"A.4.2","Nájmy hrazené zhotovitelem stavby",{"$f":"'2A'!H48","v":0},0,null,{"$f":"IF($D38=0,0,$F38/'2A'!$H48)","v":0},null,"Způsobilé v případě, že jsou náklady součástí SOD se zhotovitelem (zařazeno v SO 98-98)",{"$f":"'2A'!I48","v":0},0,{"$f":"'2A'!J48","v":0},0,{"$f":"'2A'!K48","v":0},0,{"$f":"'2A'!L48","v":0},0,{"$f":"'2A'!M48","v":0},0,{"$f":"'2A'!N48","v":0},0,{"$f":"'2A'!O48","v":0},0,{"$f":"'2A'!P48","v":0},0,{"$f":"'2A'!Q48","v":0},0,{"$f":"'2A'!R48","v":0},0,{"$f":"'2A'!S48","v":0},0,0,0]
[null,"A.5.1.1","Supervizor ",{"$f":"'2A'!H51","v":0},0,null,{"$f":"IF($D39=0,0,$F39/'2A'!$H51)","v":0},null,"Způsobilé v případě, že jsou náklady součástí SOD se zhotovitelem (zařazeno v SO 98-98)",{"$f":"'2A'!I51","v":0},0,{"$f":"'2A'!J51","v":0},0,{"$f":"'2A'!K51","v":0},0,{"$f":"'2A'!L51","v":0},0,{"$f":"'2A'!M51","v":0},0,{"$f":"'2A'!N51","v":0},0,{"$f":"'2A'!O51","v":0},0,{"$f":"'2A'!P51","v":0},0,{"$f":"'2A'!Q51","v":0},0,{"$f":"'2A'!R51","v":0},0,{"$f":"'2A'!S51","v":0},0,0,0]
[null,"B.1.1.1","Základní rozpočtové náklady jednotlivých SO (ZRN)",{"$f":"'2B'!H9","v":0},0,{"$f":"SUM(PN!H16:H36)","v":0},{"$f":"IF($D40=0,0,$F40/'2B'!H9)","v":0},null,"Způsobilé v případě, že jsou náklady součástí SOD se zhotovitelem a dle ZBV",{"$f":"'2B'!I9","v":0},0,{"$f":"'2B'!J9","v":0},0,{"$f":"'2B'!K9","v":0},0,{"$f":"'2B'!L9","v":0},0,{"$f":"'2B'!M9","v":0},0,{"$f":"'2B'!N9","v":0},0,{"$f":"'2B'!O9","v":0},0,{"$f":"'2B'!P9","v":0},0,{"$f":"'2B'!Q9","v":0},0,{"$f":"'2B'!R9","v":0},0,{"$f":"'2B'!S9","v":0},0,0,0]
[null,"B.1.1.2","Vedlejší rozpočtové náklady nezahrnuté do jednotlivých SO (VRN)",{"$f":"'2B'!H10","v":0},{"$f":"D41","v":0},null,{"$f":"IF($D41=0,0,$F41/'2B'!H10)","v":0},null,"zahrnuté v ZRN (samostatně se nevyčleňují)",{"$f":"'2B'!I10","v":0},0,{"$f":"'2B'!J10","v":0},0,{"$f":"'2B'!K10","v":0},0,{"$f":"'2B'!L10","v":0},0,{"$f":"'2B'!M10","v":0},0,{"$f":"'2B'!N10","v":0},0,{"$f":"'2B'!O10","v":0},0,{"$f":"'2B'!P10","v":0},0,{"$f":"'2B'!Q10","v":0},0,{"$f":"'2B'!R10","v":0},0,{"$f":"'2B'!S10","v":0},0,0,0]
[null,"B.1.2.1","Stavební objekty zajišťované přímo investorem",{"$f":"'2B'!H12","v":0},0,{"$f":"'3SO'!J7","v":0},{"$f":"IF($D42=0,0,$F42/'2B'!H12)","v":0},null,"Způsobilé náklady v případě výběrového řízení dle pravidel EU (např. dodávka materiálu) jinak nezpůsobilé",{"$f":"'2B'!I12","v":0},0,{"$f":"'2B'!J12","v":0},0,{"$f":"'2B'!K12","v":0},0,{"$f":"'2B'!L12","v":0},0,{"$f":"'2B'!M12","v":0},0,{"$f":"'2B'!N12","v":0},0,{"$f":"'2B'!O12","v":0},0,{"$f":"'2B'!P12","v":0},0,{"$f":"'2B'!Q12","v":0},0,{"$f":"'2B'!R12","v":0},0,{"$f":"'2B'!S12","v":0},0,0,0]
[null,"B.1.2.2","Stavební práce a dodávky zajišťované přímo investorem",{"$f":"'2B'!H13","v":0},0,null,{"$f":"IF($D43=0,0,$F43/'2B'!H13)","v":0},null,"Způsobilé náklady v případě výběrového řízení dle pravidel EU (např. dodávka materiálu) jinak nezpůsobilé",{"$f":"'2B'!I13","v":0},0,{"$f":"'2B'!J13","v":0},0,{"$f":"'2B'!K13","v":0},0,{"$f":"'2B'!L13","v":0},0,{"$f":"'2B'!M13","v":0},0,{"$f":"'2B'!N13","v":0},0,{"$f":"'2B'!O13","v":0},0,{"$f":"'2B'!P13","v":0},0,{"$f":"'2B'!Q13","v":0},0,{"$f":"'2B'!R13","v":0},0,{"$f":"'2B'!S13","v":0},0,0,0]
[null,"B.1.2.3","Zkoušky, revize a měření zajišťované přímo investorem",{"$f":"'2B'!H14","v":0},{"$f":"D44","v":0},null,{"$f":"IF($D44=0,0,$F44/'2B'!H14)","v":0},null,"Nezpůsobilé náklady",{"$f":"'2B'!I14","v":0},0,{"$f":"'2B'!J14","v":0},0,{"$f":"'2B'!K14","v":0},0,{"$f":"'2B'!L14","v":0},0,{"$f":"'2B'!M14","v":0},0,{"$f":"'2B'!N14","v":0},0,{"$f":"'2B'!O14","v":0},0,{"$f":"'2B'!P14","v":0},0,{"$f":"'2B'!Q14","v":0},0,{"$f":"'2B'!R14","v":0},0,{"$f":"'2B'!S14","v":0},0,0,0]
[null,"B.2.1.1","Základní rozpočtové náklady jednotlivých PS (ZRN)",{"$f":"'2B'!H17","v":0},{"$f":"D45-F45","v":0},{"$f":"SUM(PN!H40:H43)","v":0},{"$f":"IF($D45=0,0,$F45/'2B'!H17)","v":0},null,"Způsobilé v případě, že jsou náklady součástí SOD se zhotovitelem a dle ZBV",{"$f":"'2B'!I17","v":0},0,{"$f":"'2B'!J17","v":0},0,{"$f":"'2B'!K17","v":0},0,{"$f":"'2B'!L17","v":0},0,{"$f":"'2B'!M17","v":0},0,{"$f":"'2B'!N17","v":0},0,{"$f":"'2B'!O17","v":0},0,{"$f":"'2B'!P17","v":0},0,{"$f":"'2B'!Q17","v":0},0,{"$f":"'2B'!R17","v":0},0,{"$f":"'2B'!S17","v":0},0,0,0]
[null,"B.2.1.2","Vedlejší rozpočtové náklady nezahrnute do jednotlivých PS (VRN)",{"$f":"'2B'!H18","v":0},{"$f":"D46","v":0},null,{"$f":"IF($D46=0,0,$F46/'2B'!H18)","v":0},null,"zahrnuté v ZRN (samostatně se nevyčleňují)",{"$f":"'2B'!I18","v":0},0,{"$f":"'2B'!J18","v":0},0,{"$f":"'2B'!K18","v":0},0,{"$f":"'2B'!L18","v":0},0,{"$f":"'2B'!M18","v":0},0,{"$f":"'2B'!N18","v":0},0,{"$f":"'2B'!O18","v":0},0,{"$f":"'2B'!P18","v":0},0,{"$f":"'2B'!Q18","v":0},0,{"$f":"'2B'!R18","v":0},0,{"$f":"'2B'!S18","v":0},0,0,0]
[null,"B.2.2.1","Provozní soubory zajišťované přímo investorem",{"$f":"'2B'!H20","v":0},{"$f":"D47","v":0},{"$f":"'3PS'!J7","v":0},{"$f":"IF($D47=0,0,$F47/'2B'!H20)","v":0},null,"Způsobilé náklady v případě výběrového řízení dle pravidel EU (např. dodávka materiálu) jinak nezpůsobilé",{"$f":"'2B'!I20","v":0},0,{"$f":"'2B'!J20","v":0},0,{"$f":"'2B'!K20","v":0},0,{"$f":"'2B'!L20","v":0},0,{"$f":"'2B'!M20","v":0},0,{"$f":"'2B'!N20","v":0},0,{"$f":"'2B'!O20","v":0},0,{"$f":"'2B'!P20","v":0},0,{"$f":"'2B'!Q20","v":0},0,{"$f":"'2B'!R20","v":0},0,{"$f":"'2B'!S20","v":0},0,0,0]
[null,"B.2.2.2","Technologické práce a dodávky zajišťované přímo investorem",{"$f":"'2B'!H21","v":0},{"$f":"D48-F48","v":0},null,{"$f":"IF($D48=0,0,$F48/'2B'!H21)","v":0},null,"Způsobilé náklady v případě výběrového řízení dle pravidel EU (např. dodávka materiálu) jinak nezpůsobilé",{"$f":"'2B'!I21","v":0},0,{"$f":"'2B'!J21","v":0},0,{"$f":"'2B'!K21","v":0},0,{"$f":"'2B'!L21","v":0},0,{"$f":"'2B'!M21","v":0},0,{"$f":"'2B'!N21","v":0},0,{"$f":"'2B'!O21","v":0},0,{"$f":"'2B'!P21","v":0},0,{"$f":"'2B'!Q21","v":0},0,{"$f":"'2B'!R21","v":0},0,{"$f":"'2B'!S21","v":0},0,0,0]
[null,"B.2.2.3","Revize a měření zajišťované investorem",{"$f":"'2B'!H22","v":0},{"$f":"D49","v":0},null,{"$f":"IF($D49=0,0,$F49/'2B'!H22)","v":0},null,"Nezpůsobilé náklady",{"$f":"'2B'!I22","v":0},0,{"$f":"'2B'!J22","v":0},0,{"$f":"'2B'!K22","v":0},0,{"$f":"'2B'!L22","v":0},0,{"$f":"'2B'!M22","v":0},0,{"$f":"'2B'!N22","v":0},0,{"$f":"'2B'!O22","v":0},0,{"$f":"'2B'!P22","v":0},0,{"$f":"'2B'!Q22","v":0},0,{"$f":"'2B'!R22","v":0},0,{"$f":"'2B'!S22","v":0},0,0,0]
[null,"B.3.1","Osvědčení o shodě notifikovanou osobou v realizaci",{"$f":"'2B'!H24","v":0},0,null,{"$f":"IF($D50=0,0,$F50/'2B'!H24)","v":0},null,"Způsobilé v případě, že jsou náklady součástí SOD se zhotovitelem (zařazeno v SO 98-98)",{"$f":"'2B'!I24","v":0},0,{"$f":"'2B'!J24","v":0},0,{"$f":"'2B'!K24","v":0},0,{"$f":"'2B'!L24","v":0},0,{"$f":"'2B'!M24","v":0},0,{"$f":"'2B'!N24","v":0},0,{"$f":"'2B'!O24","v":0},0,{"$f":"'2B'!P24","v":0},0,{"$f":"'2B'!Q24","v":0},0,{"$f":"'2B'!R24","v":0},0,{"$f":"'2B'!S24","v":0},0,0,0]
[null,"B.3.2","Koordinátor BOZP v realizaci",{"$f":"'2B'!H25","v":0},0,null,{"$f":"IF($D51=0,0,$F51/'2B'!H25)","v":0},null,"Způsobilé náklady v případě výběrového řízení dle pravidel EU",{"$f":"'2B'!I25","v":0},0,{"$f":"'2B'!J25","v":0},0,{"$f":"'2B'!K25","v":0},0,{"$f":"'2B'!L25","v":0},0,{"$f":"'2B'!M25","v":0},0,{"$f":"'2B'!N25","v":0},0,{"$f":"'2B'!O25","v":0},0,{"$f":"'2B'!P25","v":0},0,{"$f":"'2B'!Q25","v":0},0,{"$f":"'2B'!R25","v":0},0,{"$f":"'2B'!S25","v":0},0,0,0]
[null,"B.3.3","Osvědčení o bezpečnosti před uvedením do provozu",{"$f":"'2B'!H26","v":0},0,null,{"$f":"IF($D52=0,0,$F52/'2B'!H26)","v":0},null,"Způsobilé v případě, že jsou náklady součástí SOD se zhotovitelem (zařazeno v SO 98-98)",{"$f":"'2B'!I26","v":0},0,{"$f":"'2B'!J26","v":0},0,{"$f":"'2B'!K26","v":0},0,{"$f":"'2B'!L26","v":0},0,{"$f":"'2B'!M26","v":0},0,{"$f":"'2B'!N26","v":0},0,{"$f":"'2B'!O26","v":0},0,{"$f":"'2B'!P26","v":0},0,{"$f":"'2B'!Q26","v":0},0,{"$f":"'2B'!R26","v":0},0,{"$f":"'2B'!S26","v":0},0,0,0]
[null,"B.3.4","Rekultivace",{"$f":"'2B'!H27","v":0},0,null,{"$f":"IF($D53=0,0,$F53/'2B'!H27)","v":0},null,"Způsobilé v případě, že jsou náklady součástí SOD se zhotovitelem (zařazeno v SO 98-98)",{"$f":"'2B'!I27","v":0},0,{"$f":"'2B'!J27","v":0},0,{"$f":"'2B'!K27","v":0},0,{"$f":"'2B'!L27","v":0},0,{"$f":"'2B'!M27","v":0},0,{"$f":"'2B'!N27","v":0},0,{"$f":"'2B'!O27","v":0},0,{"$f":"'2B'!P27","v":0},0,{"$f":"'2B'!Q27","v":0},0,{"$f":"'2B'!R27","v":0},0,{"$f":"'2B'!S27","v":0},0,0,0]
[null,"B.3.5","Zajištění veřejných zájmů",{"$f":"'2B'!H28","v":0},0,null,{"$f":"IF($D54=0,0,$F54/'2B'!H28)","v":0},null,"Způsobilé v případě, že jsou náklady součástí SOD se zhotovitelem (zařazeno v SO 98-98)",{"$f":"'2B'!I28","v":0},{"$f":"J54*$G54","v":0},{"$f":"'2B'!J28","v":0},0,{"$f":"'2B'!K28","v":0},0,{"$f":"'2B'!L28","v":0},0,{"$f":"'2B'!M28","v":0},0,{"$f":"'2B'!N28","v":0},0,{"$f":"'2B'!O28","v":0},0,{"$f":"'2B'!P28","v":0},0,{"$f":"'2B'!Q28","v":0},0,{"$f":"'2B'!R28","v":0},0,{"$f":"'2B'!S28","v":0},0,0,0]
[null,"B.3.6","Hlukové měření pro účely realizace stavby",{"$f":"'2B'!H29","v":0},0,null,{"$f":"IF($D55=0,0,$F55/'2B'!H29)","v":0},null,"Způsobilé v případě, že jsou náklady součástí SOD se zhotovitelem (zařazeno v SO 98-98)",{"$f":"'2B'!I29","v":0},0,{"$f":"'2B'!J29","v":0},0,{"$f":"'2B'!K29","v":0},0,{"$f":"'2B'!L29","v":0},0,{"$f":"'2B'!M29","v":0},0,{"$f":"'2B'!N29","v":0},0,{"$f":"'2B'!O29","v":0},0,{"$f":"'2B'!P29","v":0},0,{"$f":"'2B'!Q29","v":0},0,{"$f":"'2B'!R29","v":0},0,{"$f":"'2B'!S29","v":0},0,0,0]
[null,"B.3.7.1","Náhrady za omezení hospodaření",{"$f":"'2B'!H31","v":0},{"$f":"D56","v":0},null,{"$f":"IF($D56=0,0,$F56/'2B'!H31)","v":0},null,"Nezpůsobilé náklady",{"$f":"'2B'!I31","v":0},0,{"$f":"'2B'!J31","v":0},0,{"$f":"'2B'!K31","v":0},0,{"$f":"'2B'!L31","v":0},0,{"$f":"'2B'!M31","v":0},0,{"$f":"'2B'!N31","v":0},0,{"$f":"'2B'!O31","v":0},0,{"$f":"'2B'!P31","v":0},0,{"$f":"'2B'!Q31","v":0},0,{"$f":"'2B'!R31","v":0},0,{"$f":"'2B'!S31","v":0},0,0,0]
[null,"B.3.7.2","Náhrady za omezení provozu",{"$f":"'2B'!H32","v":0},{"$f":"D57","v":0},null,{"$f":"IF($D57=0,0,$F57/'2B'!H32)","v":0},null,"Nezpůsobilé náklady",{"$f":"'2B'!I32","v":0},0,{"$f":"'2B'!J32","v":0},0,{"$f":"'2B'!K32","v":0},0,{"$f":"'2B'!L32","v":0},0,{"$f":"'2B'!M32","v":0},0,{"$f":"'2B'!N32","v":0},0,{"$f":"'2B'!O32","v":0},0,{"$f":"'2B'!P32","v":0},0,{"$f":"'2B'!Q32","v":0},0,{"$f":"'2B'!R32","v":0},0,{"$f":"'2B'!S32","v":0},0,0,0]
[null,"B.3.7.3","Ostatní náhrady v realizaci",{"$f":"'2B'!H33","v":0},{"$f":"D58","v":0},null,{"$f":"IF($D58=0,0,$F58/'2B'!H33)","v":0},null,"Nezpůsobilé náklady",{"$f":"'2B'!I33","v":0},0,{"$f":"'2B'!J33","v":0},0,{"$f":"'2B'!K33","v":0},0,{"$f":"'2B'!L33","v":0},0,{"$f":"'2B'!M33","v":0},0,{"$f":"'2B'!N33","v":0},0,{"$f":"'2B'!O33","v":0},0,{"$f":"'2B'!P33","v":0},0,{"$f":"'2B'!Q33","v":0},0,{"$f":"'2B'!R33","v":0},0,{"$f":"'2B'!S33","v":0},0,0,0]
[null,"B.3.8","Zabezpečovací a konzervační práce",{"$f":"'2B'!H34","v":0},{"$f":"D59","v":0},null,{"$f":"IF($D59=0,0,$F59/'2B'!H34)","v":0},null,"Nezpůsobilé náklady",{"$f":"'2B'!I34","v":0},0,{"$f":"'2B'!J34","v":0},0,{"$f":"'2B'!K34","v":0},0,{"$f":"'2B'!L34","v":0},0,{"$f":"'2B'!M34","v":0},0,{"$f":"'2B'!N34","v":0},0,{"$f":"'2B'!O34","v":0},0,{"$f":"'2B'!P34","v":0},0,{"$f":"'2B'!Q34","v":0},0,{"$f":"'2B'!R34","v":0},0,{"$f":"'2B'!S34","v":0},0,0,0]
[null,"B.3.9","Ostatní nezařazené náklady v realizaci",{"$f":"'2B'!H35","v":0},0,null,{"$f":"IF($D60=0,0,$F60/'2B'!H35)","v":0},null,"Způsobilé náklady jako součást SOD se zhotovitelem (zařazeno v SO 98-98)",{"$f":"'2B'!I35","v":0},0,{"$f":"'2B'!J35","v":0},0,{"$f":"'2B'!K35","v":0},0,{"$f":"'2B'!L35","v":0},0,{"$f":"'2B'!M35","v":0},0,{"$f":"'2B'!N35","v":0},0,{"$f":"'2B'!O35","v":0},0,{"$f":"'2B'!P35","v":0},0,{"$f":"'2B'!Q35","v":0},0,{"$f":"'2B'!R35","v":0},0,{"$f":"'2B'!S35","v":0},0,0,0]
[null,"B.3.10","Jiné náklady v realizaci",{"$f":"'2B'!H36","v":0},{"$f":"D61","v":0},null,{"$f":"IF($D61=0,0,$F61/'2B'!H36)","v":0},null,"Nezpůsobilé náklady",{"$f":"'2B'!I36","v":0},0,{"$f":"'2B'!J36","v":0},0,{"$f":"'2B'!K36","v":0},0,{"$f":"'2B'!L36","v":0},0,{"$f":"'2B'!M36","v":0},0,{"$f":"'2B'!N36","v":0},0,{"$f":"'2B'!O36","v":0},0,{"$f":"'2B'!P36","v":0},0,{"$f":"'2B'!Q36","v":0},0,{"$f":"'2B'!R36","v":0},0,{"$f":"'2B'!S36","v":0},0,0,0]
[null,"B.3.11","Stavební náklady z rozdílu stádia přípravy a realizace",{"$f":"'2B'!H37","v":0},{"$f":"D62-F62","v":0},null,{"$f":"IF($D62=0,0,$F62/'2B'!H37)","v":0},null,"Způsobilé dle průběhu ZBV",{"$f":"'2B'!I37","v":0},0,{"$f":"'2B'!J37","v":0},0,{"$f":"'2B'!K37","v":0},0,{"$f":"'2B'!L37","v":0},0,{"$f":"'2B'!M37","v":0},0,{"$f":"'2B'!N37","v":0},0,{"$f":"'2B'!O37","v":0},0,{"$f":"'2B'!P37","v":0},0,{"$f":"'2B'!Q37","v":0},0,{"$f":"'2B'!R37","v":0},0,{"$f":"'2B'!S37","v":0},0,0,0]
[null,"B.4.1","Podíl na účelně vynaložených nákl. ve smyslu zák. č.458/00 Sb.",{"$f":"'2B'!H39","v":0},{"$f":"D63","v":0},null,{"$f":"IF($D63=0,0,$F63/'2B'!H39)","v":0},null,"Nezpůsobilé náklady",{"$f":"'2B'!I39","v":0},0,{"$f":"'2B'!J39","v":0},0,{"$f":"'2B'!K39","v":0},0,{"$f":"'2B'!L39","v":0},0,{"$f":"'2B'!M39","v":0},0,{"$f":"'2B'!N39","v":0},0,{"$f":"'2B'!O39","v":0},0,{"$f":"'2B'!P39","v":0},0,{"$f":"'2B'!Q39","v":0},0,{"$f":"'2B'!R39","v":0},0,{"$f":"'2B'!S39","v":0},0,0,0]
[null,"B.4.2","Podíl na účelně vynaložených nákladech dle zákona č. 127/2005 Sb.",{"$f":"'2B'!H40","v":0},{"$f":"D64","v":0},null,{"$f":"IF($D64=0,0,$F64/'2B'!H40)","v":0},null,"Nezpůsobilé náklady",{"$f":"'2B'!I40","v":0},0,{"$f":"'2B'!J40","v":0},0,{"$f":"'2B'!K40","v":0},0,{"$f":"'2B'!L40","v":0},0,{"$f":"'2B'!M40","v":0},0,{"$f":"'2B'!N40","v":0},0,{"$f":"'2B'!O40","v":0},0,{"$f":"'2B'!P40","v":0},0,{"$f":"'2B'!Q40","v":0},0,{"$f":"'2B'!R40","v":0},0,{"$f":"'2B'!S40","v":0},0,0,0]
[null,"B.4.3","Ostatní příspěvky",{"$f":"'2B'!H41","v":0},{"$f":"D65","v":0},null,{"$f":"IF($D65=0,0,$F65/'2B'!H41)","v":0},null,"Nezpůsobilé náklady",{"$f":"'2B'!I41","v":0},0,{"$f":"'2B'!J41","v":0},0,{"$f":"'2B'!K41","v":0},0,{"$f":"'2B'!L41","v":0},0,{"$f":"'2B'!M41","v":0},0,{"$f":"'2B'!N41","v":0},0,{"$f":"'2B'!O41","v":0},0,{"$f":"'2B'!P41","v":0},0,{"$f":"'2B'!Q41","v":0},0,{"$f":"'2B'!R41","v":0},0,{"$f":"'2B'!S41","v":0},0,0,0]
["Celkem za 3:","(bez zahrnutí příjmů generovaných stavbou (zdroje z výzisku materiálu SŽ)",null,{"$f":"SUM(D37:D65)","v":0},{"$f":"SUM(E37:E65)","v":0},{"$f":"SUM(F37:F65)","v":0},{"$f":"IF(SUM(G37:G65)=0,,F66/D66)","v":0},{"$f":"SUM(J66:AE66)","v":0},"Způsobilé náklady dle %",{"$f":"SUM(K37:K65,M37:M65)","v":0},null,null,null,{"$f":"SUM(O37:O65)","v":0},null,{"$f":"SUM(Q37:Q65)","v":0},null,{"$f":"SUM(S37:S65)","v":0},null,{"$f":"SUM(U37:U65)","v":0},null,{"$f":"SUM(W37:W65)","v":0},null,{"$f":"SUM(Y37:Y65)","v":0},null,{"$f":"SUM(AA37:AA65)","v":0},null,{"$f":"SUM(AC37:AC65)","v":0},null,{"$f":"SUM(AE37:AE65)","v":0},null,{"$f":"AD36+AB36+Z36+X36+V36+T36+R36+P36+N36+L36+J36","v":0},{"$f":"SUM(AG37:AG65)","v":0}]
["5",null,"Nepředvídatelné události",null,null,{"$f":"IF(MIN(E68)<0,\"Chyba v rozdělení způsobilosti   \",\"\")","v":""},null,"řádek 5","Nepředvídatelné události",{"$f":"'2B'!I42","v":0},{"$f":"J67*$G68","v":0},{"$f":"'2B'!J42","v":0},{"$f":"L67*$G68","v":0},{"$f":"'2B'!K42","v":0},{"$f":"N67*$G68","v":0},{"$f":"'2B'!L42","v":0},{"$f":"P67*$G68","v":0},{"$f":"'2B'!M42","v":0},{"$f":"R67*$G68","v":0},{"$f":"'2B'!N42","v":0},{"$f":"T67*$G68","v":0},{"$f":"'2B'!O42","v":0},{"$f":"V67*$G68","v":0},{"$f":"'2B'!P42","v":0},{"$f":"X67*$G68","v":0},{"$f":"'2B'!Q42","v":0},{"$f":"Z67*$G68","v":0},{"$f":"'2B'!R42","v":0},{"$f":"AB67*$G68","v":0},{"$f":"'2B'!S42","v":0},{"$f":"AD67*$G68","v":0},"5. Nepředvídatelné události"]
[null,"B.5","Rezerva",{"$f":"'2B'!H42","v":0},{"$f":"D68-F68","v":0},{"$f":"D68*H69","v":0},{"$f":"IF($D68=0,0,$F68/'2B'!H42)","v":0},"Uvést způsobilost!","Způsobilost rezervy:\n- u staveb rizikových s výrazným podílem zemních prací - způsobilost 90%\n- u staveb převážným podílem stavebních objektů - způsobilost 80%\n- u technologických staveb - způsobilost 50%\n- případně individuálně dle charakteru stavby",null,null,null,null,null,null,null,null,null,null,null,null,null,null,null,null,null,null,null,null,null,null,{"$f":"J67+L67+N67+P67+R67+T67+V67+X67+Z67+AB67+AD67","v":0},{"$f":"K67+M67+O67+Q67+S67+U67+W67+Y67+AA67+AC67+AD67+AE67","v":0}]
["Celkem za 5:",null,null,{"$f":"SUM(D68)","v":0},{"$f":"SUM(E68)","v":0},{"$f":"SUM(F68)","v":0},null,0,null,{"$f":"K67+M67","v":0},null,null,null,{"$f":"O67","v":0},null,{"$f":"Q67","v":0},null,{"$f":"S67","v":0},null,{"$f":"U67","v":0},null,{"$f":"W67","v":0},null,{"$f":"Y67","v":0},null,{"$f":"AA67","v":0},null,{"$f":"AC67","v":0},null,{"$f":"AE67","v":0}]
["7",null,"Propagace",null,null,{"$f":"IF(MIN(E71)<0,\"Chyba v rozdělení způsobilosti\",\"\")","v":""},null,"řádek 7","Propagace",{"$f":"'2A'!I61","v":0},{"$f":"J70*$G71","v":0},{"$f":"'2A'!J61","v":0},{"$f":"L70*$G71","v":0},{"$f":"'2A'!K61","v":0},{"$f":"N70*$G71","v":0},{"$f":"'2A'!L61","v":0},{"$f":"P70*$G71","v":0},{"$f":"'2A'!M61","v":0},{"$f":"R70*$G71","v":0},{"$f":"'2A'!N61","v":0},{"$f":"T70*$G71","v":0},{"$f":"'2A'!O61","v":0},{"$f":"V70*$G71","v":0},{"$f":"'2A'!P61","v":0},{"$f":"X70*$G71","v":0},{"$f":"'2A'!Q61","v":0},{"$f":"Z70*$G71","v":0},{"$f":"'2A'!R61","v":0},{"$f":"AB70*$G71","v":0},{"$f":"'2A'!S61","v":0},{"$f":"AD70*$G71","v":0},"7. Propagace"]
[null,"A.5.3.3","Publicita stavby",{"$f":"D72+D73","v":0},{"$f":"E72+E73","v":0},{"$f":"F72+F73","v":0},{"$f":"IF($D71=0,0,$F71/'2A'!$H61)","v":0},null,"Způsobilé náklady (OPD samostatná smlouva/CEF zajišťuje zhotovitel stavby",null,null,null,null,null,null,null,null,null,null,null,null,null,null,null,null,null,null,null,null,null,null,{"$f":"J74+L74+N74+P74+R74+T74+V74+X74+Z74+AB74+AD74","v":0},{"$f":"K74+M74+O74+Q74+S74+U74+W74+Y74+AA74+AC74+AD74+AE74","v":0}]
[null,"z toho","zajišťeno zhotovitelem v realizaci",{"$f":"'1A'!H61","v":0},{"$f":"D72-F72","v":0}]
[null,null,"ostatní publicita",{"$f":"'1A'!I61-'1A'!H61","v":0},{"$f":"D73-F73","v":0}]
["Celkem za 7:",null,null,{"$f":"D71","v":0},{"$f":"SUM(E71)","v":0},{"$f":"SUM(F71)","v":0},null,{"$f":"SUM(J74:AE74)","v":0},"Způsobilé náklady dle %",{"$f":"K70+M70","v":0},null,null,null,{"$f":"O70","v":0},null,{"$f":"Q70","v":0},null,{"$f":"S70","v":0},null,{"$f":"U70","v":0},null,{"$f":"W70","v":0},null,{"$f":"Y70","v":0},null,{"$f":"AA70","v":0},null,{"$f":"AC70","v":0},null,{"$f":"AE70","v":0}]
["8",null,"Dozor v průběhu výstavby",null,null,{"$f":"IF(MIN(E76)<0,\"Chyba v rozdělení způsobilosti  \",\"\")","v":""},null,"řádek 8","Dozor v průběhu výstavby",{"$f":"'2A'!I32","v":0},{"$f":"J75*$G76","v":0},{"$f":"'2A'!J32","v":0},{"$f":"L75*$G76","v":0},{"$f":"'2A'!K32","v":0},{"$f":"N75*$G76","v":0},{"$f":"'2A'!L32","v":0},{"$f":"P75*$G76","v":0},{"$f":"'2A'!M32","v":0},{"$f":"R75*$G76","v":0},{"$f":"'2A'!N32","v":0},{"$f":"T75*$G76","v":0},{"$f":"'2A'!O32","v":0},{"$f":"V75*$G76","v":0},{"$f":"'2A'!P32","v":0},{"$f":"X75*$G76","v":0},{"$f":"'2A'!Q32","v":0},{"$f":"Z75*$G76","v":0},{"$f":"'2A'!R32","v":0},{"$f":"AB75*$G76","v":0},{"$f":"'2A'!S32","v":0},{"$f":"AD75*$G76","v":0},"8. Dozor v průběhu výstavby"]
[null,"A.2.3","Autorský dozor",{"$f":"'2A'!H32","v":0},{"$f":"D76-F76","v":0},null,{"$f":"IF($D76=0,0,$F76/'2A'!$H32)","v":0},"SOD na projekt","Způsobilé náklady v případě výběrového řízení dle pravidel EU (jako součást P)",null,null,null,null,null,null,null,null,null,null,null,null,null,null,null,null,null,null,null,null,null,null,{"$f":"J76+L76+N76+P76+R76+T76+V76+X76+Z76+AB76+AD76","v":0},{"$f":"K76+M76+O76+Q76+S76+U76+W76+Y76+AA76+AC76+AD76+AE76","v":0}]
["Celkem za 8:",null,null,{"$f":"SUM(D76:D76)","v":0},{"$f":"SUM(E76:E76)","v":0},{"$f":"SUM(F76:F76)","v":0},null,{"$f":"SUM(J77:AE77)","v":0},"Způsobilé náklady dle %",{"$f":"K75+M75","v":0},null,null,null,{"$f":"O75","v":0},null,{"$f":"Q75","v":0},null,{"$f":"S75","v":0},null,{"$f":"U75","v":0},null,{"$f":"W75","v":0},null,{"$f":"Y75","v":0},null,{"$f":"AA75","v":0},null,{"$f":"AC75","v":0},null,{"$f":"AE75","v":0}]
["9",null," Technická pomoc",null,null,{"$f":"IF(MIN(E79:E86)<0,\"Chyba v rozdělení způsobilosti  \",\"\")","v":""},null,"řádek 9"," Technická pomoc",{"$f":"SUM(J$79:J$86)","v":0},"způsobilost dle %",{"$f":"SUM(L$79:L$86)","v":0},"způsobilost dle %",{"$f":"SUM(N$79:N$86)","v":0},"způsobilost dle %",{"$f":"SUM(P$79:P$86)","v":0},"způsobilost dle %",{"$f":"SUM(R$79:R$86)","v":0},"způsobilost dle %",{"$f":"SUM(T$79:T$86)","v":0},"způsobilost dle %",{"$f":"SUM(V$79:V$86)","v":0},"způsobilost dle %",{"$f":"SUM(X$79:X$86)","v":0},"způsobilost dle %",{"$f":"SUM(Z$79:Z$86)","v":0},"způsobilost dle %",{"$f":"SUM(AB$79:AB$86)","v":0},"způsobilost dle %",{"$f":"SUM(AD$79:AD$86)","v":0},"způsobilost dle %","9. Technická pomoc"]
[null,"A.1","Investorsko-inženýrská činnost",{"$f":"'2A'!H7","v":0},{"$f":"D79","v":0},null,{"$f":"IF($D79=0,0,$F79/'2A'!$H7)","v":0},null,"Nezpůsobilé náklady",{"$f":"SUM('2A'!I7:'2A'!I8)","v":0},{"$f":"J79*$G79","v":0},{"$f":"SUM('2A'!J7:J7)","v":0},0,{"$f":"SUM('2A'!K7:K8)","v":0},{"$f":"N79*$G79","v":0},{"$f":"SUM('2A'!L7:L8)","v":0},{"$f":"P79*$G79","v":0},{"$f":"SUM('2A'!M7:M8)","v":0},{"$f":"R79*$G79","v":0},{"$f":"SUM('2A'!N7:N8)","v":0},{"$f":"T79*$G79","v":0},{"$f":"SUM('2A'!O7:O8)","v":0},{"$f":"V79*$G79","v":0},{"$f":"SUM('2A'!P7:P8)","v":0},{"$f":"X79*$G79","v":0},{"$f":"SUM('2A'!Q7:Q8)","v":0},{"$f":"Z79*$G79","v":0},{"$f":"SUM('2A'!R7:R8)","v":0},{"$f":"AB79*$G79","v":0},{"$f":"SUM('2A'!S7:S8)","v":0},{"$f":"AD79*$G79","v":0},{"$f":"J79+L79+N79+P79+R79+T79+V79+X79+Z79+AB79+AD79","v":0},{"$f":"K79+M79+O79+Q79+S79+U79+W79+Y79+AA79+AC79+AD79+AE79","v":0}]
[null,"A.5.1.2","Poradenské firmy pro geotechnický průzkum",{"$f":"'2A'!H52","v":0},{"$f":"D80-F80","v":0},null,{"$f":"IF($D80=0,0,$F80/'2A'!$H52)","v":0},null,"Způsobilé náklady v případě výběrového řízení dle pravidel EU",{"$f":"'2A'!I52","v":0},0,{"$f":"'2A'!J52","v":0},0,{"$f":"'2A'!K52","v":0},{"$f":"N80*$G80","v":0},{"$f":"'2A'!L52","v":0},{"$f":"P80*$G80","v":0},{"$f":"'2A'!M52","v":0},{"$f":"R80*$G80","v":0},{"$f":"'2A'!N52","v":0},{"$f":"T80*$G80","v":0},{"$f":"'2A'!O52","v":0},{"$f":"V80*$G80","v":0},{"$f":"'2A'!P52","v":0},{"$f":"X80*$G80","v":0},{"$f":"'2A'!Q52","v":0},{"$f":"Z80*$G80","v":0},{"$f":"'2A'!R52","v":0},{"$f":"AB80*$G80","v":0},{"$f":"'2A'!S52","v":0},{"$f":"AD80*$G80","v":0},0,0]
[null,"A.5.1.3","Ostatní poradenské firmy",{"$f":"'2A'!H53","v":0},{"$f":"D81-F81","v":0},null,{"$f":"IF($D81=0,0,$F81/'2A'!$H53)","v":0},null,"Způsobilé náklady v případě výběrového řízení dle pravidel EU",{"$f":"'2A'!I53","v":0},0,{"$f":"'2A'!J53","v":0},0,{"$f":"'2A'!K53","v":0},{"$f":"N81*$G81","v":0},{"$f":"'2A'!L53","v":0},{"$f":"P81*$G81","v":0},{"$f":"'2A'!M53","v":0},{"$f":"R81*$G81","v":0},{"$f":"'2A'!N53","v":0},{"$f":"T81*$G81","v":0},{"$f":"'2A'!O53","v":0},{"$f":"V81*$G81","v":0},{"$f":"'2A'!P53","v":0},{"$f":"X81*$G81","v":0},{"$f":"'2A'!Q53","v":0},{"$f":"Z81*$G81","v":0},{"$f":"'2A'!R53","v":0},{"$f":"AB81*$G81","v":0},{"$f":"'2A'!S53","v":0},{"$f":"AD81*$G81","v":0},0,0]
[null,"A.5.2","Soutěže a zadávací řízení",{"$f":"'2A'!H54","v":0},{"$f":"D82","v":0},null,{"$f":"IF($D82=0,0,$F82/'2A'!$H54)","v":0},null,"Nezpůsobilé náklady",{"$f":"'2A'!I54","v":0},0,{"$f":"'2A'!J54","v":0},0,{"$f":"'2A'!K54","v":0},{"$f":"N82*$G82","v":0},{"$f":"'2A'!L54","v":0},{"$f":"P82*$G82","v":0},{"$f":"'2A'!M54","v":0},{"$f":"R82*$G82","v":0},{"$f":"'2A'!N54","v":0},{"$f":"T82*$G82","v":0},{"$f":"'2A'!O54","v":0},{"$f":"V82*$G82","v":0},{"$f":"'2A'!P54","v":0},{"$f":"X82*$G82","v":0},{"$f":"'2A'!Q54","v":0},{"$f":"Z82*$G82","v":0},{"$f":"'2A'!R54","v":0},{"$f":"AB82*$G82","v":0},{"$f":"'2A'!S54","v":0},{"$f":"AD82*$G82","v":0},0,0]
[null,"A.5.3.1","Správní a místní poplatky",{"$f":"'2A'!H59","v":0},{"$f":"D83","v":0},null,{"$f":"IF($D83=0,0,$F83/'2A'!$H59)","v":0},null,"Nezpůsobilé náklady",{"$f":"'2A'!I59","v":0},0,{"$f":"'2A'!J59","v":0},0,{"$f":"'2A'!K59","v":0},{"$f":"N83*$G83","v":0},{"$f":"'2A'!L59","v":0},{"$f":"P83*$G83","v":0},{"$f":"'2A'!M59","v":0},{"$f":"R83*$G83","v":0},{"$f":"'2A'!N59","v":0},{"$f":"T83*$G83","v":0},{"$f":"'2A'!O59","v":0},{"$f":"V83*$G83","v":0},{"$f":"'2A'!P59","v":0},{"$f":"X83*$G83","v":0},{"$f":"'2A'!Q59","v":0},{"$f":"Z83*$G83","v":0},{"$f":"'2A'!R59","v":0},{"$f":"AB83*$G83","v":0},{"$f":"'2A'!S59","v":0},{"$f":"AD83*$G83","v":0},0,0]
[null,"A.5.3.2","Záchranný archeologický výzkum",{"$f":"'2A'!H60","v":0},{"$f":"D84","v":0},null,{"$f":"IF($D84=0,0,$F84/'2A'!$H60)","v":0},null,"Nezpůsobilé náklady",{"$f":"'2A'!I60","v":0},0,{"$f":"'2A'!J60","v":0},0,{"$f":"'2A'!K60","v":0},{"$f":"N84*$G84","v":0},{"$f":"'2A'!L60","v":0},{"$f":"P84*$G84","v":0},{"$f":"'2A'!M60","v":0},{"$f":"R84*$G84","v":0},{"$f":"'2A'!N60","v":0},{"$f":"T84*$G84","v":0},{"$f":"'2A'!O60","v":0},{"$f":"V84*$G84","v":0},{"$f":"'2A'!P60","v":0},{"$f":"X84*$G84","v":0},{"$f":"'2A'!Q60","v":0},{"$f":"Z84*$G84","v":0},{"$f":"'2A'!R60","v":0},{"$f":"AB84*$G84","v":0},{"$f":"'2A'!S60","v":0},{"$f":"AD84*$G84","v":0},0,0]
[null,"A.5.3.4","Monitoring stavby",{"$f":"'2A'!H64","v":0},{"$f":"D85","v":0},null,{"$f":"IF($D85=0,0,$F85/'2A'!$H64)","v":0},null,"Nezpůsobilé náklady",{"$f":"'2A'!I64","v":0},0,{"$f":"'2A'!J64","v":0},0,{"$f":"'2A'!K64","v":0},{"$f":"N85*$G85","v":0},{"$f":"'2A'!L64","v":0},{"$f":"P85*$G85","v":0},{"$f":"'2A'!M64","v":0},{"$f":"R85*$G85","v":0},{"$f":"'2A'!N64","v":0},{"$f":"T85*$G85","v":0},{"$f":"'2A'!O64","v":0},{"$f":"V85*$G85","v":0},{"$f":"'2A'!P64","v":0},{"$f":"X85*$G85","v":0},{"$f":"'2A'!Q64","v":0},{"$f":"Z85*$G85","v":0},{"$f":"'2A'!R64","v":0},{"$f":"AB85*$G85","v":0},{"$f":"'2A'!S64","v":0},{"$f":"AD85*$G85","v":0},0,0]
[null,"A.5.3.5","Vyhodnocení stavby",{"$f":"'2A'!H65","v":0},{"$f":"D86","v":0},null,{"$f":"IF($D86=0,0,$F86/'2A'!$H65)","v":0},null,"Nezpůsobilé náklady",{"$f":"'2A'!I65","v":0},0,{"$f":"'2A'!J65","v":0},0,{"$f":"'2A'!K65","v":0},{"$f":"N86*$G86","v":0},{"$f":"'2A'!L65","v":0},{"$f":"P86*$G86","v":0},{"$f":"'2A'!M65","v":0},{"$f":"R86*$G86","v":0},{"$f":"'2A'!N65","v":0},{"$f":"T86*$G86","v":0},{"$f":"'2A'!O65","v":0},{"$f":"V86*$G86","v":0},{"$f":"'2A'!P65","v":0},{"$f":"X86*$G86","v":0},{"$f":"'2A'!Q65","v":0},{"$f":"Z86*$G86","v":0},{"$f":"'2A'!R65","v":0},{"$f":"AB86*$G86","v":0},{"$f":"'2A'!S65","v":0},{"$f":"AD86*$G86","v":0},0,0]
["Celkem za 9:",null,null,{"$f":"SUM(D79:D86)","v":0},{"$f":"SUM(E79:E86)","v":0},{"$f":"SUM(F79:F86)","v":0},{"$f":"IF(SUM(G79:G86)=0,,F87/D87)","v":0},{"$f":"SUM(J87:AE87)","v":0},"Způsobilé náklady dle %",{"$f":"SUM(K79:K86,M79:M86)","v":0},null,null,null,{"$f":"SUM(O79:O86)","v":0},null,{"$f":"SUM(Q79:Q86)","v":0},null,{"$f":"SUM(S79:S86)","v":0},null,{"$f":"SUM(U79:U86)","v":0},null,{"$f":"SUM(W79:W86)","v":0},null,{"$f":"SUM(Y79:Y86)","v":0},null,{"$f":"SUM(AA79:AA86)","v":0},null,{"$f":"SUM(AC79:AC86)","v":0},null,{"$f":"SUM(AE79:AE86)","v":0},null,{"$f":"SUM(AF79:AF86)","v":0},{"$f":"SUM(AG79:AG86)","v":0}]
["Celkové investiční náklady stavby (CIN)\n(bez zahrnutí příjmů generovaných stavbou (zdroje z výzisku materiálu SŽ)",null,null,{"$f":"D87+D77+D74+D69+D66+D35+D28","v":0},{"$f":"E87+E77+E74+E69+E66+E35+E28","v":0},{"$f":"F28+F35+F66+F69+F74+F77+F87","v":0},0,{"$f":"M88+O88+Q88+S88+U88+W88+Y88+AA88+AC88+AE88","v":0},null,{"$f":"J78+J75+J70+J67+J36+J29+J4","v":0},null,{"$f":"L78+L75+L70+L67+L36+L29+L4","v":0},{"$f":"J87+J77+J74+J69+J66+J35+J28","v":0},{"$f":"N78+N75+N70+N67+N36+N29+N4","v":0},{"$f":"N87+N77+N74+N69+N66+N35+N28","v":0},{"$f":"P78+P75+P70+P67+P36+P29+P4","v":0},{"$f":"P87+P77+P74+P69+P66+P35+P28","v":0},{"$f":"R78+R75+R70+R67+R36+R29+R4","v":0},{"$f":"R87+R77+R74+R69+R66+R35+R28","v":0},{"$f":"T78+T75+T70+T67+T36+T29+T4","v":0},{"$f":"T87+T77+T74+T69+T66+T35+T28","v":0},{"$f":"V78+V75+V70+V67+V36+V29+V4","v":0},{"$f":"V87+V77+V74+V69+V66+V35+V28","v":0},{"$f":"X78+X75+X70+X67+X36+X29+X4","v":0},{"$f":"X87+X77+X74+X69+X66+X35+X28","v":0},{"$f":"Z78+Z75+Z70+Z67+Z36+Z29+Z4","v":0},{"$f":"Z87+Z77+Z74+Z69+Z66+Z35+Z28","v":0},{"$f":"AB78+AB75+AB70+AB67+AB36+AB29+AB4","v":0},{"$f":"AB87+AB77+AB74+AB69+AB66+AB35+AB28","v":0},{"$f":"AD78+AD75+AD70+AD67+AD36+AD29+AD4","v":0},{"$f":"AD87+AD77+AD74+AD69+AD66+AD35+AD28","v":0},{"$f":"J88+L88+N88+P88+R88+T88+V88+X88+Z88+AB88+AD88","v":0},{"$f":"K88+M88+O88+Q88+S88+U88+W88+Y88+AA88+AC88+AE88","v":0}]
["Příjmy generované stavbou - zdroje z výzisku materiálu SŽ",null,null,null,null,{"$f":"PN!H113","v":0},null,{"$f":"M89+O89+Q89+S89+U89+W89+Y89+AA89+AC89+AE89","v":0},null,null,{"$f":"'2C'!I15","v":0},null,{"$f":"'2C'!J15","v":0},null,{"$f":"'2C'!K15","v":0},null,{"$f":"'2C'!L15","v":0},null,{"$f":"'2C'!M15","v":0},null,{"$f":"'2C'!N15","v":0},null,{"$f":"'2C'!O15","v":0},null,{"$f":"'2C'!P15","v":0},null,{"$f":"'2C'!Q15","v":0},null,{"$f":"'2C'!R15","v":0},null,{"$f":"'2C'!S15","v":0},null,0]
["Rozdělení způsobilosti CIN se zohledněním příjmů generovaných stavbou",null,null,null,{"$f":"D88-F90","v":0},{"$f":"IF(F88=0,0,F88-F89)","v":0},null,{"$f":"IF(F90=0,\"stavba není spolufinancovaná\",M90+O90+Q90+S90+U90+W90+Y90+AA90+AC90+AE90)","v":"stavba není spolufinancovaná"},null,null,{"$f":"IF(F90=0,0,K88-K89)","v":0},null,{"$f":"IF(F90=0,0,M88-M89)","v":0},null,{"$f":"IF(F90=0,0,O88-O89)","v":0},null,{"$f":"IF(F90=0,0,Q88-Q89)","v":0},null,{"$f":"IF(F90=0,0,S88-S89)","v":0},null,{"$f":"IF(F90=0,0,U88-U89)","v":0},null,{"$f":"IF(F90=0,0,W88-W89)","v":0},null,{"$f":"IF(F90=0,0,Y88-Y89)","v":0},null,{"$f":"IF(F90=0,0,AA88-AA89)","v":0},null,{"$f":"IF(F90=0,0,AC88-AC89)","v":0},null,{"$f":"IF(F90=0,0,AE88-AE89)","v":0},null,{"$f":"IF(F90=0,0,K90+M90+O90+Q90+S90+U90+W90+Y90+AA90+AC90+AE90)","v":0}]
[null,null,null,null,null,null,null,null,null,null,null,null,null,null,null,null,null,null,null,null,null,null,null,null,null,null,null,null,null,null,null,{"$f":"F88-H88","v":0}]

{"sheet":"PN","index":12,"n_rows":148,"n_cols":11,"rows_kept":148,"cut":false,"hidden":false,"merged":[[1,6,1,7],[116,1,116,4],[117,1,117,4],[10,9,14,10],[140,1,140,3],[141,1,141,3],[142,1,142,3],[127,1,127,3],[118,3,118,7],[108,1,108,3],[128,1,128,3],[129,1,129,3],[130,1,130,3],[131,1,131,3],[119,1,119,7],[135,1,135,3],[139,1,139,3],[136,1,136,3],[137,1,137,3],[138,1,138,3],[132,1,132,3],[121,1,121,3],[122,1,122,7],[123,1,123,7],[124,1,124,7],[149,1,149,3],[149,4,149,5],[146,1,146,3],[147,1,147,3],[148,1,148,3],[148,4,148,5],[143,1,143,3],[144,1,144,3],[145,1,145,3],[53,3,53,4],[54,3,54,4],[55,3,55,4],[42,2,42,3],[56,3,56,4],[57,3,57,4],[52,3,52,4],[71,1,71,4],[61,3,61,4],[62,3,62,4],[63,3,63,4],[66,3,66,4],[67,3,67,4],[69,3,69,4],[59,3,59,4],[60,3,60,4],[68,3,68,4],[64,3,64,4],[65,3,65,4],[58,3,58,4],[45,2,45,3],[33,2,33,3],[22,2,22,3],[29,2,29,3],[30,2,30,3],[31,2,31,3],[34,2,34,3],[35,2,35,3],[39,2,39,3],[41,2,41,3],[36,2,36,3],[37,2,37,3],[38,2,38,3],[27,0,43,0],[133,1,133,3],[134,1,134,3],[18,2,18,3],[5,3,5,7],[6,3,6,7],[32,2,32,3],[15,2,15,3],[16,2,16,3],[6,1,6,2],[110,1,110,7],[114,1,114,4],[115,1,115,4],[8,1,8,2],[24,2,24,3],[47,3,47,4],[48,3,48,4],[49,3,49,4],[50,3,50,4],[51,3,51,4],[21,2,21,3],[40,2,40,3],[8,3,8,7],[23,2,23,3],[3,1,3,7],[25,2,25,3],[4,3,4,7],[28,2,28,3],[27,2,27,3],[4,1,4,2],[17,2,17,3],[5,1,5,2],[7,1,7,2],[19,2,19,3],[20,2,20,3],[10,1,11,3],[9,1,9,2],[26,2,26,3]]}
[null,null,null,null,null,null,null,{"$f":"'Krycí list SR'!H1","v":"SRP/2022/prozatimní"},null,"Logo pro CEF:"]
[null,null,null,null,null,null,"Správa železnic, státní organizace\nDlážděná 1003/7, 110 00 Praha 1"]
[null,null,null,null,null,null,null,"Příloha č. 1b"]
[null,"PŘEHLED NÁKLADŮ"]
[null,"NÁZEV PROGRAMU:",null,"Operační program Doprava"]
[null,"PRIORITNÍ OSA :",null,"Infrastruktura pro železniční a další udržitelnou dopravu"]
[null,"INVESTIČNÍ PRIORITA:",null,"Rozvoj a obnova komplexních, vysoce kvalitních a interoperabilních železničních systémů a podpora opatření na snižování hluku"]
[null,"SPECIFICKÝ  CÍL:",null,"1.1. Zlepšení infrastruktury pro vyšší konkurenceschopnost o větší využití železniční dopravy"]
[null,"NÁZEV PROJEKTU:",null,{"$f":"IF('Krycí list SR'!B2=\"\",\"\",'Krycí list SR'!B2)","v":""}]
[null,"ISPROFIN:",null,{"$f":"'Krycí list SR'!B3","v":0},"Kategorie dráhy:",{"$f":"'Krycí list SR'!B9","v":0},null,{"$f":"'Krycí list SR'!E3","v":0}]
[null,"Zatřídění nákladů stavby",null,null,null,"Cena celkem za položku bez DPH","Podíl nezpůsobilých nákladů","Podíl způsobilých nákladů",null,"Náklady dle monitorovacích kategorii bez zohlednění inflace"]
[null,null,null,null,null,"Kč","Kč","Kč"]
[]
[null,"Náklady v realizaci dle smlouvy na zhotovení stavby *1)"]
[null,"Základní rozpočtové náklady dle kategorií monitoringu"]
[null,"D.2.1.1.0","Železniční svršek",null,null,{"$f":"(IF(MID($B16,1,1)=\"D\",SUMIF('3SO'!$A$12:$A$1200,$B16,'3SO'!$G$12:$G$1200),SUMIF('3PS'!$A$12:$A$1200,$B16,'3PS'!$G$12:$G$1200)))*(IF('2Bhide'!$H$9=0,1,('2B'!$H$9/'2Bhide'!$H$9)))","v":0},{"$f":"F16-H16","v":0},{"$f":"(IF(MID($B16,1,3)=\"D.2\",SUMIF('3SO'!$A$12:$A$1200,$B16,'3SO'!$H$12:$H$1200),SUMIF('3PS'!$A$12:$A$1200,$B16,'3PS'!$H$12:$H$1200)))*IF('2Bhide'!$H$9=0,1,('2B'!$H$9/'2Bhide'!$H$9))","v":0},null,{"$f":"SUMIF('3SO'!$A$12:$A$1200,$B16,'3SO'!$G$12:$G$1200)+SUMIF('3PS'!$A$12:$A$1200,$B16,'3PS'!$G$12:$G$1200)","v":0},{"$f":"C16","v":"Železniční svršek"}]
[null,"D.2.1.1.1","Železniční spodek",null,null,{"$f":"(IF(MID($B17,1,1)=\"D\",SUMIF('3SO'!$A$12:$A$1200,$B17,'3SO'!$G$12:$G$1200),SUMIF('3PS'!$A$12:$A$1200,$B17,'3PS'!$G$12:$G$1200)))*(IF('2Bhide'!$H$9=0,1,('2B'!$H$9/'2Bhide'!$H$9)))","v":0},{"$f":"F17-H17","v":0},{"$f":"(IF(MID($B17,1,3)=\"D.2\",SUMIF('3SO'!$A$12:$A$1200,$B17,'3SO'!$H$12:$H$1200),SUMIF('3PS'!$A$12:$A$1200,$B17,'3PS'!$H$12:$H$1200)))*IF('2Bhide'!$H$9=0,1,('2B'!$H$9/'2Bhide'!$H$9))","v":0},null,{"$f":"SUMIF('3SO'!$A$12:$A$1200,$B17,'3SO'!$G$12:$G$1200)+SUMIF('3PS'!$A$12:$A$1200,$B17,'3PS'!$G$12:$G$1200)","v":0},{"$f":"C17","v":"Železniční spodek"}]
[null,"D.2.1.2","Nástupiště",null,null,{"$f":"(IF(MID($B18,1,1)=\"D\",SUMIF('3SO'!$A$12:$A$1200,$B18,'3SO'!$G$12:$G$1200),SUMIF('3PS'!$A$12:$A$1200,$B18,'3PS'!$G$12:$G$1200)))*(IF('2Bhide'!$H$9=0,1,('2B'!$H$9/'2Bhide'!$H$9)))","v":0},0,{"$f":"(IF(MID($B18,1,3)=\"D.2\",SUMIF('3SO'!$A$12:$A$1200,$B18,'3SO'!$H$12:$H$1200),SUMIF('3PS'!$A$12:$A$1200,$B18,'3PS'!$H$12:$H$1200)))*IF('2Bhide'!$H$9=0,1,('2B'!$H$9/'2Bhide'!$H$9))","v":0},null,{"$f":"SUMIF('3SO'!$A$12:$A$1200,$B18,'3SO'!$G$12:$G$1200)+SUMIF('3PS'!$A$12:$A$1200,$B18,'3PS'!$G$12:$G$1200)","v":0},{"$f":"C18","v":"Nástupiště"}]
[null,"D.2.1.3","Železniční přejezdy",null,null,{"$f":"(IF(MID($B19,1,1)=\"D\",SUMIF('3SO'!$A$12:$A$1200,$B19,'3SO'!$G$12:$G$1200),SUMIF('3PS'!$A$12:$A$1200,$B19,'3PS'!$G$12:$G$1200)))*(IF('2Bhide'!$H$9=0,1,('2B'!$H$9/'2Bhide'!$H$9)))","v":0},0,{"$f":"(IF(MID($B19,1,3)=\"D.2\",SUMIF('3SO'!$A$12:$A$1200,$B19,'3SO'!$H$12:$H$1200),SUMIF('3PS'!$A$12:$A$1200,$B19,'3PS'!$H$12:$H$1200)))*IF('2Bhide'!$H$9=0,1,('2B'!$H$9/'2Bhide'!$H$9))","v":0},null,{"$f":"SUMIF('3SO'!$A$12:$A$1200,$B19,'3SO'!$G$12:$G$1200)+SUMIF('3PS'!$A$12:$A$1200,$B19,'3PS'!$G$12:$G$1200)","v":0},"Železniční přejezdy"]
[null,"D.2.1.4","Mosty, propustky, zdi",null,null,{"$f":"(IF(MID($B20,1,1)=\"D\",SUMIF('3SO'!$A$12:$A$1200,$B20,'3SO'!$G$12:$G$1200),SUMIF('3PS'!$A$12:$A$1200,$B20,'3PS'!$G$12:$G$1200)))*(IF('2Bhide'!$H$9=0,1,('2B'!$H$9/'2Bhide'!$H$9)))","v":0},0,{"$f":"(IF(MID($B20,1,3)=\"D.2\",SUMIF('3SO'!$A$12:$A$1200,$B20,'3SO'!$H$12:$H$1200),SUMIF('3PS'!$A$12:$A$1200,$B20,'3PS'!$H$12:$H$1200)))*IF('2Bhide'!$H$9=0,1,('2B'!$H$9/'2Bhide'!$H$9))","v":0},null,{"$f":"SUMIF('3SO'!$A$12:$A$1200,$B20,'3SO'!$G$12:$G$1200)+SUMIF('3PS'!$A$12:$A$1200,$B20,'3PS'!$G$12:$G$1200)","v":0},"Mosty, propustky, zdi"]
[null,"D.2.1.5","Ostatní inženýrské objekty",null,null,{"$f":"(IF(MID($B21,1,1)=\"D\",SUMIF('3SO'!$A$12:$A$1200,$B21,'3SO'!$G$12:$G$1200),SUMIF('3PS'!$A$12:$A$1200,$B21,'3PS'!$G$12:$G$1200)))*(IF('2Bhide'!$H$9=0,1,('2B'!$H$9/'2Bhide'!$H$9)))","v":0},0,{"$f":"(IF(MID($B21,1,3)=\"D.2\",SUMIF('3SO'!$A$12:$A$1200,$B21,'3SO'!$H$12:$H$1200),SUMIF('3PS'!$A$12:$A$1200,$B21,'3PS'!$H$12:$H$1200)))*IF('2Bhide'!$H$9=0,1,('2B'!$H$9/'2Bhide'!$H$9))","v":0},null,{"$f":"SUMIF('3SO'!$A$12:$A$1200,$B21,'3SO'!$G$12:$G$1200)+SUMIF('3PS'!$A$12:$A$1200,$B21,'3PS'!$G$12:$G$1200)","v":0},"Ostatní inženýrské objekty"]
[null,"D.2.1.6","Potrubní vedení",null,null,{"$f":"(IF(MID($B22,1,1)=\"D\",SUMIF('3SO'!$A$12:$A$1200,$B22,'3SO'!$G$12:$G$1200),SUMIF('3PS'!$A$12:$A$1200,$B22,'3PS'!$G$12:$G$1200)))*(IF('2Bhide'!$H$9=0,1,('2B'!$H$9/'2Bhide'!$H$9)))","v":0},0,{"$f":"(IF(MID($B22,1,3)=\"D.2\",SUMIF('3SO'!$A$12:$A$1200,$B22,'3SO'!$H$12:$H$1200),SUMIF('3PS'!$A$12:$A$1200,$B22,'3PS'!$H$12:$H$1200)))*IF('2Bhide'!$H$9=0,1,('2B'!$H$9/'2Bhide'!$H$9))","v":0},null,{"$f":"SUMIF('3SO'!$A$12:$A$1200,$B22,'3SO'!$G$12:$G$1200)+SUMIF('3PS'!$A$12:$A$1200,$B22,'3PS'!$G$12:$G$1200)","v":0},"Potrubní vedení"]
[null,"D.2.1.7","Železniční tunely",null,null,{"$f":"(IF(MID($B23,1,1)=\"D\",SUMIF('3SO'!$A$12:$A$1200,$B23,'3SO'!$G$12:$G$1200),SUMIF('3PS'!$A$12:$A$1200,$B23,'3PS'!$G$12:$G$1200)))*(IF('2Bhide'!$H$9=0,1,('2B'!$H$9/'2Bhide'!$H$9)))","v":0},0,{"$f":"(IF(MID($B23,1,3)=\"D.2\",SUMIF('3SO'!$A$12:$A$1200,$B23,'3SO'!$H$12:$H$1200),SUMIF('3PS'!$A$12:$A$1200,$B23,'3PS'!$H$12:$H$1200)))*IF('2Bhide'!$H$9=0,1,('2B'!$H$9/'2Bhide'!$H$9))","v":0},null,{"$f":"SUMIF('3SO'!$A$12:$A$1200,$B23,'3SO'!$G$12:$G$1200)+SUMIF('3PS'!$A$12:$A$1200,$B23,'3PS'!$G$12:$G$1200)","v":0},"Železniční tunely"]
[null,"D.2.1.8","Pozemní komunikace",null,null,{"$f":"(IF(MID($B24,1,1)=\"D\",SUMIF('3SO'!$A$12:$A$1200,$B24,'3SO'!$G$12:$G$1200),SUMIF('3PS'!$A$12:$A$1200,$B24,'3PS'!$G$12:$G$1200)))*(IF('2Bhide'!$H$9=0,1,('2B'!$H$9/'2Bhide'!$H$9)))","v":0},0,{"$f":"(IF(MID($B24,1,3)=\"D.2\",SUMIF('3SO'!$A$12:$A$1200,$B24,'3SO'!$H$12:$H$1200),SUMIF('3PS'!$A$12:$A$1200,$B24,'3PS'!$H$12:$H$1200)))*IF('2Bhide'!$H$9=0,1,('2B'!$H$9/'2Bhide'!$H$9))","v":0},null,{"$f":"SUMIF('3SO'!$A$12:$A$1200,$B24,'3SO'!$G$12:$G$1200)+SUMIF('3PS'!$A$12:$A$1200,$B24,'3PS'!$G$12:$G$1200)","v":0},"Pozemní komunikace"]
[null,"D.2.1.9","Kabelovody, kolektory",null,null,{"$f":"(IF(MID($B25,1,1)=\"D\",SUMIF('3SO'!$A$12:$A$1200,$B25,'3SO'!$G$12:$G$1200),SUMIF('3PS'!$A$12:$A$1200,$B25,'3PS'!$G$12:$G$1200)))*(IF('2Bhide'!$H$9=0,1,('2B'!$H$9/'2Bhide'!$H$9)))","v":0},0,{"$f":"(IF(MID($B25,1,3)=\"D.2\",SUMIF('3SO'!$A$12:$A$1200,$B25,'3SO'!$H$12:$H$1200),SUMIF('3PS'!$A$12:$A$1200,$B25,'3PS'!$H$12:$H$1200)))*IF('2Bhide'!$H$9=0,1,('2B'!$H$9/'2Bhide'!$H$9))","v":0},null,{"$f":"SUMIF('3SO'!$A$12:$A$1200,$B25,'3SO'!$G$12:$G$1200)+SUMIF('3PS'!$A$12:$A$1200,$B25,'3PS'!$G$12:$G$1200)","v":0},"Kabelovody, kolektory"]
[null,"D.2.1.10","Protihlukové objekty",null,null,{"$f":"(IF(MID($B26,1,1)=\"D\",SUMIF('3SO'!$A$12:$A$1200,$B26,'3SO'!$G$12:$G$1200),SUMIF('3PS'!$A$12:$A$1200,$B26,'3PS'!$G$12:$G$1200)))*(IF('2Bhide'!$H$9=0,1,('2B'!$H$9/'2Bhide'!$H$9)))","v":0},0,{"$f":"(IF(MID($B26,1,3)=\"D.2\",SUMIF('3SO'!$A$12:$A$1200,$B26,'3SO'!$H$12:$H$1200),SUMIF('3PS'!$A$12:$A$1200,$B26,'3PS'!$H$12:$H$1200)))*IF('2Bhide'!$H$9=0,1,('2B'!$H$9/'2Bhide'!$H$9))","v":0},null,{"$f":"SUMIF('3SO'!$A$12:$A$1200,$B26,'3SO'!$G$12:$G$1200)+SUMIF('3PS'!$A$12:$A$1200,$B26,'3PS'!$G$12:$G$1200)","v":0},"Protihlukové objekty"]
[null,"D.2.2","Pozemní stavební objekty",null,null,{"$f":"(IF(MID($B27,1,1)=\"D\",SUMIF('3SO'!$A$12:$A$1200,$B27,'3SO'!$G$12:$G$1200),SUMIF('3PS'!$A$12:$A$1200,$B27,'3PS'!$G$12:$G$1200)))*(IF('2Bhide'!$H$9=0,1,('2B'!$H$9/'2Bhide'!$H$9)))","v":0},0,{"$f":"(IF(MID($B27,1,3)=\"D.2\",SUMIF('3SO'!$A$12:$A$1200,$B27,'3SO'!$H$12:$H$1200),SUMIF('3PS'!$A$12:$A$1200,$B27,'3PS'!$H$12:$H$1200)))*IF('2Bhide'!$H$9=0,1,('2B'!$H$9/'2Bhide'!$H$9))","v":0},null,{"$f":"SUMIF('3SO'!$A$12:$A$1200,$B27,'3SO'!$G$12:$G$1200)+SUMIF('3PS'!$A$12:$A$1200,$B27,'3PS'!$G$12:$G$1200)","v":0},"Pozemní stavební objekty"]
["Označení zatřídění nákladů\n  x     náklady součástí zatřídění\n  -     náklady se neuvádí","D.2.3.1","Trakční vedení",null,null,{"$f":"(IF(MID($B28,1,1)=\"D\",SUMIF('3SO'!$A$12:$A$1200,$B28,'3SO'!$G$12:$G$1200),SUMIF('3PS'!$A$12:$A$1200,$B28,'3PS'!$G$12:$G$1200)))*(IF('2Bhide'!$H$9=0,1,('2B'!$H$9/'2Bhide'!$H$9)))","v":0},0,{"$f":"(IF(MID($B28,1,3)=\"D.2\",SUMIF('3SO'!$A$12:$A$1200,$B28,'3SO'!$H$12:$H$1200),SUMIF('3PS'!$A$12:$A$1200,$B28,'3PS'!$H$12:$H$1200)))*IF('2Bhide'!$H$9=0,1,('2B'!$H$9/'2Bhide'!$H$9))","v":0},null,{"$f":"SUMIF('3SO'!$A$12:$A$1200,$B28,'3SO'!$G$12:$G$1200)+SUMIF('3PS'!$A$12:$A$1200,$B28,'3PS'!$G$12:$G$1200)","v":0},"Trakční vedení"]
[null,"D.2.3.2","Napájecí stanice (měnírna, trakční transformovna) – stavební část",null,null,{"$f":"(IF(MID($B29,1,1)=\"D\",SUMIF('3SO'!$A$12:$A$1200,$B29,'3SO'!$G$12:$G$1200),SUMIF('3PS'!$A$12:$A$1200,$B29,'3PS'!$G$12:$G$1200)))*(IF('2Bhide'!$H$9=0,1,('2B'!$H$9/'2Bhide'!$H$9)))","v":0},0,{"$f":"(IF(MID($B29,1,3)=\"D.2\",SUMIF('3SO'!$A$12:$A$1200,$B29,'3SO'!$H$12:$H$1200),SUMIF('3PS'!$A$12:$A$1200,$B29,'3PS'!$H$12:$H$1200)))*IF('2Bhide'!$H$9=0,1,('2B'!$H$9/'2Bhide'!$H$9))","v":0},null,{"$f":"SUMIF('3SO'!$A$12:$A$1200,$B29,'3SO'!$G$12:$G$1200)+SUMIF('3PS'!$A$12:$A$1200,$B29,'3PS'!$G$12:$G$1200)","v":0},"Napájecí stanice (měnírna, trakční transformovna) – stavební část"]
[null,"D.2.3.3","Spínací stanice – stavební část",null,null,{"$f":"(IF(MID($B30,1,1)=\"D\",SUMIF('3SO'!$A$12:$A$1200,$B30,'3SO'!$G$12:$G$1200),SUMIF('3PS'!$A$12:$A$1200,$B30,'3PS'!$G$12:$G$1200)))*(IF('2Bhide'!$H$9=0,1,('2B'!$H$9/'2Bhide'!$H$9)))","v":0},0,{"$f":"(IF(MID($B30,1,3)=\"D.2\",SUMIF('3SO'!$A$12:$A$1200,$B30,'3SO'!$H$12:$H$1200),SUMIF('3PS'!$A$12:$A$1200,$B30,'3PS'!$H$12:$H$1200)))*IF('2Bhide'!$H$9=0,1,('2B'!$H$9/'2Bhide'!$H$9))","v":0},null,{"$f":"SUMIF('3SO'!$A$12:$A$1200,$B30,'3SO'!$G$12:$G$1200)+SUMIF('3PS'!$A$12:$A$1200,$B30,'3PS'!$G$12:$G$1200)","v":0},"Spínací stanice – stavební část"]
[null,"D.2.3.4","Ohřev výměn (elektrický - EOV, plynový - POV)",null,null,{"$f":"(IF(MID($B31,1,1)=\"D\",SUMIF('3SO'!$A$12:$A$1200,$B31,'3SO'!$G$12:$G$1200),SUMIF('3PS'!$A$12:$A$1200,$B31,'3PS'!$G$12:$G$1200)))*(IF('2Bhide'!$H$9=0,1,('2B'!$H$9/'2Bhide'!$H$9)))","v":0},0,{"$f":"(IF(MID($B31,1,3)=\"D.2\",SUMIF('3SO'!$A$12:$A$1200,$B31,'3SO'!$H$12:$H$1200),SUMIF('3PS'!$A$12:$A$1200,$B31,'3PS'!$H$12:$H$1200)))*IF('2Bhide'!$H$9=0,1,('2B'!$H$9/'2Bhide'!$H$9))","v":0},null,{"$f":"SUMIF('3SO'!$A$12:$A$1200,$B31,'3SO'!$G$12:$G$1200)+SUMIF('3PS'!$A$12:$A$1200,$B31,'3PS'!$G$12:$G$1200)","v":0},"Ohřev výměn (elektrický - EOV, plynový - POV)"]
[null,"D.2.3.5","Elektrické předtápěcí zařízení (EPZ)",null,null,{"$f":"(IF(MID($B32,1,1)=\"D\",SUMIF('3SO'!$A$12:$A$1200,$B32,'3SO'!$G$12:$G$1200),SUMIF('3PS'!$A$12:$A$1200,$B32,'3PS'!$G$12:$G$1200)))*(IF('2Bhide'!$H$9=0,1,('2B'!$H$9/'2Bhide'!$H$9)))","v":0},0,{"$f":"(IF(MID($B32,1,3)=\"D.2\",SUMIF('3SO'!$A$12:$A$1200,$B32,'3SO'!$H$12:$H$1200),SUMIF('3PS'!$A$12:$A$1200,$B32,'3PS'!$H$12:$H$1200)))*IF('2Bhide'!$H$9=0,1,('2B'!$H$9/'2Bhide'!$H$9))","v":0},null,{"$f":"SUMIF('3SO'!$A$12:$A$1200,$B32,'3SO'!$G$12:$G$1200)+SUMIF('3PS'!$A$12:$A$1200,$B32,'3PS'!$G$12:$G$1200)","v":0},"Elektrické předtápěcí zařízení (EPZ)"]
[null,"D.2.3.6","Rozvodny vn, nn, osvětlení a dálkové ovládání odpojovačů",null,null,{"$f":"(IF(MID($B33,1,1)=\"D\",SUMIF('3SO'!$A$12:$A$1200,$B33,'3SO'!$G$12:$G$1200),SUMIF('3PS'!$A$12:$A$1200,$B33,'3PS'!$G$12:$G$1200)))*(IF('2Bhide'!$H$9=0,1,('2B'!$H$9/'2Bhide'!$H$9)))","v":0},0,{"$f":"(IF(MID($B33,1,3)=\"D.2\",SUMIF('3SO'!$A$12:$A$1200,$B33,'3SO'!$H$12:$H$1200),SUMIF('3PS'!$A$12:$A$1200,$B33,'3PS'!$H$12:$H$1200)))*IF('2Bhide'!$H$9=0,1,('2B'!$H$9/'2Bhide'!$H$9))","v":0},null,{"$f":"SUMIF('3SO'!$A$12:$A$1200,$B33,'3SO'!$G$12:$G$1200)+SUMIF('3PS'!$A$12:$A$1200,$B33,'3PS'!$G$12:$G$1200)","v":0},"Rozvodny vn, nn, osvětlení a dálkové ovládání odpojovačů"]
[null,"D.2.3.7","Ukolejnění kovových konstrukcí",null,null,{"$f":"(IF(MID($B34,1,1)=\"D\",SUMIF('3SO'!$A$12:$A$1200,$B34,'3SO'!$G$12:$G$1200),SUMIF('3PS'!$A$12:$A$1200,$B34,'3PS'!$G$12:$G$1200)))*(IF('2Bhide'!$H$9=0,1,('2B'!$H$9/'2Bhide'!$H$9)))","v":0},0,{"$f":"(IF(MID($B34,1,3)=\"D.2\",SUMIF('3SO'!$A$12:$A$1200,$B34,'3SO'!$H$12:$H$1200),SUMIF('3PS'!$A$12:$A$1200,$B34,'3PS'!$H$12:$H$1200)))*IF('2Bhide'!$H$9=0,1,('2B'!$H$9/'2Bhide'!$H$9))","v":0},null,{"$f":"SUMIF('3SO'!$A$12:$A$1200,$B34,'3SO'!$G$12:$G$1200)+SUMIF('3PS'!$A$12:$A$1200,$B34,'3PS'!$G$12:$G$1200)","v":0},"Ukolejnění kovových konstrukcí"]
[null,"D.2.3.8","Vnější uzemnění",null,null,{"$f":"(IF(MID($B35,1,1)=\"D\",SUMIF('3SO'!$A$12:$A$1200,$B35,'3SO'!$G$12:$G$1200),SUMIF('3PS'!$A$12:$A$1200,$B35,'3PS'!$G$12:$G$1200)))*(IF('2Bhide'!$H$9=0,1,('2B'!$H$9/'2Bhide'!$H$9)))","v":0},0,{"$f":"(IF(MID($B35,1,3)=\"D.2\",SUMIF('3SO'!$A$12:$A$1200,$B35,'3SO'!$H$12:$H$1200),SUMIF('3PS'!$A$12:$A$1200,$B35,'3PS'!$H$12:$H$1200)))*IF('2Bhide'!$H$9=0,1,('2B'!$H$9/'2Bhide'!$H$9))","v":0},null,{"$f":"SUMIF('3SO'!$A$12:$A$1200,$B35,'3SO'!$G$12:$G$1200)+SUMIF('3PS'!$A$12:$A$1200,$B35,'3PS'!$G$12:$G$1200)","v":0},"Vnější uzemnění"]
[null,"D.2.3.9","Ostatní kabelizace",null,null,{"$f":"(IF(MID($B36,1,1)=\"D\",SUMIF('3SO'!$A$12:$A$1200,$B36,'3SO'!$G$12:$G$1200),SUMIF('3PS'!$A$12:$A$1200,$B36,'3PS'!$G$12:$G$1200)))*(IF('2Bhide'!$H$9=0,1,('2B'!$H$9/'2Bhide'!$H$9)))","v":0},0,{"$f":"(IF(MID($B36,1,3)=\"D.2\",SUMIF('3SO'!$A$12:$A$1200,$B36,'3SO'!$H$12:$H$1200),SUMIF('3PS'!$A$12:$A$1200,$B36,'3PS'!$H$12:$H$1200)))*IF('2Bhide'!$H$9=0,1,('2B'!$H$9/'2Bhide'!$H$9))","v":0},null,{"$f":"SUMIF('3SO'!$A$12:$A$1200,$B36,'3SO'!$G$12:$G$1200)+SUMIF('3PS'!$A$12:$A$1200,$B36,'3PS'!$G$12:$G$1200)","v":0},"Ostatní kabelizace"]
[null,"D.2.4.1","Příprava území a kácení",null,null,{"$f":"(IF(MID($B37,1,1)=\"D\",SUMIF('3SO'!$A$12:$A$1200,$B37,'3SO'!$G$12:$G$1200),SUMIF('3PS'!$A$12:$A$1200,$B37,'3PS'!$G$12:$G$1200)))*(IF('2Bhide'!$H$9=0,1,('2B'!$H$9/'2Bhide'!$H$9)))","v":0},null,{"$f":"(IF(MID($B37,1,3)=\"D.2\",SUMIF('3SO'!$A$12:$A$1200,$B37,'3SO'!$H$12:$H$1200),SUMIF('3PS'!$A$12:$A$1200,$B37,'3PS'!$H$12:$H$1200)))*IF('2Bhide'!$H$9=0,1,('2B'!$H$9/'2Bhide'!$H$9))","v":0},null,{"$f":"SUMIF('3SO'!$A$12:$A$1200,$B37,'3SO'!$G$12:$G$1200)+SUMIF('3PS'!$A$12:$A$1200,$B37,'3PS'!$G$12:$G$1200)","v":0},"Příprava území a kácení"]
[null,"D.2.4.2","Náhradní výsadba",null,null,{"$f":"(IF(MID($B38,1,1)=\"D\",SUMIF('3SO'!$A$12:$A$1200,$B38,'3SO'!$G$12:$G$1200),SUMIF('3PS'!$A$12:$A$1200,$B38,'3PS'!$G$12:$G$1200)))*(IF('2Bhide'!$H$9=0,1,('2B'!$H$9/'2Bhide'!$H$9)))","v":0},null,{"$f":"(IF(MID($B38,1,3)=\"D.2\",SUMIF('3SO'!$A$12:$A$1200,$B38,'3SO'!$H$12:$H$1200),SUMIF('3PS'!$A$12:$A$1200,$B38,'3PS'!$H$12:$H$1200)))*IF('2Bhide'!$H$9=0,1,('2B'!$H$9/'2Bhide'!$H$9))","v":0},null,{"$f":"SUMIF('3SO'!$A$12:$A$1200,$B38,'3SO'!$G$12:$G$1200)+SUMIF('3PS'!$A$12:$A$1200,$B38,'3PS'!$G$12:$G$1200)","v":0},"Náhradní výsadba"]
[null,"D.2.4.3","Zabezpečení veřejných zájmů",null,null,{"$f":"(IF(MID($B39,1,1)=\"D\",SUMIF('3SO'!$A$12:$A$1200,$B39,'3SO'!$G$12:$G$1200),SUMIF('3PS'!$A$12:$A$1200,$B39,'3PS'!$G$12:$G$1200)))*(IF('2Bhide'!$H$9=0,1,('2B'!$H$9/'2Bhide'!$H$9)))","v":0},null,{"$f":"(IF(MID($B39,1,3)=\"D.2\",SUMIF('3SO'!$A$12:$A$1200,$B39,'3SO'!$H$12:$H$1200),SUMIF('3PS'!$A$12:$A$1200,$B39,'3PS'!$H$12:$H$1200)))*IF('2Bhide'!$H$9=0,1,('2B'!$H$9/'2Bhide'!$H$9))","v":0},null,{"$f":"SUMIF('3SO'!$A$12:$A$1200,$B39,'3SO'!$G$12:$G$1200)+SUMIF('3PS'!$A$12:$A$1200,$B39,'3PS'!$G$12:$G$1200)","v":0},"Zabezpečení veřejných zájmů"]
[null,"D.1.1","Železniční zabezpečovací zařízení",null,null,{"$f":"(IF(MID($B40,1,1)=\"D.1\",SUMIF('3SO'!$A$12:$A$1200,$B40,'3SO'!$G$12:$G$1200),SUMIF('3PS'!$A$12:$A$1200,$B40,'3PS'!$G$12:$G$1200)))*(IF('2Bhide'!$H$17=0,1,('2B'!$H$17/'2Bhide'!$H$17)))","v":0},{"$f":"F40-H40","v":0},{"$f":"(IF(MID($B40,1,3)=\"D.2\",SUMIF('3SO'!$A$12:$A$1200,$B40,'3SO'!$H$12:$H$1200),SUMIF('3PS'!$A$12:$A$1200,$B40,'3PS'!$H$12:$H$1200)))*IF('2Bhide'!$H$9=0,1,('2B'!$H$9/'2Bhide'!$H$9))","v":0},null,{"$f":"SUMIF('3SO'!$A$12:$A$1200,$B40,'3SO'!$G$12:$G$1200)+SUMIF('3PS'!$A$12:$A$1200,$B40,'3PS'!$G$12:$G$1200)","v":0},"Železniční zabezpečovací zařízení"]
[null,"D.1.2","Železniční sdělovací zařízení",null,null,{"$f":"(IF(MID($B41,1,1)=\"D.1\",SUMIF('3SO'!$A$12:$A$1200,$B41,'3SO'!$G$12:$G$1200),SUMIF('3PS'!$A$12:$A$1200,$B41,'3PS'!$G$12:$G$1200)))*(IF('2Bhide'!$H$17=0,1,('2B'!$H$17/'2Bhide'!$H$17)))","v":0},{"$f":"F41-H41","v":0},{"$f":"(IF(MID($B41,1,3)=\"D.2\",SUMIF('3SO'!$A$12:$A$1200,$B41,'3SO'!$H$12:$H$1200),SUMIF('3PS'!$A$12:$A$1200,$B41,'3PS'!$H$12:$H$1200)))*IF('2Bhide'!$H$9=0,1,('2B'!$H$9/'2Bhide'!$H$9))","v":0},null,{"$f":"SUMIF('3SO'!$A$12:$A$1200,$B41,'3SO'!$G$12:$G$1200)+SUMIF('3PS'!$A$12:$A$1200,$B41,'3PS'!$G$12:$G$1200)","v":0},"Železniční sdělovací zařízení"]
[null,{"$f":"IF($C42=\"\",\"\",VLOOKUP($C42,hidekody!$A$2:$B$26,2))","v":"D.1.3"},"Silnoproudá technologie včetně DŘT",null,null,{"$f":"(IF(MID($B42,1,1)=\"D.1\",SUMIF('3SO'!$A$12:$A$1200,$B42,'3SO'!$G$12:$G$1200),SUMIF('3PS'!$A$12:$A$1200,$B42,'3PS'!$G$12:$G$1200)))*(IF('2Bhide'!$H$17=0,1,('2B'!$H$17/'2Bhide'!$H$17)))","v":0},{"$f":"F42-H42","v":0},{"$f":"(IF(MID($B42,1,3)=\"D.2\",SUMIF('3SO'!$A$12:$A$1200,$B42,'3SO'!$H$12:$H$1200),SUMIF('3PS'!$A$12:$A$1200,$B42,'3PS'!$H$12:$H$1200)))*IF('2Bhide'!$H$9=0,1,('2B'!$H$9/'2Bhide'!$H$9))","v":0},null,{"$f":"SUMIF('3SO'!$A$12:$A$1200,$B42,'3SO'!$G$12:$G$1200)+SUMIF('3PS'!$A$12:$A$1200,$B42,'3PS'!$G$12:$G$1200)","v":0},"Silnoproudá technologie včetně DŘT"]
[null,"D.1.4","Ostatní technologická zařízení",null,null,{"$f":"(IF(MID($B43,1,1)=\"D.1\",SUMIF('3SO'!$A$12:$A$1200,$B43,'3SO'!$G$12:$G$1200),SUMIF('3PS'!$A$12:$A$1200,$B43,'3PS'!$G$12:$G$1200)))*(IF('2Bhide'!$H$17=0,1,('2B'!$H$17/'2Bhide'!$H$17)))","v":0},{"$f":"F43-H43","v":0},{"$f":"(IF(MID($B43,1,3)=\"D.2\",SUMIF('3SO'!$A$12:$A$1200,$B43,'3SO'!$H$12:$H$1200),SUMIF('3PS'!$A$12:$A$1200,$B43,'3PS'!$H$12:$H$1200)))*IF('2Bhide'!$H$9=0,1,('2B'!$H$9/'2Bhide'!$H$9))","v":0},null,{"$f":"SUMIF('3SO'!$A$12:$A$1200,$B43,'3SO'!$G$12:$G$1200)+SUMIF('3PS'!$A$12:$A$1200,$B43,'3PS'!$G$12:$G$1200)","v":0},"Ostatní technologická zařízení"]
[null,"Celkem základní rozpočtové náklady dle kategorií monitoringu:",null,null,null,{"$f":"SUM(F16:F43)","v":0},{"$f":"SUM(G16:G43)","v":0},{"$f":"SUM(H16:H43)","v":0}]
[null,"Ostatní náklady na činnosti zajišťované zhotovitelem stavby:"]
["x","zařazení v SOD:","Zařazení v souhrnném rozpočtu stavby:"]
["-",null,"A.2.2.1","Práce prováděné pro zpracování projektových dokumentací",null,{"$f":"IF($A47=\"x\",SUM('Komentář FR'!D14:D18),0)","v":0},{"$f":"F47-H47","v":0},{"$f":"IF($A47=\"x\",SUM('Komentář FR'!F14:F18),0)","v":0}]
["-",null,"A.2.2.2","Projektová dokumentace pro ohlášení stavby (DOS)",null,{"$f":"IF(A48=\"x\",'Komentář FR'!D19,0)","v":0},{"$f":"F48-H48","v":0},{"$f":"IF(A48=\"x\",'Komentář FR'!F19,0)","v":0}]
["-",null,"A.2.2.3","Projektová dokumentace pro stavební povolení (DSP)",null,{"$f":"IF(A49=\"x\",'Komentář FR'!D20,0)","v":0},{"$f":"F49-H49","v":0},{"$f":"IF(A49=\"x\",'Komentář FR'!F20,0)","v":0}]
["-",null,"A.2.2.4","Projektová dokumentace pro provádění stavby (PDPS)",null,{"$f":"IF(A50=\"x\",'Komentář FR'!D21,0)","v":0},{"$f":"F50-H50","v":0},{"$f":"IF(A50=\"x\",'Komentář FR'!F21,0)","v":0}]
["-",null,"A.2.2.5","Dodatky k projektové dokumentaci",null,{"$f":"IF(A51=\"x\",'Komentář FR'!D22,0)","v":0},{"$f":"F51-H51","v":0},{"$f":"IF(A51=\"x\",'Komentář FR'!F22,0)","v":0}]
["-",null,"A.2.3","Autorský dozor",null,{"$f":"IF(A52=\"x\",'Komentář FR'!D76,0)","v":0},0,{"$f":"IF(A52=\"x\",'Komentář FR'!F76,0)","v":0}]
["-",null,"A.2.4.1","Osvědčení o shodě notifikovanou osobou v přípravě",null,{"$f":"IF(A53=\"x\",'Komentář FR'!D23,0)","v":0},0,{"$f":"IF(A53=\"x\",'Komentář FR'!F23,0)","v":0}]
["-",null,"A.2.4.2","Koordinátor BOZP v přípravě",null,{"$f":"IF(A54=\"x\",'Komentář FR'!D24,0)","v":0},0,{"$f":"IF(A54=\"x\",'Komentář FR'!F24,0)","v":0}]
["-",null,"A.2.4.3","Zpracování žádosti o spolufinancování stavby",null,{"$f":"IF(A55=\"x\",'Komentář FR'!D25,0)","v":0},0,{"$f":"IF(A55=\"x\",'Komentář FR'!F25,0)","v":0}]
["-",null,"A.2.4.4","Ostatní nezařazené činnosti v přípravě",null,{"$f":"IF(A56=\"x\",'Komentář FR'!D26,0)","v":0},0,{"$f":"IF(A56=\"x\",'Komentář FR'!F26,0)","v":0}]
["-",null,"A.2.5","Dokumentace skutečného provedení stavby",null,{"$f":"IF(A57=\"x\",'Komentář FR'!D27,0)","v":0},0,{"$f":"IF(A57=\"x\",'Komentář FR'!F27,0)","v":0}]
["-",null,"A.3.1","Výkupy pozemků",null,{"$f":"IF(A58=\"x\",SUM('Komentář FR'!D30),0)","v":0},0,{"$f":"IF(A58=\"x\",SUM('Komentář FR'!F30),0)","v":0}]
["-",null,"A.3.2","Výkupy staveb",null,{"$f":"IF(A59=\"x\",SUM('Komentář FR'!D31),0)","v":0},{"$f":"F59-H59","v":0},{"$f":"IF(A59=\"x\",SUM('Komentář FR'!F31),0)","v":0}]
["-",null,"A.4.2","Nájmy hrazené zhotovitelem stavby",null,{"$f":"IF(A60=\"x\",'Komentář FR'!D38,0)","v":0},0,{"$f":"IF(A60=\"x\",'Komentář FR'!F38,0)","v":0}]
["-",null,"A.5.1.1","Supervizor ",null,{"$f":"IF(A61=\"x\",'Komentář FR'!D39,0)","v":0},0,{"$f":"IF(A61=\"x\",'Komentář FR'!F39,0)","v":0}]
["x",null,"A.5.3.3","Publicita stavby",null,{"$f":"IF(A62=\"x\",'Komentář FR'!D72,0)","v":0},0,{"$f":"IF(A62=\"x\",'Komentář FR'!F72,0)","v":0}]
["-",null,"B.3.1","Osvědčení o shodě v realizaci",null,{"$f":"IF(A63=\"x\",'Komentář FR'!D50,0)","v":0},0,{"$f":"IF(A63=\"x\",'Komentář FR'!F50,0)","v":0}]
["-",null,"B.3.3","Osvěd. o bezpečnosti před uvedením do provozu",null,{"$f":"IF(A64=\"x\",'Komentář FR'!D52,0)","v":0},0,{"$f":"IF(A64=\"x\",'Komentář FR'!F52,0)","v":0}]
["-",null,"B.3.4","Rekultivace",null,{"$f":"IF(A65=\"x\",'Komentář FR'!D53,0)","v":0},0,{"$f":"IF(A65=\"x\",'Komentář FR'!F53,0)","v":0}]
["-",null,"B.3.5","Zajištění veřejných zájmů",null,{"$f":"IF(A66=\"x\",'Komentář FR'!D54,0)","v":0},0,{"$f":"IF(A66=\"x\",'Komentář FR'!F54,0)","v":0}]
["-",null,"B.3.6","Hlukové měření pro účely realizace stavby",null,{"$f":"IF(A67=\"x\",'Komentář FR'!D55,0)","v":0},0,{"$f":"IF(A67=\"x\",'Komentář FR'!F55,0)","v":0}]
["-",null,"B.3.7.3","Ostatní náhrady v realizaci",null,{"$f":"IF(A68=\"x\",'Komentář FR'!D58,0)","v":0},0,{"$f":"IF(A68=\"x\",'Komentář FR'!F58,0)","v":0}]
["-",null,"B.3.8","Zabezpečovací a konzervační práce",null,{"$f":"IF(A69=\"x\",'Komentář FR'!D59,0)","v":0},0,{"$f":"IF(A69=\"x\",'Komentář FR'!F59,0)","v":0}]
["-",null,"B.3.9","Ostatní nezařazené náklady v realizaci",null,{"$f":"IF(A70=\"x\",'Komentář FR'!D60,0)","v":0},0,{"$f":"IF(A70=\"x\",'Komentář FR'!F60,0)","v":0}]
["x","Celkem za ostatní náklady zajišťované zhotovitelem:",null,null,null,{"$f":"SUM(F47:F70)","v":0},{"$f":"SUM(G47:G70)","v":0},{"$f":"SUM(H47:H70)","v":0}]
["x","Náklady celkem dle smlouvy na zhotovení stavby:",null,null,null,{"$f":"G72+H72","v":0},{"$f":"G44+G71","v":0},{"$f":"H44+H71","v":0}]
["x"]
["x","Ostatní způsobilé náklady:",null,null,null,"Cena celkem za položku bez DPH","Podíl nezpůsobilých nákladů","Podíl způsobilých nákladů"]
["x","Zatřídění nákladů dle SR:",null,null,"Zhotovitel ","Kč","Kč","Kč"]
["-","A.2.1.1","Práce prováděné pro zpracování předprojektových dokumentací",null,null,{"$f":"IF($A76=\"x\",SUM('Komentář FR'!D5:D9),0)","v":0},{"$f":"F76-H76","v":0},{"$f":"IF($A76=\"x\",SUM('Komentář FR'!F5:F9),0)","v":0}]
["-","A.2.1.2","Záměr projektu (ZP)",null,null,{"$f":"IF($A77=\"x\",'Komentář FR'!D10,0)","v":0},0,{"$f":"IF($A77=\"x\",'Komentář FR'!F10,0)","v":0}]
["-","A.2.1.3","Dokumentace pro územní rozhodnutí (DUR)",null,null,{"$f":"IF($A78=\"x\",'Komentář FR'!D12,0)","v":0},0,{"$f":"IF($A78=\"x\",'Komentář FR'!F12,0)","v":0}]
["-","A.2.1.4","Dodatky k předprojektovým dokumentacím pro přípravu stavby",null,null,{"$f":"IF($A79=\"x\",'Komentář FR'!D13,0)","v":0},0,{"$f":"IF($A79=\"x\",'Komentář FR'!F13,0)","v":0}]
["-","A.2.2.1","Práce prováděné pro zpracování projektových dokumentací",null,null,{"$f":"IF($A80=\"x\",SUM('Komentář FR'!D14:D18),0)","v":0},0,{"$f":"IF($A80=\"x\",SUM('Komentář FR'!F14:F18),0)","v":0}]
["-","A.2.2.2","Projektová dokumentace pro ohlášení stavby (DOS)",null,null,{"$f":"IF($A81=\"x\",'Komentář FR'!D19,0)","v":0},{"$f":"F81-H81","v":0},{"$f":"IF($A81=\"x\",'Komentář FR'!F19,0)","v":0}]
["-","A.2.2.3","Projektová dokumentace pro stavební povolení (DSP)",null,null,{"$f":"IF($A82=\"x\",'Komentář FR'!D20,0)","v":0},0,{"$f":"IF($A82=\"x\",'Komentář FR'!F20,0)","v":0}]
["-","A.2.2.4","Projektová dokumentace pro provádění stavby (PDPS)",null,null,{"$f":"IF($A83=\"x\",'Komentář FR'!D21,0)","v":0},0,{"$f":"IF($A83=\"x\",'Komentář FR'!F21,0)","v":0}]
["-","A.2.2.5","Dodatky k projektové dokumentaci",null,null,{"$f":"IF($A84=\"x\",'Komentář FR'!D22,0)","v":0},0,{"$f":"IF($A84=\"x\",'Komentář FR'!F22,0)","v":0}]
["-","A.2.3","Autorský dozor",null,null,{"$f":"IF($A85=\"x\",'Komentář FR'!D76,0)","v":0},0,{"$f":"IF($A85=\"x\",'Komentář FR'!F76,0)","v":0}]
["-","A.2.4.1","Osvědčení o shodě notifikovanou osobou v přípravě",null,null,{"$f":"IF($A86=\"x\",'Komentář FR'!D23,0)","v":0},0,{"$f":"IF($A86=\"x\",'Komentář FR'!F23,0)","v":0}]
["-","A.2.4.2","Koordinátor BOZP v přípravě",null,null,{"$f":"IF($A87=\"x\",'Komentář FR'!D24,0)","v":0},0,{"$f":"IF($A87=\"x\",'Komentář FR'!F24,0)","v":0}]
["-","A.2.4.3","Zpracování žádosti o spolufinancování stavby",null,null,{"$f":"IF($A88=\"x\",'Komentář FR'!D25,0)","v":0},0,{"$f":"IF($A88=\"x\",'Komentář FR'!F25,0)","v":0}]
["-","A.2.4.4","Ostatní nezařazené činnosti v přípravě",null,null,{"$f":"IF($A89=\"x\",'Komentář FR'!D26,0)","v":0},0,{"$f":"IF($A89=\"x\",'Komentář FR'!F26,0)","v":0}]
["-","A.2.5","Dokumentace skutečného provedení stavby",null,null,{"$f":"IF($A90=\"x\",'Komentář FR'!D27,0)","v":0},0,{"$f":"IF($A90=\"x\",'Komentář FR'!F27,0)","v":0}]
["-","A.3.1","Výkupy pozemků",null,null,{"$f":"IF($A91=\"x\",'Komentář FR'!D30,0)","v":0},0,{"$f":"IF($A91=\"x\",'Komentář FR'!F30,0)","v":0}]
["-","A.3.2","Výkupy staveb",null,null,{"$f":"IF($A92=\"x\",'Komentář FR'!D31,0)","v":0},0,{"$f":"IF($A92=\"x\",'Komentář FR'!F31,0)","v":0}]
["-","A.5.1.1","Supervizor",null,null,{"$f":"IF($A93=\"x\",'Komentář FR'!D39,0)","v":0},0,{"$f":"IF($A93=\"x\",'Komentář FR'!F39,0)","v":0}]
["-","A.5.1.2","Poradenské firmy pro geotechnický průzkum",null,null,{"$f":"IF($A94=\"x\",'Komentář FR'!D80,0)","v":0},0,{"$f":"IF($A94=\"x\",'Komentář FR'!F80,0)","v":0}]
["-","A.5.1.3","Ostatní poradenské firmy",null,null,{"$f":"IF($A95=\"x\",'Komentář FR'!D81,0)","v":0},0,{"$f":"IF($A95=\"x\",'Komentář FR'!F81,0)","v":0}]
["x","A.5.3.4","Publicita stavby",null,null,{"$f":"IF($A96=\"x\",'Komentář FR'!D73,0)","v":0},0,{"$f":"IF($A96=\"x\",'Komentář FR'!F73,0)","v":0}]
["-","B.1.2","Stavební činnosti zajišťované přímo investorem",null,null,{"$f":"IF($A97=\"x\",SUM('Komentář FR'!D42:D44),0)","v":0},0,{"$f":"IF($A97=\"x\",SUM('Komentář FR'!F42:F44),0)","v":0}]
["-","B.2.2","Technologické činnosti zajišťované přímo investorem",null,null,{"$f":"IF($A98=\"x\",'Komentář FR'!D47+'Komentář FR'!D48+'Komentář FR'!D49,0)","v":0},0,{"$f":"IF($A98=\"x\",'Komentář FR'!F47+'Komentář FR'!F48+'Komentář FR'!F49,0)","v":0}]
["-","B.3.1","Osvědčení o shodě v realizaci",null,null,{"$f":"IF(A99=\"x\",'Komentář FR'!D50,0)","v":0},0,{"$f":"IF(A99=\"x\",'Komentář FR'!F50,0)","v":0}]
["-","B.3.2","Koordinátor BOZP ve stádiu realizace stavby",null,null,{"$f":"IF(A100=\"x\",'Komentář FR'!D51,0)","v":0},0,{"$f":"IF(A100=\"x\",'Komentář FR'!F51,0)","v":0}]
["-","B.3.3","Osvědčení o bezpečnosti před uvedením do provozu",null,null,{"$f":"IF(A101=\"x\",'Komentář FR'!D52,0)","v":0},0,{"$f":"IF(A101=\"x\",'Komentář FR'!F52,0)","v":0}]
["-","B.3.4","Rekultivace",null,null,{"$f":"IF(A102=\"x\",'Komentář FR'!D53,0)","v":0},0,{"$f":"IF(A102=\"x\",'Komentář FR'!F53,0)","v":0}]
["-","B.3.5","Zajištění veřejných zájmů",null,null,{"$f":"IF(A103=\"x\",'Komentář FR'!D54,0)","v":0},0,{"$f":"IF(A103=\"x\",'Komentář FR'!F54,0)","v":0}]
["-","B.3.6","Hlukové měření pro účely realizace stavby",null,null,{"$f":"IF(A104=\"x\",'Komentář FR'!D55,0)","v":0},0,{"$f":"IF(A104=\"x\",'Komentář FR'!F55,0)","v":0}]
["-","B.3.7.1","Náhrady za omezení hospodaření",null,null,{"$f":"IF($A105=\"x\",'Komentář FR'!D56,0)","v":0},0,{"$f":"IF($A105=\"x\",'Komentář FR'!F56,0)","v":0}]
["-","B.3.7.2","Náhrady za omezení provozu",null,null,{"$f":"IF($A106=\"x\",'Komentář FR'!D57,0)","v":0},0,{"$f":"IF($A106=\"x\",'Komentář FR'!F57,0)","v":0}]
["-","B.3.10","Jiné náklady v realizaci",null,null,{"$f":"IF($A107=\"x\",'Komentář FR'!D61,0)","v":0},{"$f":"F107-H107","v":0},{"$f":"IF($A107=\"x\",'Komentář FR'!F61,0)","v":0}]
["-","B.4","Příspěvky jiným investorům",null,null,{"$f":"IF($A108=\"x\",SUM('Komentář FR'!D63:D65),0)","v":0},{"$f":"F108-H108","v":0},{"$f":"IF($A108=\"x\",SUM('Komentář FR'!F63:F65),0)","v":0}]
["x","Celkem ostatní náklady hrazené hlavním zhotovitelem",null,null,null,{"$f":"SUM(F76:F108)","v":0},{"$f":"SUM(G76:G108)","v":0},{"$f":"SUM(H76:H108)","v":0}]
["x"]
["x","Celkový souhrn nákladů:"]
[null,null,null,null,null,null,null,"Snížení způsobilých nákladů\nKč"]
[null,"Příjmy generované stavbou - zdroje z výzisku materiálu SŽDC",null,null,null,null,null,{"$f":"'2C'!H15","v":0}]
[null,null,null,null,null,"Cena celkem\nKč","Podíl nezpůsobilých nákladů\nKč","Podíl způsobilých nákladů\nKč"]
["x","Celkem způsobilé náklady stavby bez rezervní položky a příjmů generovaných stavbou:",null,null,null,{"$f":"F72+F109","v":0},{"$f":"G109+G72","v":0},{"$f":"H72+H109","v":0}]
["x","Rezerva stavby:",null,null,null,{"$f":"SUM(G116:H116)","v":0},{"$f":"'Komentář FR'!E68","v":0},{"$f":"'Komentář FR'!F68","v":0}]
["x","Souhrn nákladů stavby v rozdělení dle způsobilosti  (bez DPH)",null,null,null,{"$f":"F115+F116","v":0},{"$f":"SUM(G115:G116)","v":0},{"$f":"H115+H116","v":0}]
["x","Celkem náklady stavby v rozdělení dle způsobilosti  (bez DPH)\n(snížené o příjmy generované stavbou)",null,null,null,null,{"$f":"F117-H118","v":0},{"$f":"IF(H117=0,0,H115+H116-H113)","v":0}]
["x","Poznámka:",{"$f":"H118-'Komentář FR'!F90","v":0},{"$f":"IF(C119=0,\"\",\"Chybna v označení zatřídění nákladů v sloupci A !  \")","v":""}]
["x","Přehled nákladů neobsahuje některé náklady stavby, které nejsou způsobilé k financování z Evropských zdrojů. Jedná se zejména o náklady nutné z přípravě a zabezpečení stavby a něktrých činností v realizaci,"]
["x","které zajišťuje investor přímo.",null,"Výše nezařazených nákladů,které jsou součástí stavby je,",{"$f":"E122-F117","v":0},"Kč bez DPH"]
["x","Celkové investiční náklady stavby jsou",null,null,{"$f":"FR!B23","v":0},"Kč bez DPH"]
["x"]
["x"]
["x"]
["x","*1) Přehled zhotovitelů stavby dle SOD:"]
["x","Název zakázky dle SOD:",null,null,"Zhotovitel:",null,"číslo SOD objednatele:","Náklady dle SOD celkem v Kč:"]
["x",{"$f":"D9","v":""},null,null,null,null,"není určeno",{"$f":"F72","v":0}]
["-"]
["-"]
["-"]
["-"]
["-"]
["-"]
["-"]
["-"]
["-"]
["-"]
["-"]
["-"]
["-"]
["-"]
["-"]
["-"]
["-"]
["-"]
["-"]
["-"]

{"sheet":"VZOR 80","index":13,"n_rows":46,"n_cols":13,"rows_kept":46,"cut":false,"hidden":true,"merged":[[37,1,37,7],[37,8,37,9],[37,10,37,15],[9,8,9,9],[10,8,10,9],[11,8,11,9],[12,8,12,9],[13,8,13,9],[14,8,14,9],[15,8,15,9],[35,1,35,7],[35,8,35,9],[35,10,35,15],[36,1,36,7],[36,8,36,9],[36,10,36,15],[33,1,33,7],[33,8,33,9],[33,10,33,15],[34,1,34,7],[34,8,34,9],[34,10,34,15],[31,1,31,7],[31,8,31,9],[31,10,31,15],[32,1,32,7],[32,8,32,9],[32,10,32,15],[29,1,29,7],[29,8,29,9],[29,10,29,15],[30,1,30,7],[30,8,30,9],[30,10,30,15],[27,1,27,7],[27,8,27,9],[27,10,27,15],[28,1,28,7],[28,8,28,9],[28,10,28,15],[25,1,25,7],[25,8,25,9],[25,10,25,15],[26,1,26,7],[26,8,26,9],[26,10,26,15],[1,0,1,11],[2,0,2,1],[2,2,2,11],[3,0,3,1],[3,2,3,11],[4,0,4,1],[4,2,4,11],[5,0,5,1],[5,2,5,11],[6,2,6,7],[6,8,6,11],[6,13,6,14],[10,13,10,15],[11,13,11,15],[12,13,12,15],[13,13,13,15],[14,13,14,15],[15,13,15,15],[17,1,17,7],[17,8,17,9],[18,10,18,15],[19,10,19,15],[18,1,18,7],[18,8,18,9],[19,1,19,7],[19,8,19,9],[23,1,23,7],[23,8,23,9],[24,1,24,7],[42,0,44,15],[20,1,20,7],[20,8,20,9],[21,1,21,7],[21,8,21,9],[22,1,22,7],[22,8,22,9],[20,10,20,15],[21,10,21,15],[22,10,22,15],[23,10,23,15],[24,10,24,15],[24,8,24,9]]}
[]
[]
[null,null,"ZÁMĚR PROJEKTU",null,null,null,null,null,null,null,null,null,"VZOR  80 "]
["NÁZEV AKCE",null,{"$f":"IF('Krycí list SR'!B2=\"\",\"\",'Krycí list SR'!B2)","v":""}]
["ČÍSLO AKCE",null,{"$f":"IF('Krycí list SR'!B3=0,\"\",'Krycí list SR'!B3)","v":""}]
["INVESTOR",null,{"$f":"IF('Krycí list SR'!B4=\"\",\"\",'Krycí list SR'!B4)","v":"Správa železnic, státní organizace"}]
["IČ:",{"$f":"'Krycí list SR'!D8","v":70994234}," Rodné číslo (v případě,že účastník nemá IČ) :",null,null,null,null,null,null,null,null,null,"-"]
[]
[" TERMÍNY PŔÍPRAVY A REALIZACE AKCE (mm.rrrr) :"]
[null," Název etapy",null,null,null,null,null,null," zahájení",null,null,null,"dokončení"]
[8003," Vypracování a schválení projektové dokumentace "]
[8004," Zadání akce (stavební části stavby)  ",null,null,null,null,null,null,{"$f":"IF(I14=\"\",\"\",'Krycí list SR'!G9-90)","v":""},null,null,null,{"$f":"IF(M14=\"\",\"\",'Krycí list SR'!G10)","v":""}]
[8005," Zadání  technologické části stavby (strojů a zařízení)*",null,null,null,null,null,null,{"$f":"IF(I15=\"\",\"\",'Krycí list SR'!G9-90)","v":""},null,null,null,{"$f":"IF(M15=\"\",\"\",'Krycí list SR'!G10)","v":""}]
[8006," Realizace akce (stavební části stavby)",null,null,null,null,null,null,{"$f":"'3SO'!E9","v":""},null,null,null,{"$f":"'3SO'!F9","v":""}]
[8007," Realizace technologické části stavby (strojů a zařízení)*",null,null,null,null,null,null,{"$f":"'3PS'!E9","v":""},null,null,null,{"$f":"'3PS'!F9","v":""}]
[8008," Závěrečné vyhodnocení akce",null,null,null,null,null,null,null,null,null,null,{"$f":"IF(('Krycí list SR'!$F$7)=\"\",\"\",('Krycí list SR'!$F$7))","v":""}]
[" ROZHODUJÍCÍ PROJEKTOVANÉ PARAMETRY :"]
[null," Název parametru",null,null,null,null,null,null," měr.jednotka",null," hodnota parametru"]
[8011]
[8012]
[8013]
[8014]
[8015]
[8016]
[8017]
[8018]
[8019]
[8020]
[8021]
[8022]
[8023]
[8024]
[8025]
[8026]
[8027]
[8028]
[8029]
[8030]
[]
[" Pozn.:"]
[null,"* v případě, že technologická část stavby nebude zadávána současně se stavbou."]
[]
[]
[]
[]
[" "]

{"sheet":"VZOR 81","index":14,"n_rows":96,"n_cols":18,"rows_kept":96,"cut":false,"hidden":true,"merged":[[3,14,5,14],[1,14,2,14],[4,0,4,1],[4,2,4,11],[5,0,5,1],[5,2,5,11],[6,2,6,3],[0,0,0,13],[3,0,3,1],[3,2,3,11],[1,0,2,9],[1,10,2,11],[1,12,1,13],[77,15,77,16],[85,14,88,14],[81,14,84,14],[96,0,96,3],[83,15,88,15],[81,15,82,17]]}
[]
["                   BILANCE PLÁNOVANÝCH INVESTIČNÍCH POTŘEB A ZDROJŮ FINANCOVÁNÍ AKCE",null,null,null,null,null,null,null,null,null,"VZOR 81",null,"     Smíšená CÚ",null,"Vyplnění formuláře \nVZOR 82"]
[null,null,null,null,null,null,null,null,null,null,null,null,{"$f":"IF(('Krycí list SR'!$F$5)=\"\",\"\",('Krycí list SR'!$F$5))","v":""},{"$f":"IF(('Krycí list SR'!$F$7)=\"\",\"-\",-YEAR('Krycí list SR'!$F$7))","v":"-"}]
["NÁZEV AKCE",null,{"$f":"IF('Krycí list SR'!B2=\"\",\"\",'Krycí list SR'!B2)","v":""},null,null,null,null,null,null,null,null,null,null,null,{"$f":"'VZOR 82'!O4","v":"NE"}]
["ČÍSLO AKCE",null,{"$f":"IF('Krycí list SR'!B3=\"\",\"\",'Krycí list SR'!B3)","v":""}]
["INVESTOR",null,{"$f":"IF('Krycí list SR'!B4=\"\",\"\",'Krycí list SR'!B4)","v":"Správa železnic, státní organizace"}]
[null,null,null,null,"Skut.","Skut.","Aktuál.","Skutečnost"," Plánované plnění:",null,null,null,"Zbývá","Hodnota"]
[null,null,null," v mil.Kč na 3 des.místa","do 31.12.","do 31.12.","rok","akt.roku","  v roce","v roce","v roce","v roce","  po 1.1.","ukazatele"]
["  Č.ř.",null,"  N á z e v   u k a z a t e l e",null,{"$f":"$F$9-1","v":2020},{"$f":"$G$9-1","v":2021},{"$f":"IF('Krycí list SR'!$F$4=\"\",0,'Krycí list SR'!$F$4)","v":2022},{"$f":"IF('Krycí list SR'!$F$4=\"\",0,'Krycí list SR'!$F$4)","v":2022},{"$f":"$G$9+1","v":2023},{"$f":"$G$9+2","v":2024},{"$f":"$G$9+3","v":2025},{"$f":"$G$9+4","v":2026},{"$f":"$G$9+5","v":2027},"CELKEM"]
[]
[8121,1,"  Náklady inženýrské činnosti ve výstavbě",null,null,{"$f":"IF(O4=\"NE\",(('2A'!I7)/1000000)-'VZOR 81'!E11,\"\")","v":0},{"$f":"IF(O4=\"NE\",('2A'!J8+'2A'!J7)/1000000,\"\")","v":0},null,{"$f":"IF(O4=\"NE\",('2A'!K7+'2A'!K8)/1000000,\"\")","v":0},{"$f":"IF(O4=\"NE\",('2A'!L7+'2A'!L8)/1000000,\"\")","v":0},{"$f":"IF(O4=\"NE\",('2A'!M7+'2A'!M8)/1000000,\"\")","v":0},{"$f":"IF(O4=\"NE\",('2A'!N7+'2A'!N8)/1000000,\"\")","v":0},{"$f":"IF(O4=\"NE\",SUM('2A'!O7:S8)/1000000,\"\")","v":0},{"$f":"SUM(E11:M11)-H11","v":0}]
[null,2,"  Náklady projektové  dokumentace",null,null,{"$f":"IF(O4=\"NE\",('2A'!I9)/1000000-'VZOR 81'!E12,\"\")","v":0},{"$f":"IF(O4=\"NE\",('2A'!J9)/1000000,\"\")","v":0},null,{"$f":"IF(O4=\"NE\",('2A'!K9)/1000000,\"\")","v":0},{"$f":"IF(O4=\"NE\",('2A'!L9)/1000000,\"\")","v":0},{"$f":"IF(O4=\"NE\",('2A'!M9)/1000000,\"\")","v":0},{"$f":"IF(O4=\"NE\",('2A'!N9)/1000000,\"\")","v":0},{"$f":"IF(O4=\"NE\",SUM('2A'!O9:S9)/1000000,\"\")","v":0},0]
[null,3,"  Náklady na výkupy pozemků určených k zástavbě",null,null,{"$f":"IF(O4=\"NE\",('2A'!I43)/1000000-'VZOR 81'!E13,\"\")","v":0},{"$f":"IF(O4=\"NE\",('2A'!J43)/1000000,\"\")","v":0},null,{"$f":"IF(O4=\"NE\",('2A'!K43)/1000000,\"\")","v":0},{"$f":"IF(O4=\"NE\",('2A'!L43)/1000000,\"\")","v":0},{"$f":"IF(O4=\"NE\",('2A'!M43)/1000000,\"\")","v":0},{"$f":"IF(O4=\"NE\",('2A'!N43)/1000000,\"\")","v":0},{"$f":"IF(O4=\"NE\",SUM('2A'!O43:S43)/1000000,\"\")","v":0},0]
[null,4,"  Náklady na výkupy nemovitostí podmiňující výstavbu",null,null,{"$f":"IF(O4=\"NE\",('2A'!I44)/1000000-'VZOR 81'!E14,\"\")","v":0},{"$f":"IF(O4=\"NE\",('2A'!J44)/1000000,\"\")","v":0},null,{"$f":"IF(O4=\"NE\",('2A'!K44)/1000000,\"\")","v":0},{"$f":"IF(O4=\"NE\",('2A'!L44)/1000000,\"\")","v":0},{"$f":"IF(O4=\"NE\",('2A'!M44)/1000000,\"\")","v":0},{"$f":"IF(O4=\"NE\",('2A'!N44)/1000000,\"\")","v":0},{"$f":"IF(O4=\"NE\",SUM('2A'!O44:S44)/1000000,\"\")","v":0},0]
[null,9,"  Jiné náklady přípravy a zabezpečení výstavby",null,null,{"$f":"IF(O4=\"NE\",('2A'!$I$49+'2A'!$I$46+'2A'!$I$45)/1000000-'VZOR 81'!$E$15,\"\")","v":0},{"$f":"IF(O4=\"NE\",('2A'!$J$49+'2A'!$J$45+'2A'!$J$46)/1000000,\"\")","v":0},null,{"$f":"IF(O4=\"NE\",('2A'!$K$49+'2A'!$K$45+'2A'!$K$46)/1000000,\"\")","v":0},{"$f":"IF(O4=\"NE\",('2A'!$L$49+'2A'!$L$45+'2A'!$L$46)/1000000,\"\")","v":0},{"$f":"IF(O4=\"NE\",('2A'!$M$49+'2A'!$M$45+'2A'!$M$46)/1000000,\"\")","v":0},{"$f":"IF(O4=\"NE\",('2A'!$N$49+'2A'!$N$45+'2A'!$N$46)/1000000,\"\")","v":0},{"$f":"IF(O4=\"NE\",SUM('2A'!$O$49:$S$49,'2A'!$O$45:$S$45,'2A'!$O$46:$S$46)/1000000,\"\")","v":0},{"$f":"SUM($E$15:$M$15)-$H$15","v":0}]
[8121,"S"," Náklady přípravy a zabezpečení výstavby",null,{"$f":"SUM(E11:E15)","v":0},0,0,0,0,0,0,0,{"$f":"SUM(M11:M15)","v":0},0]
[8124,null," Náklady stavební části stavby",null,null,{"$f":"IF(O4=\"NE\",('2B'!$I$7)/1000000-'VZOR 81'!$E$17,\"\")","v":0},{"$f":"IF(O4=\"NE\",('2B'!$J$7)/1000000,\"\")","v":0},null,{"$f":"IF(O4=\"NE\",('2B'!$K$7)/1000000,\"\")","v":0},{"$f":"IF(O4=\"NE\",('2B'!$L$7)/1000000,\"\")","v":0},{"$f":"IF(O4=\"NE\",('2B'!$M$7)/1000000,\"\")","v":0},{"$f":"IF(O4=\"NE\",('2B'!$N$7)/1000000,\"\")","v":0},{"$f":"IF(O4=\"NE\",SUM('2B'!$O$7:$S$7)/1000000,\"\")","v":0},{"$f":"SUM($E$17:$M$17)-$H$17","v":0}]
[8125,null," Náklady technologické části stavby",null,null,{"$f":"IF(O4=\"NE\",('2B'!$I$15)/1000000-'VZOR 81'!$E$18,\"\")","v":0},{"$f":"IF(O4=\"NE\",('2B'!$J$15)/1000000,\"\")","v":0},null,{"$f":"IF(O4=\"NE\",('2B'!$K$15)/1000000,\"\")","v":0},{"$f":"IF(O4=\"NE\",('2B'!$L$15)/1000000,\"\")","v":0},{"$f":"IF(O4=\"NE\",('2B'!$M$15)/1000000,\"\")","v":0},{"$f":"IF(O4=\"NE\",('2B'!$N$15)/1000000,\"\")","v":0},{"$f":"IF(O4=\"NE\",SUM('2B'!$O$15:$S$15)/1000000,\"\")","v":0},{"$f":"SUM($E$18:$M$18)-$H$18","v":0}]
[8126,1,"  Náklady na dopravní prostředky",null,null,null,null,null,null,null,null,null,null,0]
[null,2,"  Náklady na výpočetní techniku",null,null,null,null,null,null,null,null,null,null,0]
[null,3,"  Náklady na vojenskou techniku a zařízení",null,null,null,null,null,null,null,null,null,null,0]
[null,4,"  Náklady na zdravotnickou techniku a zařízení",null,null,null,null,null,null,null,null,null,null,0]
[null,9,"  Náklady na jiné než výše uvedené stroje a zařízení",null,null,null,null,null,null,null,null,null,null,0]
[8126,"S"," Náklady na stroje a zařízení ",null,{"$f":"SUM(E19:E23)","v":0},0,0,0,0,0,0,0,0,0]
[8127,1,"  Náklady na programové vybavení",null,null,null,null,null,null,null,null,null,null,0]
[null,2,"  Náklady na ocenitelná práva",null,null,null,null,null,null,null,null,null,null,0]
[null,3,"  Nákl.na nehmotné výsledky výzkumné a obd.činnosti",null,null,null,null,null,null,null,null,null,null,0]
[null,9,"  Nákl.na nehmot.dlouhodobý majetek výše neuvedený",null,null,null,null,null,null,null,null,null,null,0]
[8127,"S"," Náklady na nehmotný investiční majetek ",null,{"$f":"SUM(E25:E28)","v":0},0,0,0,0,0,0,0,0,0]
[8128,1,"  Náklady na pěstitelské celky trvalých porostů",null,null,null,null,null,null,null,null,null,null,0]
[null,2,"  Odvody a poplatky za odnětí zemědělské a lesní půdy",null,null,null,null,null,null,null,null,null,null,0]
[null,3,"  Náklady úplatného převodu pozemků",null,null,null,null,null,null,null,null,null,null,0]
[null,4,"  Náklady úplatného převodu nemovitostí",null,null,null,null,null,null,null,null,null,null,0]
[null,5,"  Úroky z úvěrů bez státní záruky",null,null,null,null,null,null,null,null,null,null,0]
[null,6,"  Úroky z úvěrů se státní zárukou",null,null,null,null,null,null,null,null,null,null,0]
[null,7,"  Úroky z dodavatelských úvěrů",null,null,null,null,null,null,null,null,null,null,0]
[null,8,"  Náklady na zajištění dodávek energií zahrnované do HIM",null,null,null,null,null,null,null,null,null,null,0]
[null,9,"  Ostatní investiční náklady výše neuvedené",null,null,{"$f":"IF(O4=\"NE\",('2B'!$I$23)/1000000-'VZOR 81'!$E$38,\"\")","v":0},{"$f":"IF(O4=\"NE\",('2B'!$J$23)/1000000,\"\")","v":0},null,{"$f":"IF(O4=\"NE\",('2B'!$K$23)/1000000,\"\")","v":0},{"$f":"IF(O4=\"NE\",('2B'!$L$23)/1000000,\"\")","v":0},{"$f":"IF(O4=\"NE\",('2B'!$M$23)/1000000,\"\")","v":0},{"$f":"IF(O4=\"NE\",('2B'!$N$23)/1000000,\"\")","v":0},{"$f":"IF(O4=\"NE\",SUM('2B'!$O$23:$S$23)/1000000,\"\")","v":0},{"$f":"SUM($E$38:$M$38)-$H$38","v":0}]
[8128,"S"," Investiční náklady ostatní celkem ",null,{"$f":"SUM(E30:E38)","v":0},0,0,0,0,0,0,0,0,0]
[8129,null," REZERVA na úhradu investičních nákladů",null,null,{"$f":"IF(O4=\"NE\",('2B'!I42)/1000000-'VZOR 81'!E40,\"\")","v":0},{"$f":"IF(O4=\"NE\",('2B'!J42)/1000000,\"\")","v":0},null,{"$f":"IF(O4=\"NE\",('2B'!K42)/1000000,\"\")","v":0},{"$f":"IF(O4=\"NE\",('2B'!L42)/1000000,\"\")","v":0},{"$f":"IF(O4=\"NE\",('2B'!M42)/1000000,\"\")","v":0},{"$f":"IF(O4=\"NE\",('2B'!N42)/1000000,\"\")","v":0},{"$f":"IF(O4=\"NE\",SUM('2B'!O42:S42)/1000000,\"\")","v":0},0]
[812,"S"," INVESTIČNÍ NÁKLADY CELKEM",null,{"$f":"IF(O4=\"NE\",E40+E39+E29+E24+E18+E17+E16,0)","v":0},{"$f":"IF(O4=\"NE\",F40+F39+F29+F24+F18+F17+F16,0)","v":0},{"$f":"IF(O4=\"NE\",G40+G39+G29+G24+G18+G17+G16,0)","v":0},{"$f":"IF(O4=\"NE\",H40+H39+H29+H24+H18+H17+H16,0)","v":0},{"$f":"IF(O4=\"NE\",I40+I39+I29+I24+I18+I17+I16,0)","v":0},{"$f":"IF(O4=\"NE\",J40+J39+J29+J24+J18+J17+J16,0)","v":0},{"$f":"IF(O4=\"NE\",K40+K39+K29+K24+K18+K17+K16,0)","v":0},{"$f":"IF(O4=\"NE\",L40+L39+L29+L24+L18+L17+L16,0)","v":0},{"$f":"IF(O4=\"NE\",M40+M39+M29+M24+M18+M17+M16,0)","v":0},0]
[8130,null," Splátky návratných fin.výpomocí ze stát.rozpočtu",null,null,null,null,null,null,null,null,null,null,0]
[8131,null," Splátky úvěrů poskytnutých se státní zárukou",null,null,null,null,null,null,null,null,null,null,0]
[8132,null," Splátky úvěrů poskytnutých bez státní záruky",null,null,null,null,null,null,null,null,null,null,0]
[8133,1,"  Příspěvky poskytnuté na sdruženou akci",null,null,null,null,null,null,null,null,null,null,0]
[null,2,"  Splátky dodavatelských úvěrů",null,null,null,null,null,null,null,null,null,null,0]
[null,9,"  Jiné investiční potřeby výše neuvedené",null,null,{"$f":"IF(O4=\"NE\",('2B'!I38)/1000000-'VZOR 81'!E47,\"\")","v":0},{"$f":"IF(O4=\"NE\",('2B'!J38)/1000000,\"\")","v":0},null,{"$f":"IF(O4=\"NE\",('2B'!K38)/1000000,\"\")","v":0},{"$f":"IF(O4=\"NE\",('2B'!L38)/1000000,\"\")","v":0},{"$f":"IF(O4=\"NE\",('2B'!M38)/1000000,\"\")","v":0},{"$f":"IF(O4=\"NE\",('2B'!N38)/1000000,\"\")","v":0},{"$f":"IF(O4=\"NE\",SUM('2B'!$O$38:$S$38)/1000000,\"\")","v":0},0]
[8133,"S"," Ostatní investiční potřeby ",null,{"$f":"SUM(E45:E47)","v":0},0,0,0,0,0,0,0,0,0]
[813,"S"," SOUHRN INVESTIČNÍCH POTŘEB ",null,{"$f":"E41+E42+E43+E44+E48","v":0},0,0,0,0,0,0,0,0,{"$f":"SUM(E49:M49)","v":0}]
[]
[8141,null," Vlastní zdroje účastníka programu",null,null,null,null,null,null,null,null,null,null,{"$f":"SUM(E51:M51)-H51","v":0}]
[8142,null," Úvěry poskytnuté bez státní záruky ",null,null,null,null,null,null,null,null,null,null,0]
[8143,1," Úvěry se státní zárukou přijaté KoB nebo ČMZRB",null,null,null,null,null,null,null,null,null,null,0]
[null,9," Úvěry poskytnuté se státní zárukou ostatní ",null,null,null,null,null,null,null,null,null,null,0]
[8143,"S"," Úvěry poskytnuté se státní zárukou ",null,{"$f":"SUM(E53:E54)","v":0},0,0,0,0,{"$f":"SUM(J53:J54)","v":0},0,0,0,0]
[8144,1," Návratné fin.výpomoci (NFV) - posledně platný rozpočet",null,null,null,null,null,null,null,null,null,null,0]
[null,2," NFV - převody do násl.roku ( -,+) prostř.rezervního fondu",null,null,null,null,null,null,null,null,null,null,0]
[null,3," NFV - převody do násl.roku ( -,+) prostř.Národního fondu",null,null,null,null,null,null,null,null,null,null,0]
[null,4," NFV - převody do násl.roku ( -,+) prostř.Státních fin.aktiv",null,null,null,null,null,null,null,null,null,null,0]
[8144,"S"," Návratné finanční výpomoci ze státního rozpočtu",null,{"$f":"SUM(E56:E59)","v":0},0,0,0,0,0,0,0,0,0]
[8145,1," Systémově určené výdaje (SUV) - posledně platný rozpočet",null,null,null,null,null,null,null,null,null,null,0]
[null,2," SUV - převody do násl.roku ( -,+) prostř.rezervního fondu",null,null,null,null,null,null,null,null,null,null,0]
[null,3," SUV - převody do násl.roku ( -,+) prostř.Národního fondu",null,null,null,null,null,null,null,null,null,null,0]
[null,4," SUV - převody do násl.roku ( -,+) prostř.Státních fin.aktiv",null,null,null,null,null,null,null,null,null,null,0]
[8145,"S"," Systémově určené výdaje státního rozpočtu",null,{"$f":"SUM(E61:E64)","v":0},0,0,0,0,0,0,0,0,0]
[8146,1," Individuálně posuzované výdaje (IPV) -posledně platný rozp.",null,null,null,null,null,null,null,null,null,null,0]
[null,2," IPV - převody do násl.roku ( -,+) prostř.rezervního fondu",null,null,null,null,null,null,null,null,null,null,0]
[null,3," IPV - převody do násl.roku ( -,+) prostř.Národního fondu",null,null,null,null,null,null,null,null,null,null,0]
[null,4," IPV - převody do násl.roku ( -,+) prostř.Státních fin.aktiv",null,null,null,null,null,null,null,null,null,null,0]
[8146,"S"," Individuálně posuzované výdaje státního rozpočtu",null,{"$f":"SUM(E66:E69)","v":0},0,0,0,0,0,0,0,0,0]
[8147,1," Dotace ze Státního fondu životního prostředí",null,null,null,null,null,null,null,null,null,null,0]
[null,2," Dotace ze Státního  fondu dopravní infrastruktury",null,{"$f":"+E49","v":0},{"$f":"+F49-F90","v":0},0,0,0,{"$f":"+J49-J90","v":0},{"$f":"+K49-K90","v":0},{"$f":"+L49-L90","v":0},{"$f":"+M49-M90","v":0},0]
[null,3," Dotace ze Státního  fondu rozvoje bydlení",null,null,null,null,null,null,null,null,null,null,0]
[null,9," Dotace z jiných státních fondů",null,null,null,null,null,null,null,null,null,null,0]
[8147,"S"," Dotace poskytnuté ze státních fondů",null,{"$f":"SUM(E71:E74)","v":0},0,0,0,0,0,0,0,0,0]
[8148,1," Dotace z rozpočtu obce",null,null,null,null,null,null,null,null,null,null,0]
[null,2," Dotace z rozpočtu okresu",null,null,null,null,null,null,null,null,null,null,0]
[null,3," Dotace z rozpočtu kraje",null,null,null,null,null,null,null,null,null,null,0,"Vložit hodnotu","Výběr dotace"]
[8148,"S"," Dotace z územních rozpočtů",null,{"$f":"SUM(E76:E78)","v":0},0,0,0,0,0,0,0,0,0]
[8149,1," Příspěvky přijaté na sdruženou akci",null,null,null,null,null,null,null,null,null,null,0]
[null,2," Dodavatelské úvěry",null,null,null,null,null,null,null,null,null,null,0]
[null,9," Jiné cizí zdroje tuzemské výše neuvedené",null,null,null,null,null,null,null,null,null,null,0,"Míra nedostatku financování\n(dle finanční analýzy CBA)","Volba dotace"]
[8149,"S"," Jiné zdroje tuzemské ",null,{"$f":"SUM(E80:E82)","v":0},0,0,0,0,0,0,0,0,0]
[8151,1," Dotace z fondu PHARE",null,null,null,{"$f":"IF(O4=\"NE\",(IF($P$84=1,('Komentář FR'!$M$90/1000000)*0.85-'VZOR 81'!$F84,\"0\"))*$O$86,\"\")","v":0},null,{"$f":"IF(O4=\"NE\",(IF($P$84=1,'Komentář FR'!$O$90/1000000,\"0\"))*$O$86*0.85,\"\")","v":0},{"$f":"IF(O4=\"NE\",(IF($P$84=1,'Komentář FR'!$Q$90/1000000,\"0\"))*$O$86*0.85,\"\")","v":0},{"$f":"IF(O4=\"NE\",(IF($P$84=1,'Komentář FR'!$S$90/1000000,\"0\"))*$O$86*0.85,\"\")","v":0},{"$f":"IF(O4=\"NE\",(IF($P$84=1,'Komentář FR'!$U$90/1000000,\"0\"))*$O$86*0.85,\"\")","v":0},{"$f":"IF(O4=\"NE\",(IF(P84=1,('Komentář FR'!$W$90+'Komentář FR'!$Y$90+'Komentář FR'!$AA$90+'Komentář FR'!$AC$90+'Komentář FR'!$AE$90)/1000000,\"0\"))*$O$86*0.85,\"\")","v":0},0,null,null,1," Dotace z fondu PHARE"]
[null,2," Dotace z fondu SAPARD",null,null,null,{"$f":"IF(O4=\"NE\",(IF($P$84=2,('Komentář FR'!$M$90/1000000)*0.85-'VZOR 81'!$F85,\"0\"))*$O$86,\"\")","v":0},null,{"$f":"IF(O4=\"NE\",(IF($P$84=2,'Komentář FR'!$O$90/1000000,\"0\"))*$O$86*0.85,\"\")","v":0},{"$f":"IF(O4=\"NE\",(IF($P$84=2,'Komentář FR'!$Q$90/1000000,\"0\"))*$O$86*0.85,\"\")","v":0},{"$f":"IF(O4=\"NE\",(IF($P$84=2,'Komentář FR'!$S$90/1000000,\"0\"))*$O$86*0.85,\"\")","v":0},{"$f":"IF(O4=\"NE\",(IF($P$84=2,'Komentář FR'!$U$90/1000000,\"0\"))*$O$86*0.85,\"\")","v":0},{"$f":"IF(O4=\"NE\",(IF($P$84=2,('Komentář FR'!$W$90+'Komentář FR'!$Y$90+'Komentář FR'!$AA$90+'Komentář FR'!$AC$90+'Komentář FR'!$AE$90)/1000000,\"0\"))*$O$86*0.85,\"\")","v":0},0,null,null,2," Dotace z fondu SAPARD"]
[null,3," Dotace z fondu ISPA",null,null,null,{"$f":"IF(O4=\"NE\",(IF($P$84=3,('Komentář FR'!$M$90/1000000)*0.85-'VZOR 81'!$F86,\"0\"))*$O$86,\"\")","v":0},null,{"$f":"IF(O4=\"NE\",(IF($P$84=3,'Komentář FR'!$O$90/1000000,\"0\"))*$O$86*0.85,\"\")","v":0},{"$f":"IF(O4=\"NE\",(IF($P$84=3,'Komentář FR'!$Q$90/1000000,\"0\"))*$O$86*0.85,\"\")","v":0},{"$f":"IF(O4=\"NE\",(IF($P$84=3,'Komentář FR'!$S$90/1000000,\"0\"))*$O$86*0.85,\"\")","v":0},{"$f":"IF(O4=\"NE\",(IF($P$84=3,'Komentář FR'!$U$90/1000000,\"0\"))*$O$86*0.85,\"\")","v":0},{"$f":"IF(O4=\"NE\",(IF($P$84=3,('Komentář FR'!$W$90+'Komentář FR'!$Y$90+'Komentář FR'!$AA$90+'Komentář FR'!$AC$90+'Komentář FR'!$AE$90)/1000000,\"0\"))*$O$86*0.85,\"\")","v":0},0,1,null,3," Dotace z fondu ISPA"]
[null,4," Dotace z kohezniho fondu EU",null,null,null,{"$f":"IF(O4=\"NE\",(IF($P$84=4,('Komentář FR'!$M$90/1000000)*0.85-'VZOR 81'!$F87,\"0\"))*$O$86,\"\")","v":0},null,{"$f":"IF(O4=\"NE\",(IF($P$84=4,'Komentář FR'!$O$90/1000000,\"0\"))*$O$86*0.85,\"\")","v":0},{"$f":"IF(O4=\"NE\",(IF($P$84=4,'Komentář FR'!$Q$90/1000000,\"0\"))*$O$86*0.85,\"\")","v":0},{"$f":"IF(O4=\"NE\",(IF($P$84=4,'Komentář FR'!$S$90/1000000,\"0\"))*$O$86*0.85,\"\")","v":0},{"$f":"IF(O4=\"NE\",(IF($P$84=4,'Komentář FR'!$U$90/1000000,\"0\"))*$O$86*0.85,\"\")","v":0},{"$f":"IF(O4=\"NE\",(IF($P$84=4,('Komentář FR'!$W$88+'Komentář FR'!$Y$90+'Komentář FR'!$AA$90+'Komentář FR'!$AC$90+'Komentář FR'!$AE$90)/1000000,\"0\"))*$O$86*0.85,\"\")","v":0},0,null,null,4," Dotace z kohezniho fondu EU"]
[null,5," Dotace ze strukturálních fondů EU",null,null,null,{"$f":"IF(O4=\"NE\",(IF($P$84=5,('Komentář FR'!$M$90/1000000)*0.85-'VZOR 81'!$F88,\"0\"))*$O$86,\"\")","v":0},null,{"$f":"IF(O4=\"NE\",(IF($P$84=5,'Komentář FR'!$O$90/1000000,\"0\"))*$O$86*0.85,\"\")","v":0},{"$f":"IF(O4=\"NE\",(IF($P$84=5,'Komentář FR'!$Q$90/1000000,\"0\"))*$O$86*0.85,\"\")","v":0},{"$f":"IF(O4=\"NE\",(IF($P$84=5,'Komentář FR'!$S$90/1000000,\"0\"))*$O$86*0.85,\"\")","v":0},{"$f":"IF(O4=\"NE\",(IF($P$84=5,'Komentář FR'!$U$90/1000000,\"0\"))*$O$86*0.85,\"\")","v":0},{"$f":"IF(O4=\"NE\",(IF($P$84=5,('Komentář FR'!$W$90+'Komentář FR'!$Y$90+'Komentář FR'!$AA$90+'Komentář FR'!$AC$90+'Komentář FR'!$AE$90)/1000000,\"0\"))*$O$86*0.85,\"\")","v":0},0,null,null,5," Dotace ze strukturálních fondů EU"]
[null,9," Dotace z jiných fondů EU ",null,null,null,{"$f":"IF(O4=\"NE\",(IF($P$84=9,('Komentář FR'!$M$90/1000000)*0.85-'VZOR 81'!$F89,\"0\"))*$O$86,\"\")","v":0},null,{"$f":"IF(O4=\"NE\",(IF($P$84=9,'Komentář FR'!$O$90/1000000,\"0\"))*$O$86*0.85,\"\")","v":0},{"$f":"IF(O4=\"NE\",(IF($P$84=9,'Komentář FR'!$Q$90/1000000,\"0\"))*$O$86*0.85,\"\")","v":0},{"$f":"IF(O4=\"NE\",(IF($P$84=9,'Komentář FR'!$S$90/1000000,\"0\"))*$O$86*0.85,\"\")","v":0},{"$f":"IF(O4=\"NE\",(IF($P$84=9,'Komentář FR'!$U$90/1000000,\"0\"))*$O$86*0.85,\"\")","v":0},{"$f":"IF(O4=\"NE\",(IF($P$84=9,('Komentář FR'!$W$90+'Komentář FR'!$Y$90+'Komentář FR'!$AA$90+'Komentář FR'!$AC$90+'Komentář FR'!$AE$90)/1000000,\"0\"))*$O$86*0.85,\"\")","v":0},0,null,null,9," Dotace z jiných fondů EU "]
[8151,"S"," Dotace poskytnuté z fondů EU ",null,{"$f":"SUM(E84:E89)","v":0},0,0,0,0,0,0,0,0,0]
[8152,1," Dotace z fondu NATO na bezpečnostní investice",null,null,null,null,null,null,null,null,null,null,0]
[null,9," Dotace z jiných fondů NATO",null,null,null,null,null,null,null,null,null,null,0]
[8152,"S"," Dotace z fondů NATO",null,{"$f":"SUM(E91:E92)","v":0},0,0,0,0,0,0,0,0,0]
[8159,null," Jiné zahraniční zdroje výše neuvedené",null,null,null,null,null,null,null,null,null,null,0]
[819,"S"," SOUHRN INVESTIČNÍCH ZDROJŮ ",null,{"$f":"E94+E93+E90+E83+E79+E75+E70+E65+E60+E55+E52+E51","v":0},0,0,0,0,0,0,0,0,{"$f":"SUM(E95:M95)","v":0}]
[null,null,null,null,{"$f":"IF(ROUND(E95,3)-ROUND(E49,3)=0,\" \",\"Chyba bilance\")","v":" "},{"$f":"IF(ROUND(F95,3)-ROUND(F49,3)=0,\" \",\"Chyba bilance\")","v":" "}]

{"sheet":"VZOR 82","index":15,"n_rows":92,"n_cols":15,"rows_kept":92,"cut":false,"hidden":true,"merged":[[1,14,2,14],[6,2,6,3],[4,0,4,1],[0,0,0,13],[3,0,3,1],[3,2,3,11],[1,0,2,9],[1,10,2,11],[1,12,1,13],[3,14,5,14],[4,2,4,11],[5,0,5,1],[5,2,5,11]]}
[]
["                   BILANCE PLÁNOVANÝCH NEINVESTIČNÍCH POTŘEB A ZDROJŮ FINANCOVÁNÍ AKCE",null,null,null,null,null,null,null,null,null,"VZOR 82",null,"     Smíšená CÚ",null,"Vyplnění formuláře \nVZOR 82"]
[null,null,null,null,null,null,null,null,null,null,null,null,{"$f":"IF(('Krycí list SR'!$F$5)=\"\",\"\",('Krycí list SR'!$F$5))","v":""},{"$f":"IF(('Krycí list SR'!$F$7)=\"\",\"-\",-YEAR('Krycí list SR'!$F$7))","v":"-"}]
["NÁZEV AKCE",null,{"$f":"IF('Krycí list SR'!B2=\"\",\"\",'Krycí list SR'!B2)","v":""},null,null,null,null,null,null,null,null,null,null,null,"NE"]
["ČÍSLO AKCE",null,{"$f":"IF('Krycí list SR'!B3=\"\",\"\",'Krycí list SR'!B3)","v":""}]
["INVESTOR",null,{"$f":"IF('Krycí list SR'!B4=\"\",\"\",'Krycí list SR'!B4)","v":"Správa železnic, státní organizace"}]
[null,null,null,null,"Skut.","Oček.","Aktuál.","Skutečnost"," Plánované plnění:",null,null,null,"Zbývá","Hodnota"]
[null,null,null," v mil.Kč na 3 des.místa","do 31.12.","skut.","rok","akt.roku","  v roce","v roce","v roce","v roce","  po 1.1.","ukazatele"]
["  Č.ř.",null,"  N á z e v   u k a z a t e l e",null,{"$f":"$F$9-1","v":2020},{"$f":"$G$9-1","v":2021},{"$f":"IF('Krycí list SR'!$F$4=\"\",0,'Krycí list SR'!$F$4)","v":2022},{"$f":"IF('Krycí list SR'!$F$4=\"\",0,'Krycí list SR'!$F$4)","v":2022},{"$f":"$G$9+1","v":2023},{"$f":"$G$9+2","v":2024},{"$f":"$G$9+3","v":2025},{"$f":"$G$9+4","v":2026},{"$f":"$G$9+5","v":2027},"CELKEM"]
[]
[8221,1,"  Náklady inženýrské činnosti ",null,null,{"$f":"IF(O4=\"ANO\",(('2A'!I7)/1000000)-'VZOR 82'!E11,\"\")","v":""},{"$f":"IF(O4=\"ANO\",('2A'!J8+'2A'!J7)/1000000,\"\")","v":""},null,{"$f":"IF(O4=\"ANO\",('2A'!K7+'2A'!K8)/1000000,\"\")","v":""},{"$f":"IF(O4=\"ANO\",('2A'!L7+'2A'!L8)/1000000,\"\")","v":""},{"$f":"IF(O4=\"ANO\",('2A'!M7+'2A'!M8)/1000000,\"\")","v":""},{"$f":"IF(O4=\"ANO\",('2A'!N7+'2A'!N8)/1000000,\"\")","v":""},{"$f":"IF(O4=\"ANO\",SUM('2A'!O7:S8)/1000000,\"\")","v":""},{"$f":"SUM(E11:M11)-H11","v":0}]
[null,2,"  Náklady projektové dokumentace ",null,null,{"$f":"IF(O4=\"ANO\",('2A'!I9)/1000000-'VZOR 82'!E12,\"\")","v":""},{"$f":"IF(O4=\"ANO\",('2A'!J9)/1000000,\"\")","v":""},null,{"$f":"IF(O4=\"ANO\",('2A'!K9)/1000000,\"\")","v":""},{"$f":"IF(O4=\"ANO\",('2A'!L9)/1000000,\"\")","v":""},{"$f":"IF(O4=\"ANO\",('2A'!M9)/1000000,\"\")","v":""},{"$f":"IF(O4=\"ANO\",('2A'!N9)/1000000,\"\")","v":""},{"$f":"IF(O4=\"ANO\",SUM('2A'!O9:S9)/1000000,\"\")","v":""},0]
[null,9,"  Jiné náklady přípravy a zabezpečení akce",null,null,{"$f":"IF(O4=\"ANO\",('2A'!$I$49+'2A'!$I$46+'2A'!$I$45)/1000000-'VZOR 82'!$E$13,\"\")","v":""},{"$f":"IF(O4=\"ANO\",('2A'!$J$49+'2A'!$J$45+'2A'!$J$46)/1000000,\"\")","v":""},null,{"$f":"IF(O4=\"ANO\",('2A'!$K$49+'2A'!$K$45+'2A'!$K$46)/1000000,\"\")","v":""},{"$f":"IF(O4=\"ANO\",('2A'!$L$49+'2A'!$L$45+'2A'!$L$46)/1000000,\"\")","v":""},{"$f":"IF(O4=\"ANO\",('2A'!$M$49+'2A'!$M$45+'2A'!$M$46)/1000000,\"\")","v":""},{"$f":"IF(O4=\"ANO\",('2A'!$N$49+'2A'!$N$45+'2A'!$N$46)/1000000,\"\")","v":""},{"$f":"IF(O4=\"ANO\",SUM('2A'!$O$49:$S$49,'2A'!$O$45:$S$45,'2A'!$O$46:$S$46)/1000000,\"\")","v":""},{"$f":"SUM($E$13:$M$13)-$H$13","v":0}]
[8221,"S"," Náklady přípravy a zabezpečení akce ",null,{"$f":"SUM(E11:E13)","v":0},{"$f":"SUM(F11:F13)","v":0},{"$f":"SUM(G11:G13)","v":0},0,{"$f":"SUM(I11:I13)","v":0},0,0,0,0,{"$f":"SUM(E14:M14)-H14","v":0}]
[8222,1," Mzdové náklady a ostatní platby za provedenou práci",null,null,null,null,null,null,null,null,null,null,{"$f":"SUM(E15:M15)-H15","v":0}]
[null,2," Povinné pojistné",null,null,null,null,null,null,null,null,null,null,0]
[8222,"S"," Mzdové náklady a povinné pojistné",null,{"$f":"SUM(E15:E16)","v":0},{"$f":"SUM(F15:F16)","v":0},0,0,0,0,0,0,0,0]
[8223,1," Náklady na nákup materiálu",null,null,null,null,null,null,null,null,null,null,0]
[null,2," Náklady na nákup vody, paliv a energie",null,null,null,null,null,null,null,null,null,null,0]
[null,3," Náklady na nákup služeb",null,null,null,null,null,null,null,null,null,null,0]
[null,4," Náklady oprav a udržování strojů,zařízení a inventáře",null,null,null,null,null,null,null,null,null,null,0]
[null,9," Náklady na ostatní nákupy",null,null,null,null,null,null,null,null,null,null,0]
[8223,"S"," Náklady materiální povahy a služby",null,{"$f":"SUM(E18:E22)","v":0},{"$f":"SUM(F18:F22)","v":0},0,0,0,0,0,0,0,0]
[8224,null," Náklady údržby a oprav stavební části stavby",null,null,{"$f":"IF(O4=\"ANO\",('2B'!$I$7)/1000000-'VZOR 82'!$E$24,\"\")","v":""},{"$f":"IF(O4=\"ANO\",('2B'!$J$7)/1000000,\"\")","v":""},null,{"$f":"IF(O4=\"ANO\",('2B'!$K$7)/1000000,\"\")","v":""},{"$f":"IF(O4=\"ANO\",('2B'!$L$7)/1000000,\"\")","v":""},{"$f":"IF(O4=\"ANO\",('2B'!$M$7)/1000000,\"\")","v":""},{"$f":"IF(O4=\"ANO\",('2B'!$N$7)/1000000,\"\")","v":""},{"$f":"IF(O4=\"ANO\",SUM('2B'!$O$7:$S$7)/1000000,\"\")","v":""},{"$f":"SUM($E$24:$M$24)-$H$24","v":0}]
[8225,null," Nákl.údržby a oprav technologické části stavby",null,null,{"$f":"IF(O4=\"ANO\",('2B'!$I$15)/1000000-'VZOR 82'!$E$25,\"\")","v":""},{"$f":"IF(O4=\"ANO\",('2B'!$J$15)/1000000,\"\")","v":""},null,{"$f":"IF(O4=\"ANO\",('2B'!$K$15)/1000000,\"\")","v":""},{"$f":"IF(O4=\"ANO\",('2B'!$L$15)/1000000,\"\")","v":""},{"$f":"IF(O4=\"ANO\",('2B'!$M$15)/1000000,\"\")","v":""},{"$f":"IF(O4=\"ANO\",('2B'!$N$15)/1000000,\"\")","v":""},{"$f":"IF(O4=\"ANO\",SUM('2B'!$O$15:$S$15)/1000000,\"\")","v":""},{"$f":"SUM($E$25:$M$25)-$H$25","v":0}]
[8226,1," Náklady na dopravní prostředky",null,null,null,null,null,null,null,null,null,null,0]
[null,2," Náklady na výpočetní techniku",null,null,null,null,null,null,null,null,null,null,0]
[null,3," Náklady na vojenskou techniku a zařízení",null,null,null,null,null,null,null,null,null,null,0]
[null,9," Náklady na jiný než uvedený drobný hmotný inv.majetek ",null,null,null,null,null,null,null,null,null,null,0]
[8226,"S"," Náklady na drobný hmotný invest. majetek",null,{"$f":"SUM(E26:E29)","v":0},{"$f":"SUM(F26:F29)","v":0},0,0,0,0,0,0,0,0]
[8227,1," Náklady na programové vybavení",null,null,null,null,null,null,null,null,null,null,0]
[null,2," Náklady na ocenitelná práva",null,null,null,null,null,null,null,null,null,null,0]
[null,3," Nákl.na nehmotné výsledky výzkumné a obdobné činnosti",null,null,null,null,null,null,null,null,null,null,0]
[null,9," Náklady na jiný než uvedený drobný nehmotný inv.majetek ",null,null,null,null,null,null,null,null,null,null,0]
[8227,"S"," Náklady na drobný nehmotný invest. majetek",null,{"$f":"SUM(E31:E34)","v":0},{"$f":"SUM(F31:F34)","v":0},0,0,0,0,0,0,0,0]
[8228,5," Úroky z úvěrů bez státní záruky",null,null,null,null,null,null,null,null,null,null,0]
[null,6," Úroky z úvěrů se státní zárukou",null,null,null,null,null,null,null,null,null,null,0]
[null,7," Úroky z dodavatelských úvěrů",null,null,null,null,null,null,null,null,null,null,0]
[null,9," Ostatní neinvestiční náklady výše neuvedené",null,null,{"$f":"IF(O4=\"ANO\",('2B'!$I$23)/1000000-'VZOR 82'!$E$39,\"\")","v":""},{"$f":"IF(O4=\"ANO\",('2B'!$J$23)/1000000,\"\")","v":""},null,{"$f":"IF(O4=\"ANO\",('2B'!$K$23)/1000000,\"\")","v":""},{"$f":"IF(O4=\"ANO\",('2B'!$L$23)/1000000,\"\")","v":""},{"$f":"IF(O4=\"ANO\",('2B'!$M$23)/1000000,\"\")","v":""},{"$f":"IF(O4=\"ANO\",('2B'!$N$23)/1000000,\"\")","v":""},{"$f":"IF(O4=\"ANO\",SUM('2B'!$O$23:$S$23)/1000000,\"\")","v":""},{"$f":"SUM($E$39:$M$39)-$H$39","v":0}]
[8228,"S"," Ostatní neinvestiční náklady",null,{"$f":"SUM(E36:E39)","v":0},{"$f":"SUM(F36:F39)","v":0},0,0,0,0,0,0,0,0]
[8229,null," Rezerva na úhradu neinvestičních nákladů",null,null,{"$f":"IF(O4=\"ANO\",('2B'!I42)/1000000-'VZOR 82'!E41,\"\")","v":""},{"$f":"IF(O4=\"ANO\",('2B'!J42)/1000000,\"\")","v":""},null,{"$f":"IF(O4=\"ANO\",('2B'!K42)/1000000,\"\")","v":""},{"$f":"IF(O4=\"ANO\",('2B'!L42)/1000000,\"\")","v":""},{"$f":"IF(O4=\"ANO\",('2B'!M42)/1000000,\"\")","v":""},{"$f":"IF(O4=\"ANO\",('2B'!N42)/1000000,\"\")","v":""},{"$f":"IF(O4=\"ANO\",SUM('2B'!O42:S42)/1000000,\"\")","v":""},0]
[822,"S"," NEINVESTIČNÍ NÁKLADY CELKEM",null,{"$f":"SUM(E40:E41,E35,E30,E25,E24,E23,E17,E14)","v":0},{"$f":"SUM(F40:F41,F35,F30,F25,F24,F23,F17,F14)","v":0},0,0,0,0,0,0,0,0]
[8230,null," Splátky návratných fin.výpomocí ze stát.rozpočtu",null,null,null,null,null,null,null,null,null,null,0]
[8231,null," Splátky úvěrů poskytnutých se státní zárukou",null,null,null,null,null,null,null,null,null,null,0]
[8232,null," Splátky úvěrů poskytnutých bez státní záruky",null,null,null,null,null,null,null,null,null,null,0]
[8233,1,"  Příspěvky poskytnuté na sdruženou akci",null,null,null,null,null,null,null,null,null,null,0]
[null,2,"  Splátky dodavatelských úvěrů",null,null,null,null,null,null,null,null,null,null,0]
[null,9," Jiné neinvestiční potřeby výše neuvedené",null,null,{"$f":"IF(O4=\"ANO\",('2B'!I38)/1000000-'VZOR 82'!E48,\"\")","v":""},{"$f":"IF(O4=\"ANO\",('2B'!J38)/1000000,\"\")","v":""},null,{"$f":"IF(O4=\"ANO\",('2B'!K38)/1000000,\"\")","v":""},{"$f":"IF(O4=\"ANO\",('2B'!L38)/1000000,\"\")","v":""},{"$f":"IF(O4=\"ANO\",('2B'!M38)/1000000,\"\")","v":""},{"$f":"IF(O4=\"ANO\",('2B'!N38)/1000000,\"\")","v":""},{"$f":"IF(O4=\"ANO\",SUM('2B'!O38:S38)/1000000,\"\")","v":""},0]
[8233,"S"," Ostatní neinvestiční potřeby ",null,{"$f":"SUM(E46:E48)","v":0},{"$f":"SUM(F46:F48)","v":0},0,0,0,0,0,0,0,0]
[823,"S"," SOUHRN NEINVESTIČNÍCH POTŘEB ",null,{"$f":"SUM(E49,E45,E44,E43,E42)","v":0},{"$f":"SUM(F49,F45,F44,F43,F42)","v":0},0,0,0,0,0,0,0,0]
[]
[8241,null," Vlastní zdroje účastníka programu",null,null,null,null,null,null,null,null,null,null,0]
[8242,null," Úvěry poskytnuté bez státní záruky",null,null,null,null,null,null,null,null,null,null,0]
[8243,1," Úvěry se státní zárukou přijaté KoB nebo ČMZRB",null,null,null,null,null,null,null,null,null,null,0]
[null,9," Úvěry poskytnuté se stát.zárukou ostatní výše neuvedené",null,null,null,null,null,null,null,null,null,null,0]
[8243,"S"," Úvěry poskytnuté se státní zárukou",null,{"$f":"SUM(E54:E55)","v":0},{"$f":"SUM(F54:F55)","v":0},0,0,0,0,0,0,0,0]
[8244,1," Návratné fin.výpomoci (NFV) - posledně platný rozpočet",null,null,null,null,null,null,null,null,null,null,0]
[null,2," NFV - převody do násl.roku ( -,+) prostř.rezervního fondu",null,null,null,null,null,null,null,null,null,null,0]
[null,3," NFV - převody do násl.roku ( -,+) prostř.Národního fondu",null,null,null,null,null,null,null,null,null,null,0]
[null,4," NFV - převody do násl.roku ( -,+) prostř.Státních fin.aktiv",null,null,null,null,null,null,null,null,null,null,0]
[8244,"S"," Návratné finanční výpomoci ze státního rozpočtu",null,{"$f":"SUM(E57:E60)","v":0},{"$f":"SUM(F57:F60)","v":0},0,0,0,0,0,0,0,0]
[8245,1," Systémově určené výdaje (SUV) - posledně platný rozpočet",null,null,null,null,null,null,null,null,null,null,0]
[null,2," SUV - převody do násl.roku ( -,+) prostř.rezervního fondu",null,null,null,null,null,null,null,null,null,null,0]
[null,3," SUV - převody do násl.roku (-,+) prostř.Národního fondu",null,null,null,null,null,null,null,null,null,null,0]
[null,4," SUV - převody do násl.roku ( -,+) prostř.Státních fin.aktiv",null,null,null,null,null,null,null,null,null,null,0]
[8245,"S"," Systémově určené výdaje státního rozpočtu",null,{"$f":"SUM(E62:E65)","v":0},{"$f":"SUM(F62:F65)","v":0},0,0,0,0,0,0,0,0]
[8247,1," Dotace ze Státního fondu životního prostředí",null,null,null,null,null,null,null,null,null,null,0]
[null,2," Dotace ze Státního  fondu dopravní infrastruktury",null,{"$f":"+E45","v":0},{"$f":"+F50-F84","v":0},0,0,0,0,0,0,0,{"$f":"SUM(E68:M68)-H68","v":0}]
[null,3," Dotace ze Státního  fondu rozvoje bydlení",null,null,null,null,null,null,null,null,null,null,0]
[null,9," Dotace z jiných státních fondů",null,null,null,null,null,null,null,null,null,null,0]
[8247,"S"," Dotace poskytnuté ze státních fondů",null,{"$f":"SUM(E67:E70)","v":0},{"$f":"SUM(F67:F70)","v":0},0,0,0,0,0,0,0,0]
[8248,1," Dotace z rozpočtu obce",null,null,null,null,null,null,null,null,null,null,0]
[null,2," Dotace z rozpočtu okresu",null,null,null,null,null,null,null,null,null,null,0]
[null,3," Dotace z rozpočtu kraje",null,null,null,null,null,null,null,null,null,null,0]
[8248,"S"," Dotace z územních rozpočtů",null,{"$f":"SUM(E72:E74)","v":0},{"$f":"SUM(F72:F74)","v":0},0,0,0,0,0,0,0,0]
[8249,1," Příspěvky přijaté na sdruženou akci",null,null,null,null,null,null,null,null,null,null,0]
[null,2," Dodavatelské úvěry",null,null,null,null,null,null,null,null,null,null,0]
[null,9," Jiné cizí zdroje tuzemské výše neuvedené",null,null,null,null,null,null,null,null,null,null,0]
[8249,"S"," Jiné zdroje tuzemské ",null,{"$f":"SUM(E76:E78)","v":0},{"$f":"SUM(F76:F78)","v":0},0,0,0,0,0,0,0,0]
[8251,1," Dotace z fondu PHARE",null,null,null,null,null,null,null,null,null,null,{"$f":"SUM(E80:M80)-H80","v":0}]
[null,2," Dotace z fondu SAPARD",null,null,null,null,null,null,null,null,null,null,0]
[null,3," Dotace z fondu ISPA",null,null,null,null,null,null,null,null,null,null,0]
[null,4," Dotace z kohezniho fondu EU",null,null,null,null,null,null,null,null,null,null,0]
[null,5," Dotace ze strukturálních fondů EU",null,null,null,null,null,null,null,null,null,null,0]
[null,9," Dotace z jiných fondů EU ",null,null,null,null,null,null,null,null,null,null,0]
[8251,"S"," Dotace poskytnuté z fondů EU ",null,{"$f":"SUM(E80:E85)","v":0},{"$f":"SUM(F80:F85)","v":0},0,0,0,0,0,0,0,0]
[8252,1," Dotace z fondu NATO na bezpečnostní investice",null,null,null,null,null,null,null,null,null,null,0]
[null,9," Dotace z jiných fondů NATO",null,null,null,null,null,null,null,null,null,null,0]
[8252,"S"," Dotace z fondů NATO",null,{"$f":"SUM(E87:E88)","v":0},{"$f":"SUM(F87:F88)","v":0},0,0,0,0,0,0,0,0]
[8259,null," Jiné zahraniční zdroje výše neuvedené",null,null,null,null,null,null,null,null,null,null,0]
[829,"S"," SOUHRN NEINVESTIČNÍCH ZDROJŮ ",null,{"$f":"SUM(E90,E89,E86,E79,E75,E71,E66,E61,E56,E53,E52)","v":0},{"$f":"SUM(F90,F89,F86,F79,F75,F71,F66,F61,F56,F53,F52)","v":0},0,0,0,0,0,0,0,0]
[null,null,null,null,{"$f":"IF(ROUND(E91,3)-ROUND(E50,3)=0,\" \",\"Chyba bilance\")","v":" "},{"$f":"IF(ROUND(F91,3)-ROUND(F50,3)=0,\" \",\"Chyba bilance\")","v":" "}," "," "," "," "," "," "," "]

{"sheet":"VZOR 83","index":16,"n_rows":71,"n_cols":9,"rows_kept":71,"cut":false,"hidden":true,"merged":[[5,6,6,6],[5,7,6,7],[5,8,6,8],[0,0,0,2],[1,0,1,3]]}
["SPECIFIKACE STAVEBNÍCH OBJEKTŮ A PROVOZNÍCH SOUBORŮ  AKCE",null,null,"VZOR  83"]
[]
["NÁZEV AKCE",null,{"$f":"IF('Krycí list SR'!B2=\"\",\"\",'Krycí list SR'!B2)","v":""}]
["ČÍSLO AKCE",null,{"$f":"IF('Krycí list SR'!B3=\"\",\"\",'Krycí list SR'!B3)","v":""}]
["INVESTOR",null,{"$f":"IF('Krycí list SR'!B4=\"\",\"\",'Krycí list SR'!B4)","v":"Správa železnic, státní organizace"},null,null,null,"Příklad specifikace členění nákladů dle profesí zatříděných ve kategoriích monitoringu (3SO/3PS):"]
[null,null,null,null,null,null,"Monitorovací kategorie","Členění dle profesní odbornosti","Náklady\nv mil Kč"]
["číslo řádku",null,"STAVEBNÍ OBJEKTY A PROVOZNÍ SOUBORY *","náklady realizace celkem \nmil. Kč"]
[null,null,null,null,null,null,"D.2.1.1.0","Železniční svršek",{"$f":"PN!F16/1000000","v":0}]
[null,null,null,null,null,null,"D.2.1.1.1","Železniční spodek",{"$f":"PN!F17/1000000","v":0}]
[null,null,null,null,null,null,"D.2.1.2","Nástupiště",{"$f":"PN!F18/1000000","v":0}]
[null,null,null,null,null,null,"D.2.1.3","Železniční přejezdy",{"$f":"PN!F19/1000000","v":0}]
[null,null,null,null,null,null,"D.2.1.4","Mosty, propustky, zdi",{"$f":"PN!F20/1000000","v":0}]
[null,null,null,null,null,null,"D.2.1.5","Ostatní inženýrské objekty",{"$f":"PN!F21/1000000","v":0}]
[null,null,null,null,null,null,"D.2.1.6","Potrubní vedení",{"$f":"PN!F22/1000000","v":0}]
[null,null,null,null,null,null,"D.2.1.7","Železniční tunely",{"$f":"PN!F23/1000000","v":0}]
[null,null,null,null,null,null,"D.2.1.8","Pozemní komunikace",{"$f":"PN!F24/1000000","v":0}]
[null,null,null,null,null,null,"D.2.1.9","Kabelovody, kolektory",{"$f":"PN!F25/1000000","v":0}]
[null,null,null,null,null,null,"D.2.1.10","Protihlukové objekty",{"$f":"PN!F26/1000000","v":0}]
[null,null,null,null,null,null,"D.2.2","Pozemní stavební objekty",{"$f":"PN!F27/1000000","v":0}]
[null,null,null,null,null,null,"D.2.3.1","Trakční vedení",{"$f":"PN!F28/1000000","v":0}]
[null,null,null,null,null,null,"D.2.3.2","Napájecí stanice (měnírna, trakční transformovna) – stavební část",{"$f":"PN!F29/1000000","v":0}]
[null,null,null,null,null,null,"D.2.3.3","Spínací stanice – stavební část",{"$f":"PN!F30/1000000","v":0}]
[null,null,null,null,null,null,"D.2.3.4","Ohřev výměn (elektrický - EOV, plynový - POV)",{"$f":"PN!F31/1000000","v":0}]
[null,null,null,null,null,null,"D.2.3.5","Elektrické předtápěcí zařízení (EPZ)",{"$f":"PN!F32/1000000","v":0}]
[null,null,null,null,null,null,"D.2.3.6","Rozvodny vn, nn, osvětlení a dálkové ovládání odpojovačů",{"$f":"PN!F33/1000000","v":0}]
[null,null,null,null,null,null,"D.2.3.7","Ukolejnění kovových konstrukcí",{"$f":"PN!F34/1000000","v":0}]
[null,null,null,null,null,null,"D.2.3.8","Vnější uzemnění",{"$f":"PN!F35/1000000","v":0}]
[null,null,null,null,null,null,"D.2.3.9","Ostatní kabelizace",{"$f":"PN!F36/1000000","v":0}]
[null,null,null,null,null,null,"D.2.4.1","Příprava území a kácení",{"$f":"PN!F37/1000000","v":0}]
[null,null,null,null,null,null,"D.2.4.2","Náhradní výsadba",{"$f":"PN!F38/1000000","v":0}]
[null,null,null,null,null,null,"D.2.4.3","Zabezpečení veřejných zájmů",{"$f":"PN!F39/1000000","v":0}]
[null,null,null,null,null,null,"D.1.1","Železniční zabezpečovací zařízení",{"$f":"PN!F40/1000000","v":0}]
[null,null,null,null,null,null,"D.1.2","Železniční sdělovací zařízení",{"$f":"PN!F41/1000000","v":0}]
[null,null,null,null,null,null,"D.1.3","Silnoproudá technologie včetně DŘT",{"$f":"PN!F42/1000000","v":0}]
[null,null,null,null,null,null,"D.1.4","Ostatní technologická zařízení",{"$f":"PN!F43/1000000","v":0}]
[]
[]
[]
[]
[]
[]
[]
[]
[]
[]
[]
[]
[]
[]
[]
[]
[]
[]
[]
[]
[]
[]
[]
[]
[]
[]
[]
[]
[]
[]
[]
[]
[]
[]
[]
["Celkem v mil. Kč",null,null,{"$f":"SUM(D9:D70)","v":0}]

{"sheet":"NAD","index":17,"n_rows":61,"n_cols":14,"rows_kept":61,"cut":false,"hidden":false,"merged":[[4,1,5,1],[1,13,3,13],[21,13,22,13],[54,1,55,1],[54,2,54,3],[54,4,54,5],[20,3,20,5],[24,1,25,1],[24,2,24,3],[4,2,4,3],[4,4,4,5],[14,1,15,1],[34,2,34,3],[34,4,34,5],[40,3,40,5],[14,2,14,3],[44,1,45,1],[44,2,44,3],[44,4,44,5],[50,3,50,5],[34,1,35,1],[4,7,5,7],[4,8,4,9],[4,10,4,11],[10,9,10,11],[14,7,15,7],[14,8,14,9],[14,10,14,11],[23,13,29,13],[14,4,14,5],[10,3,10,5],[60,3,60,5],[24,4,24,5],[30,3,30,5],[20,9,20,11],[24,7,25,7],[24,8,24,9],[24,10,24,11],[30,9,30,11],[34,7,35,7],[34,8,34,9],[34,10,34,11],[54,7,55,7],[54,8,54,9],[54,10,54,11],[60,9,60,11],[40,9,40,11],[44,7,45,7],[44,8,44,9],[44,10,44,11],[50,9,50,11],[0,10,0,11],[0,0,0,1],[0,2,0,4],[0,6,0,7],[0,8,0,9]]}
["NAD  celkem:",null,{"$f":"K1*G1","v":0},null,null,"Tkm=",{"$f":"D11+D21+D31+D41+D51+D61+J11+J21+J31+J41+J51+J61","v":0},null,"Sazba za km",null,85,null,null,"Legenda:"]
[null,null,null,null,null,null,null,null,null,null,null,null,null,"Tkmi  - délka v km jednotlivých objízdných tras zahrnující spojnici všech dopraven na vyloučené trase. \n            V případě, více typů objízdných tras zohledňujících objížďku NAD rozdílných dopraven\n            (např. pro náhradu rychlíkových a osobních vlaků) se uvede délka více objízdných tras."]
["Výluka č.","od",null,null,"do",null,"Výluka č.","od",null,null,"do"]
[1,"Dp",{"$f":"IF(F3=0,,IF(C3=0,,NETWORKDAYS(C3,F3)))","v":0},{"$f":"F3+1","v":"1900-01-01"},"Dv ",{"$f":"IF(F3=0,,IF(C3=0,,DATEDIF(C3,D4,\"D\")-C4))","v":0},{"$f":"A54+1","v":7},"Dp",{"$f":"IF(L3=0,,IF(I3=0,,NETWORKDAYS(I3,L3)))","v":0},{"$f":"L3+1","v":"1900-01-01"},"Dv ",{"$f":"IF(L3=0,,IF(I3=0,,DATEDIF(I3,J4,\"D\")-I4))","v":0}]
[null,"Tkmi \n[km]","Pracovní den",null,"Dny pracovního volna",null,null,"Tkmi \n[km]","Pracovní den",null,"Dny pracovního volna",null,null,"Dp – počet pracovních dnů s vyloučením dopravy na jednu ucelenou výluku"]
[null,null,"Axi ","Vpi","Axi ","Vvi",null,null,"Axi ","Vpi","Axi ","Vvi",null,"Dv – počet dnů pracovního volna (sobota/neděle) s vyloučením dopravy na jednu ucelenou výluku"]
["Tkm1",null,null,null,null,null,"Tkm1",45,1,4,4,8,null,"SiAdenP – celkový počet autobusů NAD za 1 pracovní den pro danou objízdnou trasu"]
["Tkm2",null,null,null,null,null,"Tkm2",null,null,null,null,null,null,"SiAdenV – celkový počet autobusů NAD za 1 den pracovního volna pro danou objízdnou trasu"]
["Tkm3",null,null,null,null,null,"Tkm3"]
["Tkm4",null,null,null,null,null,"Tkm4",null,null,null,null,null,null,"SiAdenP = ( Axi  * Vpi ) "]
["S  Tkmi   celkem",null,null,{"$f":"B7*(C7*D7*C4+E7*F7*F4)+B8*(C8*D8*C4+E8*F8*F4)+B9*(C9*D9*C4+E9*F9*F4)+B10*(C10*D10*C4+E10*F10*F4)","v":0},null,null,"S  Tkmi   celkem",null,null,{"$f":"H7*(I7*J7*I4+K7*L7*L4)+H8*(I8*J8*I4+K8*L8*L4)+H9*(I9*J9*I4+K9*L9*L4)+H10*(I10*J10*I4+K10*L10*L4)","v":0},null,null,null,"SiAdenV = ( Axi  * Vvi ) "]
[null,null,null,null,null,null,null,null,null,null,null,null,null,"Axi – počet autobusů NAD na vlakovou soupravu pro danou objízdnou trasu "]
["Výluka č.","od",null,null,"do",null,"Výluka č.","od",null,null,"do",null,null,"Vpi – počet vlaků za pracovní den pro danou objízdnou trasu (Os/R/Sp)"]
[{"$f":"A4+1","v":2},"Dp",{"$f":"IF(F13=0,,IF(C13=0,,NETWORKDAYS(C13,F13)))","v":0},{"$f":"F13+1","v":"1900-01-01"},"Dv ",{"$f":"IF(F13=0,,IF(C13=0,,DATEDIF(C13,D14,\"D\")-C14))","v":0},{"$f":"G4+1","v":8},"Dp",{"$f":"IF(L13=0,,IF(I13=0,,NETWORKDAYS(I13,L13)))","v":0},{"$f":"L13+1","v":"1900-01-01"},"Dv ",{"$f":"IF(L13=0,,IF(I13=0,,DATEDIF(I13,J14,\"D\")-I14))","v":0},null,"Vvi – počet vlaků za dny pracovního volna pro danou objízdnou trasu (Os/R/Sp)"]
[null,"Tkmi \n[km]","Pracovní den",null,"Dny pracovního volna",null,null,"Tkmi \n[km]","Pracovní den",null,"Dny pracovního volna"]
[null,null,"Axi ","Vpi","Axi ","Vvi",null,null,"Axi ","Vpi","Axi ","Vvi"]
["Tkm1",null,null,null,null,null,"Tkm1"]
["Tkm2",null,null,null,null,null,"Tkm2",null,null,null,null,null,null,"Základní pravidla pro stanovení nákladů NAD:"]
["Tkm3",null,null,null,null,null,"Tkm3",null,null,null,null,null,null," - vstupem pro stanovení nákladů bude rozsah vyloučení osobní dopravy v délce od 24 hodin a víc,"]
["Tkm4",null,null,null,null,null,"Tkm4",null,null,null,null,null,null," - pro stanovení nákladů výpočtem bude zanedbán čas zahrnující čekání na výkon dopravce,"]
["S  Tkmi   celkem",null,null,{"$f":"B17*(C17*D17*C14+E17*F17*F14)+B18*(C18*D18*C14+E18*F18*F14)+B19*(C19*D19*C14+E19*F19*F14)+B20*(C20*D20*C14+E20*F20*F14)","v":0},null,null,"S  Tkmi   celkem",null,null,{"$f":"H17*(I17*J17*I14+K17*L17*L14)+H18*(I18*J18*I14+K18*L18*L14)+H19*(I19*J19*I14+K19*L19*L14)+H20*(I20*J20*I14+K20*L20*L14)","v":0},null,null,null," - do výběru objízdných tras NAD budou zahrnuté pouze komunikace   umožňující vjezd autobusů,"]
[null,null,null,null,null,null,null,null,null,null,null,null,null," - v rámci výpočtu bude rozlišováno vyloučení dopravy v pracovních dnech a dnech\n   pracovního volna (sobota/neděle) bez zohlednění státních svátků a mimořádných jízd,"]
["Výluka č.","od",null,null,"do",null,"Výluka č.","od",null,null,"do"]
[{"$f":"A14+1","v":3},"Dp",{"$f":"IF(F23=0,,IF(C23=0,,NETWORKDAYS(C23,F23)))","v":0},{"$f":"F23+1","v":"1900-01-01"},"Dv ",{"$f":"IF(F23=0,,IF(C23=0,,DATEDIF(C23,D24,\"D\")-C24))","v":0},{"$f":"G14+1","v":9},"Dp",{"$f":"IF(L23=0,,IF(I23=0,,NETWORKDAYS(I23,L23)))","v":0},{"$f":"L23+1","v":"1900-01-01"},"Dv ",{"$f":"IF(L23=0,,IF(I23=0,,DATEDIF(I23,J24,\"D\")-I24))","v":0},null,"\n - pro výpočet se bude standardně počítat se dvěma autobusy na jednu vlakovou soupravu\n   se zanedbáním rozložení dopravy v rámci intenzity dopravní špičky. V případě, že dle\n   charakteru tratě (např. dle znalosti počtu cestujících na vlakovou soupravu) lze\n   předpokládat méně nebo více než dva autobusy na určitý typ vlaku, je možné snížit\n   nebo navýšit počet autobusů na vlakovou soupravu, při předpokladu počtu cestujících\n   50 osob/1 autobus,"]
[null,"Tkmi \n[km]","Pracovní den",null,"Dny pracovního volna",null,null,"Tkmi \n[km]","Pracovní den",null,"Dny pracovního volna"]
[null,null,"Axi ","Vpi","Axi ","Vvi",null,null,"Axi ","Vpi","Axi ","Vvi"]
["Tkm1",null,null,null,null,null,"Tkm1"]
["Tkm2",null,null,null,null,null,"Tkm2"]
["Tkm3",null,null,null,null,null,"Tkm3"]
["Tkm4",null,null,null,null,null,"Tkm4"]
["S  Tkmi   celkem",null,null,{"$f":"B27*(C27*D27*C24+E27*F27*F24)+B28*(C28*D28*C24+E28*F28*F24)+B29*(C29*D29*C24+E29*F29*F24)+B30*(C30*D30*C24+E30*F30*F24)","v":0},null,null,"S  Tkmi   celkem",null,null,{"$f":"H27*(I27*J27*I24+K27*L27*L24)+H28*(I28*J28*I24+K28*L28*L24)+H29*(I29*J29*I24+K29*L29*L24)+H30*(I30*J30*I24+K30*L30*L24)","v":0}]
[]
["Výluka č.","od",null,null,"do",null,"Výluka č.","od",null,null,"do",null,null," "]
[{"$f":"A24+1","v":4},"Dp",{"$f":"IF(F33=0,,IF(C33=0,,NETWORKDAYS(C33,F33)))","v":0},{"$f":"F33+1","v":"1900-01-01"},"Dv ",{"$f":"IF(F33=0,,IF(C33=0,,DATEDIF(C33,D34,\"D\")-C34))","v":0},{"$f":"G24+1","v":10},"Dp",{"$f":"IF(L33=0,,IF(I33=0,,NETWORKDAYS(I33,L33)))","v":0},{"$f":"L33+1","v":"1900-01-01"},"Dv ",{"$f":"IF(L33=0,,IF(I33=0,,DATEDIF(I33,J34,\"D\")-I34))","v":0}]
[null,"Tkmi \n[km]","Pracovní den",null,"Dny pracovního volna",null,null,"Tkmi \n[km]","Pracovní den",null,"Dny pracovního volna"]
[null,null,"Axi ","Vpi","Axi ","Vvi",null,null,"Axi ","Vpi","Axi ","Vvi"]
["Tkm1",null,null,null,null,null,"Tkm1"]
["Tkm2",null,null,null,null,null,"Tkm2"]
["Tkm3",null,null,null,null,null,"Tkm3"]
["Tkm4",null,null,null,null,null,"Tkm4"]
["S  Tkmi   celkem",null,null,{"$f":"B37*(C37*D37*C34+E37*F37*F34)+B38*(C38*D38*C34+E38*F38*F34)+B39*(C39*D39*C34+E39*F39*F34)+B40*(C40*D40*C34+E40*F40*F34)","v":0},null,null,"S  Tkmi   celkem",null,null,{"$f":"H37*(I37*J37*I34+K37*L37*L34)+H38*(I38*J38*I34+K38*L38*L34)+H39*(I39*J39*I34+K39*L39*L34)+H40*(I40*J40*I34+K40*L40*L34)","v":0}]
[]
["Výluka č.","od",null,null,"do",null,"Výluka č.","od",null,null,"do"]
[{"$f":"A34+1","v":5},"Dp",{"$f":"IF(F43=0,,IF(C43=0,,NETWORKDAYS(C43,F43)))","v":0},{"$f":"F43+1","v":"1900-01-01"},"Dv ",{"$f":"IF(F43=0,,IF(C43=0,,DATEDIF(C43,D44,\"D\")-C44))","v":0},{"$f":"G34+1","v":11},"Dp",{"$f":"IF(L43=0,,IF(I43=0,,NETWORKDAYS(I43,L43)))","v":0},{"$f":"L43+1","v":"1900-01-01"},"Dv ",{"$f":"IF(L43=0,,IF(I43=0,,DATEDIF(I43,J44,\"D\")-I44))","v":0}]
[null,"Tkmi \n[km]","Pracovní den",null,"Dny pracovního volna",null,null,"Tkmi \n[km]","Pracovní den",null,"Dny pracovního volna"]
[null,null,"Axi ","Vpi","Axi ","Vvi",null,null,"Axi ","Vpi","Axi ","Vvi"]
["Tkm1",null,null,null,null,null,"Tkm1"]
["Tkm2",null,null,null,null,null,"Tkm2"]
["Tkm3",null,null,null,null,null,"Tkm3"]
["Tkm4",null,null,null,null,null,"Tkm4"]
["S  Tkmi   celkem",null,null,{"$f":"B47*(C47*D47*C44+E47*F47*F44)+B48*(C48*D48*C44+E48*F48*F44)+B49*(C49*D49*C44+E49*F49*F44)+B50*(C50*D50*C44+E50*F50*F44)","v":0},null,null,"S  Tkmi   celkem",null,null,{"$f":"H47*(I47*J47*I44+K47*L47*L44)+H48*(I48*J48*I44+K48*L48*L44)+H49*(I49*J49*I44+K49*L49*L44)+H50*(I50*J50*I44+K50*L50*L44)","v":0}]
[]
["Výluka č.","od",null,null,"do",null,"Výluka č.","od",null,null,"do"]
[{"$f":"A44+1","v":6},"Dp",{"$f":"IF(F53=0,,IF(C53=0,,NETWORKDAYS(C53,F53)))","v":0},{"$f":"F53+1","v":"1900-01-01"},"Dv ",{"$f":"IF(F53=0,,IF(C53=0,,DATEDIF(C53,D54,\"D\")-C54))","v":0},{"$f":"G44+1","v":12},"Dp",{"$f":"IF(L53=0,,IF(I53=0,,NETWORKDAYS(I53,L53)))","v":0},{"$f":"L53+1","v":"1900-01-01"},"Dv ",{"$f":"IF(L53=0,,IF(I53=0,,DATEDIF(I53,J54,\"D\")-I54))","v":0}]
[null,"Tkmi \n[km]","Pracovní den",null,"Dny pracovního volna",null,null,"Tkmi \n[km]","Pracovní den",null,"Dny pracovního volna"]
[null,null,"Axi ","Vpi","Axi ","Vvi",null,null,"Axi ","Vpi","Axi ","Vvi"]
["Tkm1",null,null,null,null,null,"Tkm1"]
["Tkm2",null,null,null,null,null,"Tkm2"]
["Tkm3",null,null,null,null,null,"Tkm3"]
["Tkm4",null,null,null,null,null,"Tkm4"]
["S  Tkmi   celkem",null,null,{"$f":"B57*(C57*D57*C54+E57*F57*F54)+B58*(C58*D58*C54+E58*F58*F54)+B59*(C59*D59*C54+E59*F59*F54)+B60*(C60*D60*C54+E60*F60*F54)","v":0},null,null,"S  Tkmi   celkem",null,null,{"$f":"H57*(I57*J57*I54+K57*L57*L54)+H58*(I58*J58*I54+K58*L58*L54)+H59*(I59*J59*I54+K59*L59*L54)+H60*(I60*J60*I54+K60*L60*L54)","v":0}]

{"sheet":"hide-formáty","index":18,"n_rows":90,"n_cols":40,"rows_kept":90,"cut":false,"hidden":true,"merged":[[70,0,70,1],[70,2,70,10],[71,2,71,3],[71,4,71,5],[71,6,71,7],[71,9,71,10],[73,9,73,10],[75,0,75,10],[77,2,77,5],[80,3,80,5],[73,8,74,8],[88,4,88,6],[72,1,72,2],[72,3,72,6],[73,0,73,1],[73,2,73,5],[42,20,42,21],[3,15,3,16],[3,17,3,20],[4,14,4,15],[4,16,4,19],[4,22,5,22],[4,23,4,24],[31,4,31,5],[1,14,1,15],[1,16,1,24],[2,16,2,17],[2,18,2,19],[2,20,2,21],[2,23,2,24],[4,9,4,10],[4,8,5,8],[1,0,1,1],[1,2,1,10],[2,2,2,3],[2,4,2,5],[2,6,2,7],[2,9,2,10],[60,5,60,6],[3,1,3,2],[3,3,3,6],[4,0,4,1],[4,2,4,5]]}
["Náklady stavby v aktuáním roce:",null,null,null,{"$f":"'Krycí list SR'!$F$4","v":2022},null,null,null,null,"Formulář 1.A",{"$f":"'Krycí list SR'!$H$1","v":"SRP/2022/prozatimní"},null,null,null,"Náklady stavby v aktuáním roce:",null,null,null,2017,null,null,null,null,"Formulář 1.B","SRP/2017/08/01"]
["Název stavby:",null,{"$f":"IF('Krycí list SR'!B2=\"\",\"\",'Krycí list SR'!B2)","v":""},null,null,null,null,null,null,null,null,null,null,null,"Název stavby:",null,"Modernizace trati Nemanice I - Ševětín, 1. stavba, úpravy pro ETCS, 2. část"]
["ISPROFIN:",null,{"$f":"IF('Krycí list SR'!$B$3=\"\",\"\",'Krycí list SR'!$B$3)","v":""},null,"Označení (S-kód):",null,{"$f":"IF('Krycí list SR'!D3=\"\",\"\",'Krycí list SR'!D3)","v":""},null,{"$f":"IF('Krycí list SR'!E3=\"\",\"\",'Krycí list SR'!E3)","v":""},{"$f":"IF('Krycí list SR'!F3=\"STÁDIUM - vybrat v poli E3\",\"\",'Krycí list SR'!F3)","v":""},null,null,null,null,"ISPROFIN:",null,5313710007,null,"Označení (S-kód):",null,"S-631500296",null,"Stádium 3","projektová dokumentace"]
["Investor:","SŽ",null,{"$f":"IF('Krycí list SR'!$B$5=\"\",\"\",'Krycí list SR'!$B$5)","v":"Stavební správa západ, Ke Štvanici 656/3,186 00  Praha 8"},null,null,null,"IČO:",{"$f":"'Krycí list SR'!$D$8","v":70994234},"DIČ:",{"$f":"'Krycí list SR'!D9","v":"CZ70994234"},null,null,null,"Investor:","   SŽDC s.o.,",null,"Stavební správa západ,  Sokolovská 278/1955, 190 00 Praha 9",null,null,null,"IČO:",70994234,"DIČ:","CZ70994234"]
["Jiný investor:",null,{"$f":"IF('Krycí list SR'!$B$7=\"\",\"neurčen\",'Krycí list SR'!$B$7)","v":"neurčen"},null,null,null,null,null,"Náklady celkem\n\n[Kč]","Náklady dle rozdělení majektu",null,null,null,null,"Jiný investor:",null,"-",null,null,null,null,null,"Náklady celkem\n\n[Kč]","Náklady dle rozdělení majektu"]
["A","Příprava a celkové zabezpečení stavby",null,null,null,null,"Zařazení nákladů ve stádiích realizace","stanovení nákladů",null,"SŽ","Ostatní",null,"výplň",null,"B","Realizace stavby",null,null,null,null,"Zařazení nákladů ve stádiích realizace","stanovení nákladů",null,"SŽDC","Ostatní",null,"Výplň formátu",null,null,null,null,null,null,null,null,null,null,null,null,"kontrola"]
[]
["A.1","Náklady investorsko - inženýrské činnosti ve výstavbě",null,null,null,null,null,"Nezařazeno",null,{"$f":"I8*hide!$D$59","v":0},{"$f":"I8-J8","v":0},null,{"$f":"IF('1A'!$H8=\"Individuálně\",IF('1A'!$I8=\"\",\"označit\",\"vyplněno\"),IF('1A'!$H8>0%,\"vyplněno\",\"označit\"))","v":"vyplněno"},null,"B.1","Stavební část",null,null,null,null,null,null,null,null,null,null,null,null,null,null,null,null,null,null,null,null,null,null,null,{"$f":"IF('1A'!I8>0,IF('1A'!H8=\"\",\"X\",\"OK\"),\"OK\")","v":"OK"}]
["A.2","Náklady na dokumentace stavby",null,null,null,null,null,null,{"$f":"I10+I21+I32+I33+I38","v":0},{"$f":"J10+J21+J32+J33+J38","v":0},{"$f":"K10+K21+K32+K33+K38","v":0},null,null,null,"B.1.1","z toho","Stavební objekty dodávané zhotoviteli"]
["A.2.1","z toho","Náklady na předprojektové dokumentace pro přípravu stavby",null,null,null,null,null,{"$f":"I11+I17+I18+I19+I20","v":0},{"$f":"J11+J19+J20+J17","v":0},{"$f":"K11+K19+K20+K17","v":0},null,null,null,"B.1.1.1",null,"z toho","Základní rozpočtové náklady jednotlivých SO (ZRN)",null,null,null,"S z listu 3SO"]
["A.2.1.1",null,"z toho","Práce prováděné pro zpracování předprojektových dokumentací",null,null,null,null,{"$f":"SUM(I12:I16)","v":0},{"$f":"I11*hide!$D$59","v":0},{"$f":"I11-J11","v":0},null,null,null,"B.1.1.2",null,null,"Vedlejší rozpočtové náklady nezahrnuté do jednotlivých SO (VRN)",null,null,null,"Nezařazeno"]
["A.2.1.1.1",null,null,"z toho","Geodetické práce a mapové podklady",null,null,"Nezařazeno",null,{"$f":"I12*hide!$D$59","v":0},0,null,{"$f":"IF('1A'!$H12=\"Individuálně\",IF('1A'!$I12=\"\",\"označit\",\"vyplněno\"),IF('1A'!$H12=\"Smluvně\",IF('1A'!$I12=\"\",\"označit\",\"vyplněno\"),(IF('1A'!$H12>0%,\"vyplněno\",\"označit\"))))","v":"vyplněno"},null,"B.1.2",null,"Stavební část zajišťovaná přímo investorem",null,null,null,null,null,null,null,null,null,null,null,"FORMÁT 3SO/3PS",null,null,null,null,null,null,null,null,null,null,{"$f":"IF('1A'!I12>0,IF('1A'!H12=\"\",\"X\",\"OK\"),\"OK\")","v":"OK"}]
["A.2.1.1.2",null,null,null,"Průzkumné práce pro předprojektové dokumentace",null,null,"Nezařazeno",null,{"$f":"I13*hide!$D$59","v":0},0,null,{"$f":"IF('1A'!$H13=\"Individuálně\",IF('1A'!$I13=\"\",\"označit\",\"vyplněno\"),IF('1A'!$H13=\"Smluvně\",IF('1A'!$I13=\"\",\"označit\",\"vyplněno\"),(IF('1A'!$H13>0%,\"vyplněno\",\"označit\"))))","v":"vyplněno"},null,"B.1.2.1",null,"z toho","Stavební objekty zajišťované přímo investorem",null,null,null,"S z listu 3SO",null,null,null,null,null,null,"Monitoring","Číslo SO","Název stavebního objektu","Rozdělení majetku","realizace od","realizace do","náklady SO (B.1.1.1)","z toho způsobilé","náklady SO (B.1.2.1)","z toho způsobilé","rezerva SO",{"$f":"IF('1A'!I13>0,IF('1A'!H13=\"\",\"X\",\"OK\"),\"OK\")","v":"OK"}]
["A.2.1.1.3",null,null,null,"Posouzení vlivu stavby na životní prostředí",null,null,"Nezařazeno",null,{"$f":"I14*hide!$D$59","v":0},0,null,{"$f":"IF('1A'!$H14=\"Individuálně\",IF('1A'!$I14=\"\",\"označit\",\"vyplněno\"),IF('1A'!$H14=\"Smluvně\",IF('1A'!$I14=\"\",\"označit\",\"vyplněno\"),(IF('1A'!$H14>0%,\"vyplněno\",\"označit\"))))","v":"vyplněno"},null,"B.1.2.2",null,null,"Stavební práce a dodávky zajišťované přímo investorem",null,null,null,"Nezařazeno",null,null,null,null,{"$f":"IF('1B'!$H14=\"Individuálně\",IF('1B'!$I14=\"\",\"označit\",\"vyplněno\"),IF('1B'!$H14=\"Smluvně\",IF('1B'!$I14=\"\",\"označit\",\"vyplněno\"),(IF('1B'!$H14>0%,\"vyplněno\",\"označit\"))))","v":"vyplněno"},null,null,null,null,null,null,null,null,null,null,null,null,{"$f":"IF('1A'!I14>0,IF('1A'!H14=\"\",\"X\",\"OK\"),\"OK\")","v":"OK"}]
["A.2.1.1.4",null,null,null,"Inženýrská činnost pro předprojektové dokumentace",null,null,"Nezařazeno",null,{"$f":"I15*hide!$D$59","v":0},0,null,{"$f":"IF('1A'!$H15=\"Individuálně\",IF('1A'!$I15=\"\",\"označit\",\"vyplněno\"),IF('1A'!$H15=\"Smluvně\",IF('1A'!$I15=\"\",\"označit\",\"vyplněno\"),(IF('1A'!$H15>0%,\"vyplněno\",\"označit\"))))","v":"vyplněno"},null,"B.1.2.3",null,null,"Zkoušky, revize a měření zajišťované přímo investorem",null,null,null,"Nezařazeno",null,null,null,null,{"$f":"IF('1B'!$H15=\"Individuálně\",IF('1B'!$I15=\"\",\"označit\",\"vyplněno\"),IF('1B'!$H15=\"Smluvně\",IF('1B'!$I15=\"\",\"označit\",\"vyplněno\"),(IF('1B'!$H15>0%,\"vyplněno\",\"označit\"))))","v":"vyplněno"},null,null,null,null,null,null,null,null,null,null,null,null,{"$f":"IF('1A'!I15>0,IF('1A'!H15=\"\",\"X\",\"OK\"),\"OK\")","v":"OK"}]
["A.2.1.1.5",null,null,null,"Ostatní náklady pro předprojektové dokumentace",null,null,"Nezařazeno",null,{"$f":"I16*hide!$D$59","v":0},0,null,{"$f":"IF('1A'!$H16=\"Individuálně\",IF('1A'!$I16=\"\",\"označit\",\"vyplněno\"),IF('1A'!$H16=\"Smluvně\",IF('1A'!$I16=\"\",\"označit\",\"vyplněno\"),(IF('1A'!$H16>0%,\"vyplněno\",\"označit\"))))","v":"vyplněno"},null,"B.2","Technologická část",null,null,null,null,null,null,null,null,null,null,null,null,null,null,null,null,null,null,null,null,null,null,null,{"$f":"IF('1A'!I16>0,IF('1A'!H16=\"\",\"X\",\"OK\"),\"OK\")","v":"OK"}]
["A.2.1.2",null,null,"Záměr projektu",null,null,null,"Nezařazeno",null,{"$f":"I17*hide!$D$59","v":0},0,null,{"$f":"IF('1A'!$H17=\"Individuálně\",IF('1A'!$I17=\"\",\"označit\",\"vyplněno\"),IF('1A'!$H17=\"Smluvně\",IF('1A'!$I17=\"\",\"označit\",\"vyplněno\"),(IF('1A'!$H17>0%,\"vyplněno\",\"označit\"))))","v":"vyplněno"},null,"B.2.1","z toho","Provozní soubory dodávané zhotoviteli",null,null,null,null,null,null,null,null,null,null,null,null,null,null,null,null,null,null,null,null,null,null,{"$f":"IF('1A'!I17>0,IF('1A'!H17=\"\",\"X\",\"OK\"),\"OK\")","v":"OK"}]
[null,null,null,"Neobsazeno",null,null,null,null,null,null,null,null,{"$f":"IF('1A'!$H18=\"Individuálně\",IF('1A'!$I18=\"\",\"označit\",\"vyplněno\"),IF('1A'!$H18=\"Smluvně\",IF('1A'!$I18=\"\",\"označit\",\"vyplněno\"),(IF('1A'!$H18>0%,\"vyplněno\",\"označit\"))))","v":"označit"},null,"B.2.1.1",null,"z toho","Základní rozpočtové náklady jednotlivých PS (ZRN)",null,null,null,"S z listu 3PS",null,null,null,null,null,null,null,null,null,null,null,null,null,null,null,null,null,{"$f":"IF('1A'!I18>0,IF('1A'!H18=\"\",\"X\",\"OK\"),\"OK\")","v":"OK"}]
["A.2.1.3",null,null,"Dokumentace pro územní řízení",null,null,null,"Nezařazeno",null,{"$f":"I19*hide!$D$59","v":0},{"$f":"I19-J19","v":0},null,{"$f":"IF('1A'!$H19=\"Individuálně\",IF('1A'!$I19=\"\",\"označit\",\"vyplněno\"),IF('1A'!$H19=\"Smluvně\",IF('1A'!$I19=\"\",\"označit\",\"vyplněno\"),(IF('1A'!$H19>0%,\"vyplněno\",\"označit\"))))","v":"vyplněno"},null,"B.2.1.2",null,null,"Vedlejší rozpočtové náklady nezahrnute do jednotlivých PS (VRN)",null,null,null,"Nezařazeno",null,null,null,null,null,null,null,null,null,null,null,null,null,null,null,null,null,{"$f":"IF('1A'!I19>0,IF('1A'!H19=\"\",\"X\",\"OK\"),\"OK\")","v":"OK"}]
["A.2.1.4",null,null,"Dodatky k předprojektovým dokumentacím pro přípravu stavby",null,null,null,"Nezařazeno",null,{"$f":"I20*hide!$D$59","v":0},{"$f":"I20-J20","v":0},null,{"$f":"IF('1A'!$H20=\"Individuálně\",IF('1A'!$I20=\"\",\"označit\",\"vyplněno\"),IF('1A'!$H20=\"Smluvně\",IF('1A'!$I20=\"\",\"označit\",\"vyplněno\"),(IF('1A'!$H20>0%,\"vyplněno\",\"označit\"))))","v":"vyplněno"},null,"B.2.2",null,"Technologické část zajišťovaná přímo investorem",null,null,null,null,null,null,null,null,null,null,null,null,null,null,null,null,null,null,null,null,null,null,{"$f":"IF('1A'!I20>0,IF('1A'!H20=\"\",\"X\",\"OK\"),\"OK\")","v":"OK"}]
["A.2.2",null,"Náklady na projektové dokumentace",null,null,null,null,null,{"$f":"I22+I28+I29+I30+I31","v":0},{"$f":"J22+J28+J29+J30+J31","v":0},{"$f":"K22+K28+K29+K30+K31","v":0},null,null,null,"B.2.2.1",null,"z toho","Provozní soubory zajišťované přímo investorem",null,null,null,"S z listu 3PS"]
["A.2.2.1",null,"z toho","Práce prováděné pro zpracování projektových dokumentací",null,null,null,null,{"$f":"SUM(I23:I27)","v":0},{"$f":"SUM(J23:J27)","v":0},{"$f":"SUM(K23:K27)","v":0},null,null,null,"B.2.2.2",null,null,"Technologické práce a dodávky zajišťované přímo investorem",null,null,null,"Nezařazeno",null,null,null,null,{"$f":"IF('1B'!$H22=\"Individuálně\",IF('1B'!$I22=\"\",\"označit\",\"vyplněno\"),IF('1B'!$H22=\"Smluvně\",IF('1B'!$I22=\"\",\"označit\",\"vyplněno\"),(IF('1B'!$H22>0%,\"vyplněno\",\"označit\"))))","v":"vyplněno"}]
["A.2.2.1.1",null,null,"z toho","Geodetické práce a mapové podklady",null,null,"Nezařazeno",null,{"$f":"I23*hide!$D$59","v":0},{"$f":"I23-J23","v":0},null,{"$f":"IF('1A'!$H23=\"Individuálně\",IF('1A'!$I23=\"\",\"označit\",\"vyplněno\"),IF('1A'!$H23=\"Smluvně\",IF('1A'!$I23=\"\",\"označit\",\"vyplněno\"),(IF('1A'!$H23>0%,\"vyplněno\",\"označit\"))))","v":"vyplněno"},null,"B.2.2.3",null,null,"Revize a měření zajišťované investorem",null,null,null,"Nezařazeno",null,null,null,null,{"$f":"IF('1B'!$H23=\"Individuálně\",IF('1B'!$I23=\"\",\"označit\",\"vyplněno\"),IF('1B'!$H23=\"Smluvně\",IF('1B'!$I23=\"\",\"označit\",\"vyplněno\"),(IF('1B'!$H23>0%,\"vyplněno\",\"označit\"))))","v":"vyplněno"},null,null,null,null,null,null,null,null,null,null,null,null,{"$f":"IF('1A'!I23>0,IF('1A'!H23=\"\",\"X\",\"OK\"),\"OK\")","v":"OK"}]
["A.2.2.1.2",null,null,null,"Geotechnický průzkum",null,null,"Nezařazeno",null,{"$f":"I24*hide!$D$59","v":0},0,null,{"$f":"IF('1A'!$H24=\"Individuálně\",IF('1A'!$I24=\"\",\"označit\",\"vyplněno\"),IF('1A'!$H24=\"Smluvně\",IF('1A'!$I24=\"\",\"označit\",\"vyplněno\"),(IF('1A'!$H24>0%,\"vyplněno\",\"označit\"))))","v":"vyplněno"},null,"B.3","Ostatní náklady pro zajištění realizace stavby",null,null,null,null,null,null,null,null,null,null,null,null,null,null,null,null,null,null,null,null,null,null,null,{"$f":"IF('1A'!I24>0,IF('1A'!H24=\"\",\"X\",\"OK\"),\"OK\")","v":"OK"}]
["A.2.2.1.3",null,null,null,"Ostatní průzkumné práce",null,null,"Nezařazeno",null,{"$f":"I25*hide!$D$59","v":0},0,null,{"$f":"IF('1A'!$H25=\"Individuálně\",IF('1A'!$I25=\"\",\"označit\",\"vyplněno\"),IF('1A'!$H25=\"Smluvně\",IF('1A'!$I25=\"\",\"označit\",\"vyplněno\"),(IF('1A'!$H25>0%,\"vyplněno\",\"označit\"))))","v":"vyplněno"},null,"B.3.1","z toho","Osvědčení o shodě notifikovanou osobou v realizaci",null,null,null,"Všeobecný objekt","Nezařazeno",null,null,null,null,{"$f":"IF('1B'!$H25=\"Individuálně\",IF('1B'!$I25=\"\",\"označit\",\"vyplněno\"),IF('1B'!$H25=\"Smluvně\",IF('1B'!$I25=\"\",\"označit\",\"vyplněno\"),(IF('1B'!$H25>0%,\"vyplněno\",\"označit\"))))","v":"vyplněno"},null,null,null,null,null,null,null,null,null,null,null,null,{"$f":"IF('1A'!I25>0,IF('1A'!H25=\"\",\"X\",\"OK\"),\"OK\")","v":"OK"}]
["A.2.2.1.4",null,null,null,"Inženýrská činnost pro projektové dokumentace",null,null,"Nezařazeno",null,{"$f":"I26*hide!$D$59","v":0},0,null,{"$f":"IF('1A'!$H26=\"Individuálně\",IF('1A'!$I26=\"\",\"označit\",\"vyplněno\"),IF('1A'!$H26=\"Smluvně\",IF('1A'!$I26=\"\",\"označit\",\"vyplněno\"),(IF('1A'!$H26>0%,\"vyplněno\",\"označit\"))))","v":"vyplněno"},null,"B.3.2",null,"Koordinátor BOZP v realizaci",null,null,null,"-","Nezařazeno",null,null,null,null,{"$f":"IF('1B'!$H26=\"Individuálně\",IF('1B'!$I26=\"\",\"označit\",\"vyplněno\"),IF('1B'!$H26=\"Smluvně\",IF('1B'!$I26=\"\",\"označit\",\"vyplněno\"),(IF('1B'!$H26>0%,\"vyplněno\",\"označit\"))))","v":"vyplněno"},null,null,null,null,null,null,null,null,null,null,null,null,{"$f":"IF('1A'!I26>0,IF('1A'!H26=\"\",\"X\",\"OK\"),\"OK\")","v":"OK"}]
["A.2.2.1.5",null,null,null,"Ostatní náklady pro projektové dokumentace",null,null,"Nezařazeno",null,{"$f":"I27*hide!$D$59","v":0},0,null,{"$f":"IF('1A'!$H27=\"Individuálně\",IF('1A'!$I27=\"\",\"označit\",\"vyplněno\"),IF('1A'!$H27=\"Smluvně\",IF('1A'!$I27=\"\",\"označit\",\"vyplněno\"),(IF('1A'!$H27>0%,\"vyplněno\",\"označit\"))))","v":"vyplněno"},null,"B.3.3",null,"Osvědčení o bezpečnosti před uvedením do provozu",null,null,null,"Všeobecný objekt","Nezařazeno",null,null,null,null,{"$f":"IF('1B'!$H27=\"Individuálně\",IF('1B'!$I27=\"\",\"označit\",\"vyplněno\"),IF('1B'!$H27=\"Smluvně\",IF('1B'!$I27=\"\",\"označit\",\"vyplněno\"),(IF('1B'!$H27>0%,\"vyplněno\",\"označit\"))))","v":"vyplněno"},null,null,null,null,null,null,null,null,null,null,null,null,{"$f":"IF('1A'!I27>0,IF('1A'!H27=\"\",\"X\",\"OK\"),\"OK\")","v":"OK"}]
["A.2.2.2",null,null,"Projektová dokumentace pro ohlášení stavby",null,null,null,"Nezařazeno",null,{"$f":"I28*hide!$D$59","v":0},0,null,{"$f":"IF('1A'!$H28=\"Individuálně\",IF('1A'!$I28=\"\",\"označit\",\"vyplněno\"),IF('1A'!$H28=\"Smluvně\",IF('1A'!$I28=\"\",\"označit\",\"vyplněno\"),(IF('1A'!$H28>0%,\"vyplněno\",\"označit\"))))","v":"vyplněno"},null,"B.3.4",null,"Rekultivace",null,null,null,"Všeobecný objekt","Nezařazeno",null,null,null,null,{"$f":"IF('1B'!$H28=\"Individuálně\",IF('1B'!$I28=\"\",\"označit\",\"vyplněno\"),IF('1B'!$H28=\"Smluvně\",IF('1B'!$I28=\"\",\"označit\",\"vyplněno\"),(IF('1B'!$H28>0%,\"vyplněno\",\"označit\"))))","v":"vyplněno"},null,null,null,null,null,null,null,null,null,null,null,null,{"$f":"IF('1A'!I28>0,IF('1A'!H28=\"\",\"X\",\"OK\"),\"OK\")","v":"OK"}]
["A.2.2.3",null,null,"Projektová dokumentace pro stavební povolení",null,null,null,"Nezařazeno",null,{"$f":"I29*hide!$D$59","v":0},0,null,{"$f":"IF('1A'!$H29=\"Individuálně\",IF('1A'!$I29=\"\",\"označit\",\"vyplněno\"),IF('1A'!$H29=\"Smluvně\",IF('1A'!$I29=\"\",\"označit\",\"vyplněno\"),(IF('1A'!$H29>0%,\"vyplněno\",\"označit\"))))","v":"vyplněno"},null,"B.3.5",null,"Zajištění veřejných zájmů",null,null,null,"Všeobecný objekt","Nezařazeno",null,null,null,null,{"$f":"IF('1B'!$H29=\"Individuálně\",IF('1B'!$I29=\"\",\"označit\",\"vyplněno\"),IF('1B'!$H29=\"Smluvně\",IF('1B'!$I29=\"\",\"označit\",\"vyplněno\"),(IF('1B'!$H29>0%,\"vyplněno\",\"označit\"))))","v":"vyplněno"},null,null,null,null,null,null,null,null,null,null,null,null,{"$f":"IF('1A'!I29>0,IF('1A'!H29=\"\",\"X\",\"OK\"),\"OK\")","v":"OK"}]
["A.2.2.4",null,null,"Projektová dokumentace pro provádění stavby",null,null,"-","Nezařazeno",null,{"$f":"I30*hide!$D$59","v":0},0,null,{"$f":"IF('1A'!$H30=\"Individuálně\",IF('1A'!$I30=\"\",\"označit\",\"vyplněno\"),IF('1A'!$H30=\"Smluvně\",IF('1A'!$I30=\"\",\"označit\",\"vyplněno\"),(IF('1A'!$H30>0%,\"vyplněno\",\"označit\"))))","v":"vyplněno"},null,"B.3.6",null,"Hlukové měření pro účely realizace stavby",null,null,null,"Všeobecný objekt","Nezařazeno",null,null,null,null,{"$f":"IF('1B'!$H30=\"Individuálně\",IF('1B'!$I30=\"\",\"označit\",\"vyplněno\"),IF('1B'!$H30=\"Smluvně\",IF('1B'!$I30=\"\",\"označit\",\"vyplněno\"),(IF('1B'!$H30>0%,\"vyplněno\",\"označit\"))))","v":"vyplněno"},null,null,null,null,null,null,null,null,null,null,null,null,{"$f":"IF('1A'!I30>0,IF('1A'!H30=\"\",\"X\",\"OK\"),\"OK\")","v":"OK"}]
["A.2.2.5",null,null,"Dodatky k projektové dokumentaci",null,null,null,"Nezařazeno",null,{"$f":"I31*hide!$D$59","v":0},0,null,{"$f":"IF('1A'!$H31=\"Individuálně\",IF('1A'!$I31=\"\",\"označit\",\"vyplněno\"),IF('1A'!$H31=\"Smluvně\",IF('1A'!$I31=\"\",\"označit\",\"vyplněno\"),(IF('1A'!$H31>0%,\"vyplněno\",\"označit\"))))","v":"vyplněno"},null,"B.3.7",null,"Náhrady",null,null,null,null,null,null,null,null,null,null,null,null,null,null,null,null,null,null,null,null,null,null,{"$f":"IF('1A'!I31>0,IF('1A'!H31=\"\",\"X\",\"OK\"),\"OK\")","v":"OK"}]
["A.2.3",null,"Autorský dozor",null,"předpokládaný počet hodin:",null,null,"Nezařazeno",null,{"$f":"I32*hide!$D$59","v":0},0,null,{"$f":"IF('1A'!$H32=\"Individuálně\",IF('1A'!$I32=\"\",\"označit\",\"vyplněno\"),IF('1A'!$H32=\"Smluvně\",IF('1A'!$I32=\"\",\"označit\",\"vyplněno\"),(IF('1A'!$H32>0%,\"vyplněno\",\"označit\"))))","v":"vyplněno"},null,"B.3.7.1",null,"z toho","Náhrady za omezení hospodaření",null,null,"Přímá platba SŽDC","Nezařazeno",null,null,null,null,{"$f":"IF('1B'!$H32=\"Individuálně\",IF('1B'!$I32=\"\",\"označit\",\"vyplněno\"),IF('1B'!$H32=\"Smluvně\",IF('1B'!$I32=\"\",\"označit\",\"vyplněno\"),(IF('1B'!$H32>0%,\"vyplněno\",\"označit\"))))","v":"označit"},null,null,null,null,null,null,null,null,null,null,null,null,{"$f":"IF('1A'!I32>0,IF('1A'!H32=\"\",\"X\",\"OK\"),\"OK\")","v":"OK"}]
["A.2.4",null,"Ostatní náklady pro přípravu stavby",null,null,null,null,null,{"$f":"SUM(I34:I37)","v":0},{"$f":"SUM(J34:J37)","v":0},{"$f":"SUM(K34:K37)","v":0},null,null,null,"B.3.7.2",null,null,"Náhrady za omezení provozu",null,null,null,"Nezařazeno",null,null,null,null,{"$f":"IF('1B'!$H33=\"Individuálně\",IF('1B'!$I33=\"\",\"označit\",\"vyplněno\"),IF('1B'!$H33=\"Smluvně\",IF('1B'!$I33=\"\",\"označit\",\"vyplněno\"),(IF('1B'!$H33>0%,\"vyplněno\",\"označit\"))))","v":"vyplněno"}]
["A.2.4.1",null,"z toho","Osvědčení o shodě notifikovanou osobou v přípravě",null,null,null,"Nezařazeno",null,{"$f":"I34*hide!$D$59","v":0},{"$f":"I34-J34","v":0},null,{"$f":"IF('1A'!$H34=\"Individuálně\",IF('1A'!$I34=\"\",\"označit\",\"vyplněno\"),IF('1A'!$H34=\"Smluvně\",IF('1A'!$I34=\"\",\"označit\",\"vyplněno\"),(IF('1A'!$H34>0%,\"vyplněno\",\"označit\"))))","v":"vyplněno"},null,"B.3.7.3",null,null,"Ostatní náhrady v realizaci",null,null,null,"Nezařazeno",null,null,null,null,null,null,null,null,null,null,null,null,null,null,null,null,null,{"$f":"IF('1A'!I34>0,IF('1A'!H34=\"\",\"X\",\"OK\"),\"OK\")","v":"OK"}]
["A.2.4.2",null,null,"Koordinátor BOZP v přípravě",null,null,null,"Nezařazeno",null,{"$f":"I35*hide!$D$59","v":0},{"$f":"I35-J35","v":0},null,{"$f":"IF('1A'!$H35=\"Individuálně\",IF('1A'!$I35=\"\",\"označit\",\"vyplněno\"),IF('1A'!$H35=\"Smluvně\",IF('1A'!$I35=\"\",\"označit\",\"vyplněno\"),(IF('1A'!$H35>0%,\"vyplněno\",\"označit\"))))","v":"vyplněno"},null,"B.3.8",null,"Zabezpečovací a konzervační práce",null,null,null,"-","Nezařazeno",null,0,null,null,{"$f":"IF('1B'!$H35=\"Individuálně\",IF('1B'!$I35=\"\",\"označit\",\"vyplněno\"),IF('1B'!$H35=\"Smluvně\",IF('1B'!$I35=\"\",\"označit\",\"vyplněno\"),(IF('1B'!$H35>0%,\"vyplněno\",\"označit\"))))","v":"vyplněno"},null,null,null,null,null,null,null,null,null,null,null,null,{"$f":"IF('1A'!I35>0,IF('1A'!H35=\"\",\"X\",\"OK\"),\"OK\")","v":"OK"}]
["A.2.4.3",null,null,"Zpracování žádosti o spolufinancování stavby ",null,null,null,"Nezařazeno",null,{"$f":"I36*hide!$D$59","v":0},{"$f":"I36-J36","v":0},null,{"$f":"IF('1A'!$H36=\"Individuálně\",IF('1A'!$I36=\"\",\"označit\",\"vyplněno\"),IF('1A'!$H36=\"Smluvně\",IF('1A'!$I36=\"\",\"označit\",\"vyplněno\"),(IF('1A'!$H36>0%,\"vyplněno\",\"označit\"))))","v":"vyplněno"},null,"B.3.9",null,"Ostatní nezařazené náklady v realizaci",null,null,null,"Všeobecný objekt","Nezařazeno",null,null,null,null,{"$f":"IF('1B'!$H36=\"Individuálně\",IF('1B'!$I36=\"\",\"označit\",\"vyplněno\"),IF('1B'!$H36=\"Smluvně\",IF('1B'!$I36=\"\",\"označit\",\"vyplněno\"),(IF('1B'!$H36>0%,\"vyplněno\",\"označit\"))))","v":"vyplněno"},null,null,null,null,null,null,null,null,null,null,null,null,{"$f":"IF('1A'!I36>0,IF('1A'!H36=\"\",\"X\",\"OK\"),\"OK\")","v":"OK"}]
["A.2.4.4",null,null,"Ostatní nezařazené činnosti v přípravě",null,null,null,"Nezařazeno",null,{"$f":"I37*hide!$D$59","v":0},{"$f":"I37-J37","v":0},null,{"$f":"IF('1A'!$H37=\"Individuálně\",IF('1A'!$I37=\"\",\"označit\",\"vyplněno\"),IF('1A'!$H37=\"Smluvně\",IF('1A'!$I37=\"\",\"označit\",\"vyplněno\"),(IF('1A'!$H37>0%,\"vyplněno\",\"označit\"))))","v":"vyplněno"},null,"B.3.10",null,"Jiné náklady v realizaci",null,null,null,"-","Nezařazeno",null,null,null,null,{"$f":"IF('1B'!$H37=\"Individuálně\",IF('1B'!$I37=\"\",\"označit\",\"vyplněno\"),IF('1B'!$H37=\"Smluvně\",IF('1B'!$I37=\"\",\"označit\",\"vyplněno\"),(IF('1B'!$H37>0%,\"vyplněno\",\"označit\"))))","v":"vyplněno"},null,null,null,null,null,null,null,null,null,null,null,null,{"$f":"IF('1A'!I37>0,IF('1A'!H37=\"\",\"X\",\"OK\"),\"OK\")","v":"OK"}]
["A.2.5",null,"Dokumentace skutečného provedení",null,null,null,"-",null,{"$f":"SUM(I39:I41)","v":0},{"$f":"SUM(J39:J41)","v":0},{"$f":"SUM(K39:K41)","v":0},null,null,null,"B.3.11",null,"Stavební náklady z rozdílu stádia přípravy a realizace",null,null,null,null,"Nezařazeno"]
["A.2.5.1",null,"z toho","Geodetická dokumentace skutečného provedení stavby",null,null,null,"Nezařazeno",null,{"$f":"I39*hide!$D$59","v":0},{"$f":"I39-J39","v":0},null,{"$f":"IF('1A'!$H39=\"Individuálně\",IF('1A'!$I39=\"\",\"označit\",\"vyplněno\"),IF('1A'!$H39=\"Smluvně\",IF('1A'!$I39=\"\",\"označit\",\"vyplněno\"),(IF('1A'!$H39>0%,\"vyplněno\",\"označit\"))))","v":"vyplněno"},null,"B.4","Příspěvky jiným investorům",null,null,null,null,null,null,null,null,null,null,null,null,null,null,null,null,null,null,null,null,null,null,null,{"$f":"IF('1A'!I39>0,IF('1A'!H39=\"\",\"X\",\"OK\"),\"OK\")","v":"OK"}]
["A.2.5.2",null,null,"Dokumentace skutečného provedení v listinné formě",null,null,null,"Nezařazeno",null,{"$f":"I40*hide!$D$59","v":0},{"$f":"I40-J40","v":0},null,{"$f":"IF('1A'!$H40=\"Individuálně\",IF('1A'!$I40=\"\",\"označit\",\"vyplněno\"),IF('1A'!$H40=\"Smluvně\",IF('1A'!$I40=\"\",\"označit\",\"vyplněno\"),(IF('1A'!$H40>0%,\"vyplněno\",\"označit\"))))","v":"vyplněno"},null,"B.4.1","z toho","Podíl na účelně vynaložených nákl. ve smyslu zák. č.458/00 Sb.",null,null,null,null,"Nezařazeno",null,null,null,null,{"$f":"IF('1B'!$H40=\"Individuálně\",IF('1B'!$I40=\"\",\"označit\",\"vyplněno\"),IF('1B'!$H40=\"Smluvně\",IF('1B'!$I40=\"\",\"označit\",\"vyplněno\"),(IF('1B'!$H40>0%,\"vyplněno\",\"označit\"))))","v":"vyplněno"},null,null,null,null,null,null,null,null,null,null,null,null,{"$f":"IF('1A'!I40>0,IF('1A'!H40=\"\",\"X\",\"OK\"),\"OK\")","v":"OK"}]
["A.2.5.3",null,null,"Dokumentace skutečného provedení v elektronické formě",null,null,null,"Nezařazeno",null,{"$f":"I41*hide!$D$59","v":0},{"$f":"I41-J41","v":0},null,{"$f":"IF('1A'!$H41=\"Individuálně\",IF('1A'!$I41=\"\",\"označit\",\"vyplněno\"),IF('1A'!$H41=\"Smluvně\",IF('1A'!$I41=\"\",\"označit\",\"vyplněno\"),(IF('1A'!$H41>0%,\"vyplněno\",\"označit\"))))","v":"vyplněno"},null,"B.4.2",null,"Podíl na účelně vynaložených nákladech dle zákona č. 127/2005 Sb.",null,null,null,null,"Nezařazeno",null,null,null,null,{"$f":"IF('1B'!$H41=\"Individuálně\",IF('1B'!$I41=\"\",\"označit\",\"vyplněno\"),IF('1B'!$H41=\"Smluvně\",IF('1B'!$I41=\"\",\"označit\",\"vyplněno\"),(IF('1B'!$H41>0%,\"vyplněno\",\"označit\"))))","v":"vyplněno"},null,null,null,null,null,null,null,null,null,null,null,null,{"$f":"IF('1A'!I41>0,IF('1A'!H41=\"\",\"X\",\"OK\"),\"OK\")","v":"OK"}]
["A.3","Výkupy a zatížení nemovitých věcí",null,null,null,null,null,null,{"$f":"SUM(I43:I45)","v":0},{"$f":"SUM(J43:J45)","v":0},{"$f":"SUM(K43:K45)","v":0},null,null,null,"B.4.3",null,"Ostatní příspěvky",null,null,null,null,"Nezařazeno",null,null,null,null,{"$f":"IF('1B'!$H42=\"Individuálně\",IF('1B'!$I42=\"\",\"označit\",\"vyplněno\"),IF('1B'!$H42=\"Smluvně\",IF('1B'!$I42=\"\",\"označit\",\"vyplněno\"),(IF('1B'!$H42>0%,\"vyplněno\",\"označit\"))))","v":"vyplněno"}]
["A.3.1","z toho","Výkupy pozemků",null,null,null,null,"Nezařazeno",null,null,{"$f":"I43","v":0},null,{"$f":"IF('1A'!$H43=\"Předpoklad\",IF('1A'!$I43=\"\",\"označit\",\"vyplněno\"),IF('1A'!$H43=\"Smluvně\",IF('1A'!$I43=\"\",\"označit\",\"vyplněno\"),(IF('1A'!$H43>0%,\"vyplněno\",\"označit\"))))","v":"vyplněno"},null,"B.5","Rezerva",null,null,null,null,"S z listu 3SO, 3PS",null,null,null,null,null,null,null,null,null,null,null,null,null,null,null,null,null,null,{"$f":"IF('1A'!I43>0,IF('1A'!H43=\"\",\"X\",\"OK\"),\"OK\")","v":"OK"}]
["A.3.2",null,"Výkupy staveb",null,null,null,null,"Nezařazeno",null,null,{"$f":"I44","v":0},null,{"$f":"IF('1A'!$H44=\"Předpoklad\",IF('1A'!$I44=\"\",\"označit\",\"vyplněno\"),IF('1A'!$H44=\"Smluvně\",IF('1A'!$I44=\"\",\"označit\",\"vyplněno\"),(IF('1A'!$H44>0%,\"vyplněno\",\"označit\"))))","v":"vyplněno"},null,"B.6","Náklady na realizaci stavby bez rezervy",null,null,null,null,null,null,null,null,null,null,null,null,null,null,null,null,null,null,null,null,null,null,null,{"$f":"IF('1A'!I44>0,IF('1A'!H44=\"\",\"X\",\"OK\"),\"OK\")","v":"OK"}]
["A.3.3",null,"Věcná břemena a služebnosti",null,null,null,null,"Nezařazeno",null,null,{"$f":"I45","v":0},null,{"$f":"IF('1A'!$H45=\"Předpoklad\",IF('1A'!$I45=\"\",\"označit\",\"vyplněno\"),IF('1A'!$H45=\"Smluvně\",IF('1A'!$I45=\"\",\"označit\",\"vyplněno\"),(IF('1A'!$H45>0%,\"vyplněno\",\"označit\"))))","v":"vyplněno"},null,"B.7","Náklady na realizaci stavby celkem s rezervou",null,null,null,null,null,null,null,null,null,null,null,null,null,null,null,null,null,null,null,null,null,null,null,{"$f":"IF('1A'!I45>0,IF('1A'!H45=\"\",\"X\",\"OK\"),\"OK\")","v":"OK"}]
["A.4","Nájmy pro účely stavby",null,null,null,null,null,null,{"$f":"SUM(I47:I48)","v":0},{"$f":"SUM(J47:J48)","v":0},{"$f":"SUM(K47:K48)","v":0}]
["A.4.1","z toho","Nájmy hrazené investorem přímo",null,null,null,null,"Nezařazeno",null,null,{"$f":"I47","v":0},null,{"$f":"IF('1A'!$H47=\"Předpoklad\",IF('1A'!$I47=\"\",\"označit\",\"vyplněno\"),IF('1A'!$H47=\"Smluvně\",IF('1A'!$I47=\"\",\"označit\",\"vyplněno\"),(IF('1A'!$H47>0%,\"vyplněno\",\"označit\"))))","v":"vyplněno"},null,null,null,null,null,null,null,null,null,null,null,null,null,null,null,null,null,null,null,null,null,null,null,null,null,null,{"$f":"IF('1A'!I47>0,IF('1A'!H47=\"\",\"X\",\"OK\"),\"OK\")","v":"OK"}]
["A.4.2",null,"Nájmy hrazené zhotovitelem stavby",null,null,null,"-","Nezařazeno",null,null,{"$f":"I48","v":0},null,{"$f":"IF('1A'!$H48=\"Předpoklad\",IF('1A'!$I48=\"\",\"označit\",\"vyplněno\"),IF('1A'!$H48=\"Smluvně\",IF('1A'!$I48=\"\",\"označit\",\"vyplněno\"),(IF('1A'!$H48>0%,\"vyplněno\",\"označit\"))))","v":"vyplněno"},null,null,null,null,null,null,null,null,null,null,null,null,null,null,null,null,null,null,null,null,null,null,null,null,null,null,{"$f":"IF('1A'!I48>0,IF('1A'!H48=\"\",\"X\",\"OK\"),\"OK\")","v":"OK"}]
["A.5","Jiné náklady přípravy a zabezpečení stavby",null,null,null,null,null,null,{"$f":"I50+I54+I58+I66","v":0},{"$f":"J50+J54+J58+J66","v":0},{"$f":"K50+K54+K58+K66","v":0}]
["A.5.1","z toho","Poradenské firmy pro přípravu a zabezpečení stavby",null,null,null,null,null,{"$f":"SUM(I51:I53)","v":0},{"$f":"SUM(J51:J53)","v":0},{"$f":"SUM(K51:K53)","v":0}]
["A.5.1.1",null,"z toho","Supervizor ",null,null,"-","Nezařazeno",null,{"$f":"I51*hide!$D$59","v":0},{"$f":"I51-J51","v":0},null,{"$f":"IF('1A'!$H51=\"Individuálně\",IF('1A'!$I51=\"\",\"označit\",\"vyplněno\"),IF('1A'!$H51=\"Smluvně\",IF('1A'!$I51=\"\",\"označit\",\"vyplněno\"),(IF('1A'!$H51>0%,\"vyplněno\",\"označit\"))))","v":"vyplněno"},null,null,null,null,null,null,null,null,null,null,null,null,null,null,null,null,null,null,null,null,null,null,null,null,null,null,{"$f":"IF('1A'!I51>0,IF('1A'!H51=\"\",\"X\",\"OK\"),\"OK\")","v":"OK"}]
["A.5.1.2",null,null,"Poradenské firmy pro geotechnický průzkum",null,null,null,"Nezařazeno",null,{"$f":"I52*hide!$D$59","v":0},{"$f":"I52-J52","v":0},null,{"$f":"IF('1A'!$H52=\"Individuálně\",IF('1A'!$I52=\"\",\"označit\",\"vyplněno\"),IF('1A'!$H52=\"Smluvně\",IF('1A'!$I52=\"\",\"označit\",\"vyplněno\"),(IF('1A'!$H52>0%,\"vyplněno\",\"označit\"))))","v":"vyplněno"},null,null,null,null,null,null,null,null,null,null,null,null,null,null,null,null,null,null,null,null,null,null,null,null,null,null,{"$f":"IF('1A'!I52>0,IF('1A'!H52=\"\",\"X\",\"OK\"),\"OK\")","v":"OK"}]
["A.5.1.3",null,null,"Ostatní poradenské firmy",null,null,null,"Nezařazeno",null,{"$f":"I53*hide!$D$59","v":0},{"$f":"I53-J53","v":0},null,{"$f":"IF('1A'!$H53=\"Individuálně\",IF('1A'!$I53=\"\",\"označit\",\"vyplněno\"),IF('1A'!$H53=\"Smluvně\",IF('1A'!$I53=\"\",\"označit\",\"vyplněno\"),(IF('1A'!$H53>0%,\"vyplněno\",\"označit\"))))","v":"vyplněno"},null,null,null,null,null,null,null,null,null,null,null,null,null,null,null,null,null,null,null,null,null,null,null,null,null,null,{"$f":"IF('1A'!I53>0,IF('1A'!H53=\"\",\"X\",\"OK\"),\"OK\")","v":"OK"}]
["A.5.2",null,"Soutěže a zadávací řízení ",null,null,null,null,null,{"$f":"SUM(I55:I57)","v":0},{"$f":"SUM(J55:J57)","v":0},{"$f":"SUM(K55:K57)","v":0}]
["A.5.2.1",null,"z toho","Soutěže a zadávací řízení na předprojektovou přípravu",null,null,null,"Nezařazeno",null,{"$f":"I55*hide!$D$59","v":0},{"$f":"I55-J55","v":0},null,{"$f":"IF('1A'!$H55=\"Individuálně\",IF('1A'!$I55=\"\",\"označit\",\"vyplněno\"),IF('1A'!$H55=\"Smluvně\",IF('1A'!$I55=\"\",\"označit\",\"vyplněno\"),(IF('1A'!$H55>0%,\"vyplněno\",\"označit\"))))","v":"vyplněno"},null,null,null,null,null,null,null,null,null,null,null,null,null,null,null,null,null,null,null,null,null,null,null,null,null,null,{"$f":"IF('1A'!I55>0,IF('1A'!H55=\"\",\"X\",\"OK\"),\"OK\")","v":"OK"}]
["A.5.2.2",null,null,"Soutěže a zadávací řízení na projektovou přípravu",null,null,null,"Nezařazeno",null,{"$f":"I56*hide!$D$59","v":0},{"$f":"I56-J56","v":0},null,{"$f":"IF('1A'!$H56=\"Individuálně\",IF('1A'!$I56=\"\",\"označit\",\"vyplněno\"),IF('1A'!$H56=\"Smluvně\",IF('1A'!$I56=\"\",\"označit\",\"vyplněno\"),(IF('1A'!$H56>0%,\"vyplněno\",\"označit\"))))","v":"vyplněno"},null,null,null,null,null,null,null,null,null,null,null,null,null,null,null,null,null,null,null,null,null,null,null,null,null,null,{"$f":"IF('1A'!I56>0,IF('1A'!H56=\"\",\"X\",\"OK\"),\"OK\")","v":"OK"}]
["A.5.2.3",null,null,"Soutěže a zadávací řízení na zhotovení stavby",null,null,null,"Nezařazeno",null,{"$f":"I57*hide!$D$59","v":0},{"$f":"I57-J57","v":0},null,{"$f":"IF('1A'!$H57=\"Individuálně\",IF('1A'!$I57=\"\",\"označit\",\"vyplněno\"),IF('1A'!$H57=\"Smluvně\",IF('1A'!$I57=\"\",\"označit\",\"vyplněno\"),(IF('1A'!$H57>0%,\"vyplněno\",\"označit\"))))","v":"vyplněno"},null,null,null,null,null,null,null,null,null,null,null,null,null,null,null,null,null,null,null,null,null,null,null,null,null,null,{"$f":"IF('1A'!I57>0,IF('1A'!H57=\"\",\"X\",\"OK\"),\"OK\")","v":"OK"}]
["A.5.3",null,"Ostatní náklady pro zabezpečení stavby",null,null,null,null,null,{"$f":"SUM(I59:I61,I64:I65)","v":0},{"$f":"SUM(J59:J61,J64:J65)","v":0},{"$f":"SUM(K59:K61,K64:K65)","v":0}]
["A.5.3.1",null,"z toho","Správní a místní poplatky",null,null,null,"Nezařazeno",null,{"$f":"I59*hide!$D$59","v":0},{"$f":"I59-J59","v":0},null,{"$f":"IF('1A'!$H59=\"Individuálně\",IF('1A'!$I59=\"\",\"označit\",\"vyplněno\"),IF('1A'!$H59=\"Smluvně\",IF('1A'!$I59=\"\",\"označit\",\"vyplněno\"),(IF('1A'!$H59>0%,\"vyplněno\",\"označit\"))))","v":"vyplněno"},null,null,null,null,null,null,null,null,null,null,null,null,null,null,null,null,null,null,null,null,null,null,null,null,null,null,{"$f":"IF('1A'!I59>0,IF('1A'!H59=\"\",\"X\",\"OK\"),\"OK\")","v":"OK"}]
["A.5.3.2",null,null,"Záchranný archeologický výzkum",null,null,null,"Nezařazeno",null,{"$f":"I60*hide!$D$59","v":0},{"$f":"I60-J60","v":0},null,{"$f":"IF('1A'!$H60=\"Individuálně\",IF('1A'!$I60=\"\",\"označit\",\"vyplněno\"),IF('1A'!$H60=\"Smluvně\",IF('1A'!$I60=\"\",\"označit\",\"vyplněno\"),(IF('1A'!$H60>0%,\"vyplněno\",\"označit\"))))","v":"vyplněno"},null,null,null,null,null,null,null,null,null,null,null,null,null,null,null,null,null,null,null,null,null,null,null,null,null,null,{"$f":"IF('1A'!I60>0,IF('1A'!H60=\"\",\"X\",\"OK\"),\"OK\")","v":"OK"}]
["A.5.3.3",null,null,"Publicita stavby",null,"z toho zhotovitel v realizaci:",null,null,{"$f":"SUM(I62:I63)","v":0},{"$f":"SUM(J62:J63)","v":0},{"$f":"SUM(K62:K63)","v":0},null,{"$f":"IF('1A'!$H61=\"Individuálně\",IF('1A'!$I61=\"\",\"označit\",\"vyplněno\"),IF('1A'!$H61=\"Smluvně\",IF('1A'!$I61=\"\",\"označit\",\"vyplněno\"),(IF('1A'!$H61>0%,\"vyplněno\",\"označit\"))))","v":"označit"},null,null,null,null,null,null,null,null,null,null,null,null,null,null,null,null,null,null,null,null,null,null,null,null,null,null,{"$f":"IF('1A'!I61>0,IF('1A'!H61=\"\",\"X\",\"OK\"),\"OK\")","v":"OK"}]
["A.5.3.3.1",null,null,"z toho","Publicita povinná",null,"Samostatná smlouva","Nezařazeno",null,{"$f":"I62*hide!$D$59","v":0},{"$f":"I62-J62","v":0},null,{"$f":"IF('1A'!$H62=\"Individuálně\",IF('1A'!$I62=\"\",\"označit\",\"vyplněno\"),IF('1A'!$H62=\"Smluvně\",IF('1A'!$I62=\"\",\"označit\",\"vyplněno\"),(IF('1A'!$H62>0%,\"vyplněno\",\"označit\"))))","v":"vyplněno"},null,null,null,null,null,null,null,null,null,null,null,null,null,null,null,null,null,null,null,null,null,null,null,null,null,null,{"$f":"IF('1A'!I64>0,IF('1A'!H64=\"\",\"X\",\"OK\"),\"OK\")","v":"OK"}]
["A.5.3.3.2",null,null,null,"Publicta nepovinná",null,"-","Nezařazeno",null,{"$f":"I63*hide!$D$59","v":0},{"$f":"I63-J63","v":0},null,{"$f":"IF('1A'!$H63=\"Individuálně\",IF('1A'!$I63=\"\",\"označit\",\"vyplněno\"),IF('1A'!$H63=\"Smluvně\",IF('1A'!$I63=\"\",\"označit\",\"vyplněno\"),(IF('1A'!$H63>0%,\"vyplněno\",\"označit\"))))","v":"vyplněno"},null,null,null,null,null,null,null,null,null,null,null,null,null,null,null,null,null,null,null,null,null,null,null,null,null,null,{"$f":"IF('1A'!I65>0,IF('1A'!H65=\"\",\"X\",\"OK\"),\"OK\")","v":"OK"}]
["A.5.3.4",null,null,"Monitoring stavby",null,null,"-","Nezařazeno",null,{"$f":"I64*hide!$D$59","v":0},{"$f":"I64-J64","v":0},null,{"$f":"IF('1A'!$H64=\"Individuálně\",IF('1A'!$I64=\"\",\"označit\",\"vyplněno\"),IF('1A'!$H64=\"Smluvně\",IF('1A'!$I64=\"\",\"označit\",\"vyplněno\"),(IF('1A'!$H64>0%,\"vyplněno\",\"označit\"))))","v":"vyplněno"}]
["A.5.3.5",null,null,"Vyhodnocení stavby",null,null,"-","Nezařazeno",null,{"$f":"I65*hide!$D$59","v":0},{"$f":"I65-J65","v":0},null,{"$f":"IF('1A'!$H65=\"Individuálně\",IF('1A'!$I65=\"\",\"označit\",\"vyplněno\"),IF('1A'!$H65=\"Smluvně\",IF('1A'!$I65=\"\",\"označit\",\"vyplněno\"),(IF('1A'!$H65>0%,\"vyplněno\",\"označit\"))))","v":"vyplněno"},null,null,null,null,null,null,null,null,null,null,null,null,null,null,null,null,null,null,null,null,null,null,null,null,null,null,{"$f":"IF('1A'!I67>0,IF('1A'!H67=\"\",\"X\",\"OK\"),\"OK\")","v":"OK"}]
["A.5.4",null,"Odvody za odnětí ZPF a LPF",null,null,null,null,null,{"$f":"SUM(I67:I68)","v":0},{"$f":"SUM(J67:J68)","v":0},{"$f":"SUM(K67:K68)","v":0},null,null,null,null,null,null,null,null,null,null,null,null,null,null,null,null,null,null,null,null,null,null,null,null,null,null,null,null,{"$f":"IF('1A'!I68>0,IF('1A'!H68=\"\",\"X\",\"OK\"),\"OK\")","v":"OK"}]
["A.5.4.1",null,"z toho","Odvody za trvalé odnětí ZPF a LPF",null,null,null,"Nezařazeno",null,{"$f":"I67*hide!$D$59","v":0},{"$f":"I67-J67","v":0},null,{"$f":"IF('1A'!$H67=\"Individuálně\",IF('1A'!$I67=\"\",\"označit\",\"vyplněno\"),IF('1A'!$H67=\"Smluvně\",IF('1A'!$I67=\"\",\"označit\",\"vyplněno\"),(IF('1A'!$H67>0%,\"vyplněno\",\"označit\"))))","v":"vyplněno"}]
["A.5.4.2",null,null,"Odvody za dočasné odnětí ZPF a LPF",null,null,null,"Nezařazeno",null,{"$f":"I68*hide!$D$59","v":0},{"$f":"I68-J68","v":0},null,{"$f":"IF('1A'!$H68=\"Individuálně\",IF('1A'!$I68=\"\",\"označit\",\"vyplněno\"),IF('1A'!$H68=\"Smluvně\",IF('1A'!$I68=\"\",\"označit\",\"vyplněno\"),(IF('1A'!$H68>0%,\"vyplněno\",\"označit\"))))","v":"vyplněno"}]
["A.6","Náklady na přípravu a celkové zabezpečení stavby celkem",null,null,null,null,null,null,{"$f":"I49+I46+I42+I9+I8","v":0},{"$f":"J49+J46+J42+J9+J8","v":0},{"$f":"K49+K46+K42+K9+K8","v":0}]
["Náklady stavby v aktuáním roce:",null,null,null,{"$f":"'Krycí list SR'!$F$4","v":2022},null,null,null,null,"Formulář 1.C",{"$f":"'Krycí list SR'!$H$1","v":"SRP/2022/prozatimní"}]
["Název stavby:",null,{"$f":"'Krycí list SR'!B72","v":0}]
["ISPROFIN:",null,{"$f":"IF('Krycí list SR'!$B$3=\"\",\"\",'Krycí list SR'!$B$3)","v":""},null,"Označení (S-kód):",null,{"$f":"IF('Krycí list SR'!D73=\"\",\"\",'Krycí list SR'!D73)","v":""},null,{"$f":"'Krycí list SR'!E73","v":0},{"$f":"'Krycí list SR'!F73","v":0}]
["Investor:","   SŽDC s.o.,",null,{"$f":"'Krycí list SR'!$B$5","v":"Stavební správa západ, Ke Štvanici 656/3,186 00  Praha 8"},null,null,null,"IČO:",{"$f":"'Krycí list SR'!$D$8","v":70994234},"DIČ:",{"$f":"'Krycí list SR'!D79","v":0}]
["Jiný investor:",null,{"$f":"IF('Krycí list SR'!$B$7=\"\",\"neurčen\",'Krycí list SR'!$B$7)","v":"neurčen"},null,null,null,null,null,"Náklady celkem\n\n[Kč]","Náklady dle rozdělení majektu"]
["C","Rekapitulace nákladů",null,null,null,null,null,null,null,"SŽDC","Ostatní"]
[]
["C.1","Pořizovací investiční náklady",null,null,null,null,null,"PIN",{"$f":"I78+I82","v":0},{"$f":"J78+J82","v":0},{"$f":"K78+K82","v":0}]
["C.1.1","z toho","Celkové investiční náklady",null,null,null,null,"CIN",{"$f":"SUM(I79:I81)","v":0},{"$f":"SUM(J79:J81)","v":0},{"$f":"SUM(K79:K81)","v":0}]
["C.1.1.1",null,"z toho","Náklady na přípravu a celkové zabezpečení výstavby",null,null,null,null,{"$f":"'1A'!I139","v":0},{"$f":"'1A'!J139","v":0},{"$f":"I79-J79","v":0}]
["C.1.1.2",null,null,"Náklady na realizaci stavby bez rezervy",null,null,null,null,{"$f":"'1B'!I113","v":0},{"$f":"'1B'!J113","v":0},{"$f":"I80-J80","v":0}]
["C.1.1.3",null,null,"Rezerva stavby",null,null,null,null,{"$f":"'1B'!I112","v":0},{"$f":"'1B'!J112","v":0},{"$f":"I81-J81","v":0}]
["C.1.2",null,"Hodnota zůstatkového majetku SŽDC s.o., který bude stavbou odstraněn",null,null,null,null,null,null,{"$f":"I82","v":0}]
["C.2","Provozní náklady        ",null,null,null,null,null,"PRN",null,{"$f":"I83","v":0}]
["C.3","Příjmy generované stavbou ",null,null,null,null,null,null,{"$f":"I85+I86","v":0},{"$f":"J85+J86","v":0},{"$f":"K85+K86","v":0}]
["C.3.1","z toho","Zdroje z výzisku materiálu SŽDC",null,null,null,null,null,null,{"$f":"I85*hide!$D$59","v":0}]
["C.3.2",null,"Ostatní zdroje",null,null,null,null,null,null,null,{"$f":"I86-J86","v":0}]
[]
["C.4","Celkové náklady stavby bez DPH               ",null,null,null,null,null,"CNS",{"$f":"I77+I83-I84","v":0},{"$f":"J77+J83-J84","v":0},{"$f":"K77+K83-K84","v":0}]
["C.5","Daň z přidané hodnoty celkem:",null,null,"(dle hodnoty  DPH pro daný rok stavby)",null,null,"DPH",{"$f":"'2Bhide'!H126","v":0},{"$f":"I89*hide!$D$59","v":0},{"$f":"I89-J89","v":0}]
["C.6","Celkové náklady stavby vč. DPH                          ",null,null,null,null,null,"CND",{"$f":"I89+I88","v":0},{"$f":"J89+J88","v":0},{"$f":"K89+K88","v":0}]

{"sheet":"hidekody","index":19,"n_rows":29,"n_cols":2,"rows_kept":29,"cut":false,"hidden":true,"merged":[]}
["Název","SO, PS"]
["Železniční zabezpečovací zařízení","D.1.1"]
["Železniční sdělovací zařízení","D.1.2"]
["Silnoproudá technologie včetně DŘT","D.1.3"]
["Ostatní technologická zařízení","D.1.4"]
["Železniční svršek","D.2.1.1.0"]
["Železniční spodek","D.2.1.1.1"]
["Protihlukové objekty","D.2.1.2"]
["Nástupiště","D.2.1.3"]
["Železniční přejezdy","D.2.1.4"]
["Mosty, propustky, zdi","D.2.1.5"]
["Ostatní inženýrské objekty","D.2.1.6"]
["Potrubní vedení","D.2.1.7"]
["Železniční tunely","D.2.1.8"]
["Pozemní komunikace","D.2.1.9"]
["Kabelovody, kolektory","D.2.1.10"]
["Pozemní stavební objekty","D.2.2"]
["Trakční vedení","D.2.3.1"]
["Napájecí stanice (měnírna, trakční transformovna) – stavební část","D.2.3.2"]
["Spínací stanice – stavební část","D.2.3.3"]
["Ohřev výměn (elektrický - EOV, plynový - POV)","D.2.3.4"]
["Elektrické předtápěcí zařízení (EPZ)","D.2.3.5"]
["Rozvodny vn, nn, osvětlení a dálkové ovládání odpojovačů","D.2.3.6"]
["Ukolejnění kovových konstrukcí","D.2.3.7"]
["Vnější uzemnění","D.2.3.8"]
["Ostatní kabelizace","D.2.3.9"]
["Příprava území a kácení","D.2.4.1"]
["Náhradní výsadba","D.2.4.2"]
["Zabezpečení veřejných zájmů","D.2.4.3"]

{"sheet":"hide","index":20,"n_rows":119,"n_cols":20,"rows_kept":119,"cut":false,"hidden":true,"merged":[]}
["A1","A.2.1.1.1, A.2.2.1.2","A.2.1.1.3, A2.2.5","A.2.1.1.4","A.2.1.1.6","A.2.1.2","A.2.2.1.3, A.5.2.1","A.2.2.2","A.2.3.","A.2.4.2","A.2.4.3","A.2.5.1","A.2.5.2","A.2.5.3","A.5.1.2","A.5.1.3","A.5.2.2","A.5.2.3","A.5.3.4","A.5.3.5, B.3.3."]
["Smluvně","Smluvně","Smluvně","Smluvně","Smluvně","Smluvně","Smluvně","Smluvně","Smluvně","Smluvně","Smluvně","Smluvně","Smluvně","Smluvně","Smluvně","Smluvně","Smluvně","Smluvně","Smluvně","Smluvně"]
["Jinak","Jinak","Jinak","Jinak","Jinak","Jinak","Jinak","Jinak","Jinak","Jinak","Jinak","Jinak","Jinak","Jinak","Jinak","Jinak","Jinak","Jinak","Jinak","Jinak"]
[0.08,4.0000000000000001E-3,5.0000000000000001E-3,6.0000000000000001E-3,2E-3,2.1999999999999999E-2,0.01,7.0000000000000007E-2,0.12,0.01,0.04,6.7999999999999996E-3,8.0000000000000002E-3,6.9999999999999999E-4,6.0000000000000001E-3,2.5000000000000001E-3,1.7999999999999999E-2,1.5E-3,4.0000000000000001E-3,1E-3]
[7.0000000000000007E-2,3.0000000000000001E-3,4.0000000000000001E-3,5.0000000000000001E-3,1.8E-3,0.02,8.9999999999999993E-3,6.5000000000000002E-2,0.115,8.9999999999999993E-3,3.5000000000000003E-2,6.4999999999999997E-3,7.9000000000000008E-3,5.9999999999999995E-4,5.4999999999999997E-3,2.3999999999999998E-3,1.4999999999999999E-2,1.1999999999999999E-3,3.5000000000000001E-3,8.9999999999999998E-4]
[0.06,2E-3,3.0000000000000001E-3,4.0000000000000001E-3,1.5E-3,1.7999999999999999E-2,8.0000000000000002E-3,0.06,0.11,8.0000000000000002E-3,0.03,6.3E-3,7.7999999999999996E-3,5.0000000000000001E-4,5.0000000000000001E-3,2.3E-3,1.2E-2,1E-3,3.0000000000000001E-3,8.0000000000000004E-4]
[0.05,1E-3,2E-3,3.0000000000000001E-3,1.1999999999999999E-3,1.6E-2,7.0000000000000001E-3,5.5E-2,0.105,7.0000000000000001E-3,2.5000000000000001E-2,6.0000000000000001E-3,7.7000000000000002E-3,4.0000000000000002E-4,4.4999999999999997E-3,2.2000000000000001E-3,0.01,8.0000000000000004E-4,2.5000000000000001E-3,6.9999999999999999E-4]
[0.04,null,1E-3,2E-3,1E-3,1.4999999999999999E-2,6.0000000000000001E-3,0.05,0.1,6.0000000000000001E-3,0.02,5.7999999999999996E-3,7.6E-3,2.9999999999999997E-4,4.0000000000000001E-3,2.0999999999999999E-3,8.0000000000000002E-3,6.9999999999999999E-4,2E-3,5.9999999999999995E-4]
[0.03,null,null,null,6.9999999999999999E-4,"1,4,%",5.0000000000000001E-3,4.4999999999999998E-2,9.5000000000000001E-2,5.0000000000000001E-3,1.7500000000000002E-2,5.4999999999999997E-3,7.4999999999999997E-3,null,3.8999999999999998E-3,2E-3,5.0000000000000001E-3,5.9999999999999995E-4,1.5E-3,5.0000000000000001E-4]
[0.02,null,null,null,5.9999999999999995E-4,1.2E-2,4.0000000000000001E-3,0.04,9.0000000000000094E-2,4.0000000000000001E-3,1.4999999999999999E-2,5.3E-3,7.0000000000000001E-3,null,3.8E-3,1.9E-3,4.0000000000000001E-3,5.0000000000000001E-4,1.1999999999999999E-3,4.0000000000000002E-4]
[null,null,null,null,5.0000000000000001E-4,0.01,3.0000000000000001E-3,3.5000000000000003E-2,8.5000000000000103E-2,3.0000000000000001E-3,1.2E-2,5.0000000000000001E-3,6.4999999999999997E-3,null,3.7000000000000002E-3,1.8E-3,3.0000000000000001E-3,4.0000000000000002E-4,1E-3,2.9999999999999997E-4]
[null,null,null,null,4.0000000000000002E-4,8.9999999999999993E-3,2E-3,3.3000000000000002E-2,8.0000000000000099E-2,2E-3,0.01,4.4999999999999997E-3,6.0000000000000001E-3,null,3.5999999999999999E-3,1.6999999999999999E-3,2E-3,2.9999999999999997E-4,8.0000000000000004E-4,2.0000000000000001E-4]
[null,null,null,null,null,8.0000000000000002E-3,1E-3,0.03,7.5000000000000094E-2,1E-3,9.4999999999999998E-3,4.0000000000000001E-3,5.4999999999999997E-3,null,3.5000000000000001E-3,1.6000000000000001E-3,1E-3,2.0000000000000001E-4,5.0000000000000001E-4]
[null,null,null,null,null,7.0000000000000001E-3,null,2.8000000000000001E-2,7.0000000000000104E-2,8.9999999999999998E-4,8.9999999999999993E-3,3.5000000000000001E-3,5.0000000000000001E-3,null,null,1.5E-3,null,1E-4]
[null,null,null,null,null,6.0000000000000001E-3,null,2.7E-2,6.5000000000000099E-2,8.0000000000000004E-4,8.5000000000000006E-3,3.0000000000000001E-3,4.4999999999999997E-3]
[null,null,null,null,null,5.0000000000000001E-3,null,2.5999999999999999E-2,null,6.9999999999999999E-4,8.0000000000000002E-3,2.5000000000000001E-3,4.0000000000000001E-3]
[null,null,null,null,null,null,null,2.5000000000000001E-2,null,5.9999999999999995E-4,null,1.5E-3,3.5000000000000001E-3]
[null,null,null,null,null,null,null,2.4E-2,null,5.0000000000000001E-4,null,1E-3,3.0000000000000001E-3]
[null,null,null,null,null,null,null,2.3E-2,null,null,null,null,2.5000000000000001E-3]
[null,null,null,null,null,null,null,2.1999999999999999E-2,null,null,null,null,2E-3]
[null,null,null,null,null,null,null,2.1000000000000001E-2,null,null,null,null,1.5E-3]
[null,null,null,null,null,null,null,0.02,null,null,null,null,9.9999999999999005E-4]
[]
[]
["B.3.1","B.3.2","B.3.4 - B.3.7.1",null,"Majetek",null,"SO","Název",null,"zařazení PN"]
["Smluvně","Smluvně","Smluvně",null,"SŽDC",null,"E.1.1.1","Železniční svršek",null,"SO 98-98"]
["Jinak","Jinak","Jinak",null,null,null,"E.1.1.2","Železniční spodek",null,"Samostatně"]
[3.0000000000000001E-3,0.03,"Výpočtem",null,"Ostatní",null,"E.1.2","Nástupiště"]
[2.5000000000000001E-3,2.5000000000000001E-2,null,null,null,null,"E.1.3","Železniční přejezdy",null,"Dodatkem"]
[2E-3,0.02,null,null,null,null,"E.1.4","Mosty, propustky, zdi"]
[1.5E-3,1.4999999999999999E-2,null,null,null,null,"E.1.5","Ostatní inženýrské objekty"]
[1.2999999999999999E-3,0.01,null,null,null,null,"E.1.6","Potrubní vedení"]
[1.1999999999999999E-3,8.0000000000000002E-3,null,null,null,null,"E.1.7","Železniční tunely"]
[1.1000000000000001E-3,4.0000000000000001E-3,null,null,null,null,"E.1.8","Pozemní komunikace"]
[1E-3,3.5000000000000001E-3,null,null,null,null,"E.1.9","Kabelovody, kolektory"]
[8.9999999999999998E-4,3.0000000000000001E-3,null,null,null,null,"E.1.10","Protihlukové objekty"]
[8.0000000000000004E-4,2.5000000000000001E-3,null,null,null,null,"E.2","Pozemní stavební objekty"]
[6.9999999999999999E-4,2E-3,null,null,null,null,"E.3.1","Trakční vedení"]
[5.9999999999999995E-4,1.5E-3,null,null,null,null,"E.3.2","Napájecí stanice (měnírna, trakční transformovna) – stavební část"]
[null,1.4E-3,null,null,null,null,"E.3.3","Spínací stanice – stavební část"]
[null,1.2999999999999999E-3,null,null,null,null,"E.3.4","Ohřev výměn (elektrický - EOV, plynový - POV)"]
[null,1.1999999999999999E-3,null,null,null,null,"E.3.5","Elektrické předtápěcí zařízení (EPZ)"]
[null,1.1000000000000001E-3,null,null,null,null,"E.3.6","Rozvodny vn, nn, osvětlení a dálkové ovládání odpojovačů"]
[null,1E-3,null,null,null,null,"E.3.7","Ukolejnění kovových konstrukcí"]
[null,null,null,null,null,null,"E.3.8","Vnější uzemnění"]
[null,null,null,null,null,null,"E.3.9","Ostatní kabelizace"]
[]
[null,null,null,null,null,"PS","D.1","Železniční zabezpečovací zařízení"]
[null,null,null,null,null,null,"D.2","Železniční sdělovací zařízení"]
[null,null,null,null,null,null,"D.3","Silnoproudá technologie včetně DŘT"]
[null,null,null,null,null,null,"D.4","Ostatní technologická zařízení"]
[]
[]
[null,"Výpočet SŽDC",null,null,null,null,null,"Stádia stavby"]
["SO","B.1.1.1 SŽDC",{"$f":"'3SO'!$D$3","v":0},null,null,null,null,"Stádium 1","záměr projektu (ZP)"]
["SO","B.1.2.1 SŽDC",{"$f":"'3SO'!$D$5","v":0},null,null,null,null,"Stádium 2","dokumentace pro územní řízení (DUR)"]
["PS","B.1.1.1 SŽDC",{"$f":"'3PS'!$D$3","v":0},null,null,null,null,"Stádium 3","projektová dokumentace"]
["PS","B.1.2.1 SŽDC",{"$f":"'3PS'!$D$5","v":0},null,null,null,null,null,"STÁDIUM - vybrat v poli E3"]
["SUM",null,{"$f":"SUM(C55:C58)","v":0},{"$f":"IF(C68<>0,C59/C68,0)","v":0}]
[]
[null,"Výpočet Ostatní"]
["SO","B.1.1.1 Ostatní",{"$f":"'3SO'!$D$7","v":0}]
["SO","B.1.2.1 Ostatní",{"$f":"'3SO'!$D$9","v":0}]
["PS","B.1.1.1 Ostatní",{"$f":"'3PS'!$D$7","v":0}]
["PS","B.1.2.1 Ostatní",{"$f":"'3PS'!$D$9","v":0}]
["SUM",null,{"$f":"SUM(C62:C65)","v":0}]
[]
["SUM",null,{"$f":"C59+C66","v":0}]
[]
[null,"Inflace"]
[null,{"$f":"'Krycí list SR'!F6","v":0.02}]
[]
[null,"roky výstavby",null,null,null,null,null,"roky výstavby","SO","PS","SUMA","Koef"]
[2012,"2012-01-01","2012-12-31",{"$f":"B74","v":40909},{"$f":"C74","v":41274},null,null,{"$f":"'2A'!J4","v":2022},{"$f":"hideSO!$L$9","v":330623306.23306233},{"$f":"hidePS!$L$9","v":0},{"$f":"I74+J74","v":330623306.23306233},{"$f":"IF($K$85<>0,K74/$K$85,0)","v":0.66124661246612471}]
[2013,"2013-01-01","2013-12-31",41275,41639,null,null,{"$f":"H74+1","v":2023},{"$f":"hideSO!$P$9","v":169376693.76693767},{"$f":"hidePS!$P$9","v":0},169376693.76693767,{"$f":"IF($K$85<>0,K75/$K$85,0)","v":0.33875338753387535}]
[2014,"2014-01-01","2014-12-31",41640,42004,null,null,2024,{"$f":"hideSO!$T$9","v":0},{"$f":"hidePS!$T$9","v":0},0,0]
[2015,"2015-01-01","2015-12-31",42005,42369,null,null,2025,{"$f":"hideSO!$X$9","v":0},{"$f":"hidePS!$X$9","v":0},0,0]
[2016,"2016-01-01","2016-12-31",42370,42735,null,null,2026,{"$f":"hideSO!$AB$9","v":0},{"$f":"hidePS!$AB$9","v":0},0,0]
[2017,"2017-01-01","2017-12-31",42736,43100,null,null,2027,{"$f":"hideSO!$AF$9","v":0},{"$f":"hidePS!$AF$9","v":0},0,0]
[2018,"2018-01-01","2018-12-31",43101,43465,null,null,2028,{"$f":"hideSO!$AJ$9","v":0},{"$f":"hidePS!$AJ$9","v":0},0,0]
[2019,"2019-01-01","2019-12-31",43466,43830,null,null,2029,{"$f":"hideSO!$AN$9","v":0},{"$f":"hidePS!$AN$9","v":0},0,0]
[2020,"2020-01-01","2020-12-31",43831,44196,null,null,2030,{"$f":"hideSO!$AR$9","v":0},{"$f":"hidePS!$AR$9","v":0},0,0]
[2021,"2021-01-01","2021-12-31",44197,44561,null,null,{"$f":"CONCATENATE(\"po \",H82)","v":"po 2030"},{"$f":"hideSO!$AV$9","v":0},{"$f":"hidePS!$AV$9","v":0},0,0]
[2022,"2022-01-01","2022-12-31",44562,44926]
[2023,"2023-01-01","2023-12-31",44927,45291,null,null,null,{"$f":"SUM(I74:I84)","v":500000000},{"$f":"SUM(J74:J84)","v":0},{"$f":"SUM(K74:K84)","v":500000000},{"$f":"SUM(L74:L83)","v":1}]
[2024,"2024-01-01","2024-12-31",45292,45657]
[2025,"2025-01-01","2025-12-31",45658,46022,null,null,null,{"$f":"IF(I85=hideSO!$G$9,\"SO OK\",\"SO CHYBA\")","v":"SO OK"},{"$f":"IF(J85=hidePS!$G$9,\"PS OK\",\"PS CHYBA\")","v":"PS OK"}]
[2026,"2026-01-01","2026-12-31",46023,46387]
[2027,"2027-01-01","2027-12-31",46388,46752,null,null,"roky výstavby","SO","PS","SUMA","Koef"]
[2028,"2028-01-01","2028-12-31",46753,47118,null,null,{"$f":"'2A'!J4","v":2022},{"$f":"hideSO!$L$9","v":330623306.23306233},0,{"$f":"I90+J90","v":330623306.23306233},{"$f":"IF($K$101<>0,K90/$K$101,0)","v":0.66124661246612471}]
[2029,"2029-01-01","2029-12-31",47119,47483,null,null,{"$f":"H90+1","v":2023},{"$f":"hideSO!$P$9","v":169376693.76693767},0,169376693.76693767,{"$f":"IF($K$101<>0,K91/$K$101,0)","v":0.33875338753387535}]
[2030,"2030-01-01","2030-12-31",47484,47848,null,null,2024,{"$f":"hideSO!$T$9","v":0},0,0,0]
[2031,"2031-01-01","2031-12-31",47849,48213,null,null,2025,{"$f":"hideSO!$X$9","v":0},0,0,0]
[2032,"2032-01-01","2032-12-31",48214,48579,null,null,2026,{"$f":"hideSO!$AB$9","v":0},0,0,0]
[2033,"2033-01-01","2033-12-31",48580,48944,null,null,2027,{"$f":"hideSO!$AF$9","v":0},0,0,0]
[2034,"2034-01-01","2034-12-31",48945,49309,null,null,2028,{"$f":"hideSO!$AJ$9","v":0},0,0,0]
[2035,"2035-01-01","2035-12-31",49310,49674,null,null,2029,{"$f":"hideSO!$AN$9","v":0},{"$f":"hidePS!$AN$9","v":0},0,0]
[2036,"2036-01-01","2036-12-31",49675,50040,null,null,2030,{"$f":"hideSO!$AR$9","v":0},{"$f":"hidePS!$AR$9","v":0},0,0]
[2037,"2037-01-01","2037-12-31",50041,50405,null,null,{"$f":"CONCATENATE(\"po \",H98)","v":"po 2030"},{"$f":"hideSO!$AV$9","v":0},{"$f":"hidePS!$AV$9","v":0},0,0]
[2038,"2038-01-01","2038-12-31",50406,50770]
[2039,"2039-01-01","2039-12-31",50771,51135,null,null,null,{"$f":"SUM(I90:I100)","v":500000000},{"$f":"SUM(J90:J100)","v":0},{"$f":"SUM(K90:K100)","v":500000000},{"$f":"SUM(L90:L99)","v":1}]
[2040,"2040-01-01","2040-12-31",51136,51501]
[2041,"2041-01-01","2041-12-31",51502,51866,null,null,null,{"$f":"IF(I101=hideSO!$G$9,\"SO OK\",\"SO CHYBA\")","v":"SO OK"}]
[2042,"2042-01-01","2042-12-31",51867,52231]
[2043,"2043-01-01","2043-12-31",52232,52596,null,null,"roky výstavby","SO","PS","SUMA","Koef"]
[2044,"2044-01-01","2044-12-31",52597,52962,null,null,{"$f":"'2A'!J4","v":2022},0,{"$f":"hidePS!$L$9","v":0},{"$f":"I106+J106","v":0},{"$f":"IF($K$117<>0,K106/$K$117,0)","v":0}]
[2045,"2045-01-01","2045-12-31",52963,53327,null,null,{"$f":"H106+1","v":2023},0,{"$f":"hidePS!$P$9","v":0},0,{"$f":"IF($K$117<>0,K107/$K$117,0)","v":0}]
[2046,"2046-01-01","2046-12-31",53328,53692,null,null,2024,0,{"$f":"hidePS!$T$9","v":0},0,0]
[2047,"2047-01-01","2047-12-31",53693,54057,null,null,2025,0,{"$f":"hidePS!$X$9","v":0},0,0]
[2048,"2048-01-01","2048-12-31",54058,54423,null,null,2026,0,{"$f":"hidePS!$AB$9","v":0},0,0]
[2049,"2049-01-01","2049-12-31",54424,54788,null,null,2027,0,{"$f":"hidePS!$AF$9","v":0},0,0]
[2050,"2050-01-01","2050-12-31",54789,55153,null,null,2028,0,{"$f":"hidePS!$AJ$9","v":0},0,0]
[null,null,null,null,null,null,null,2029,0,{"$f":"hidePS!$AN$9","v":0},0,0]
[null,null,null,null,null,null,null,2030,0,{"$f":"hidePS!$AR$9","v":0},0,0]
[null,null,null,null,null,null,null,{"$f":"CONCATENATE(\"po \",H114)","v":"po 2030"},0,{"$f":"hidePS!$AV$9","v":0},0,0]
[]
[null,null,null,null,null,null,null,null,{"$f":"SUM(I106:I116)","v":0},{"$f":"SUM(J106:J116)","v":0},{"$f":"SUM(K106:K116)","v":0},{"$f":"SUM(L106:L115)","v":0}]
[]
[null,null,null,null,null,null,null,null,null,{"$f":"IF(J117=hidePS!$G$9,\"PS OK\",\"PS CHYBA\")","v":"PS OK"}]

{"sheet":"hideSO","index":21,"n_rows":1199,"n_cols":48,"rows_kept":1199,"cut":false,"hidden":true,"merged":[[8,32,8,33],[8,36,8,37],[8,40,8,41],[8,44,8,45],[8,8,8,9],[8,12,8,13],[8,16,8,17],[8,20,8,21],[8,24,8,25],[8,28,8,29]]}
[]
[]
[]
[]
[]
[]
[]
[null,null,null,null,null,null,"SUMA sloupce","suma řádky",null,null,null,{"$f":"CONCATENATE(\"SUMA \",I9)","v":"SUMA 2022"},null,null,null,{"$f":"CONCATENATE(\"SUMA \",M9)","v":"SUMA 2023"},null,null,null,{"$f":"CONCATENATE(\"SUMA \",Q9)","v":"SUMA 2024"},null,null,null,{"$f":"CONCATENATE(\"SUMA \",U9)","v":"SUMA 2025"},null,null,null,{"$f":"CONCATENATE(\"SUMA \",Y9)","v":"SUMA 2026"},null,null,null,{"$f":"CONCATENATE(\"SUMA \",AC9)","v":"SUMA 2027"},null,null,null,{"$f":"CONCATENATE(\"SUMA \",AG9)","v":"SUMA 2028"},null,null,null,{"$f":"CONCATENATE(\"SUMA \",AK9)","v":"SUMA 2029"},null,null,null,{"$f":"CONCATENATE(\"SUMA \",AO9)","v":"SUMA 2030"},null,null,null,{"$f":"CONCATENATE(\"SUMA PO \",AS9)","v":"SUMA PO 2030"}]
[null,null,null,null,null,null,{"$f":"SUM(G12:G1199)","v":500000000},{"$f":"SUM(L9,P9,T9,X9,AB9,AF9,AJ9,AN9,AR9,AV10,AV9)","v":500000000},{"$f":"'2A'!J4","v":2022},null,null,{"$f":"SUM(L12:L1199)","v":330623306.23306233},{"$f":"I9+1","v":2023},null,null,{"$f":"SUM(P12:P1199)","v":169376693.76693767},{"$f":"M9+1","v":2024},null,null,{"$f":"SUM(T12:T1199)","v":0},{"$f":"Q9+1","v":2025},null,null,{"$f":"SUM(X12:X1199)","v":0},{"$f":"U9+1","v":2026},null,null,{"$f":"SUM(AB12:AB1199)","v":0},{"$f":"Y9+1","v":2027},null,null,{"$f":"SUM(AF12:AF1199)","v":0},{"$f":"AC9+1","v":2028},null,null,{"$f":"SUM(AJ12:AJ1199)","v":0},{"$f":"AG9+1","v":2029},null,null,{"$f":"SUM(AN12:AN1199)","v":0},{"$f":"AK9+1","v":2030},null,null,{"$f":"SUM(AR12:AR1199)","v":0},{"$f":"AO9","v":2030},null,null,{"$f":"SUM(AV12:AV1199)","v":0}]
[null,null,null,null,null,null,null,null,{"$f":"SUMIF(hide!$A$74:$A$112,$I$9,hide!$B$74:$B$112)","v":44562},{"$f":"SUMIF(hide!$A$74:$A$112,$I$9,hide!$C$74:$C$112)","v":44926},null,null,{"$f":"SUMIF(hide!$A$74:$A$112,$M$9,hide!$B$74:$B$112)","v":44927},{"$f":"SUMIF(hide!$A$74:$A$112,$M$9,hide!$C$74:$C$112)","v":45291},null,null,{"$f":"SUMIF(hide!$A$74:$A$112,$Q$9,hide!$B$74:$B$112)","v":45292},{"$f":"SUMIF(hide!$A$74:$A$112,$Q$9,hide!$C$74:$C$112)","v":45657},null,null,{"$f":"SUMIF(hide!$A$74:$A$112,$U$9,hide!$B$74:$B$112)","v":45658},{"$f":"SUMIF(hide!$A$74:$A$112,$U$9,hide!$C$74:$C$112)","v":46022},null,null,{"$f":"SUMIF(hide!$A$74:$A$112,$Y$9,hide!$B$74:$B$112)","v":46023},{"$f":"SUMIF(hide!$A$74:$A$112,$Y$9,hide!$C$74:$C$112)","v":46387},null,null,{"$f":"SUMIF(hide!$A$74:$A$112,$AC$9,hide!$B$74:$B$112)","v":46388},{"$f":"SUMIF(hide!$A$74:$A$112,$AC$9,hide!$C$74:$C$112)","v":46752},null,null,{"$f":"SUMIF(hide!$A$74:$A$112,$AG$9,hide!$B$74:$B$112)","v":46753},{"$f":"SUMIF(hide!$A$74:$A$112,$AG$9,hide!$C$74:$C$112)","v":47118},null,null,{"$f":"SUMIF(hide!$A$74:$A$112,$AK$9,hide!$B$74:$B$112)","v":47119},{"$f":"SUMIF(hide!$A$74:$A$112,$AK$9,hide!$C$74:$C$112)","v":47483},null,null,{"$f":"SUMIF(hide!$A$74:$A$112,$AO$9,hide!$B$74:$B$112)","v":47484},{"$f":"SUMIF(hide!$A$74:$A$112,$AO$9,hide!$C$74:$C$112)","v":47848},null,null,{"$f":"AP10+1","v":47849},55153]
["Monitoring","Číslo SO","Název stavebního objektu","Rozdělení majetku","realizace od","realizace do","náklady SO (B.1.1.1)","počet dní","min","max","dní","poměrná č.","min","max","dní","poměrná č.","min","max","dní","poměrná č.","min","max","dní","poměrná č.","min","max","dní","poměrná č.","min","max","dní","poměrná č.","min","max","dní","poměrná č.","min","max","dní","poměrná č.","min","max","dní","poměrná č.","min","max","dní","poměrná č."]
[null,null,null,null,null,null,null,{"$f":"IF(F12-E12=0,0,F12-E12+1)","v":0},{"$f":"IF(OR($F12<I$10,$E12>J$10),0,IF(AND($E12>=I$10,$F12<=J$10),$E12,IF(AND($E12<=I$10,$F12<=J$10),I$10,IF(AND($E12<=J$10,$F12>=J$10,$E12>=I$10),$E12,IF(AND($E12<=I$10,$F12>=J$10),I$10,\"chyba\")))))","v":"00:00:00"},{"$f":"IF(OR($F12<I$10,$E12>J$10),0,IF(AND($E12>=I$10,$F12<=J$10),$F12,IF(AND($E12<=I$10,$F12<=J$10),$F12,IF(AND($E12<=J$10,$F12>=J$10),J$10,IF(AND($E12<=I$10,$F12>=J$10),J$10,\"chyba\")))))","v":"00:00:00"},{"$f":"IF(J12-I12=0,0,J12-I12+1)","v":0},{"$f":"IF($H12<=0,0,$G12/$H12*K12)","v":0},{"$f":"IF(OR($F12<M$10,$E12>N$10),0,IF(AND($E12>=M$10,$F12<=N$10),$E12,IF(AND($E12<=M$10,$F12<=N$10),M$10,IF(AND($E12<=N$10,$F12>=N$10,$E12>=M$10),$E12,IF(AND($E12<=M$10,$F12>=N$10),M$10,\"chyba\")))))","v":"00:00:00"},{"$f":"IF(OR($F12<M$10,$E12>N$10),0,IF(AND($E12>=M$10,$F12<=N$10),$F12,IF(AND($E12<=M$10,$F12<=N$10),$F12,IF(AND($E12<=N$10,$F12>=N$10),N$10,IF(AND($E12<=M$10,$F12>=N$10),N$10,\"chyba\")))))","v":"00:00:00"},{"$f":"IF(N12-M12=0,0,N12-M12+1)","v":0},{"$f":"IF($H12<=0,0,$G12/$H12*O12)","v":0},{"$f":"IF(OR($F12<Q$10,$E12>R$10),0,IF(AND($E12>=Q$10,$F12<=R$10),$E12,IF(AND($E12<=Q$10,$F12<=R$10),Q$10,IF(AND($E12<=R$10,$F12>=R$10,$E12>=Q$10),$E12,IF(AND($E12<=Q$10,$F12>=R$10),Q$10,\"chyba\")))))","v":"00:00:00"},{"$f":"IF(OR($F12<Q$10,$E12>R$10),0,IF(AND($E12>=Q$10,$F12<=R$10),$F12,IF(AND($E12<=Q$10,$F12<=R$10),$F12,IF(AND($E12<=R$10,$F12>=R$10),R$10,IF(AND($E12<=Q$10,$F12>=R$10),R$10,\"chyba\")))))","v":"00:00:00"},{"$f":"IF(R12-Q12=0,0,R12-Q12+1)","v":0},{"$f":"IF($H12<=0,0,$G12/$H12*S12)","v":0},{"$f":"IF(OR($F12<U$10,$E12>V$10),0,IF(AND($E12>=U$10,$F12<=V$10),$E12,IF(AND($E12<=U$10,$F12<=V$10),U$10,IF(AND($E12<=V$10,$F12>=V$10,$E12>=U$10),$E12,IF(AND($E12<=U$10,$F12>=V$10),U$10,\"chyba\")))))","v":"00:00:00"},{"$f":"IF(OR($F12<U$10,$E12>V$10),0,IF(AND($E12>=U$10,$F12<=V$10),$F12,IF(AND($E12<=U$10,$F12<=V$10),$F12,IF(AND($E12<=V$10,$F12>=V$10),V$10,IF(AND($E12<=U$10,$F12>=V$10),V$10,\"chyba\")))))","v":"00:00:00"},{"$f":"IF(V12-U12=0,0,V12-U12+1)","v":0},{"$f":"IF($H12<=0,0,$G12/$H12*W12)","v":0},{"$f":"IF(OR($F12<Y$10,$E12>Z$10),0,IF(AND($E12>=Y$10,$F12<=Z$10),$E12,IF(AND($E12<=Y$10,$F12<=Z$10),Y$10,IF(AND($E12<=Z$10,$F12>=Z$10,$E12>=Y$10),$E12,IF(AND($E12<=Y$10,$F12>=Z$10),Y$10,\"chyba\")))))","v":"00:00:00"},{"$f":"IF(OR($F12<Y$10,$E12>Z$10),0,IF(AND($E12>=Y$10,$F12<=Z$10),$F12,IF(AND($E12<=Y$10,$F12<=Z$10),$F12,IF(AND($E12<=Z$10,$F12>=Z$10),Z$10,IF(AND($E12<=Y$10,$F12>=Z$10),Z$10,\"chyba\")))))","v":"00:00:00"},{"$f":"IF(Z12-Y12=0,0,Z12-Y12+1)","v":0},{"$f":"IF($H12<=0,0,$G12/$H12*AA12)","v":0},{"$f":"IF(OR($F12<AC$10,$E12>AD$10),0,IF(AND($E12>=AC$10,$F12<=AD$10),$E12,IF(AND($E12<=AC$10,$F12<=AD$10),AC$10,IF(AND($E12<=AD$10,$F12>=AD$10,$E12>=AC$10),$E12,IF(AND($E12<=AC$10,$F12>=AD$10),AC$10,\"chyba\")))))","v":"00:00:00"},{"$f":"IF(OR($F12<AC$10,$E12>AD$10),0,IF(AND($E12>=AC$10,$F12<=AD$10),$F12,IF(AND($E12<=AC$10,$F12<=AD$10),$F12,IF(AND($E12<=AD$10,$F12>=AD$10),AD$10,IF(AND($E12<=AC$10,$F12>=AD$10),AD$10,\"chyba\")))))","v":"00:00:00"},{"$f":"IF(AD12-AC12=0,0,AD12-AC12+1)","v":0},{"$f":"IF($H12<=0,0,$G12/$H12*AE12)","v":0},{"$f":"IF(OR($F12<AG$10,$E12>AH$10),0,IF(AND($E12>=AG$10,$F12<=AH$10),$E12,IF(AND($E12<=AG$10,$F12<=AH$10),AG$10,IF(AND($E12<=AH$10,$F12>=AH$10,$E12>=AG$10),$E12,IF(AND($E12<=AG$10,$F12>=AH$10),AG$10,\"chyba\")))))","v":"00:00:00"},{"$f":"IF(OR($F12<AG$10,$E12>AH$10),0,IF(AND($E12>=AG$10,$F12<=AH$10),$F12,IF(AND($E12<=AG$10,$F12<=AH$10),$F12,IF(AND($E12<=AH$10,$F12>=AH$10),AH$10,IF(AND($E12<=AG$10,$F12>=AH$10),AH$10,\"chyba\")))))","v":"00:00:00"},{"$f":"IF(AH12-AG12=0,0,AH12-AG12+1)","v":0},{"$f":"IF($H12<=0,0,$G12/$H12*AI12)","v":0},{"$f":"IF(OR($F12<AK$10,$E12>AL$10),0,IF(AND($E12>=AK$10,$F12<=AL$10),$E12,IF(AND($E12<=AK$10,$F12<=AL$10),AK$10,IF(AND($E12<=AL$10,$F12>=AL$10,$E12>=AK$10),$E12,IF(AND($E12<=AK$10,$F12>=AL$10),AK$10,\"chyba\")))))","v":"00:00:00"},{"$f":"IF(OR($F12<AK$10,$E12>AL$10),0,IF(AND($E12>=AK$10,$F12<=AL$10),$F12,IF(AND($E12<=AK$10,$F12<=AL$10),$F12,IF(AND($E12<=AL$10,$F12>=AL$10),AL$10,IF(AND($E12<=AK$10,$F12>=AL$10),AL$10,\"chyba\")))))","v":"00:00:00"},{"$f":"IF(AL12-AK12=0,0,AL12-AK12+1)","v":0},{"$f":"IF($H12<=0,0,$G12/$H12*AM12)","v":0},{"$f":"IF(OR($F12<AO$10,$E12>AP$10),0,IF(AND($E12>=AO$10,$F12<=AP$10),$E12,IF(AND($E12<=AO$10,$F12<=AP$10),AO$10,IF(AND($E12<=AP$10,$F12>=AP$10,$E12>=AO$10),$E12,IF(AND($E12<=AO$10,$F12>=AP$10),AO$10,\"chyba\")))))","v":"00:00:00"},{"$f":"IF(OR($F12<AO$10,$E12>AP$10),0,IF(AND($E12>=AO$10,$F12<=AP$10),$F12,IF(AND($E12<=AO$10,$F12<=AP$10),$F12,IF(AND($E12<=AP$10,$F12>=AP$10),AP$10,IF(AND($E12<=AO$10,$F12>=AP$10),AP$10,\"chyba\")))))","v":"00:00:00"},{"$f":"IF(AP12-AO12=0,0,AP12-AO12+1)","v":0},{"$f":"IF($H12<=0,0,$G12/$H12*AQ12)","v":0},{"$f":"IF(OR($F12<AS$10,$E12>AT$10),0,IF(AND($E12>=AS$10,$F12<=AT$10),$E12,IF(AND($E12<=AS$10,$F12<=AT$10),AS$10,IF(AND($E12<=AT$10,$F12>=AT$10,$E12>=AS$10),$E12,IF(AND($E12<=AS$10,$F12>=AT$10),AS$10,\"chyba\")))))","v":"00:00:00"},{"$f":"IF(OR($F12<AS$10,$E12>AT$10),0,IF(AND($E12>=AS$10,$F12<=AT$10),$F12,IF(AND($E12<=AS$10,$F12<=AT$10),$F12,IF(AND($E12<=AT$10,$F12>=AT$10),AT$10,IF(AND($E12<=AS$10,$F12>=AT$10),AT$10,\"chyba\")))))","v":"00:00:00"},{"$f":"IF(AT12-AS12=0,0,AT12-AS12+1)","v":0},{"$f":"IF($H12<=0,0,$G12/$H12*AU12)","v":0}]
[null,null,null,null,"2022-05-02","2023-05-05",500000000,{"$f":"IF(F13-E13=0,0,F13-E13+1)","v":369},{"$f":"IF(OR($F13<I$10,$E13>J$10),0,IF(AND($E13>=I$10,$F13<=J$10),$E13,IF(AND($E13<=I$10,$F13<=J$10),I$10,IF(AND($E13<=J$10,$F13>=J$10,$E13>=I$10),$E13,IF(AND($E13<=I$10,$F13>=J$10),I$10,\"chyba\")))))","v":"2022-05-02"},{"$f":"IF(OR($F13<I$10,$E13>J$10),0,IF(AND($E13>=I$10,$F13<=J$10),$F13,IF(AND($E13<=I$10,$F13<=J$10),$F13,IF(AND($E13<=J$10,$F13>=J$10),J$10,IF(AND($E13<=I$10,$F13>=J$10),J$10,\"chyba\")))))","v":"2022-12-31"},{"$f":"IF(J13-I13=0,0,J13-I13+1)","v":244},{"$f":"IF($H13<=0,0,$G13/$H13*K13)","v":330623306.23306233},{"$f":"IF(OR($F13<M$10,$E13>N$10),0,IF(AND($E13>=M$10,$F13<=N$10),$E13,IF(AND($E13<=M$10,$F13<=N$10),M$10,IF(AND($E13<=N$10,$F13>=N$10,$E13>=M$10),$E13,IF(AND($E13<=M$10,$F13>=N$10),M$10,\"chyba\")))))","v":"2023-01-01"},{"$f":"IF(OR($F13<M$10,$E13>N$10),0,IF(AND($E13>=M$10,$F13<=N$10),$F13,IF(AND($E13<=M$10,$F13<=N$10),$F13,IF(AND($E13<=N$10,$F13>=N$10),N$10,IF(AND($E13<=M$10,$F13>=N$10),N$10,\"chyba\")))))","v":"2023-05-05"},{"$f":"IF(N13-M13=0,0,N13-M13+1)","v":125},{"$f":"IF($H13<=0,0,$G13/$H13*O13)","v":169376693.76693767},{"$f":"IF(OR($F13<Q$10,$E13>R$10),0,IF(AND($E13>=Q$10,$F13<=R$10),$E13,IF(AND($E13<=Q$10,$F13<=R$10),Q$10,IF(AND($E13<=R$10,$F13>=R$10,$E13>=Q$10),$E13,IF(AND($E13<=Q$10,$F13>=R$10),Q$10,\"chyba\")))))","v":"00:00:00"},{"$f":"IF(OR($F13<Q$10,$E13>R$10),0,IF(AND($E13>=Q$10,$F13<=R$10),$F13,IF(AND($E13<=Q$10,$F13<=R$10),$F13,IF(AND($E13<=R$10,$F13>=R$10),R$10,IF(AND($E13<=Q$10,$F13>=R$10),R$10,\"chyba\")))))","v":"00:00:00"},{"$f":"IF(R13-Q13=0,0,R13-Q13+1)","v":0},{"$f":"IF($H13<=0,0,$G13/$H13*S13)","v":0},{"$f":"IF(OR($F13<U$10,$E13>V$10),0,IF(AND($E13>=U$10,$F13<=V$10),$E13,IF(AND($E13<=U$10,$F13<=V$10),U$10,IF(AND($E13<=V$10,$F13>=V$10,$E13>=U$10),$E13,IF(AND($E13<=U$10,$F13>=V$10),U$10,\"chyba\")))))","v":"00:00:00"},{"$f":"IF(OR($F13<U$10,$E13>V$10),0,IF(AND($E13>=U$10,$F13<=V$10),$F13,IF(AND($E13<=U$10,$F13<=V$10),$F13,IF(AND($E13<=V$10,$F13>=V$10),V$10,IF(AND($E13<=U$10,$F13>=V$10),V$10,\"chyba\")))))","v":"00:00:00"},{"$f":"IF(V13-U13=0,0,V13-U13+1)","v":0},{"$f":"IF($H13<=0,0,$G13/$H13*W13)","v":0},{"$f":"IF(OR($F13<Y$10,$E13>Z$10),0,IF(AND($E13>=Y$10,$F13<=Z$10),$E13,IF(AND($E13<=Y$10,$F13<=Z$10),Y$10,IF(AND($E13<=Z$10,$F13>=Z$10,$E13>=Y$10),$E13,IF(AND($E13<=Y$10,$F13>=Z$10),Y$10,\"chyba\")))))","v":"00:00:00"},{"$f":"IF(OR($F13<Y$10,$E13>Z$10),0,IF(AND($E13>=Y$10,$F13<=Z$10),$F13,IF(AND($E13<=Y$10,$F13<=Z$10),$F13,IF(AND($E13<=Z$10,$F13>=Z$10),Z$10,IF(AND($E13<=Y$10,$F13>=Z$10),Z$10,\"chyba\")))))","v":"00:00:00"},{"$f":"IF(Z13-Y13=0,0,Z13-Y13+1)","v":0},{"$f":"IF($H13<=0,0,$G13/$H13*AA13)","v":0},{"$f":"IF(OR($F13<AC$10,$E13>AD$10),0,IF(AND($E13>=AC$10,$F13<=AD$10),$E13,IF(AND($E13<=AC$10,$F13<=AD$10),AC$10,IF(AND($E13<=AD$10,$F13>=AD$10,$E13>=AC$10),$E13,IF(AND($E13<=AC$10,$F13>=AD$10),AC$10,\"chyba\")))))","v":"00:00:00"},{"$f":"IF(OR($F13<AC$10,$E13>AD$10),0,IF(AND($E13>=AC$10,$F13<=AD$10),$F13,IF(AND($E13<=AC$10,$F13<=AD$10),$F13,IF(AND($E13<=AD$10,$F13>=AD$10),AD$10,IF(AND($E13<=AC$10,$F13>=AD$10),AD$10,\"chyba\")))))","v":"00:00:00"},{"$f":"IF(AD13-AC13=0,0,AD13-AC13+1)","v":0},{"$f":"IF($H13<=0,0,$G13/$H13*AE13)","v":0},{"$f":"IF(OR($F13<AG$10,$E13>AH$10),0,IF(AND($E13>=AG$10,$F13<=AH$10),$E13,IF(AND($E13<=AG$10,$F13<=AH$10),AG$10,IF(AND($E13<=AH$10,$F13>=AH$10,$E13>=AG$10),$E13,IF(AND($E13<=AG$10,$F13>=AH$10),AG$10,\"chyba\")))))","v":"00:00:00"},{"$f":"IF(OR($F13<AG$10,$E13>AH$10),0,IF(AND($E13>=AG$10,$F13<=AH$10),$F13,IF(AND($E13<=AG$10,$F13<=AH$10),$F13,IF(AND($E13<=AH$10,$F13>=AH$10),AH$10,IF(AND($E13<=AG$10,$F13>=AH$10),AH$10,\"chyba\")))))","v":"00:00:00"},{"$f":"IF(AH13-AG13=0,0,AH13-AG13+1)","v":0},{"$f":"IF($H13<=0,0,$G13/$H13*AI13)","v":0},{"$f":"IF(OR($F13<AK$10,$E13>AL$10),0,IF(AND($E13>=AK$10,$F13<=AL$10),$E13,IF(AND($E13<=AK$10,$F13<=AL$10),AK$10,IF(AND($E13<=AL$10,$F13>=AL$10,$E13>=AK$10),$E13,IF(AND($E13<=AK$10,$F13>=AL$10),AK$10,\"chyba\")))))","v":"00:00:00"},{"$f":"IF(OR($F13<AK$10,$E13>AL$10),0,IF(AND($E13>=AK$10,$F13<=AL$10),$F13,IF(AND($E13<=AK$10,$F13<=AL$10),$F13,IF(AND($E13<=AL$10,$F13>=AL$10),AL$10,IF(AND($E13<=AK$10,$F13>=AL$10),AL$10,\"chyba\")))))","v":"00:00:00"},{"$f":"IF(AL13-AK13=0,0,AL13-AK13+1)","v":0},{"$f":"IF($H13<=0,0,$G13/$H13*AM13)","v":0},{"$f":"IF(OR($F13<AO$10,$E13>AP$10),0,IF(AND($E13>=AO$10,$F13<=AP$10),$E13,IF(AND($E13<=AO$10,$F13<=AP$10),AO$10,IF(AND($E13<=AP$10,$F13>=AP$10,$E13>=AO$10),$E13,IF(AND($E13<=AO$10,$F13>=AP$10),AO$10,\"chyba\")))))","v":"00:00:00"},{"$f":"IF(OR($F13<AO$10,$E13>AP$10),0,IF(AND($E13>=AO$10,$F13<=AP$10),$F13,IF(AND($E13<=AO$10,$F13<=AP$10),$F13,IF(AND($E13<=AP$10,$F13>=AP$10),AP$10,IF(AND($E13<=AO$10,$F13>=AP$10),AP$10,\"chyba\")))))","v":"00:00:00"},{"$f":"IF(AP13-AO13=0,0,AP13-AO13+1)","v":0},{"$f":"IF($H13<=0,0,$G13/$H13*AQ13)","v":0},{"$f":"IF(OR($F13<AS$10,$E13>AT$10),0,IF(AND($E13>=AS$10,$F13<=AT$10),$E13,IF(AND($E13<=AS$10,$F13<=AT$10),AS$10,IF(AND($E13<=AT$10,$F13>=AT$10,$E13>=AS$10),$E13,IF(AND($E13<=AS$10,$F13>=AT$10),AS$10,\"chyba\")))))","v":"00:00:00"},{"$f":"IF(OR($F13<AS$10,$E13>AT$10),0,IF(AND($E13>=AS$10,$F13<=AT$10),$F13,IF(AND($E13<=AS$10,$F13<=AT$10),$F13,IF(AND($E13<=AT$10,$F13>=AT$10),AT$10,IF(AND($E13<=AS$10,$F13>=AT$10),AT$10,\"chyba\")))))","v":"00:00:00"},{"$f":"IF(AT13-AS13=0,0,AT13-AS13+1)","v":0},{"$f":"IF($H13<=0,0,$G13/$H13*AU13)","v":0}]
[null,null,null,null,null,null,null,{"$f":"IF(F14-E14=0,0,F14-E14+1)","v":0},"00:00:00","00:00:00",{"$f":"IF(J14-I14=0,0,J14-I14+1)","v":0},0,"00:00:00","00:00:00",{"$f":"IF(N14-M14=0,0,N14-M14+1)","v":0},0,"00:00:00","00:00:00",{"$f":"IF(R14-Q14=0,0,R14-Q14+1)","v":0},0,"00:00:00","00:00:00",{"$f":"IF(V14-U14=0,0,V14-U14+1)","v":0},0,"00:00:00","00:00:00",{"$f":"IF(Z14-Y14=0,0,Z14-Y14+1)","v":0},0,"00:00:00","00:00:00",{"$f":"IF(AD14-AC14=0,0,AD14-AC14+1)","v":0},0,"00:00:00","00:00:00",{"$f":"IF(AH14-AG14=0,0,AH14-AG14+1)","v":0},0,"00:00:00","00:00:00",{"$f":"IF(AL14-AK14=0,0,AL14-AK14+1)","v":0},0,"00:00:00","00:00:00",{"$f":"IF(AP14-AO14=0,0,AP14-AO14+1)","v":0},0,"00:00:00","00:00:00",{"$f":"IF(AT14-AS14=0,0,AT14-AS14+1)","v":0},0]
[null,null,null,null,null,null,null,0,"00:00:00","00:00:00",0,0,"00:00:00","00:00:00",0,0,"00:00:00","00:00:00",0,0,"00:00:00","00:00:00",0,0,"00:00:00","00:00:00",0,0,"00:00:00","00:00:00",0,0,"00:00:00","00:00:00",0,0,"00:00:00","00:00:00",0,0,"00:00:00","00:00:00",0,0,"00:00:00","00:00:00",0,0]
[null,null,null,null,null,null,null,0,"00:00:00","00:00:00",0,0,"00:00:00","00:00:00",0,0,"00:00:00","00:00:00",0,0,"00:00:00","00:00:00",0,0,"00:00:00","00:00:00",0,0,"00:00:00","00:00:00",0,0,"00:00:00","00:00:00",0,0,"00:00:00","00:00:00",0,0,"00:00:00","00:00:00",0,0,"00:00:00","00:00:00",0,0]
[null,null,null,null,null,null,null,0,"00:00:00","00:00:00",0,0,"00:00:00","00:00:00",0,0,"00:00:00","00:00:00",0,0,"00:00:00","00:00:00",0,0,"00:00:00","00:00:00",0,0,"00:00:00","00:00:00",0,0,"00:00:00","00:00:00",0,0,"00:00:00","00:00:00",0,0,"00:00:00","00:00:00",0,0,"00:00:00","00:00:00",0,0]
[null,null,null,null,null,null,null,0,"00:00:00","00:00:00",0,0,"00:00:00","00:00:00",0,0,"00:00:00","00:00:00",0,0,"00:00:00","00:00:00",0,0,"00:00:00","00:00:00",0,0,"00:00:00","00:00:00",0,0,"00:00:00","00:00:00",0,0,"00:00:00","00:00:00",0,0,"00:00:00","00:00:00",0,0,"00:00:00","00:00:00",0,0]
[null,null,null,null,null,null,null,0,"00:00:00","00:00:00",0,0,"00:00:00","00:00:00",0,0,"00:00:00","00:00:00",0,0,"00:00:00","00:00:00",0,0,"00:00:00","00:00:00",0,0,"00:00:00","00:00:00",0,0,"00:00:00","00:00:00",0,0,"00:00:00","00:00:00",0,0,"00:00:00","00:00:00",0,0,"00:00:00","00:00:00",0,0]
[null,null,null,null,null,null,null,0,"00:00:00","00:00:00",0,0,"00:00:00","00:00:00",0,0,"00:00:00","00:00:00",0,0,"00:00:00","00:00:00",0,0,"00:00:00","00:00:00",0,0,"00:00:00","00:00:00",0,0,"00:00:00","00:00:00",0,0,"00:00:00","00:00:00",0,0,"00:00:00","00:00:00",0,0,"00:00:00","00:00:00",0,0]
[null,null,null,null,null,null,null,0,"00:00:00","00:00:00",0,0,"00:00:00","00:00:00",0,0,"00:00:00","00:00:00",0,0,"00:00:00","00:00:00",0,0,"00:00:00","00:00:00",0,0,"00:00:00","00:00:00",0,0,"00:00:00","00:00:00",0,0,"00:00:00","00:00:00",0,0,"00:00:00","00:00:00",0,0,"00:00:00","00:00:00",0,0]
[null,null,null,null,null,null,null,0,"00:00:00","00:00:00",0,0,"00:00:00","00:00:00",0,0,"00:00:00","00:00:00",0,0,"00:00:00","00:00:00",0,0,"00:00:00","00:00:00",0,0,"00:00:00","00:00:00",0,0,"00:00:00","00:00:00",0,0,"00:00:00","00:00:00",0,0,"00:00:00","00:00:00",0,0,"00:00:00","00:00:00",0,0]
[null,null,null,null,null,null,null,0,"00:00:00","00:00:00",0,0,"00:00:00","00:00:00",0,0,"00:00:00","00:00:00",0,0,"00:00:00","00:00:00",0,0,"00:00:00","00:00:00",0,0,"00:00:00","00:00:00",0,0,"00:00:00","00:00:00",0,0,"00:00:00","00:00:00",0,0,"00:00:00","00:00:00",0,0,"00:00:00","00:00:00",0,0]
[null,null,null,null,null,null,null,0,"00:00:00","00:00:00",0,0,"00:00:00","00:00:00",0,0,"00:00:00","00:00:00",0,0,"00:00:00","00:00:00",0,0,"00:00:00","00:00:00",0,0,"00:00:00","00:00:00",0,0,"00:00:00","00:00:00",0,0,"00:00:00","00:00:00",0,0,"00:00:00","00:00:00",0,0,"00:00:00","00:00:00",0,0]
[null,null,null,null,null,null,null,0,"00:00:00","00:00:00",0,0,"00:00:00","00:00:00",0,0,"00:00:00","00:00:00",0,0,"00:00:00","00:00:00",0,0,"00:00:00","00:00:00",0,0,"00:00:00","00:00:00",0,0,"00:00:00","00:00:00",0,0,"00:00:00","00:00:00",0,0,"00:00:00","00:00:00",0,0,"00:00:00","00:00:00",0,0]
[null,null,null,null,null,null,null,0,"00:00:00","00:00:00",0,0,"00:00:00","00:00:00",0,0,"00:00:00","00:00:00",0,0,"00:00:00","00:00:00",0,0,"00:00:00","00:00:00",0,0,"00:00:00","00:00:00",0,0,"00:00:00","00:00:00",0,0,"00:00:00","00:00:00",0,0,"00:00:00","00:00:00",0,0,"00:00:00","00:00:00",0,0]
[null,null,null,null,null,null,null,0,"00:00:00","00:00:00",0,0,"00:00:00","00:00:00",0,0,"00:00:00","00:00:00",0,0,"00:00:00","00:00:00",0,0,"00:00:00","00:00:00",0,0,"00:00:00","00:00:00",0,0,"00:00:00","00:00:00",0,0,"00:00:00","00:00:00",0,0,"00:00:00","00:00:00",0,0,"00:00:00","00:00:00",0,0]
[null,null,null,null,null,null,null,0,"00:00:00","00:00:00",0,0,"00:00:00","00:00:00",0,0,"00:00:00","00:00:00",0,0,"00:00:00","00:00:00",0,0,"00:00:00","00:00:00",0,0,"00:00:00","00:00:00",0,0,"00:00:00","00:00:00",0,0,"00:00:00","00:00:00",0,0,"00:00:00","00:00:00",0,0,"00:00:00","00:00:00",0,0]
[null,null,null,null,null,null,null,0,"00:00:00","00:00:00",0,0,"00:00:00","00:00:00",0,0,"00:00:00","00:00:00",0,0,"00:00:00","00:00:00",0,0,"00:00:00","00:00:00",0,0,"00:00:00","00:00:00",0,0,"00:00:00","00:00:00",0,0,"00:00:00","00:00:00",0,0,"00:00:00","00:00:00",0,0,"00:00:00","00:00:00",0,0]
[null,null,null,null,null,null,null,0,"00:00:00","00:00:00",0,0,"00:00:00","00:00:00",0,0,"00:00:00","00:00:00",0,0,"00:00:00","00:00:00",0,0,"00:00:00","00:00:00",0,0,"00:00:00","00:00:00",0,0,"00:00:00","00:00:00",0,0,"00:00:00","00:00:00",0,0,"00:00:00","00:00:00",0,0,"00:00:00","00:00:00",0,0]
[null,null,null,null,null,null,null,0,"00:00:00","00:00:00",0,0,"00:00:00","00:00:00",0,0,"00:00:00","00:00:00",0,0,"00:00:00","00:00:00",0,0,"00:00:00","00:00:00",0,0,"00:00:00","00:00:00",0,0,"00:00:00","00:00:00",0,0,"00:00:00","00:00:00",0,0,"00:00:00","00:00:00",0,0,"00:00:00","00:00:00",0,0]
[null,null,null,null,null,null,null,0,"00:00:00","00:00:00",0,0,"00:00:00","00:00:00",0,0,"00:00:00","00:00:00",0,0,"00:00:00","00:00:00",0,0,"00:00:00","00:00:00",0,0,"00:00:00","00:00:00",0,0,"00:00:00","00:00:00",0,0,"00:00:00","00:00:00",0,0,"00:00:00","00:00:00",0,0,"00:00:00","00:00:00",0,0]
[null,null,null,null,null,null,null,0,"00:00:00","00:00:00",0,0,"00:00:00","00:00:00",0,0,"00:00:00","00:00:00",0,0,"00:00:00","00:00:00",0,0,"00:00:00","00:00:00",0,0,"00:00:00","00:00:00",0,0,"00:00:00","00:00:00",0,0,"00:00:00","00:00:00",0,0,"00:00:00","00:00:00",0,0,"00:00:00","00:00:00",0,0]
[null,null,null,null,null,null,null,0,"00:00:00","00:00:00",0,0,"00:00:00","00:00:00",0,0,"00:00:00","00:00:00",0,0,"00:00:00","00:00:00",0,0,"00:00:00","00:00:00",0,0,"00:00:00","00:00:00",0,0,"00:00:00","00:00:00",0,0,"00:00:00","00:00:00",0,0,"00:00:00","00:00:00",0,0,"00:00:00","00:00:00",0,0]
[null,null,null,null,null,null,null,0,"00:00:00","00:00:00",0,0,"00:00:00","00:00:00",0,0,"00:00:00","00:00:00",0,0,"00:00:00","00:00:00",0,0,"00:00:00","00:00:00",0,0,"00:00:00","00:00:00",0,0,"00:00:00","00:00:00",0,0,"00:00:00","00:00:00",0,0,"00:00:00","00:00:00",0,0,"00:00:00","00:00:00",0,0]
[null,null,null,null,null,null,null,0,"00:00:00","00:00:00",0,0,"00:00:00","00:00:00",0,0,"00:00:00","00:00:00",0,0,"00:00:00","00:00:00",0,0,"00:00:00","00:00:00",0,0,"00:00:00","00:00:00",0,0,"00:00:00","00:00:00",0,0,"00:00:00","00:00:00",0,0,"00:00:00","00:00:00",0,0,"00:00:00","00:00:00",0,0]
[null,null,null,null,null,null,null,0,"00:00:00","00:00:00",0,0,"00:00:00","00:00:00",0,0,"00:00:00","00:00:00",0,0,"00:00:00","00:00:00",0,0,"00:00:00","00:00:00",0,0,"00:00:00","00:00:00",0,0,"00:00:00","00:00:00",0,0,"00:00:00","00:00:00",0,0,"00:00:00","00:00:00",0,0,"00:00:00","00:00:00",0,0]
[null,null,null,null,null,null,null,0,"00:00:00","00:00:00",0,0,"00:00:00","00:00:00",0,0,"00:00:00","00:00:00",0,0,"00:00:00","00:00:00",0,0,"00:00:00","00:00:00",0,0,"00:00:00","00:00:00",0,0,"00:00:00","00:00:00",0,0,"00:00:00","00:00:00",0,0,"00:00:00","00:00:00",0,0,"00:00:00","00:00:00",0,0]
[null,null,null,null,null,null,null,0,"00:00:00","00:00:00",0,0,"00:00:00","00:00:00",0,0,"00:00:00","00:00:00",0,0,"00:00:00","00:00:00",0,0,"00:00:00","00:00:00",0,0,"00:00:00","00:00:00",0,0,"00:00:00","00:00:00",0,0,"00:00:00","00:00:00",0,0,"00:00:00","00:00:00",0,0,"00:00:00","00:00:00",0,0]
[null,null,null,null,null,null,null,0,"00:00:00","00:00:00",0,0,"00:00:00","00:00:00",0,0,"00:00:00","00:00:00",0,0,"00:00:00","00:00:00",0,0,"00:00:00","00:00:00",0,0,"00:00:00","00:00:00",0,0,"00:00:00","00:00:00",0,0,"00:00:00","00:00:00",0,0,"00:00:00","00:00:00",0,0,"00:00:00","00:00:00",0,0]
[null,null,null,null,null,null,null,0,"00:00:00","00:00:00",0,0,"00:00:00","00:00:00",0,0,"00:00:00","00:00:00",0,0,"00:00:00","00:00:00",0,0,"00:00:00","00:00:00",0,0,"00:00:00","00:00:00",0,0,"00:00:00","00:00:00",0,0,"00:00:00","00:00:00",0,0,"00:00:00","00:00:00",0,0,"00:00:00","00:00:00",0,0]
[null,null,null,null,null,null,null,0,"00:00:00","00:00:00",0,0,"00:00:00","00:00:00",0,0,"00:00:00","00:00:00",0,0,"00:00:00","00:00:00",0,0,"00:00:00","00:00:00",0,0,"00:00:00","00:00:00",0,0,"00:00:00","00:00:00",0,0,"00:00:00","00:00:00",0,0,"00:00:00","00:00:00",0,0,"00:00:00","00:00:00",0,0]
[null,null,null,null,null,null,null,0,"00:00:00","00:00:00",0,0,"00:00:00","00:00:00",0,0,"00:00:00","00:00:00",0,0,"00:00:00","00:00:00",0,0,"00:00:00","00:00:00",0,0,"00:00:00","00:00:00",0,0,"00:00:00","00:00:00",0,0,"00:00:00","00:00:00",0,0,"00:00:00","00:00:00",0,0,"00:00:00","00:00:00",0,0]
[null,null,null,null,null,null,null,0,"00:00:00","00:00:00",0,0,"00:00:00","00:00:00",0,0,"00:00:00","00:00:00",0,0,"00:00:00","00:00:00",0,0,"00:00:00","00:00:00",0,0,"00:00:00","00:00:00",0,0,"00:00:00","00:00:00",0,0,"00:00:00","00:00:00",0,0,"00:00:00","00:00:00",0,0,"00:00:00","00:00:00",0,0]
[null,null,null,null,null,null,null,0,"00:00:00","00:00:00",0,0,"00:00:00","00:00:00",0,0,"00:00:00","00:00:00",0,0,"00:00:00","00:00:00",0,0,"00:00:00","00:00:00",0,0,"00:00:00","00:00:00",0,0,"00:00:00","00:00:00",0,0,"00:00:00","00:00:00",0,0,"00:00:00","00:00:00",0,0,"00:00:00","00:00:00",0,0]
[null,null,null,null,null,null,null,0,"00:00:00","00:00:00",0,0,"00:00:00","00:00:00",0,0,"00:00:00","00:00:00",0,0,"00:00:00","00:00:00",0,0,"00:00:00","00:00:00",0,0,"00:00:00","00:00:00",0,0,"00:00:00","00:00:00",0,0,"00:00:00","00:00:00",0,0,"00:00:00","00:00:00",0,0,"00:00:00","00:00:00",0,0]
[null,null,null,null,null,null,null,0,"00:00:00","00:00:00",0,0,"00:00:00","00:00:00",0,0,"00:00:00","00:00:00",0,0,"00:00:00","00:00:00",0,0,"00:00:00","00:00:00",0,0,"00:00:00","00:00:00",0,0,"00:00:00","00:00:00",0,0,"00:00:00","00:00:00",0,0,"00:00:00","00:00:00",0,0,"00:00:00","00:00:00",0,0]
[null,null,null,null,null,null,null,0,"00:00:00","00:00:00",0,0,"00:00:00","00:00:00",0,0,"00:00:00","00:00:00",0,0,"00:00:00","00:00:00",0,0,"00:00:00","00:00:00",0,0,"00:00:00","00:00:00",0,0,"00:00:00","00:00:00",0,0,"00:00:00","00:00:00",0,0,"00:00:00","00:00:00",0,0,"00:00:00","00:00:00",0,0]
[null,null,null,null,null,null,null,0,"00:00:00","00:00:00",0,0,"00:00:00","00:00:00",0,0,"00:00:00","00:00:00",0,0,"00:00:00","00:00:00",0,0,"00:00:00","00:00:00",0,0,"00:00:00","00:00:00",0,0,"00:00:00","00:00:00",0,0,"00:00:00","00:00:00",0,0,"00:00:00","00:00:00",0,0,"00:00:00","00:00:00",0,0]
[null,null,null,null,null,null,null,0,"00:00:00","00:00:00",0,0,"00:00:00","00:00:00",0,0,"00:00:00","00:00:00",0,0,"00:00:00","00:00:00",0,0,"00:00:00","00:00:00",0,0,"00:00:00","00:00:00",0,0,"00:00:00","00:00:00",0,0,"00:00:00","00:00:00",0,0,"00:00:00","00:00:00",0,0,"00:00:00","00:00:00",0,0]
[null,null,null,null,null,null,null,0,"00:00:00","00:00:00",0,0,"00:00:00","00:00:00",0,0,"00:00:00","00:00:00",0,0,"00:00:00","00:00:00",0,0,"00:00:00","00:00:00",0,0,"00:00:00","00:00:00",0,0,"00:00:00","00:00:00",0,0,"00:00:00","00:00:00",0,0,"00:00:00","00:00:00",0,0,"00:00:00","00:00:00",0,0]
[null,null,null,null,null,null,null,0,"00:00:00","00:00:00",0,0,"00:00:00","00:00:00",0,0,"00:00:00","00:00:00",0,0,"00:00:00","00:00:00",0,0,"00:00:00","00:00:00",0,0,"00:00:00","00:00:00",0,0,"00:00:00","00:00:00",0,0,"00:00:00","00:00:00",0,0,"00:00:00","00:00:00",0,0,"00:00:00","00:00:00",0,0]
[null,null,null,null,null,null,null,0,"00:00:00","00:00:00",0,0,"00:00:00","00:00:00",0,0,"00:00:00","00:00:00",0,0,"00:00:00","00:00:00",0,0,"00:00:00","00:00:00",0,0,"00:00:00","00:00:00",0,0,"00:00:00","00:00:00",0,0,"00:00:00","00:00:00",0,0,"00:00:00","00:00:00",0,0,"00:00:00","00:00:00",0,0]
[null,null,null,null,null,null,null,0,"00:00:00","00:00:00",0,0,"00:00:00","00:00:00",0,0,"00:00:00","00:00:00",0,0,"00:00:00","00:00:00",0,0,"00:00:00","00:00:00",0,0,"00:00:00","00:00:00",0,0,"00:00:00","00:00:00",0,0,"00:00:00","00:00:00",0,0,"00:00:00","00:00:00",0,0,"00:00:00","00:00:00",0,0]
[null,null,null,null,null,null,null,0,"00:00:00","00:00:00",0,0,"00:00:00","00:00:00",0,0,"00:00:00","00:00:00",0,0,"00:00:00","00:00:00",0,0,"00:00:00","00:00:00",0,0,"00:00:00","00:00:00",0,0,"00:00:00","00:00:00",0,0,"00:00:00","00:00:00",0,0,"00:00:00","00:00:00",0,0,"00:00:00","00:00:00",0,0]
[null,null,null,null,null,null,null,0,"00:00:00","00:00:00",0,0,"00:00:00","00:00:00",0,0,"00:00:00","00:00:00",0,0,"00:00:00","00:00:00",0,0,"00:00:00","00:00:00",0,0,"00:00:00","00:00:00",0,0,"00:00:00","00:00:00",0,0,"00:00:00","00:00:00",0,0,"00:00:00","00:00:00",0,0,"00:00:00","00:00:00",0,0]
[null,null,null,null,null,null,null,0,"00:00:00","00:00:00",0,0,"00:00:00","00:00:00",0,0,"00:00:00","00:00:00",0,0,"00:00:00","00:00:00",0,0,"00:00:00","00:00:00",0,0,"00:00:00","00:00:00",0,0,"00:00:00","00:00:00",0,0,"00:00:00","00:00:00",0,0,"00:00:00","00:00:00",0,0,"00:00:00","00:00:00",0,0]
[null,null,null,null,null,null,null,0,"00:00:00","00:00:00",0,0,"00:00:00","00:00:00",0,0,"00:00:00","00:00:00",0,0,"00:00:00","00:00:00",0,0,"00:00:00","00:00:00",0,0,"00:00:00","00:00:00",0,0,"00:00:00","00:00:00",0,0,"00:00:00","00:00:00",0,0,"00:00:00","00:00:00",0,0,"00:00:00","00:00:00",0,0]
[null,null,null,null,null,null,null,0,"00:00:00","00:00:00",0,0,"00:00:00","00:00:00",0,0,"00:00:00","00:00:00",0,0,"00:00:00","00:00:00",0,0,"00:00:00","00:00:00",0,0,"00:00:00","00:00:00",0,0,"00:00:00","00:00:00",0,0,"00:00:00","00:00:00",0,0,"00:00:00","00:00:00",0,0,"00:00:00","00:00:00",0,0]
[null,null,null,null,null,null,null,0,"00:00:00","00:00:00",0,0,"00:00:00","00:00:00",0,0,"00:00:00","00:00:00",0,0,"00:00:00","00:00:00",0,0,"00:00:00","00:00:00",0,0,"00:00:00","00:00:00",0,0,"00:00:00","00:00:00",0,0,"00:00:00","00:00:00",0,0,"00:00:00","00:00:00",0,0,"00:00:00","00:00:00",0,0]
[null,null,null,null,null,null,null,0,"00:00:00","00:00:00",0,0,"00:00:00","00:00:00",0,0,"00:00:00","00:00:00",0,0,"00:00:00","00:00:00",0,0,"00:00:00","00:00:00",0,0,"00:00:00","00:00:00",0,0,"00:00:00","00:00:00",0,0,"00:00:00","00:00:00",0,0,"00:00:00","00:00:00",0,0,"00:00:00","00:00:00",0,0]
[null,null,null,null,null,null,null,0,"00:00:00","00:00:00",0,0,"00:00:00","00:00:00",0,0,"00:00:00","00:00:00",0,0,"00:00:00","00:00:00",0,0,"00:00:00","00:00:00",0,0,"00:00:00","00:00:00",0,0,"00:00:00","00:00:00",0,0,"00:00:00","00:00:00",0,0,"00:00:00","00:00:00",0,0,"00:00:00","00:00:00",0,0]
[null,null,null,null,null,null,null,0,"00:00:00","00:00:00",0,0,"00:00:00","00:00:00",0,0,"00:00:00","00:00:00",0,0,"00:00:00","00:00:00",0,0,"00:00:00","00:00:00",0,0,"00:00:00","00:00:00",0,0,"00:00:00","00:00:00",0,0,"00:00:00","00:00:00",0,0,"00:00:00","00:00:00",0,0,"00:00:00","00:00:00",0,0]
[null,null,null,null,null,null,null,0,"00:00:00","00:00:00",0,0,"00:00:00","00:00:00",0,0,"00:00:00","00:00:00",0,0,"00:00:00","00:00:00",0,0,"00:00:00","00:00:00",0,0,"00:00:00","00:00:00",0,0,"00:00:00","00:00:00",0,0,"00:00:00","00:00:00",0,0,"00:00:00","00:00:00",0,0,"00:00:00","00:00:00",0,0]
[null,null,null,null,null,null,null,0,"00:00:00","00:00:00",0,0,"00:00:00","00:00:00",0,0,"00:00:00","00:00:00",0,0,"00:00:00","00:00:00",0,0,"00:00:00","00:00:00",0,0,"00:00:00","00:00:00",0,0,"00:00:00","00:00:00",0,0,"00:00:00","00:00:00",0,0,"00:00:00","00:00:00",0,0,"00:00:00","00:00:00",0,0]
[null,null,null,null,null,null,null,0,"00:00:00","00:00:00",0,0,"00:00:00","00:00:00",0,0,"00:00:00","00:00:00",0,0,"00:00:00","00:00:00",0,0,"00:00:00","00:00:00",0,0,"00:00:00","00:00:00",0,0,"00:00:00","00:00:00",0,0,"00:00:00","00:00:00",0,0,"00:00:00","00:00:00",0,0,"00:00:00","00:00:00",0,0]
[null,null,null,null,null,null,null,0,"00:00:00","00:00:00",0,0,"00:00:00","00:00:00",0,0,"00:00:00","00:00:00",0,0,"00:00:00","00:00:00",0,0,"00:00:00","00:00:00",0,0,"00:00:00","00:00:00",0,0,"00:00:00","00:00:00",0,0,"00:00:00","00:00:00",0,0,"00:00:00","00:00:00",0,0,"00:00:00","00:00:00",0,0]
[null,null,null,null,null,null,null,0,"00:00:00","00:00:00",0,0,"00:00:00","00:00:00",0,0,"00:00:00","00:00:00",0,0,"00:00:00","00:00:00",0,0,"00:00:00","00:00:00",0,0,"00:00:00","00:00:00",0,0,"00:00:00","00:00:00",0,0,"00:00:00","00:00:00",0,0,"00:00:00","00:00:00",0,0,"00:00:00","00:00:00",0,0]
[null,null,null,null,null,null,null,0,"00:00:00","00:00:00",0,0,"00:00:00","00:00:00",0,0,"00:00:00","00:00:00",0,0,"00:00:00","00:00:00",0,0,"00:00:00","00:00:00",0,0,"00:00:00","00:00:00",0,0,"00:00:00","00:00:00",0,0,"00:00:00","00:00:00",0,0,"00:00:00","00:00:00",0,0,"00:00:00","00:00:00",0,0]
[null,null,null,null,null,null,null,0,"00:00:00","00:00:00",0,0,"00:00:00","00:00:00",0,0,"00:00:00","00:00:00",0,0,"00:00:00","00:00:00",0,0,"00:00:00","00:00:00",0,0,"00:00:00","00:00:00",0,0,"00:00:00","00:00:00",0,0,"00:00:00","00:00:00",0,0,"00:00:00","00:00:00",0,0,"00:00:00","00:00:00",0,0]
[null,null,null,null,null,null,null,0,"00:00:00","00:00:00",0,0,"00:00:00","00:00:00",0,0,"00:00:00","00:00:00",0,0,"00:00:00","00:00:00",0,0,"00:00:00","00:00:00",0,0,"00:00:00","00:00:00",0,0,"00:00:00","00:00:00",0,0,"00:00:00","00:00:00",0,0,"00:00:00","00:00:00",0,0,"00:00:00","00:00:00",0,0]
[null,null,null,null,null,null,null,0,"00:00:00","00:00:00",0,0,"00:00:00","00:00:00",0,0,"00:00:00","00:00:00",0,0,"00:00:00","00:00:00",0,0,"00:00:00","00:00:00",0,0,"00:00:00","00:00:00",0,0,"00:00:00","00:00:00",0,0,"00:00:00","00:00:00",0,0,"00:00:00","00:00:00",0,0,"00:00:00","00:00:00",0,0]
[null,null,null,null,null,null,null,0,"00:00:00","00:00:00",0,0,"00:00:00","00:00:00",0,0,"00:00:00","00:00:00",0,0,"00:00:00","00:00:00",0,0,"00:00:00","00:00:00",0,0,"00:00:00","00:00:00",0,0,"00:00:00","00:00:00",0,0,"00:00:00","00:00:00",0,0,"00:00:00","00:00:00",0,0,"00:00:00","00:00:00",0,0]
[null,null,null,null,null,null,null,0,"00:00:00","00:00:00",0,0,"00:00:00","00:00:00",0,0,"00:00:00","00:00:00",0,0,"00:00:00","00:00:00",0,0,"00:00:00","00:00:00",0,0,"00:00:00","00:00:00",0,0,"00:00:00","00:00:00",0,0,"00:00:00","00:00:00",0,0,"00:00:00","00:00:00",0,0,"00:00:00","00:00:00",0,0]
[null,null,null,null,null,null,null,0,"00:00:00","00:00:00",0,0,"00:00:00","00:00:00",0,0,"00:00:00","00:00:00",0,0,"00:00:00","00:00:00",0,0,"00:00:00","00:00:00",0,0,"00:00:00","00:00:00",0,0,"00:00:00","00:00:00",0,0,"00:00:00","00:00:00",0,0,"00:00:00","00:00:00",0,0,"00:00:00","00:00:00",0,0]
[null,null,null,null,null,null,null,0,"00:00:00","00:00:00",0,0,"00:00:00","00:00:00",0,0,"00:00:00","00:00:00",0,0,"00:00:00","00:00:00",0,0,"00:00:00","00:00:00",0,0,"00:00:00","00:00:00",0,0,"00:00:00","00:00:00",0,0,"00:00:00","00:00:00",0,0,"00:00:00","00:00:00",0,0,"00:00:00","00:00:00",0,0]
[null,null,null,null,null,null,null,0,{"$f":"IF(OR($F77<I$10,$E77>J$10),0,IF(AND($E77>=I$10,$F77<=J$10),$E77,IF(AND($E77<=I$10,$F77<=J$10),I$10,IF(AND($E77<=J$10,$F77>=J$10,$E77>=I$10),$E77,IF(AND($E77<=I$10,$F77>=J$10),I$10,\"chyba\")))))","v":"00:00:00"},{"$f":"IF(OR($F77<I$10,$E77>J$10),0,IF(AND($E77>=I$10,$F77<=J$10),$F77,IF(AND($E77<=I$10,$F77<=J$10),$F77,IF(AND($E77<=J$10,$F77>=J$10),J$10,IF(AND($E77<=I$10,$F77>=J$10),J$10,\"chyba\")))))","v":"00:00:00"},0,{"$f":"IF($H77<=0,0,$G77/$H77*K77)","v":0},{"$f":"IF(OR($F77<M$10,$E77>N$10),0,IF(AND($E77>=M$10,$F77<=N$10),$E77,IF(AND($E77<=M$10,$F77<=N$10),M$10,IF(AND($E77<=N$10,$F77>=N$10,$E77>=M$10),$E77,IF(AND($E77<=M$10,$F77>=N$10),M$10,\"chyba\")))))","v":"00:00:00"},{"$f":"IF(OR($F77<M$10,$E77>N$10),0,IF(AND($E77>=M$10,$F77<=N$10),$F77,IF(AND($E77<=M$10,$F77<=N$10),$F77,IF(AND($E77<=N$10,$F77>=N$10),N$10,IF(AND($E77<=M$10,$F77>=N$10),N$10,\"chyba\")))))","v":"00:00:00"},0,{"$f":"IF($H77<=0,0,$G77/$H77*O77)","v":0},{"$f":"IF(OR($F77<Q$10,$E77>R$10),0,IF(AND($E77>=Q$10,$F77<=R$10),$E77,IF(AND($E77<=Q$10,$F77<=R$10),Q$10,IF(AND($E77<=R$10,$F77>=R$10,$E77>=Q$10),$E77,IF(AND($E77<=Q$10,$F77>=R$10),Q$10,\"chyba\")))))","v":"00:00:00"},{"$f":"IF(OR($F77<Q$10,$E77>R$10),0,IF(AND($E77>=Q$10,$F77<=R$10),$F77,IF(AND($E77<=Q$10,$F77<=R$10),$F77,IF(AND($E77<=R$10,$F77>=R$10),R$10,IF(AND($E77<=Q$10,$F77>=R$10),R$10,\"chyba\")))))","v":"00:00:00"},0,{"$f":"IF($H77<=0,0,$G77/$H77*S77)","v":0},{"$f":"IF(OR($F77<U$10,$E77>V$10),0,IF(AND($E77>=U$10,$F77<=V$10),$E77,IF(AND($E77<=U$10,$F77<=V$10),U$10,IF(AND($E77<=V$10,$F77>=V$10,$E77>=U$10),$E77,IF(AND($E77<=U$10,$F77>=V$10),U$10,\"chyba\")))))","v":"00:00:00"},{"$f":"IF(OR($F77<U$10,$E77>V$10),0,IF(AND($E77>=U$10,$F77<=V$10),$F77,IF(AND($E77<=U$10,$F77<=V$10),$F77,IF(AND($E77<=V$10,$F77>=V$10),V$10,IF(AND($E77<=U$10,$F77>=V$10),V$10,\"chyba\")))))","v":"00:00:00"},0,{"$f":"IF($H77<=0,0,$G77/$H77*W77)","v":0},{"$f":"IF(OR($F77<Y$10,$E77>Z$10),0,IF(AND($E77>=Y$10,$F77<=Z$10),$E77,IF(AND($E77<=Y$10,$F77<=Z$10),Y$10,IF(AND($E77<=Z$10,$F77>=Z$10,$E77>=Y$10),$E77,IF(AND($E77<=Y$10,$F77>=Z$10),Y$10,\"chyba\")))))","v":"00:00:00"},{"$f":"IF(OR($F77<Y$10,$E77>Z$10),0,IF(AND($E77>=Y$10,$F77<=Z$10),$F77,IF(AND($E77<=Y$10,$F77<=Z$10),$F77,IF(AND($E77<=Z$10,$F77>=Z$10),Z$10,IF(AND($E77<=Y$10,$F77>=Z$10),Z$10,\"chyba\")))))","v":"00:00:00"},0,{"$f":"IF($H77<=0,0,$G77/$H77*AA77)","v":0},{"$f":"IF(OR($F77<AC$10,$E77>AD$10),0,IF(AND($E77>=AC$10,$F77<=AD$10),$E77,IF(AND($E77<=AC$10,$F77<=AD$10),AC$10,IF(AND($E77<=AD$10,$F77>=AD$10,$E77>=AC$10),$E77,IF(AND($E77<=AC$10,$F77>=AD$10),AC$10,\"chyba\")))))","v":"00:00:00"},{"$f":"IF(OR($F77<AC$10,$E77>AD$10),0,IF(AND($E77>=AC$10,$F77<=AD$10),$F77,IF(AND($E77<=AC$10,$F77<=AD$10),$F77,IF(AND($E77<=AD$10,$F77>=AD$10),AD$10,IF(AND($E77<=AC$10,$F77>=AD$10),AD$10,\"chyba\")))))","v":"00:00:00"},0,{"$f":"IF($H77<=0,0,$G77/$H77*AE77)","v":0},{"$f":"IF(OR($F77<AG$10,$E77>AH$10),0,IF(AND($E77>=AG$10,$F77<=AH$10),$E77,IF(AND($E77<=AG$10,$F77<=AH$10),AG$10,IF(AND($E77<=AH$10,$F77>=AH$10,$E77>=AG$10),$E77,IF(AND($E77<=AG$10,$F77>=AH$10),AG$10,\"chyba\")))))","v":"00:00:00"},{"$f":"IF(OR($F77<AG$10,$E77>AH$10),0,IF(AND($E77>=AG$10,$F77<=AH$10),$F77,IF(AND($E77<=AG$10,$F77<=AH$10),$F77,IF(AND($E77<=AH$10,$F77>=AH$10),AH$10,IF(AND($E77<=AG$10,$F77>=AH$10),AH$10,\"chyba\")))))","v":"00:00:00"},0,{"$f":"IF($H77<=0,0,$G77/$H77*AI77)","v":0},{"$f":"IF(OR($F77<AK$10,$E77>AL$10),0,IF(AND($E77>=AK$10,$F77<=AL$10),$E77,IF(AND($E77<=AK$10,$F77<=AL$10),AK$10,IF(AND($E77<=AL$10,$F77>=AL$10,$E77>=AK$10),$E77,IF(AND($E77<=AK$10,$F77>=AL$10),AK$10,\"chyba\")))))","v":"00:00:00"},{"$f":"IF(OR($F77<AK$10,$E77>AL$10),0,IF(AND($E77>=AK$10,$F77<=AL$10),$F77,IF(AND($E77<=AK$10,$F77<=AL$10),$F77,IF(AND($E77<=AL$10,$F77>=AL$10),AL$10,IF(AND($E77<=AK$10,$F77>=AL$10),AL$10,\"chyba\")))))","v":"00:00:00"},0,{"$f":"IF($H77<=0,0,$G77/$H77*AM77)","v":0},{"$f":"IF(OR($F77<AO$10,$E77>AP$10),0,IF(AND($E77>=AO$10,$F77<=AP$10),$E77,IF(AND($E77<=AO$10,$F77<=AP$10),AO$10,IF(AND($E77<=AP$10,$F77>=AP$10,$E77>=AO$10),$E77,IF(AND($E77<=AO$10,$F77>=AP$10),AO$10,\"chyba\")))))","v":"00:00:00"},{"$f":"IF(OR($F77<AO$10,$E77>AP$10),0,IF(AND($E77>=AO$10,$F77<=AP$10),$F77,IF(AND($E77<=AO$10,$F77<=AP$10),$F77,IF(AND($E77<=AP$10,$F77>=AP$10),AP$10,IF(AND($E77<=AO$10,$F77>=AP$10),AP$10,\"chyba\")))))","v":"00:00:00"},0,{"$f":"IF($H77<=0,0,$G77/$H77*AQ77)","v":0},{"$f":"IF(OR($F77<AS$10,$E77>AT$10),0,IF(AND($E77>=AS$10,$F77<=AT$10),$E77,IF(AND($E77<=AS$10,$F77<=AT$10),AS$10,IF(AND($E77<=AT$10,$F77>=AT$10,$E77>=AS$10),$E77,IF(AND($E77<=AS$10,$F77>=AT$10),AS$10,\"chyba\")))))","v":"00:00:00"},{"$f":"IF(OR($F77<AS$10,$E77>AT$10),0,IF(AND($E77>=AS$10,$F77<=AT$10),$F77,IF(AND($E77<=AS$10,$F77<=AT$10),$F77,IF(AND($E77<=AT$10,$F77>=AT$10),AT$10,IF(AND($E77<=AS$10,$F77>=AT$10),AT$10,\"chyba\")))))","v":"00:00:00"},0,{"$f":"IF($H77<=0,0,$G77/$H77*AU77)","v":0}]
[null,null,null,null,null,null,null,{"$f":"IF(F78-E78=0,0,F78-E78+1)","v":0},"00:00:00","00:00:00",{"$f":"IF(J78-I78=0,0,J78-I78+1)","v":0},0,"00:00:00","00:00:00",{"$f":"IF(N78-M78=0,0,N78-M78+1)","v":0},0,"00:00:00","00:00:00",{"$f":"IF(R78-Q78=0,0,R78-Q78+1)","v":0},0,"00:00:00","00:00:00",{"$f":"IF(V78-U78=0,0,V78-U78+1)","v":0},0,"00:00:00","00:00:00",{"$f":"IF(Z78-Y78=0,0,Z78-Y78+1)","v":0},0,"00:00:00","00:00:00",{"$f":"IF(AD78-AC78=0,0,AD78-AC78+1)","v":0},0,"00:00:00","00:00:00",{"$f":"IF(AH78-AG78=0,0,AH78-AG78+1)","v":0},0,"00:00:00","00:00:00",{"$f":"IF(AL78-AK78=0,0,AL78-AK78+1)","v":0},0,"00:00:00","00:00:00",{"$f":"IF(AP78-AO78=0,0,AP78-AO78+1)","v":0},0,"00:00:00","00:00:00",{"$f":"IF(AT78-AS78=0,0,AT78-AS78+1)","v":0},0]
[null,null,null,null,null,null,null,0,"00:00:00","00:00:00",0,0,"00:00:00","00:00:00",0,0,"00:00:00","00:00:00",0,0,"00:00:00","00:00:00",0,0,"00:00:00","00:00:00",0,0,"00:00:00","00:00:00",0,0,"00:00:00","00:00:00",0,0,"00:00:00","00:00:00",0,0,"00:00:00","00:00:00",0,0,"00:00:00","00:00:00",0,0]
[null,null,null,null,null,null,null,0,"00:00:00","00:00:00",0,0,"00:00:00","00:00:00",0,0,"00:00:00","00:00:00",0,0,"00:00:00","00:00:00",0,0,"00:00:00","00:00:00",0,0,"00:00:00","00:00:00",0,0,"00:00:00","00:00:00",0,0,"00:00:00","00:00:00",0,0,"00:00:00","00:00:00",0,0,"00:00:00","00:00:00",0,0]
[null,null,null,null,null,null,null,0,"00:00:00","00:00:00",0,0,"00:00:00","00:00:00",0,0,"00:00:00","00:00:00",0,0,"00:00:00","00:00:00",0,0,"00:00:00","00:00:00",0,0,"00:00:00","00:00:00",0,0,"00:00:00","00:00:00",0,0,"00:00:00","00:00:00",0,0,"00:00:00","00:00:00",0,0,"00:00:00","00:00:00",0,0]
[null,null,null,null,null,null,null,0,"00:00:00","00:00:00",0,0,"00:00:00","00:00:00",0,0,"00:00:00","00:00:00",0,0,"00:00:00","00:00:00",0,0,"00:00:00","00:00:00",0,0,"00:00:00","00:00:00",0,0,"00:00:00","00:00:00",0,0,"00:00:00","00:00:00",0,0,"00:00:00","00:00:00",0,0,"00:00:00","00:00:00",0,0]
[null,null,null,null,null,null,null,0,"00:00:00","00:00:00",0,0,"00:00:00","00:00:00",0,0,"00:00:00","00:00:00",0,0,"00:00:00","00:00:00",0,0,"00:00:00","00:00:00",0,0,"00:00:00","00:00:00",0,0,"00:00:00","00:00:00",0,0,"00:00:00","00:00:00",0,0,"00:00:00","00:00:00",0,0,"00:00:00","00:00:00",0,0]
[null,null,null,null,null,null,null,0,"00:00:00","00:00:00",0,0,"00:00:00","00:00:00",0,0,"00:00:00","00:00:00",0,0,"00:00:00","00:00:00",0,0,"00:00:00","00:00:00",0,0,"00:00:00","00:00:00",0,0,"00:00:00","00:00:00",0,0,"00:00:00","00:00:00",0,0,"00:00:00","00:00:00",0,0,"00:00:00","00:00:00",0,0]
[null,null,null,null,null,null,null,0,"00:00:00","00:00:00",0,0,"00:00:00","00:00:00",0,0,"00:00:00","00:00:00",0,0,"00:00:00","00:00:00",0,0,"00:00:00","00:00:00",0,0,"00:00:00","00:00:00",0,0,"00:00:00","00:00:00",0,0,"00:00:00","00:00:00",0,0,"00:00:00","00:00:00",0,0,"00:00:00","00:00:00",0,0]
[null,null,null,null,null,null,null,0,"00:00:00","00:00:00",0,0,"00:00:00","00:00:00",0,0,"00:00:00","00:00:00",0,0,"00:00:00","00:00:00",0,0,"00:00:00","00:00:00",0,0,"00:00:00","00:00:00",0,0,"00:00:00","00:00:00",0,0,"00:00:00","00:00:00",0,0,"00:00:00","00:00:00",0,0,"00:00:00","00:00:00",0,0]
[null,null,null,null,null,null,null,0,"00:00:00","00:00:00",0,0,"00:00:00","00:00:00",0,0,"00:00:00","00:00:00",0,0,"00:00:00","00:00:00",0,0,"00:00:00","00:00:00",0,0,"00:00:00","00:00:00",0,0,"00:00:00","00:00:00",0,0,"00:00:00","00:00:00",0,0,"00:00:00","00:00:00",0,0,"00:00:00","00:00:00",0,0]
[null,null,null,null,null,null,null,0,"00:00:00","00:00:00",0,0,"00:00:00","00:00:00",0,0,"00:00:00","00:00:00",0,0,"00:00:00","00:00:00",0,0,"00:00:00","00:00:00",0,0,"00:00:00","00:00:00",0,0,"00:00:00","00:00:00",0,0,"00:00:00","00:00:00",0,0,"00:00:00","00:00:00",0,0,"00:00:00","00:00:00",0,0]
[null,null,null,null,null,null,null,0,"00:00:00","00:00:00",0,0,"00:00:00","00:00:00",0,0,"00:00:00","00:00:00",0,0,"00:00:00","00:00:00",0,0,"00:00:00","00:00:00",0,0,"00:00:00","00:00:00",0,0,"00:00:00","00:00:00",0,0,"00:00:00","00:00:00",0,0,"00:00:00","00:00:00",0,0,"00:00:00","00:00:00",0,0]
[null,null,null,null,null,null,null,0,"00:00:00","00:00:00",0,0,"00:00:00","00:00:00",0,0,"00:00:00","00:00:00",0,0,"00:00:00","00:00:00",0,0,"00:00:00","00:00:00",0,0,"00:00:00","00:00:00",0,0,"00:00:00","00:00:00",0,0,"00:00:00","00:00:00",0,0,"00:00:00","00:00:00",0,0,"00:00:00","00:00:00",0,0]
[null,null,null,null,null,null,null,0,"00:00:00","00:00:00",0,0,"00:00:00","00:00:00",0,0,"00:00:00","00:00:00",0,0,"00:00:00","00:00:00",0,0,"00:00:00","00:00:00",0,0,"00:00:00","00:00:00",0,0,"00:00:00","00:00:00",0,0,"00:00:00","00:00:00",0,0,"00:00:00","00:00:00",0,0,"00:00:00","00:00:00",0,0]
[null,null,null,null,null,null,null,0,"00:00:00","00:00:00",0,0,"00:00:00","00:00:00",0,0,"00:00:00","00:00:00",0,0,"00:00:00","00:00:00",0,0,"00:00:00","00:00:00",0,0,"00:00:00","00:00:00",0,0,"00:00:00","00:00:00",0,0,"00:00:00","00:00:00",0,0,"00:00:00","00:00:00",0,0,"00:00:00","00:00:00",0,0]
[null,null,null,null,null,null,null,0,"00:00:00","00:00:00",0,0,"00:00:00","00:00:00",0,0,"00:00:00","00:00:00",0,0,"00:00:00","00:00:00",0,0,"00:00:00","00:00:00",0,0,"00:00:00","00:00:00",0,0,"00:00:00","00:00:00",0,0,"00:00:00","00:00:00",0,0,"00:00:00","00:00:00",0,0,"00:00:00","00:00:00",0,0]
[null,null,null,null,null,null,null,0,"00:00:00","00:00:00",0,0,"00:00:00","00:00:00",0,0,"00:00:00","00:00:00",0,0,"00:00:00","00:00:00",0,0,"00:00:00","00:00:00",0,0,"00:00:00","00:00:00",0,0,"00:00:00","00:00:00",0,0,"00:00:00","00:00:00",0,0,"00:00:00","00:00:00",0,0,"00:00:00","00:00:00",0,0]
[null,null,null,null,null,null,null,0,"00:00:00","00:00:00",0,0,"00:00:00","00:00:00",0,0,"00:00:00","00:00:00",0,0,"00:00:00","00:00:00",0,0,"00:00:00","00:00:00",0,0,"00:00:00","00:00:00",0,0,"00:00:00","00:00:00",0,0,"00:00:00","00:00:00",0,0,"00:00:00","00:00:00",0,0,"00:00:00","00:00:00",0,0]
[null,null,null,null,null,null,null,0,"00:00:00","00:00:00",0,0,"00:00:00","00:00:00",0,0,"00:00:00","00:00:00",0,0,"00:00:00","00:00:00",0,0,"00:00:00","00:00:00",0,0,"00:00:00","00:00:00",0,0,"00:00:00","00:00:00",0,0,"00:00:00","00:00:00",0,0,"00:00:00","00:00:00",0,0,"00:00:00","00:00:00",0,0]
[null,null,null,null,null,null,null,0,"00:00:00","00:00:00",0,0,"00:00:00","00:00:00",0,0,"00:00:00","00:00:00",0,0,"00:00:00","00:00:00",0,0,"00:00:00","00:00:00",0,0,"00:00:00","00:00:00",0,0,"00:00:00","00:00:00",0,0,"00:00:00","00:00:00",0,0,"00:00:00","00:00:00",0,0,"00:00:00","00:00:00",0,0]
[null,null,null,null,null,null,null,0,"00:00:00","00:00:00",0,0,"00:00:00","00:00:00",0,0,"00:00:00","00:00:00",0,0,"00:00:00","00:00:00",0,0,"00:00:00","00:00:00",0,0,"00:00:00","00:00:00",0,0,"00:00:00","00:00:00",0,0,"00:00:00","00:00:00",0,0,"00:00:00","00:00:00",0,0,"00:00:00","00:00:00",0,0]
[null,null,null,null,null,null,null,0,"00:00:00","00:00:00",0,0,"00:00:00","00:00:00",0,0,"00:00:00","00:00:00",0,0,"00:00:00","00:00:00",0,0,"00:00:00","00:00:00",0,0,"00:00:00","00:00:00",0,0,"00:00:00","00:00:00",0,0,"00:00:00","00:00:00",0,0,"00:00:00","00:00:00",0,0,"00:00:00","00:00:00",0,0]
[null,null,null,null,null,null,null,0,"00:00:00","00:00:00",0,0,"00:00:00","00:00:00",0,0,"00:00:00","00:00:00",0,0,"00:00:00","00:00:00",0,0,"00:00:00","00:00:00",0,0,"00:00:00","00:00:00",0,0,"00:00:00","00:00:00",0,0,"00:00:00","00:00:00",0,0,"00:00:00","00:00:00",0,0,"00:00:00","00:00:00",0,0]
[null,null,null,null,null,null,null,0,"00:00:00","00:00:00",0,0,"00:00:00","00:00:00",0,0,"00:00:00","00:00:00",0,0,"00:00:00","00:00:00",0,0,"00:00:00","00:00:00",0,0,"00:00:00","00:00:00",0,0,"00:00:00","00:00:00",0,0,"00:00:00","00:00:00",0,0,"00:00:00","00:00:00",0,0,"00:00:00","00:00:00",0,0]
[null,null,null,null,null,null,null,0,"00:00:00","00:00:00",0,0,"00:00:00","00:00:00",0,0,"00:00:00","00:00:00",0,0,"00:00:00","00:00:00",0,0,"00:00:00","00:00:00",0,0,"00:00:00","00:00:00",0,0,"00:00:00","00:00:00",0,0,"00:00:00","00:00:00",0,0,"00:00:00","00:00:00",0,0,"00:00:00","00:00:00",0,0]
[null,null,null,null,null,null,null,0,"00:00:00","00:00:00",0,0,"00:00:00","00:00:00",0,0,"00:00:00","00:00:00",0,0,"00:00:00","00:00:00",0,0,"00:00:00","00:00:00",0,0,"00:00:00","00:00:00",0,0,"00:00:00","00:00:00",0,0,"00:00:00","00:00:00",0,0,"00:00:00","00:00:00",0,0,"00:00:00","00:00:00",0,0]
[null,null,null,null,null,null,null,0,"00:00:00","00:00:00",0,0,"00:00:00","00:00:00",0,0,"00:00:00","00:00:00",0,0,"00:00:00","00:00:00",0,0,"00:00:00","00:00:00",0,0,"00:00:00","00:00:00",0,0,"00:00:00","00:00:00",0,0,"00:00:00","00:00:00",0,0,"00:00:00","00:00:00",0,0,"00:00:00","00:00:00",0,0]
[null,null,null,null,null,null,null,0,"00:00:00","00:00:00",0,0,"00:00:00","00:00:00",0,0,"00:00:00","00:00:00",0,0,"00:00:00","00:00:00",0,0,"00:00:00","00:00:00",0,0,"00:00:00","00:00:00",0,0,"00:00:00","00:00:00",0,0,"00:00:00","00:00:00",0,0,"00:00:00","00:00:00",0,0,"00:00:00","00:00:00",0,0]
[null,null,null,null,null,null,null,0,"00:00:00","00:00:00",0,0,"00:00:00","00:00:00",0,0,"00:00:00","00:00:00",0,0,"00:00:00","00:00:00",0,0,"00:00:00","00:00:00",0,0,"00:00:00","00:00:00",0,0,"00:00:00","00:00:00",0,0,"00:00:00","00:00:00",0,0,"00:00:00","00:00:00",0,0,"00:00:00","00:00:00",0,0]
[null,null,null,null,null,null,null,0,"00:00:00","00:00:00",0,0,"00:00:00","00:00:00",0,0,"00:00:00","00:00:00",0,0,"00:00:00","00:00:00",0,0,"00:00:00","00:00:00",0,0,"00:00:00","00:00:00",0,0,"00:00:00","00:00:00",0,0,"00:00:00","00:00:00",0,0,"00:00:00","00:00:00",0,0,"00:00:00","00:00:00",0,0]
[null,null,null,null,null,null,null,0,"00:00:00","00:00:00",0,0,"00:00:00","00:00:00",0,0,"00:00:00","00:00:00",0,0,"00:00:00","00:00:00",0,0,"00:00:00","00:00:00",0,0,"00:00:00","00:00:00",0,0,"00:00:00","00:00:00",0,0,"00:00:00","00:00:00",0,0,"00:00:00","00:00:00",0,0,"00:00:00","00:00:00",0,0]
[null,null,null,null,null,null,null,0,"00:00:00","00:00:00",0,0,"00:00:00","00:00:00",0,0,"00:00:00","00:00:00",0,0,"00:00:00","00:00:00",0,0,"00:00:00","00:00:00",0,0,"00:00:00","00:00:00",0,0,"00:00:00","00:00:00",0,0,"00:00:00","00:00:00",0,0,"00:00:00","00:00:00",0,0,"00:00:00","00:00:00",0,0]
[null,null,null,null,null,null,null,0,"00:00:00","00:00:00",0,0,"00:00:00","00:00:00",0,0,"00:00:00","00:00:00",0,0,"00:00:00","00:00:00",0,0,"00:00:00","00:00:00",0,0,"00:00:00","00:00:00",0,0,"00:00:00","00:00:00",0,0,"00:00:00","00:00:00",0,0,"00:00:00","00:00:00",0,0,"00:00:00","00:00:00",0,0]
[null,null,null,null,null,null,null,0,"00:00:00","00:00:00",0,0,"00:00:00","00:00:00",0,0,"00:00:00","00:00:00",0,0,"00:00:00","00:00:00",0,0,"00:00:00","00:00:00",0,0,"00:00:00","00:00:00",0,0,"00:00:00","00:00:00",0,0,"00:00:00","00:00:00",0,0,"00:00:00","00:00:00",0,0,"00:00:00","00:00:00",0,0]
[null,null,null,null,null,null,null,0,"00:00:00","00:00:00",0,0,"00:00:00","00:00:00",0,0,"00:00:00","00:00:00",0,0,"00:00:00","00:00:00",0,0,"00:00:00","00:00:00",0,0,"00:00:00","00:00:00",0,0,"00:00:00","00:00:00",0,0,"00:00:00","00:00:00",0,0,"00:00:00","00:00:00",0,0,"00:00:00","00:00:00",0,0]
[null,null,null,null,null,null,null,0,"00:00:00","00:00:00",0,0,"00:00:00","00:00:00",0,0,"00:00:00","00:00:00",0,0,"00:00:00","00:00:00",0,0,"00:00:00","00:00:00",0,0,"00:00:00","00:00:00",0,0,"00:00:00","00:00:00",0,0,"00:00:00","00:00:00",0,0,"00:00:00","00:00:00",0,0,"00:00:00","00:00:00",0,0]
[null,null,null,null,null,null,null,0,"00:00:00","00:00:00",0,0,"00:00:00","00:00:00",0,0,"00:00:00","00:00:00",0,0,"00:00:00","00:00:00",0,0,"00:00:00","00:00:00",0,0,"00:00:00","00:00:00",0,0,"00:00:00","00:00:00",0,0,"00:00:00","00:00:00",0,0,"00:00:00","00:00:00",0,0,"00:00:00","00:00:00",0,0]
[null,null,null,null,null,null,null,0,"00:00:00","00:00:00",0,0,"00:00:00","00:00:00",0,0,"00:00:00","00:00:00",0,0,"00:00:00","00:00:00",0,0,"00:00:00","00:00:00",0,0,"00:00:00","00:00:00",0,0,"00:00:00","00:00:00",0,0,"00:00:00","00:00:00",0,0,"00:00:00","00:00:00",0,0,"00:00:00","00:00:00",0,0]
[null,null,null,null,null,null,null,0,"00:00:00","00:00:00",0,0,"00:00:00","00:00:00",0,0,"00:00:00","00:00:00",0,0,"00:00:00","00:00:00",0,0,"00:00:00","00:00:00",0,0,"00:00:00","00:00:00",0,0,"00:00:00","00:00:00",0,0,"00:00:00","00:00:00",0,0,"00:00:00","00:00:00",0,0,"00:00:00","00:00:00",0,0]
[null,null,null,null,null,null,null,0,"00:00:00","00:00:00",0,0,"00:00:00","00:00:00",0,0,"00:00:00","00:00:00",0,0,"00:00:00","00:00:00",0,0,"00:00:00","00:00:00",0,0,"00:00:00","00:00:00",0,0,"00:00:00","00:00:00",0,0,"00:00:00","00:00:00",0,0,"00:00:00","00:00:00",0,0,"00:00:00","00:00:00",0,0]
[null,null,null,null,null,null,null,0,"00:00:00","00:00:00",0,0,"00:00:00","00:00:00",0,0,"00:00:00","00:00:00",0,0,"00:00:00","00:00:00",0,0,"00:00:00","00:00:00",0,0,"00:00:00","00:00:00",0,0,"00:00:00","00:00:00",0,0,"00:00:00","00:00:00",0,0,"00:00:00","00:00:00",0,0,"00:00:00","00:00:00",0,0]
[null,null,null,null,null,null,null,0,"00:00:00","00:00:00",0,0,"00:00:00","00:00:00",0,0,"00:00:00","00:00:00",0,0,"00:00:00","00:00:00",0,0,"00:00:00","00:00:00",0,0,"00:00:00","00:00:00",0,0,"00:00:00","00:00:00",0,0,"00:00:00","00:00:00",0,0,"00:00:00","00:00:00",0,0,"00:00:00","00:00:00",0,0]
[null,null,null,null,null,null,null,0,"00:00:00","00:00:00",0,0,"00:00:00","00:00:00",0,0,"00:00:00","00:00:00",0,0,"00:00:00","00:00:00",0,0,"00:00:00","00:00:00",0,0,"00:00:00","00:00:00",0,0,"00:00:00","00:00:00",0,0,"00:00:00","00:00:00",0,0,"00:00:00","00:00:00",0,0,"00:00:00","00:00:00",0,0]
[null,null,null,null,null,null,null,0,"00:00:00","00:00:00",0,0,"00:00:00","00:00:00",0,0,"00:00:00","00:00:00",0,0,"00:00:00","00:00:00",0,0,"00:00:00","00:00:00",0,0,"00:00:00","00:00:00",0,0,"00:00:00","00:00:00",0,0,"00:00:00","00:00:00",0,0,"00:00:00","00:00:00",0,0,"00:00:00","00:00:00",0,0]
[null,null,null,null,null,null,null,0,"00:00:00","00:00:00",0,0,"00:00:00","00:00:00",0,0,"00:00:00","00:00:00",0,0,"00:00:00","00:00:00",0,0,"00:00:00","00:00:00",0,0,"00:00:00","00:00:00",0,0,"00:00:00","00:00:00",0,0,"00:00:00","00:00:00",0,0,"00:00:00","00:00:00",0,0,"00:00:00","00:00:00",0,0]
[null,null,null,null,null,null,null,0,"00:00:00","00:00:00",0,0,"00:00:00","00:00:00",0,0,"00:00:00","00:00:00",0,0,"00:00:00","00:00:00",0,0,"00:00:00","00:00:00",0,0,"00:00:00","00:00:00",0,0,"00:00:00","00:00:00",0,0,"00:00:00","00:00:00",0,0,"00:00:00","00:00:00",0,0,"00:00:00","00:00:00",0,0]
[null,null,null,null,null,null,null,0,"00:00:00","00:00:00",0,0,"00:00:00","00:00:00",0,0,"00:00:00","00:00:00",0,0,"00:00:00","00:00:00",0,0,"00:00:00","00:00:00",0,0,"00:00:00","00:00:00",0,0,"00:00:00","00:00:00",0,0,"00:00:00","00:00:00",0,0,"00:00:00","00:00:00",0,0,"00:00:00","00:00:00",0,0]
[null,null,null,null,null,null,null,0,"00:00:00","00:00:00",0,0,"00:00:00","00:00:00",0,0,"00:00:00","00:00:00",0,0,"00:00:00","00:00:00",0,0,"00:00:00","00:00:00",0,0,"00:00:00","00:00:00",0,0,"00:00:00","00:00:00",0,0,"00:00:00","00:00:00",0,0,"00:00:00","00:00:00",0,0,"00:00:00","00:00:00",0,0]
[null,null,null,null,null,null,null,0,"00:00:00","00:00:00",0,0,"00:00:00","00:00:00",0,0,"00:00:00","00:00:00",0,0,"00:00:00","00:00:00",0,0,"00:00:00","00:00:00",0,0,"00:00:00","00:00:00",0,0,"00:00:00","00:00:00",0,0,"00:00:00","00:00:00",0,0,"00:00:00","00:00:00",0,0,"00:00:00","00:00:00",0,0]
[null,null,null,null,null,null,null,0,"00:00:00","00:00:00",0,0,"00:00:00","00:00:00",0,0,"00:00:00","00:00:00",0,0,"00:00:00","00:00:00",0,0,"00:00:00","00:00:00",0,0,"00:00:00","00:00:00",0,0,"00:00:00","00:00:00",0,0,"00:00:00","00:00:00",0,0,"00:00:00","00:00:00",0,0,"00:00:00","00:00:00",0,0]
[null,null,null,null,null,null,null,0,"00:00:00","00:00:00",0,0,"00:00:00","00:00:00",0,0,"00:00:00","00:00:00",0,0,"00:00:00","00:00:00",0,0,"00:00:00","00:00:00",0,0,"00:00:00","00:00:00",0,0,"00:00:00","00:00:00",0,0,"00:00:00","00:00:00",0,0,"00:00:00","00:00:00",0,0,"00:00:00","00:00:00",0,0]
[null,null,null,null,null,null,null,0,"00:00:00","00:00:00",0,0,"00:00:00","00:00:00",0,0,"00:00:00","00:00:00",0,0,"00:00:00","00:00:00",0,0,"00:00:00","00:00:00",0,0,"00:00:00","00:00:00",0,0,"00:00:00","00:00:00",0,0,"00:00:00","00:00:00",0,0,"00:00:00","00:00:00",0,0,"00:00:00","00:00:00",0,0]
[null,null,null,null,null,null,null,0,"00:00:00","00:00:00",0,0,"00:00:00","00:00:00",0,0,"00:00:00","00:00:00",0,0,"00:00:00","00:00:00",0,0,"00:00:00","00:00:00",0,0,"00:00:00","00:00:00",0,0,"00:00:00","00:00:00",0,0,"00:00:00","00:00:00",0,0,"00:00:00","00:00:00",0,0,"00:00:00","00:00:00",0,0]
[null,null,null,null,null,null,null,0,"00:00:00","00:00:00",0,0,"00:00:00","00:00:00",0,0,"00:00:00","00:00:00",0,0,"00:00:00","00:00:00",0,0,"00:00:00","00:00:00",0,0,"00:00:00","00:00:00",0,0,"00:00:00","00:00:00",0,0,"00:00:00","00:00:00",0,0,"00:00:00","00:00:00",0,0,"00:00:00","00:00:00",0,0]
[null,null,null,null,null,null,null,0,"00:00:00","00:00:00",0,0,"00:00:00","00:00:00",0,0,"00:00:00","00:00:00",0,0,"00:00:00","00:00:00",0,0,"00:00:00","00:00:00",0,0,"00:00:00","00:00:00",0,0,"00:00:00","00:00:00",0,0,"00:00:00","00:00:00",0,0,"00:00:00","00:00:00",0,0,"00:00:00","00:00:00",0,0]
[null,null,null,null,null,null,null,0,"00:00:00","00:00:00",0,0,"00:00:00","00:00:00",0,0,"00:00:00","00:00:00",0,0,"00:00:00","00:00:00",0,0,"00:00:00","00:00:00",0,0,"00:00:00","00:00:00",0,0,"00:00:00","00:00:00",0,0,"00:00:00","00:00:00",0,0,"00:00:00","00:00:00",0,0,"00:00:00","00:00:00",0,0]
[null,null,null,null,null,null,null,0,"00:00:00","00:00:00",0,0,"00:00:00","00:00:00",0,0,"00:00:00","00:00:00",0,0,"00:00:00","00:00:00",0,0,"00:00:00","00:00:00",0,0,"00:00:00","00:00:00",0,0,"00:00:00","00:00:00",0,0,"00:00:00","00:00:00",0,0,"00:00:00","00:00:00",0,0,"00:00:00","00:00:00",0,0]
[null,null,null,null,null,null,null,0,"00:00:00","00:00:00",0,0,"00:00:00","00:00:00",0,0,"00:00:00","00:00:00",0,0,"00:00:00","00:00:00",0,0,"00:00:00","00:00:00",0,0,"00:00:00","00:00:00",0,0,"00:00:00","00:00:00",0,0,"00:00:00","00:00:00",0,0,"00:00:00","00:00:00",0,0,"00:00:00","00:00:00",0,0]
[null,null,null,null,null,null,null,0,"00:00:00","00:00:00",0,0,"00:00:00","00:00:00",0,0,"00:00:00","00:00:00",0,0,"00:00:00","00:00:00",0,0,"00:00:00","00:00:00",0,0,"00:00:00","00:00:00",0,0,"00:00:00","00:00:00",0,0,"00:00:00","00:00:00",0,0,"00:00:00","00:00:00",0,0,"00:00:00","00:00:00",0,0]
[null,null,null,null,null,null,null,0,"00:00:00","00:00:00",0,0,"00:00:00","00:00:00",0,0,"00:00:00","00:00:00",0,0,"00:00:00","00:00:00",0,0,"00:00:00","00:00:00",0,0,"00:00:00","00:00:00",0,0,"00:00:00","00:00:00",0,0,"00:00:00","00:00:00",0,0,"00:00:00","00:00:00",0,0,"00:00:00","00:00:00",0,0]
[null,null,null,null,null,null,null,0,"00:00:00","00:00:00",0,0,"00:00:00","00:00:00",0,0,"00:00:00","00:00:00",0,0,"00:00:00","00:00:00",0,0,"00:00:00","00:00:00",0,0,"00:00:00","00:00:00",0,0,"00:00:00","00:00:00",0,0,"00:00:00","00:00:00",0,0,"00:00:00","00:00:00",0,0,"00:00:00","00:00:00",0,0]
[null,null,null,null,null,null,null,0,"00:00:00","00:00:00",0,0,"00:00:00","00:00:00",0,0,"00:00:00","00:00:00",0,0,"00:00:00","00:00:00",0,0,"00:00:00","00:00:00",0,0,"00:00:00","00:00:00",0,0,"00:00:00","00:00:00",0,0,"00:00:00","00:00:00",0,0,"00:00:00","00:00:00",0,0,"00:00:00","00:00:00",0,0]
[null,null,null,null,null,null,null,0,"00:00:00","00:00:00",0,0,"00:00:00","00:00:00",0,0,"00:00:00","00:00:00",0,0,"00:00:00","00:00:00",0,0,"00:00:00","00:00:00",0,0,"00:00:00","00:00:00",0,0,"00:00:00","00:00:00",0,0,"00:00:00","00:00:00",0,0,"00:00:00","00:00:00",0,0,"00:00:00","00:00:00",0,0]
[null,null,null,null,null,null,null,0,{"$f":"IF(OR($F141<I$10,$E141>J$10),0,IF(AND($E141>=I$10,$F141<=J$10),$E141,IF(AND($E141<=I$10,$F141<=J$10),I$10,IF(AND($E141<=J$10,$F141>=J$10,$E141>=I$10),$E141,IF(AND($E141<=I$10,$F141>=J$10),I$10,\"chyba\")))))","v":"00:00:00"},{"$f":"IF(OR($F141<I$10,$E141>J$10),0,IF(AND($E141>=I$10,$F141<=J$10),$F141,IF(AND($E141<=I$10,$F141<=J$10),$F141,IF(AND($E141<=J$10,$F141>=J$10),J$10,IF(AND($E141<=I$10,$F141>=J$10),J$10,\"chyba\")))))","v":"00:00:00"},0,{"$f":"IF($H141<=0,0,$G141/$H141*K141)","v":0},{"$f":"IF(OR($F141<M$10,$E141>N$10),0,IF(AND($E141>=M$10,$F141<=N$10),$E141,IF(AND($E141<=M$10,$F141<=N$10),M$10,IF(AND($E141<=N$10,$F141>=N$10,$E141>=M$10),$E141,IF(AND($E141<=M$10,$F141>=N$10),M$10,\"chyba\")))))","v":"00:00:00"},{"$f":"IF(OR($F141<M$10,$E141>N$10),0,IF(AND($E141>=M$10,$F141<=N$10),$F141,IF(AND($E141<=M$10,$F141<=N$10),$F141,IF(AND($E141<=N$10,$F141>=N$10),N$10,IF(AND($E141<=M$10,$F141>=N$10),N$10,\"chyba\")))))","v":"00:00:00"},0,{"$f":"IF($H141<=0,0,$G141/$H141*O141)","v":0},{"$f":"IF(OR($F141<Q$10,$E141>R$10),0,IF(AND($E141>=Q$10,$F141<=R$10),$E141,IF(AND($E141<=Q$10,$F141<=R$10),Q$10,IF(AND($E141<=R$10,$F141>=R$10,$E141>=Q$10),$E141,IF(AND($E141<=Q$10,$F141>=R$10),Q$10,\"chyba\")))))","v":"00:00:00"},{"$f":"IF(OR($F141<Q$10,$E141>R$10),0,IF(AND($E141>=Q$10,$F141<=R$10),$F141,IF(AND($E141<=Q$10,$F141<=R$10),$F141,IF(AND($E141<=R$10,$F141>=R$10),R$10,IF(AND($E141<=Q$10,$F141>=R$10),R$10,\"chyba\")))))","v":"00:00:00"},0,{"$f":"IF($H141<=0,0,$G141/$H141*S141)","v":0},{"$f":"IF(OR($F141<U$10,$E141>V$10),0,IF(AND($E141>=U$10,$F141<=V$10),$E141,IF(AND($E141<=U$10,$F141<=V$10),U$10,IF(AND($E141<=V$10,$F141>=V$10,$E141>=U$10),$E141,IF(AND($E141<=U$10,$F141>=V$10),U$10,\"chyba\")))))","v":"00:00:00"},{"$f":"IF(OR($F141<U$10,$E141>V$10),0,IF(AND($E141>=U$10,$F141<=V$10),$F141,IF(AND($E141<=U$10,$F141<=V$10),$F141,IF(AND($E141<=V$10,$F141>=V$10),V$10,IF(AND($E141<=U$10,$F141>=V$10),V$10,\"chyba\")))))","v":"00:00:00"},0,{"$f":"IF($H141<=0,0,$G141/$H141*W141)","v":0},{"$f":"IF(OR($F141<Y$10,$E141>Z$10),0,IF(AND($E141>=Y$10,$F141<=Z$10),$E141,IF(AND($E141<=Y$10,$F141<=Z$10),Y$10,IF(AND($E141<=Z$10,$F141>=Z$10,$E141>=Y$10),$E141,IF(AND($E141<=Y$10,$F141>=Z$10),Y$10,\"chyba\")))))","v":"00:00:00"},{"$f":"IF(OR($F141<Y$10,$E141>Z$10),0,IF(AND($E141>=Y$10,$F141<=Z$10),$F141,IF(AND($E141<=Y$10,$F141<=Z$10),$F141,IF(AND($E141<=Z$10,$F141>=Z$10),Z$10,IF(AND($E141<=Y$10,$F141>=Z$10),Z$10,\"chyba\")))))","v":"00:00:00"},0,{"$f":"IF($H141<=0,0,$G141/$H141*AA141)","v":0},{"$f":"IF(OR($F141<AC$10,$E141>AD$10),0,IF(AND($E141>=AC$10,$F141<=AD$10),$E141,IF(AND($E141<=AC$10,$F141<=AD$10),AC$10,IF(AND($E141<=AD$10,$F141>=AD$10,$E141>=AC$10),$E141,IF(AND($E141<=AC$10,$F141>=AD$10),AC$10,\"chyba\")))))","v":"00:00:00"},{"$f":"IF(OR($F141<AC$10,$E141>AD$10),0,IF(AND($E141>=AC$10,$F141<=AD$10),$F141,IF(AND($E141<=AC$10,$F141<=AD$10),$F141,IF(AND($E141<=AD$10,$F141>=AD$10),AD$10,IF(AND($E141<=AC$10,$F141>=AD$10),AD$10,\"chyba\")))))","v":"00:00:00"},0,{"$f":"IF($H141<=0,0,$G141/$H141*AE141)","v":0},{"$f":"IF(OR($F141<AG$10,$E141>AH$10),0,IF(AND($E141>=AG$10,$F141<=AH$10),$E141,IF(AND($E141<=AG$10,$F141<=AH$10),AG$10,IF(AND($E141<=AH$10,$F141>=AH$10,$E141>=AG$10),$E141,IF(AND($E141<=AG$10,$F141>=AH$10),AG$10,\"chyba\")))))","v":"00:00:00"},{"$f":"IF(OR($F141<AG$10,$E141>AH$10),0,IF(AND($E141>=AG$10,$F141<=AH$10),$F141,IF(AND($E141<=AG$10,$F141<=AH$10),$F141,IF(AND($E141<=AH$10,$F141>=AH$10),AH$10,IF(AND($E141<=AG$10,$F141>=AH$10),AH$10,\"chyba\")))))","v":"00:00:00"},0,{"$f":"IF($H141<=0,0,$G141/$H141*AI141)","v":0},{"$f":"IF(OR($F141<AK$10,$E141>AL$10),0,IF(AND($E141>=AK$10,$F141<=AL$10),$E141,IF(AND($E141<=AK$10,$F141<=AL$10),AK$10,IF(AND($E141<=AL$10,$F141>=AL$10,$E141>=AK$10),$E141,IF(AND($E141<=AK$10,$F141>=AL$10),AK$10,\"chyba\")))))","v":"00:00:00"},{"$f":"IF(OR($F141<AK$10,$E141>AL$10),0,IF(AND($E141>=AK$10,$F141<=AL$10),$F141,IF(AND($E141<=AK$10,$F141<=AL$10),$F141,IF(AND($E141<=AL$10,$F141>=AL$10),AL$10,IF(AND($E141<=AK$10,$F141>=AL$10),AL$10,\"chyba\")))))","v":"00:00:00"},0,{"$f":"IF($H141<=0,0,$G141/$H141*AM141)","v":0},{"$f":"IF(OR($F141<AO$10,$E141>AP$10),0,IF(AND($E141>=AO$10,$F141<=AP$10),$E141,IF(AND($E141<=AO$10,$F141<=AP$10),AO$10,IF(AND($E141<=AP$10,$F141>=AP$10,$E141>=AO$10),$E141,IF(AND($E141<=AO$10,$F141>=AP$10),AO$10,\"chyba\")))))","v":"00:00:00"},{"$f":"IF(OR($F141<AO$10,$E141>AP$10),0,IF(AND($E141>=AO$10,$F141<=AP$10),$F141,IF(AND($E141<=AO$10,$F141<=AP$10),$F141,IF(AND($E141<=AP$10,$F141>=AP$10),AP$10,IF(AND($E141<=AO$10,$F141>=AP$10),AP$10,\"chyba\")))))","v":"00:00:00"},0,{"$f":"IF($H141<=0,0,$G141/$H141*AQ141)","v":0},{"$f":"IF(OR($F141<AS$10,$E141>AT$10),0,IF(AND($E141>=AS$10,$F141<=AT$10),$E141,IF(AND($E141<=AS$10,$F141<=AT$10),AS$10,IF(AND($E141<=AT$10,$F141>=AT$10,$E141>=AS$10),$E141,IF(AND($E141<=AS$10,$F141>=AT$10),AS$10,\"chyba\")))))","v":"00:00:00"},{"$f":"IF(OR($F141<AS$10,$E141>AT$10),0,IF(AND($E141>=AS$10,$F141<=AT$10),$F141,IF(AND($E141<=AS$10,$F141<=AT$10),$F141,IF(AND($E141<=AT$10,$F141>=AT$10),AT$10,IF(AND($E141<=AS$10,$F141>=AT$10),AT$10,\"chyba\")))))","v":"00:00:00"},0,{"$f":"IF($H141<=0,0,$G141/$H141*AU141)","v":0}]
[null,null,null,null,null,null,null,{"$f":"IF(F142-E142=0,0,F142-E142+1)","v":0},"00:00:00","00:00:00",{"$f":"IF(J142-I142=0,0,J142-I142+1)","v":0},0,"00:00:00","00:00:00",{"$f":"IF(N142-M142=0,0,N142-M142+1)","v":0},0,"00:00:00","00:00:00",{"$f":"IF(R142-Q142=0,0,R142-Q142+1)","v":0},0,"00:00:00","00:00:00",{"$f":"IF(V142-U142=0,0,V142-U142+1)","v":0},0,"00:00:00","00:00:00",{"$f":"IF(Z142-Y142=0,0,Z142-Y142+1)","v":0},0,"00:00:00","00:00:00",{"$f":"IF(AD142-AC142=0,0,AD142-AC142+1)","v":0},0,"00:00:00","00:00:00",{"$f":"IF(AH142-AG142=0,0,AH142-AG142+1)","v":0},0,"00:00:00","00:00:00",{"$f":"IF(AL142-AK142=0,0,AL142-AK142+1)","v":0},0,"00:00:00","00:00:00",{"$f":"IF(AP142-AO142=0,0,AP142-AO142+1)","v":0},0,"00:00:00","00:00:00",{"$f":"IF(AT142-AS142=0,0,AT142-AS142+1)","v":0},0]
[null,null,null,null,null,null,null,0,"00:00:00","00:00:00",0,0,"00:00:00","00:00:00",0,0,"00:00:00","00:00:00",0,0,"00:00:00","00:00:00",0,0,"00:00:00","00:00:00",0,0,"00:00:00","00:00:00",0,0,"00:00:00","00:00:00",0,0,"00:00:00","00:00:00",0,0,"00:00:00","00:00:00",0,0,"00:00:00","00:00:00",0,0]
[null,null,null,null,null,null,null,0,"00:00:00","00:00:00",0,0,"00:00:00","00:00:00",0,0,"00:00:00","00:00:00",0,0,"00:00:00","00:00:00",0,0,"00:00:00","00:00:00",0,0,"00:00:00","00:00:00",0,0,"00:00:00","00:00:00",0,0,"00:00:00","00:00:00",0,0,"00:00:00","00:00:00",0,0,"00:00:00","00:00:00",0,0]
[null,null,null,null,null,null,null,0,"00:00:00","00:00:00",0,0,"00:00:00","00:00:00",0,0,"00:00:00","00:00:00",0,0,"00:00:00","00:00:00",0,0,"00:00:00","00:00:00",0,0,"00:00:00","00:00:00",0,0,"00:00:00","00:00:00",0,0,"00:00:00","00:00:00",0,0,"00:00:00","00:00:00",0,0,"00:00:00","00:00:00",0,0]
[null,null,null,null,null,null,null,0,"00:00:00","00:00:00",0,0,"00:00:00","00:00:00",0,0,"00:00:00","00:00:00",0,0,"00:00:00","00:00:00",0,0,"00:00:00","00:00:00",0,0,"00:00:00","00:00:00",0,0,"00:00:00","00:00:00",0,0,"00:00:00","00:00:00",0,0,"00:00:00","00:00:00",0,0,"00:00:00","00:00:00",0,0]
[null,null,null,null,null,null,null,0,"00:00:00","00:00:00",0,0,"00:00:00","00:00:00",0,0,"00:00:00","00:00:00",0,0,"00:00:00","00:00:00",0,0,"00:00:00","00:00:00",0,0,"00:00:00","00:00:00",0,0,"00:00:00","00:00:00",0,0,"00:00:00","00:00:00",0,0,"00:00:00","00:00:00",0,0,"00:00:00","00:00:00",0,0]
[null,null,null,null,null,null,null,0,"00:00:00","00:00:00",0,0,"00:00:00","00:00:00",0,0,"00:00:00","00:00:00",0,0,"00:00:00","00:00:00",0,0,"00:00:00","00:00:00",0,0,"00:00:00","00:00:00",0,0,"00:00:00","00:00:00",0,0,"00:00:00","00:00:00",0,0,"00:00:00","00:00:00",0,0,"00:00:00","00:00:00",0,0]
[null,null,null,null,null,null,null,0,"00:00:00","00:00:00",0,0,"00:00:00","00:00:00",0,0,"00:00:00","00:00:00",0,0,"00:00:00","00:00:00",0,0,"00:00:00","00:00:00",0,0,"00:00:00","00:00:00",0,0,"00:00:00","00:00:00",0,0,"00:00:00","00:00:00",0,0,"00:00:00","00:00:00",0,0,"00:00:00","00:00:00",0,0]
[null,null,null,null,null,null,null,0,"00:00:00","00:00:00",0,0,"00:00:00","00:00:00",0,0,"00:00:00","00:00:00",0,0,"00:00:00","00:00:00",0,0,"00:00:00","00:00:00",0,0,"00:00:00","00:00:00",0,0,"00:00:00","00:00:00",0,0,"00:00:00","00:00:00",0,0,"00:00:00","00:00:00",0,0,"00:00:00","00:00:00",0,0]
[null,null,null,null,null,null,null,0,"00:00:00","00:00:00",0,0,"00:00:00","00:00:00",0,0,"00:00:00","00:00:00",0,0,"00:00:00","00:00:00",0,0,"00:00:00","00:00:00",0,0,"00:00:00","00:00:00",0,0,"00:00:00","00:00:00",0,0,"00:00:00","00:00:00",0,0,"00:00:00","00:00:00",0,0,"00:00:00","00:00:00",0,0]
[null,null,null,null,null,null,null,0,"00:00:00","00:00:00",0,0,"00:00:00","00:00:00",0,0,"00:00:00","00:00:00",0,0,"00:00:00","00:00:00",0,0,"00:00:00","00:00:00",0,0,"00:00:00","00:00:00",0,0,"00:00:00","00:00:00",0,0,"00:00:00","00:00:00",0,0,"00:00:00","00:00:00",0,0,"00:00:00","00:00:00",0,0]
[null,null,null,null,null,null,null,0,"00:00:00","00:00:00",0,0,"00:00:00","00:00:00",0,0,"00:00:00","00:00:00",0,0,"00:00:00","00:00:00",0,0,"00:00:00","00:00:00",0,0,"00:00:00","00:00:00",0,0,"00:00:00","00:00:00",0,0,"00:00:00","00:00:00",0,0,"00:00:00","00:00:00",0,0,"00:00:00","00:00:00",0,0]
[null,null,null,null,null,null,null,0,"00:00:00","00:00:00",0,0,"00:00:00","00:00:00",0,0,"00:00:00","00:00:00",0,0,"00:00:00","00:00:00",0,0,"00:00:00","00:00:00",0,0,"00:00:00","00:00:00",0,0,"00:00:00","00:00:00",0,0,"00:00:00","00:00:00",0,0,"00:00:00","00:00:00",0,0,"00:00:00","00:00:00",0,0]
[null,null,null,null,null,null,null,0,"00:00:00","00:00:00",0,0,"00:00:00","00:00:00",0,0,"00:00:00","00:00:00",0,0,"00:00:00","00:00:00",0,0,"00:00:00","00:00:00",0,0,"00:00:00","00:00:00",0,0,"00:00:00","00:00:00",0,0,"00:00:00","00:00:00",0,0,"00:00:00","00:00:00",0,0,"00:00:00","00:00:00",0,0]
[null,null,null,null,null,null,null,0,"00:00:00","00:00:00",0,0,"00:00:00","00:00:00",0,0,"00:00:00","00:00:00",0,0,"00:00:00","00:00:00",0,0,"00:00:00","00:00:00",0,0,"00:00:00","00:00:00",0,0,"00:00:00","00:00:00",0,0,"00:00:00","00:00:00",0,0,"00:00:00","00:00:00",0,0,"00:00:00","00:00:00",0,0]
[null,null,null,null,null,null,null,0,"00:00:00","00:00:00",0,0,"00:00:00","00:00:00",0,0,"00:00:00","00:00:00",0,0,"00:00:00","00:00:00",0,0,"00:00:00","00:00:00",0,0,"00:00:00","00:00:00",0,0,"00:00:00","00:00:00",0,0,"00:00:00","00:00:00",0,0,"00:00:00","00:00:00",0,0,"00:00:00","00:00:00",0,0]
[null,null,null,null,null,null,null,0,"00:00:00","00:00:00",0,0,"00:00:00","00:00:00",0,0,"00:00:00","00:00:00",0,0,"00:00:00","00:00:00",0,0,"00:00:00","00:00:00",0,0,"00:00:00","00:00:00",0,0,"00:00:00","00:00:00",0,0,"00:00:00","00:00:00",0,0,"00:00:00","00:00:00",0,0,"00:00:00","00:00:00",0,0]
[null,null,null,null,null,null,null,0,"00:00:00","00:00:00",0,0,"00:00:00","00:00:00",0,0,"00:00:00","00:00:00",0,0,"00:00:00","00:00:00",0,0,"00:00:00","00:00:00",0,0,"00:00:00","00:00:00",0,0,"00:00:00","00:00:00",0,0,"00:00:00","00:00:00",0,0,"00:00:00","00:00:00",0,0,"00:00:00","00:00:00",0,0]
[null,null,null,null,null,null,null,0,"00:00:00","00:00:00",0,0,"00:00:00","00:00:00",0,0,"00:00:00","00:00:00",0,0,"00:00:00","00:00:00",0,0,"00:00:00","00:00:00",0,0,"00:00:00","00:00:00",0,0,"00:00:00","00:00:00",0,0,"00:00:00","00:00:00",0,0,"00:00:00","00:00:00",0,0,"00:00:00","00:00:00",0,0]
[null,null,null,null,null,null,null,0,"00:00:00","00:00:00",0,0,"00:00:00","00:00:00",0,0,"00:00:00","00:00:00",0,0,"00:00:00","00:00:00",0,0,"00:00:00","00:00:00",0,0,"00:00:00","00:00:00",0,0,"00:00:00","00:00:00",0,0,"00:00:00","00:00:00",0,0,"00:00:00","00:00:00",0,0,"00:00:00","00:00:00",0,0]
[null,null,null,null,null,null,null,0,"00:00:00","00:00:00",0,0,"00:00:00","00:00:00",0,0,"00:00:00","00:00:00",0,0,"00:00:00","00:00:00",0,0,"00:00:00","00:00:00",0,0,"00:00:00","00:00:00",0,0,"00:00:00","00:00:00",0,0,"00:00:00","00:00:00",0,0,"00:00:00","00:00:00",0,0,"00:00:00","00:00:00",0,0]
[null,null,null,null,null,null,null,0,"00:00:00","00:00:00",0,0,"00:00:00","00:00:00",0,0,"00:00:00","00:00:00",0,0,"00:00:00","00:00:00",0,0,"00:00:00","00:00:00",0,0,"00:00:00","00:00:00",0,0,"00:00:00","00:00:00",0,0,"00:00:00","00:00:00",0,0,"00:00:00","00:00:00",0,0,"00:00:00","00:00:00",0,0]
[null,null,null,null,null,null,null,0,"00:00:00","00:00:00",0,0,"00:00:00","00:00:00",0,0,"00:00:00","00:00:00",0,0,"00:00:00","00:00:00",0,0,"00:00:00","00:00:00",0,0,"00:00:00","00:00:00",0,0,"00:00:00","00:00:00",0,0,"00:00:00","00:00:00",0,0,"00:00:00","00:00:00",0,0,"00:00:00","00:00:00",0,0]
[null,null,null,null,null,null,null,0,"00:00:00","00:00:00",0,0,"00:00:00","00:00:00",0,0,"00:00:00","00:00:00",0,0,"00:00:00","00:00:00",0,0,"00:00:00","00:00:00",0,0,"00:00:00","00:00:00",0,0,"00:00:00","00:00:00",0,0,"00:00:00","00:00:00",0,0,"00:00:00","00:00:00",0,0,"00:00:00","00:00:00",0,0]
[null,null,null,null,null,null,null,0,"00:00:00","00:00:00",0,0,"00:00:00","00:00:00",0,0,"00:00:00","00:00:00",0,0,"00:00:00","00:00:00",0,0,"00:00:00","00:00:00",0,0,"00:00:00","00:00:00",0,0,"00:00:00","00:00:00",0,0,"00:00:00","00:00:00",0,0,"00:00:00","00:00:00",0,0,"00:00:00","00:00:00",0,0]
[null,null,null,null,null,null,null,0,"00:00:00","00:00:00",0,0,"00:00:00","00:00:00",0,0,"00:00:00","00:00:00",0,0,"00:00:00","00:00:00",0,0,"00:00:00","00:00:00",0,0,"00:00:00","00:00:00",0,0,"00:00:00","00:00:00",0,0,"00:00:00","00:00:00",0,0,"00:00:00","00:00:00",0,0,"00:00:00","00:00:00",0,0]
[null,null,null,null,null,null,null,0,"00:00:00","00:00:00",0,0,"00:00:00","00:00:00",0,0,"00:00:00","00:00:00",0,0,"00:00:00","00:00:00",0,0,"00:00:00","00:00:00",0,0,"00:00:00","00:00:00",0,0,"00:00:00","00:00:00",0,0,"00:00:00","00:00:00",0,0,"00:00:00","00:00:00",0,0,"00:00:00","00:00:00",0,0]
[null,null,null,null,null,null,null,0,"00:00:00","00:00:00",0,0,"00:00:00","00:00:00",0,0,"00:00:00","00:00:00",0,0,"00:00:00","00:00:00",0,0,"00:00:00","00:00:00",0,0,"00:00:00","00:00:00",0,0,"00:00:00","00:00:00",0,0,"00:00:00","00:00:00",0,0,"00:00:00","00:00:00",0,0,"00:00:00","00:00:00",0,0]
[null,null,null,null,null,null,null,0,"00:00:00","00:00:00",0,0,"00:00:00","00:00:00",0,0,"00:00:00","00:00:00",0,0,"00:00:00","00:00:00",0,0,"00:00:00","00:00:00",0,0,"00:00:00","00:00:00",0,0,"00:00:00","00:00:00",0,0,"00:00:00","00:00:00",0,0,"00:00:00","00:00:00",0,0,"00:00:00","00:00:00",0,0]
[null,null,null,null,null,null,null,0,"00:00:00","00:00:00",0,0,"00:00:00","00:00:00",0,0,"00:00:00","00:00:00",0,0,"00:00:00","00:00:00",0,0,"00:00:00","00:00:00",0,0,"00:00:00","00:00:00",0,0,"00:00:00","00:00:00",0,0,"00:00:00","00:00:00",0,0,"00:00:00","00:00:00",0,0,"00:00:00","00:00:00",0,0]
[null,null,null,null,null,null,null,0,"00:00:00","00:00:00",0,0,"00:00:00","00:00:00",0,0,"00:00:00","00:00:00",0,0,"00:00:00","00:00:00",0,0,"00:00:00","00:00:00",0,0,"00:00:00","00:00:00",0,0,"00:00:00","00:00:00",0,0,"00:00:00","00:00:00",0,0,"00:00:00","00:00:00",0,0,"00:00:00","00:00:00",0,0]
[null,null,null,null,null,null,null,0,"00:00:00","00:00:00",0,0,"00:00:00","00:00:00",0,0,"00:00:00","00:00:00",0,0,"00:00:00","00:00:00",0,0,"00:00:00","00:00:00",0,0,"00:00:00","00:00:00",0,0,"00:00:00","00:00:00",0,0,"00:00:00","00:00:00",0,0,"00:00:00","00:00:00",0,0,"00:00:00","00:00:00",0,0]
[null,null,null,null,null,null,null,0,"00:00:00","00:00:00",0,0,"00:00:00","00:00:00",0,0,"00:00:00","00:00:00",0,0,"00:00:00","00:00:00",0,0,"00:00:00","00:00:00",0,0,"00:00:00","00:00:00",0,0,"00:00:00","00:00:00",0,0,"00:00:00","00:00:00",0,0,"00:00:00","00:00:00",0,0,"00:00:00","00:00:00",0,0]
[null,null,null,null,null,null,null,0,"00:00:00","00:00:00",0,0,"00:00:00","00:00:00",0,0,"00:00:00","00:00:00",0,0,"00:00:00","00:00:00",0,0,"00:00:00","00:00:00",0,0,"00:00:00","00:00:00",0,0,"00:00:00","00:00:00",0,0,"00:00:00","00:00:00",0,0,"00:00:00","00:00:00",0,0,"00:00:00","00:00:00",0,0]
[null,null,null,null,null,null,null,0,"00:00:00","00:00:00",0,0,"00:00:00","00:00:00",0,0,"00:00:00","00:00:00",0,0,"00:00:00","00:00:00",0,0,"00:00:00","00:00:00",0,0,"00:00:00","00:00:00",0,0,"00:00:00","00:00:00",0,0,"00:00:00","00:00:00",0,0,"00:00:00","00:00:00",0,0,"00:00:00","00:00:00",0,0]
[null,null,null,null,null,null,null,0,"00:00:00","00:00:00",0,0,"00:00:00","00:00:00",0,0,"00:00:00","00:00:00",0,0,"00:00:00","00:00:00",0,0,"00:00:00","00:00:00",0,0,"00:00:00","00:00:00",0,0,"00:00:00","00:00:00",0,0,"00:00:00","00:00:00",0,0,"00:00:00","00:00:00",0,0,"00:00:00","00:00:00",0,0]
[null,null,null,null,null,null,null,0,"00:00:00","00:00:00",0,0,"00:00:00","00:00:00",0,0,"00:00:00","00:00:00",0,0,"00:00:00","00:00:00",0,0,"00:00:00","00:00:00",0,0,"00:00:00","00:00:00",0,0,"00:00:00","00:00:00",0,0,"00:00:00","00:00:00",0,0,"00:00:00","00:00:00",0,0,"00:00:00","00:00:00",0,0]
[null,null,null,null,null,null,null,0,"00:00:00","00:00:00",0,0,"00:00:00","00:00:00",0,0,"00:00:00","00:00:00",0,0,"00:00:00","00:00:00",0,0,"00:00:00","00:00:00",0,0,"00:00:00","00:00:00",0,0,"00:00:00","00:00:00",0,0,"00:00:00","00:00:00",0,0,"00:00:00","00:00:00",0,0,"00:00:00","00:00:00",0,0]
[null,null,null,null,null,null,null,0,"00:00:00","00:00:00",0,0,"00:00:00","00:00:00",0,0,"00:00:00","00:00:00",0,0,"00:00:00","00:00:00",0,0,"00:00:00","00:00:00",0,0,"00:00:00","00:00:00",0,0,"00:00:00","00:00:00",0,0,"00:00:00","00:00:00",0,0,"00:00:00","00:00:00",0,0,"00:00:00","00:00:00",0,0]
[null,null,null,null,null,null,null,0,"00:00:00","00:00:00",0,0,"00:00:00","00:00:00",0,0,"00:00:00","00:00:00",0,0,"00:00:00","00:00:00",0,0,"00:00:00","00:00:00",0,0,"00:00:00","00:00:00",0,0,"00:00:00","00:00:00",0,0,"00:00:00","00:00:00",0,0,"00:00:00","00:00:00",0,0,"00:00:00","00:00:00",0,0]
[null,null,null,null,null,null,null,0,"00:00:00","00:00:00",0,0,"00:00:00","00:00:00",0,0,"00:00:00","00:00:00",0,0,"00:00:00","00:00:00",0,0,"00:00:00","00:00:00",0,0,"00:00:00","00:00:00",0,0,"00:00:00","00:00:00",0,0,"00:00:00","00:00:00",0,0,"00:00:00","00:00:00",0,0,"00:00:00","00:00:00",0,0]
[null,null,null,null,null,null,null,0,"00:00:00","00:00:00",0,0,"00:00:00","00:00:00",0,0,"00:00:00","00:00:00",0,0,"00:00:00","00:00:00",0,0,"00:00:00","00:00:00",0,0,"00:00:00","00:00:00",0,0,"00:00:00","00:00:00",0,0,"00:00:00","00:00:00",0,0,"00:00:00","00:00:00",0,0,"00:00:00","00:00:00",0,0]
[null,null,null,null,null,null,null,0,"00:00:00","00:00:00",0,0,"00:00:00","00:00:00",0,0,"00:00:00","00:00:00",0,0,"00:00:00","00:00:00",0,0,"00:00:00","00:00:00",0,0,"00:00:00","00:00:00",0,0,"00:00:00","00:00:00",0,0,"00:00:00","00:00:00",0,0,"00:00:00","00:00:00",0,0,"00:00:00","00:00:00",0,0]
[null,null,null,null,null,null,null,0,"00:00:00","00:00:00",0,0,"00:00:00","00:00:00",0,0,"00:00:00","00:00:00",0,0,"00:00:00","00:00:00",0,0,"00:00:00","00:00:00",0,0,"00:00:00","00:00:00",0,0,"00:00:00","00:00:00",0,0,"00:00:00","00:00:00",0,0,"00:00:00","00:00:00",0,0,"00:00:00","00:00:00",0,0]
[null,null,null,null,null,null,null,0,"00:00:00","00:00:00",0,0,"00:00:00","00:00:00",0,0,"00:00:00","00:00:00",0,0,"00:00:00","00:00:00",0,0,"00:00:00","00:00:00",0,0,"00:00:00","00:00:00",0,0,"00:00:00","00:00:00",0,0,"00:00:00","00:00:00",0,0,"00:00:00","00:00:00",0,0,"00:00:00","00:00:00",0,0]
[null,null,null,null,null,null,null,0,"00:00:00","00:00:00",0,0,"00:00:00","00:00:00",0,0,"00:00:00","00:00:00",0,0,"00:00:00","00:00:00",0,0,"00:00:00","00:00:00",0,0,"00:00:00","00:00:00",0,0,"00:00:00","00:00:00",0,0,"00:00:00","00:00:00",0,0,"00:00:00","00:00:00",0,0,"00:00:00","00:00:00",0,0]
[null,null,null,null,null,null,null,0,"00:00:00","00:00:00",0,0,"00:00:00","00:00:00",0,0,"00:00:00","00:00:00",0,0,"00:00:00","00:00:00",0,0,"00:00:00","00:00:00",0,0,"00:00:00","00:00:00",0,0,"00:00:00","00:00:00",0,0,"00:00:00","00:00:00",0,0,"00:00:00","00:00:00",0,0,"00:00:00","00:00:00",0,0]
[null,null,null,null,null,null,null,0,"00:00:00","00:00:00",0,0,"00:00:00","00:00:00",0,0,"00:00:00","00:00:00",0,0,"00:00:00","00:00:00",0,0,"00:00:00","00:00:00",0,0,"00:00:00","00:00:00",0,0,"00:00:00","00:00:00",0,0,"00:00:00","00:00:00",0,0,"00:00:00","00:00:00",0,0,"00:00:00","00:00:00",0,0]
[null,null,null,null,null,null,null,0,"00:00:00","00:00:00",0,0,"00:00:00","00:00:00",0,0,"00:00:00","00:00:00",0,0,"00:00:00","00:00:00",0,0,"00:00:00","00:00:00",0,0,"00:00:00","00:00:00",0,0,"00:00:00","00:00:00",0,0,"00:00:00","00:00:00",0,0,"00:00:00","00:00:00",0,0,"00:00:00","00:00:00",0,0]
[null,null,null,null,null,null,null,0,"00:00:00","00:00:00",0,0,"00:00:00","00:00:00",0,0,"00:00:00","00:00:00",0,0,"00:00:00","00:00:00",0,0,"00:00:00","00:00:00",0,0,"00:00:00","00:00:00",0,0,"00:00:00","00:00:00",0,0,"00:00:00","00:00:00",0,0,"00:00:00","00:00:00",0,0,"00:00:00","00:00:00",0,0]
[null,null,null,null,null,null,null,0,"00:00:00","00:00:00",0,0,"00:00:00","00:00:00",0,0,"00:00:00","00:00:00",0,0,"00:00:00","00:00:00",0,0,"00:00:00","00:00:00",0,0,"00:00:00","00:00:00",0,0,"00:00:00","00:00:00",0,0,"00:00:00","00:00:00",0,0,"00:00:00","00:00:00",0,0,"00:00:00","00:00:00",0,0]
[null,null,null,null,null,null,null,0,"00:00:00","00:00:00",0,0,"00:00:00","00:00:00",0,0,"00:00:00","00:00:00",0,0,"00:00:00","00:00:00",0,0,"00:00:00","00:00:00",0,0,"00:00:00","00:00:00",0,0,"00:00:00","00:00:00",0,0,"00:00:00","00:00:00",0,0,"00:00:00","00:00:00",0,0,"00:00:00","00:00:00",0,0]
[null,null,null,null,null,null,null,0,"00:00:00","00:00:00",0,0,"00:00:00","00:00:00",0,0,"00:00:00","00:00:00",0,0,"00:00:00","00:00:00",0,0,"00:00:00","00:00:00",0,0,"00:00:00","00:00:00",0,0,"00:00:00","00:00:00",0,0,"00:00:00","00:00:00",0,0,"00:00:00","00:00:00",0,0,"00:00:00","00:00:00",0,0]
[null,null,null,null,null,null,null,0,"00:00:00","00:00:00",0,0,"00:00:00","00:00:00",0,0,"00:00:00","00:00:00",0,0,"00:00:00","00:00:00",0,0,"00:00:00","00:00:00",0,0,"00:00:00","00:00:00",0,0,"00:00:00","00:00:00",0,0,"00:00:00","00:00:00",0,0,"00:00:00","00:00:00",0,0,"00:00:00","00:00:00",0,0]
[null,null,null,null,null,null,null,0,"00:00:00","00:00:00",0,0,"00:00:00","00:00:00",0,0,"00:00:00","00:00:00",0,0,"00:00:00","00:00:00",0,0,"00:00:00","00:00:00",0,0,"00:00:00","00:00:00",0,0,"00:00:00","00:00:00",0,0,"00:00:00","00:00:00",0,0,"00:00:00","00:00:00",0,0,"00:00:00","00:00:00",0,0]
[null,null,null,null,null,null,null,0,"00:00:00","00:00:00",0,0,"00:00:00","00:00:00",0,0,"00:00:00","00:00:00",0,0,"00:00:00","00:00:00",0,0,"00:00:00","00:00:00",0,0,"00:00:00","00:00:00",0,0,"00:00:00","00:00:00",0,0,"00:00:00","00:00:00",0,0,"00:00:00","00:00:00",0,0,"00:00:00","00:00:00",0,0]
[null,null,null,null,null,null,null,0,"00:00:00","00:00:00",0,0,"00:00:00","00:00:00",0,0,"00:00:00","00:00:00",0,0,"00:00:00","00:00:00",0,0,"00:00:00","00:00:00",0,0,"00:00:00","00:00:00",0,0,"00:00:00","00:00:00",0,0,"00:00:00","00:00:00",0,0,"00:00:00","00:00:00",0,0,"00:00:00","00:00:00",0,0]
[null,null,null,null,null,null,null,0,"00:00:00","00:00:00",0,0,"00:00:00","00:00:00",0,0,"00:00:00","00:00:00",0,0,"00:00:00","00:00:00",0,0,"00:00:00","00:00:00",0,0,"00:00:00","00:00:00",0,0,"00:00:00","00:00:00",0,0,"00:00:00","00:00:00",0,0,"00:00:00","00:00:00",0,0,"00:00:00","00:00:00",0,0]
[null,null,null,null,null,null,null,0,"00:00:00","00:00:00",0,0,"00:00:00","00:00:00",0,0,"00:00:00","00:00:00",0,0,"00:00:00","00:00:00",0,0,"00:00:00","00:00:00",0,0,"00:00:00","00:00:00",0,0,"00:00:00","00:00:00",0,0,"00:00:00","00:00:00",0,0,"00:00:00","00:00:00",0,0,"00:00:00","00:00:00",0,0]
[null,null,null,null,null,null,null,0,"00:00:00","00:00:00",0,0,"00:00:00","00:00:00",0,0,"00:00:00","00:00:00",0,0,"00:00:00","00:00:00",0,0,"00:00:00","00:00:00",0,0,"00:00:00","00:00:00",0,0,"00:00:00","00:00:00",0,0,"00:00:00","00:00:00",0,0,"00:00:00","00:00:00",0,0,"00:00:00","00:00:00",0,0]
[null,null,null,null,null,null,null,0,"00:00:00","00:00:00",0,0,"00:00:00","00:00:00",0,0,"00:00:00","00:00:00",0,0,"00:00:00","00:00:00",0,0,"00:00:00","00:00:00",0,0,"00:00:00","00:00:00",0,0,"00:00:00","00:00:00",0,0,"00:00:00","00:00:00",0,0,"00:00:00","00:00:00",0,0,"00:00:00","00:00:00",0,0]
[null,null,null,null,null,null,null,0,"00:00:00","00:00:00",0,0,"00:00:00","00:00:00",0,0,"00:00:00","00:00:00",0,0,"00:00:00","00:00:00",0,0,"00:00:00","00:00:00",0,0,"00:00:00","00:00:00",0,0,"00:00:00","00:00:00",0,0,"00:00:00","00:00:00",0,0,"00:00:00","00:00:00",0,0,"00:00:00","00:00:00",0,0]
[null,null,null,null,null,null,null,0,"00:00:00","00:00:00",0,0,"00:00:00","00:00:00",0,0,"00:00:00","00:00:00",0,0,"00:00:00","00:00:00",0,0,"00:00:00","00:00:00",0,0,"00:00:00","00:00:00",0,0,"00:00:00","00:00:00",0,0,"00:00:00","00:00:00",0,0,"00:00:00","00:00:00",0,0,"00:00:00","00:00:00",0,0]
[null,null,null,null,null,null,null,0,{"$f":"IF(OR($F205<I$10,$E205>J$10),0,IF(AND($E205>=I$10,$F205<=J$10),$E205,IF(AND($E205<=I$10,$F205<=J$10),I$10,IF(AND($E205<=J$10,$F205>=J$10,$E205>=I$10),$E205,IF(AND($E205<=I$10,$F205>=J$10),I$10,\"chyba\")))))","v":"00:00:00"},{"$f":"IF(OR($F205<I$10,$E205>J$10),0,IF(AND($E205>=I$10,$F205<=J$10),$F205,IF(AND($E205<=I$10,$F205<=J$10),$F205,IF(AND($E205<=J$10,$F205>=J$10),J$10,IF(AND($E205<=I$10,$F205>=J$10),J$10,\"chyba\")))))","v":"00:00:00"},0,{"$f":"IF($H205<=0,0,$G205/$H205*K205)","v":0},{"$f":"IF(OR($F205<M$10,$E205>N$10),0,IF(AND($E205>=M$10,$F205<=N$10),$E205,IF(AND($E205<=M$10,$F205<=N$10),M$10,IF(AND($E205<=N$10,$F205>=N$10,$E205>=M$10),$E205,IF(AND($E205<=M$10,$F205>=N$10),M$10,\"chyba\")))))","v":"00:00:00"},{"$f":"IF(OR($F205<M$10,$E205>N$10),0,IF(AND($E205>=M$10,$F205<=N$10),$F205,IF(AND($E205<=M$10,$F205<=N$10),$F205,IF(AND($E205<=N$10,$F205>=N$10),N$10,IF(AND($E205<=M$10,$F205>=N$10),N$10,\"chyba\")))))","v":"00:00:00"},0,{"$f":"IF($H205<=0,0,$G205/$H205*O205)","v":0},{"$f":"IF(OR($F205<Q$10,$E205>R$10),0,IF(AND($E205>=Q$10,$F205<=R$10),$E205,IF(AND($E205<=Q$10,$F205<=R$10),Q$10,IF(AND($E205<=R$10,$F205>=R$10,$E205>=Q$10),$E205,IF(AND($E205<=Q$10,$F205>=R$10),Q$10,\"chyba\")))))","v":"00:00:00"},{"$f":"IF(OR($F205<Q$10,$E205>R$10),0,IF(AND($E205>=Q$10,$F205<=R$10),$F205,IF(AND($E205<=Q$10,$F205<=R$10),$F205,IF(AND($E205<=R$10,$F205>=R$10),R$10,IF(AND($E205<=Q$10,$F205>=R$10),R$10,\"chyba\")))))","v":"00:00:00"},0,{"$f":"IF($H205<=0,0,$G205/$H205*S205)","v":0},{"$f":"IF(OR($F205<U$10,$E205>V$10),0,IF(AND($E205>=U$10,$F205<=V$10),$E205,IF(AND($E205<=U$10,$F205<=V$10),U$10,IF(AND($E205<=V$10,$F205>=V$10,$E205>=U$10),$E205,IF(AND($E205<=U$10,$F205>=V$10),U$10,\"chyba\")))))","v":"00:00:00"},{"$f":"IF(OR($F205<U$10,$E205>V$10),0,IF(AND($E205>=U$10,$F205<=V$10),$F205,IF(AND($E205<=U$10,$F205<=V$10),$F205,IF(AND($E205<=V$10,$F205>=V$10),V$10,IF(AND($E205<=U$10,$F205>=V$10),V$10,\"chyba\")))))","v":"00:00:00"},0,{"$f":"IF($H205<=0,0,$G205/$H205*W205)","v":0},{"$f":"IF(OR($F205<Y$10,$E205>Z$10),0,IF(AND($E205>=Y$10,$F205<=Z$10),$E205,IF(AND($E205<=Y$10,$F205<=Z$10),Y$10,IF(AND($E205<=Z$10,$F205>=Z$10,$E205>=Y$10),$E205,IF(AND($E205<=Y$10,$F205>=Z$10),Y$10,\"chyba\")))))","v":"00:00:00"},{"$f":"IF(OR($F205<Y$10,$E205>Z$10),0,IF(AND($E205>=Y$10,$F205<=Z$10),$F205,IF(AND($E205<=Y$10,$F205<=Z$10),$F205,IF(AND($E205<=Z$10,$F205>=Z$10),Z$10,IF(AND($E205<=Y$10,$F205>=Z$10),Z$10,\"chyba\")))))","v":"00:00:00"},0,{"$f":"IF($H205<=0,0,$G205/$H205*AA205)","v":0},{"$f":"IF(OR($F205<AC$10,$E205>AD$10),0,IF(AND($E205>=AC$10,$F205<=AD$10),$E205,IF(AND($E205<=AC$10,$F205<=AD$10),AC$10,IF(AND($E205<=AD$10,$F205>=AD$10,$E205>=AC$10),$E205,IF(AND($E205<=AC$10,$F205>=AD$10),AC$10,\"chyba\")))))","v":"00:00:00"},{"$f":"IF(OR($F205<AC$10,$E205>AD$10),0,IF(AND($E205>=AC$10,$F205<=AD$10),$F205,IF(AND($E205<=AC$10,$F205<=AD$10),$F205,IF(AND($E205<=AD$10,$F205>=AD$10),AD$10,IF(AND($E205<=AC$10,$F205>=AD$10),AD$10,\"chyba\")))))","v":"00:00:00"},0,{"$f":"IF($H205<=0,0,$G205/$H205*AE205)","v":0},{"$f":"IF(OR($F205<AG$10,$E205>AH$10),0,IF(AND($E205>=AG$10,$F205<=AH$10),$E205,IF(AND($E205<=AG$10,$F205<=AH$10),AG$10,IF(AND($E205<=AH$10,$F205>=AH$10,$E205>=AG$10),$E205,IF(AND($E205<=AG$10,$F205>=AH$10),AG$10,\"chyba\")))))","v":"00:00:00"},{"$f":"IF(OR($F205<AG$10,$E205>AH$10),0,IF(AND($E205>=AG$10,$F205<=AH$10),$F205,IF(AND($E205<=AG$10,$F205<=AH$10),$F205,IF(AND($E205<=AH$10,$F205>=AH$10),AH$10,IF(AND($E205<=AG$10,$F205>=AH$10),AH$10,\"chyba\")))))","v":"00:00:00"},0,{"$f":"IF($H205<=0,0,$G205/$H205*AI205)","v":0},{"$f":"IF(OR($F205<AK$10,$E205>AL$10),0,IF(AND($E205>=AK$10,$F205<=AL$10),$E205,IF(AND($E205<=AK$10,$F205<=AL$10),AK$10,IF(AND($E205<=AL$10,$F205>=AL$10,$E205>=AK$10),$E205,IF(AND($E205<=AK$10,$F205>=AL$10),AK$10,\"chyba\")))))","v":"00:00:00"},{"$f":"IF(OR($F205<AK$10,$E205>AL$10),0,IF(AND($E205>=AK$10,$F205<=AL$10),$F205,IF(AND($E205<=AK$10,$F205<=AL$10),$F205,IF(AND($E205<=AL$10,$F205>=AL$10),AL$10,IF(AND($E205<=AK$10,$F205>=AL$10),AL$10,\"chyba\")))))","v":"00:00:00"},0,{"$f":"IF($H205<=0,0,$G205/$H205*AM205)","v":0},{"$f":"IF(OR($F205<AO$10,$E205>AP$10),0,IF(AND($E205>=AO$10,$F205<=AP$10),$E205,IF(AND($E205<=AO$10,$F205<=AP$10),AO$10,IF(AND($E205<=AP$10,$F205>=AP$10,$E205>=AO$10),$E205,IF(AND($E205<=AO$10,$F205>=AP$10),AO$10,\"chyba\")))))","v":"00:00:00"},{"$f":"IF(OR($F205<AO$10,$E205>AP$10),0,IF(AND($E205>=AO$10,$F205<=AP$10),$F205,IF(AND($E205<=AO$10,$F205<=AP$10),$F205,IF(AND($E205<=AP$10,$F205>=AP$10),AP$10,IF(AND($E205<=AO$10,$F205>=AP$10),AP$10,\"chyba\")))))","v":"00:00:00"},0,{"$f":"IF($H205<=0,0,$G205/$H205*AQ205)","v":0},{"$f":"IF(OR($F205<AS$10,$E205>AT$10),0,IF(AND($E205>=AS$10,$F205<=AT$10),$E205,IF(AND($E205<=AS$10,$F205<=AT$10),AS$10,IF(AND($E205<=AT$10,$F205>=AT$10,$E205>=AS$10),$E205,IF(AND($E205<=AS$10,$F205>=AT$10),AS$10,\"chyba\")))))","v":"00:00:00"},{"$f":"IF(OR($F205<AS$10,$E205>AT$10),0,IF(AND($E205>=AS$10,$F205<=AT$10),$F205,IF(AND($E205<=AS$10,$F205<=AT$10),$F205,IF(AND($E205<=AT$10,$F205>=AT$10),AT$10,IF(AND($E205<=AS$10,$F205>=AT$10),AT$10,\"chyba\")))))","v":"00:00:00"},0,{"$f":"IF($H205<=0,0,$G205/$H205*AU205)","v":0}]
[null,null,null,null,null,null,null,{"$f":"IF(F206-E206=0,0,F206-E206+1)","v":0},"00:00:00","00:00:00",{"$f":"IF(J206-I206=0,0,J206-I206+1)","v":0},0,"00:00:00","00:00:00",{"$f":"IF(N206-M206=0,0,N206-M206+1)","v":0},0,"00:00:00","00:00:00",{"$f":"IF(R206-Q206=0,0,R206-Q206+1)","v":0},0,"00:00:00","00:00:00",{"$f":"IF(V206-U206=0,0,V206-U206+1)","v":0},0,"00:00:00","00:00:00",{"$f":"IF(Z206-Y206=0,0,Z206-Y206+1)","v":0},0,"00:00:00","00:00:00",{"$f":"IF(AD206-AC206=0,0,AD206-AC206+1)","v":0},0,"00:00:00","00:00:00",{"$f":"IF(AH206-AG206=0,0,AH206-AG206+1)","v":0},0,"00:00:00","00:00:00",{"$f":"IF(AL206-AK206=0,0,AL206-AK206+1)","v":0},0,"00:00:00","00:00:00",{"$f":"IF(AP206-AO206=0,0,AP206-AO206+1)","v":0},0,"00:00:00","00:00:00",{"$f":"IF(AT206-AS206=0,0,AT206-AS206+1)","v":0},0]
[null,null,null,null,null,null,null,0,"00:00:00","00:00:00",0,0,"00:00:00","00:00:00",0,0,"00:00:00","00:00:00",0,0,"00:00:00","00:00:00",0,0,"00:00:00","00:00:00",0,0,"00:00:00","00:00:00",0,0,"00:00:00","00:00:00",0,0,"00:00:00","00:00:00",0,0,"00:00:00","00:00:00",0,0,"00:00:00","00:00:00",0,0]
[null,null,null,null,null,null,null,0,"00:00:00","00:00:00",0,0,"00:00:00","00:00:00",0,0,"00:00:00","00:00:00",0,0,"00:00:00","00:00:00",0,0,"00:00:00","00:00:00",0,0,"00:00:00","00:00:00",0,0,"00:00:00","00:00:00",0,0,"00:00:00","00:00:00",0,0,"00:00:00","00:00:00",0,0,"00:00:00","00:00:00",0,0]
[null,null,null,null,null,null,null,0,"00:00:00","00:00:00",0,0,"00:00:00","00:00:00",0,0,"00:00:00","00:00:00",0,0,"00:00:00","00:00:00",0,0,"00:00:00","00:00:00",0,0,"00:00:00","00:00:00",0,0,"00:00:00","00:00:00",0,0,"00:00:00","00:00:00",0,0,"00:00:00","00:00:00",0,0,"00:00:00","00:00:00",0,0]
[null,null,null,null,null,null,null,0,"00:00:00","00:00:00",0,0,"00:00:00","00:00:00",0,0,"00:00:00","00:00:00",0,0,"00:00:00","00:00:00",0,0,"00:00:00","00:00:00",0,0,"00:00:00","00:00:00",0,0,"00:00:00","00:00:00",0,0,"00:00:00","00:00:00",0,0,"00:00:00","00:00:00",0,0,"00:00:00","00:00:00",0,0]
[null,null,null,null,null,null,null,0,"00:00:00","00:00:00",0,0,"00:00:00","00:00:00",0,0,"00:00:00","00:00:00",0,0,"00:00:00","00:00:00",0,0,"00:00:00","00:00:00",0,0,"00:00:00","00:00:00",0,0,"00:00:00","00:00:00",0,0,"00:00:00","00:00:00",0,0,"00:00:00","00:00:00",0,0,"00:00:00","00:00:00",0,0]
[null,null,null,null,null,null,null,0,"00:00:00","00:00:00",0,0,"00:00:00","00:00:00",0,0,"00:00:00","00:00:00",0,0,"00:00:00","00:00:00",0,0,"00:00:00","00:00:00",0,0,"00:00:00","00:00:00",0,0,"00:00:00","00:00:00",0,0,"00:00:00","00:00:00",0,0,"00:00:00","00:00:00",0,0,"00:00:00","00:00:00",0,0]
[null,null,null,null,null,null,null,0,"00:00:00","00:00:00",0,0,"00:00:00","00:00:00",0,0,"00:00:00","00:00:00",0,0,"00:00:00","00:00:00",0,0,"00:00:00","00:00:00",0,0,"00:00:00","00:00:00",0,0,"00:00:00","00:00:00",0,0,"00:00:00","00:00:00",0,0,"00:00:00","00:00:00",0,0,"00:00:00","00:00:00",0,0]
[null,null,null,null,null,null,null,0,"00:00:00","00:00:00",0,0,"00:00:00","00:00:00",0,0,"00:00:00","00:00:00",0,0,"00:00:00","00:00:00",0,0,"00:00:00","00:00:00",0,0,"00:00:00","00:00:00",0,0,"00:00:00","00:00:00",0,0,"00:00:00","00:00:00",0,0,"00:00:00","00:00:00",0,0,"00:00:00","00:00:00",0,0]
[null,null,null,null,null,null,null,0,"00:00:00","00:00:00",0,0,"00:00:00","00:00:00",0,0,"00:00:00","00:00:00",0,0,"00:00:00","00:00:00",0,0,"00:00:00","00:00:00",0,0,"00:00:00","00:00:00",0,0,"00:00:00","00:00:00",0,0,"00:00:00","00:00:00",0,0,"00:00:00","00:00:00",0,0,"00:00:00","00:00:00",0,0]
[null,null,null,null,null,null,null,0,"00:00:00","00:00:00",0,0,"00:00:00","00:00:00",0,0,"00:00:00","00:00:00",0,0,"00:00:00","00:00:00",0,0,"00:00:00","00:00:00",0,0,"00:00:00","00:00:00",0,0,"00:00:00","00:00:00",0,0,"00:00:00","00:00:00",0,0,"00:00:00","00:00:00",0,0,"00:00:00","00:00:00",0,0]
[null,null,null,null,null,null,null,0,"00:00:00","00:00:00",0,0,"00:00:00","00:00:00",0,0,"00:00:00","00:00:00",0,0,"00:00:00","00:00:00",0,0,"00:00:00","00:00:00",0,0,"00:00:00","00:00:00",0,0,"00:00:00","00:00:00",0,0,"00:00:00","00:00:00",0,0,"00:00:00","00:00:00",0,0,"00:00:00","00:00:00",0,0]
[null,null,null,null,null,null,null,0,"00:00:00","00:00:00",0,0,"00:00:00","00:00:00",0,0,"00:00:00","00:00:00",0,0,"00:00:00","00:00:00",0,0,"00:00:00","00:00:00",0,0,"00:00:00","00:00:00",0,0,"00:00:00","00:00:00",0,0,"00:00:00","00:00:00",0,0,"00:00:00","00:00:00",0,0,"00:00:00","00:00:00",0,0]
[null,null,null,null,null,null,null,0,"00:00:00","00:00:00",0,0,"00:00:00","00:00:00",0,0,"00:00:00","00:00:00",0,0,"00:00:00","00:00:00",0,0,"00:00:00","00:00:00",0,0,"00:00:00","00:00:00",0,0,"00:00:00","00:00:00",0,0,"00:00:00","00:00:00",0,0,"00:00:00","00:00:00",0,0,"00:00:00","00:00:00",0,0]
[null,null,null,null,null,null,null,0,"00:00:00","00:00:00",0,0,"00:00:00","00:00:00",0,0,"00:00:00","00:00:00",0,0,"00:00:00","00:00:00",0,0,"00:00:00","00:00:00",0,0,"00:00:00","00:00:00",0,0,"00:00:00","00:00:00",0,0,"00:00:00","00:00:00",0,0,"00:00:00","00:00:00",0,0,"00:00:00","00:00:00",0,0]
[null,null,null,null,null,null,null,0,"00:00:00","00:00:00",0,0,"00:00:00","00:00:00",0,0,"00:00:00","00:00:00",0,0,"00:00:00","00:00:00",0,0,"00:00:00","00:00:00",0,0,"00:00:00","00:00:00",0,0,"00:00:00","00:00:00",0,0,"00:00:00","00:00:00",0,0,"00:00:00","00:00:00",0,0,"00:00:00","00:00:00",0,0]
[null,null,null,null,null,null,null,0,"00:00:00","00:00:00",0,0,"00:00:00","00:00:00",0,0,"00:00:00","00:00:00",0,0,"00:00:00","00:00:00",0,0,"00:00:00","00:00:00",0,0,"00:00:00","00:00:00",0,0,"00:00:00","00:00:00",0,0,"00:00:00","00:00:00",0,0,"00:00:00","00:00:00",0,0,"00:00:00","00:00:00",0,0]
[null,null,null,null,null,null,null,0,"00:00:00","00:00:00",0,0,"00:00:00","00:00:00",0,0,"00:00:00","00:00:00",0,0,"00:00:00","00:00:00",0,0,"00:00:00","00:00:00",0,0,"00:00:00","00:00:00",0,0,"00:00:00","00:00:00",0,0,"00:00:00","00:00:00",0,0,"00:00:00","00:00:00",0,0,"00:00:00","00:00:00",0,0]
[null,null,null,null,null,null,null,0,"00:00:00","00:00:00",0,0,"00:00:00","00:00:00",0,0,"00:00:00","00:00:00",0,0,"00:00:00","00:00:00",0,0,"00:00:00","00:00:00",0,0,"00:00:00","00:00:00",0,0,"00:00:00","00:00:00",0,0,"00:00:00","00:00:00",0,0,"00:00:00","00:00:00",0,0,"00:00:00","00:00:00",0,0]
[null,null,null,null,null,null,null,0,"00:00:00","00:00:00",0,0,"00:00:00","00:00:00",0,0,"00:00:00","00:00:00",0,0,"00:00:00","00:00:00",0,0,"00:00:00","00:00:00",0,0,"00:00:00","00:00:00",0,0,"00:00:00","00:00:00",0,0,"00:00:00","00:00:00",0,0,"00:00:00","00:00:00",0,0,"00:00:00","00:00:00",0,0]
[null,null,null,null,null,null,null,0,"00:00:00","00:00:00",0,0,"00:00:00","00:00:00",0,0,"00:00:00","00:00:00",0,0,"00:00:00","00:00:00",0,0,"00:00:00","00:00:00",0,0,"00:00:00","00:00:00",0,0,"00:00:00","00:00:00",0,0,"00:00:00","00:00:00",0,0,"00:00:00","00:00:00",0,0,"00:00:00","00:00:00",0,0]
[null,null,null,null,null,null,null,0,"00:00:00","00:00:00",0,0,"00:00:00","00:00:00",0,0,"00:00:00","00:00:00",0,0,"00:00:00","00:00:00",0,0,"00:00:00","00:00:00",0,0,"00:00:00","00:00:00",0,0,"00:00:00","00:00:00",0,0,"00:00:00","00:00:00",0,0,"00:00:00","00:00:00",0,0,"00:00:00","00:00:00",0,0]
[null,null,null,null,null,null,null,0,"00:00:00","00:00:00",0,0,"00:00:00","00:00:00",0,0,"00:00:00","00:00:00",0,0,"00:00:00","00:00:00",0,0,"00:00:00","00:00:00",0,0,"00:00:00","00:00:00",0,0,"00:00:00","00:00:00",0,0,"00:00:00","00:00:00",0,0,"00:00:00","00:00:00",0,0,"00:00:00","00:00:00",0,0]
[null,null,null,null,null,null,null,0,"00:00:00","00:00:00",0,0,"00:00:00","00:00:00",0,0,"00:00:00","00:00:00",0,0,"00:00:00","00:00:00",0,0,"00:00:00","00:00:00",0,0,"00:00:00","00:00:00",0,0,"00:00:00","00:00:00",0,0,"00:00:00","00:00:00",0,0,"00:00:00","00:00:00",0,0,"00:00:00","00:00:00",0,0]
[null,null,null,null,null,null,null,0,"00:00:00","00:00:00",0,0,"00:00:00","00:00:00",0,0,"00:00:00","00:00:00",0,0,"00:00:00","00:00:00",0,0,"00:00:00","00:00:00",0,0,"00:00:00","00:00:00",0,0,"00:00:00","00:00:00",0,0,"00:00:00","00:00:00",0,0,"00:00:00","00:00:00",0,0,"00:00:00","00:00:00",0,0]
[null,null,null,null,null,null,null,0,"00:00:00","00:00:00",0,0,"00:00:00","00:00:00",0,0,"00:00:00","00:00:00",0,0,"00:00:00","00:00:00",0,0,"00:00:00","00:00:00",0,0,"00:00:00","00:00:00",0,0,"00:00:00","00:00:00",0,0,"00:00:00","00:00:00",0,0,"00:00:00","00:00:00",0,0,"00:00:00","00:00:00",0,0]
[null,null,null,null,null,null,null,0,"00:00:00","00:00:00",0,0,"00:00:00","00:00:00",0,0,"00:00:00","00:00:00",0,0,"00:00:00","00:00:00",0,0,"00:00:00","00:00:00",0,0,"00:00:00","00:00:00",0,0,"00:00:00","00:00:00",0,0,"00:00:00","00:00:00",0,0,"00:00:00","00:00:00",0,0,"00:00:00","00:00:00",0,0]
[null,null,null,null,null,null,null,0,"00:00:00","00:00:00",0,0,"00:00:00","00:00:00",0,0,"00:00:00","00:00:00",0,0,"00:00:00","00:00:00",0,0,"00:00:00","00:00:00",0,0,"00:00:00","00:00:00",0,0,"00:00:00","00:00:00",0,0,"00:00:00","00:00:00",0,0,"00:00:00","00:00:00",0,0,"00:00:00","00:00:00",0,0]
[null,null,null,null,null,null,null,0,"00:00:00","00:00:00",0,0,"00:00:00","00:00:00",0,0,"00:00:00","00:00:00",0,0,"00:00:00","00:00:00",0,0,"00:00:00","00:00:00",0,0,"00:00:00","00:00:00",0,0,"00:00:00","00:00:00",0,0,"00:00:00","00:00:00",0,0,"00:00:00","00:00:00",0,0,"00:00:00","00:00:00",0,0]
[null,null,null,null,null,null,null,0,"00:00:00","00:00:00",0,0,"00:00:00","00:00:00",0,0,"00:00:00","00:00:00",0,0,"00:00:00","00:00:00",0,0,"00:00:00","00:00:00",0,0,"00:00:00","00:00:00",0,0,"00:00:00","00:00:00",0,0,"00:00:00","00:00:00",0,0,"00:00:00","00:00:00",0,0,"00:00:00","00:00:00",0,0]
[null,null,null,null,null,null,null,0,"00:00:00","00:00:00",0,0,"00:00:00","00:00:00",0,0,"00:00:00","00:00:00",0,0,"00:00:00","00:00:00",0,0,"00:00:00","00:00:00",0,0,"00:00:00","00:00:00",0,0,"00:00:00","00:00:00",0,0,"00:00:00","00:00:00",0,0,"00:00:00","00:00:00",0,0,"00:00:00","00:00:00",0,0]
[null,null,null,null,null,null,null,0,"00:00:00","00:00:00",0,0,"00:00:00","00:00:00",0,0,"00:00:00","00:00:00",0,0,"00:00:00","00:00:00",0,0,"00:00:00","00:00:00",0,0,"00:00:00","00:00:00",0,0,"00:00:00","00:00:00",0,0,"00:00:00","00:00:00",0,0,"00:00:00","00:00:00",0,0,"00:00:00","00:00:00",0,0]
[null,null,null,null,null,null,null,0,"00:00:00","00:00:00",0,0,"00:00:00","00:00:00",0,0,"00:00:00","00:00:00",0,0,"00:00:00","00:00:00",0,0,"00:00:00","00:00:00",0,0,"00:00:00","00:00:00",0,0,"00:00:00","00:00:00",0,0,"00:00:00","00:00:00",0,0,"00:00:00","00:00:00",0,0,"00:00:00","00:00:00",0,0]
[null,null,null,null,null,null,null,0,"00:00:00","00:00:00",0,0,"00:00:00","00:00:00",0,0,"00:00:00","00:00:00",0,0,"00:00:00","00:00:00",0,0,"00:00:00","00:00:00",0,0,"00:00:00","00:00:00",0,0,"00:00:00","00:00:00",0,0,"00:00:00","00:00:00",0,0,"00:00:00","00:00:00",0,0,"00:00:00","00:00:00",0,0]
[null,null,null,null,null,null,null,0,"00:00:00","00:00:00",0,0,"00:00:00","00:00:00",0,0,"00:00:00","00:00:00",0,0,"00:00:00","00:00:00",0,0,"00:00:00","00:00:00",0,0,"00:00:00","00:00:00",0,0,"00:00:00","00:00:00",0,0,"00:00:00","00:00:00",0,0,"00:00:00","00:00:00",0,0,"00:00:00","00:00:00",0,0]
[null,null,null,null,null,null,null,0,"00:00:00","00:00:00",0,0,"00:00:00","00:00:00",0,0,"00:00:00","00:00:00",0,0,"00:00:00","00:00:00",0,0,"00:00:00","00:00:00",0,0,"00:00:00","00:00:00",0,0,"00:00:00","00:00:00",0,0,"00:00:00","00:00:00",0,0,"00:00:00","00:00:00",0,0,"00:00:00","00:00:00",0,0]
[null,null,null,null,null,null,null,0,"00:00:00","00:00:00",0,0,"00:00:00","00:00:00",0,0,"00:00:00","00:00:00",0,0,"00:00:00","00:00:00",0,0,"00:00:00","00:00:00",0,0,"00:00:00","00:00:00",0,0,"00:00:00","00:00:00",0,0,"00:00:00","00:00:00",0,0,"00:00:00","00:00:00",0,0,"00:00:00","00:00:00",0,0]
[null,null,null,null,null,null,null,0,"00:00:00","00:00:00",0,0,"00:00:00","00:00:00",0,0,"00:00:00","00:00:00",0,0,"00:00:00","00:00:00",0,0,"00:00:00","00:00:00",0,0,"00:00:00","00:00:00",0,0,"00:00:00","00:00:00",0,0,"00:00:00","00:00:00",0,0,"00:00:00","00:00:00",0,0,"00:00:00","00:00:00",0,0]
[null,null,null,null,null,null,null,0,"00:00:00","00:00:00",0,0,"00:00:00","00:00:00",0,0,"00:00:00","00:00:00",0,0,"00:00:00","00:00:00",0,0,"00:00:00","00:00:00",0,0,"00:00:00","00:00:00",0,0,"00:00:00","00:00:00",0,0,"00:00:00","00:00:00",0,0,"00:00:00","00:00:00",0,0,"00:00:00","00:00:00",0,0]
[null,null,null,null,null,null,null,0,"00:00:00","00:00:00",0,0,"00:00:00","00:00:00",0,0,"00:00:00","00:00:00",0,0,"00:00:00","00:00:00",0,0,"00:00:00","00:00:00",0,0,"00:00:00","00:00:00",0,0,"00:00:00","00:00:00",0,0,"00:00:00","00:00:00",0,0,"00:00:00","00:00:00",0,0,"00:00:00","00:00:00",0,0]
[null,null,null,null,null,null,null,0,"00:00:00","00:00:00",0,0,"00:00:00","00:00:00",0,0,"00:00:00","00:00:00",0,0,"00:00:00","00:00:00",0,0,"00:00:00","00:00:00",0,0,"00:00:00","00:00:00",0,0,"00:00:00","00:00:00",0,0,"00:00:00","00:00:00",0,0,"00:00:00","00:00:00",0,0,"00:00:00","00:00:00",0,0]
[null,null,null,null,null,null,null,0,"00:00:00","00:00:00",0,0,"00:00:00","00:00:00",0,0,"00:00:00","00:00:00",0,0,"00:00:00","00:00:00",0,0,"00:00:00","00:00:00",0,0,"00:00:00","00:00:00",0,0,"00:00:00","00:00:00",0,0,"00:00:00","00:00:00",0,0,"00:00:00","00:00:00",0,0,"00:00:00","00:00:00",0,0]
[null,null,null,null,null,null,null,0,"00:00:00","00:00:00",0,0,"00:00:00","00:00:00",0,0,"00:00:00","00:00:00",0,0,"00:00:00","00:00:00",0,0,"00:00:00","00:00:00",0,0,"00:00:00","00:00:00",0,0,"00:00:00","00:00:00",0,0,"00:00:00","00:00:00",0,0,"00:00:00","00:00:00",0,0,"00:00:00","00:00:00",0,0]
[null,null,null,null,null,null,null,0,"00:00:00","00:00:00",0,0,"00:00:00","00:00:00",0,0,"00:00:00","00:00:00",0,0,"00:00:00","00:00:00",0,0,"00:00:00","00:00:00",0,0,"00:00:00","00:00:00",0,0,"00:00:00","00:00:00",0,0,"00:00:00","00:00:00",0,0,"00:00:00","00:00:00",0,0,"00:00:00","00:00:00",0,0]
[null,null,null,null,null,null,null,0,"00:00:00","00:00:00",0,0,"00:00:00","00:00:00",0,0,"00:00:00","00:00:00",0,0,"00:00:00","00:00:00",0,0,"00:00:00","00:00:00",0,0,"00:00:00","00:00:00",0,0,"00:00:00","00:00:00",0,0,"00:00:00","00:00:00",0,0,"00:00:00","00:00:00",0,0,"00:00:00","00:00:00",0,0]
[null,null,null,null,null,null,null,0,"00:00:00","00:00:00",0,0,"00:00:00","00:00:00",0,0,"00:00:00","00:00:00",0,0,"00:00:00","00:00:00",0,0,"00:00:00","00:00:00",0,0,"00:00:00","00:00:00",0,0,"00:00:00","00:00:00",0,0,"00:00:00","00:00:00",0,0,"00:00:00","00:00:00",0,0,"00:00:00","00:00:00",0,0]
[null,null,null,null,null,null,null,0,"00:00:00","00:00:00",0,0,"00:00:00","00:00:00",0,0,"00:00:00","00:00:00",0,0,"00:00:00","00:00:00",0,0,"00:00:00","00:00:00",0,0,"00:00:00","00:00:00",0,0,"00:00:00","00:00:00",0,0,"00:00:00","00:00:00",0,0,"00:00:00","00:00:00",0,0,"00:00:00","00:00:00",0,0]
[null,null,null,null,null,null,null,0,"00:00:00","00:00:00",0,0,"00:00:00","00:00:00",0,0,"00:00:00","00:00:00",0,0,"00:00:00","00:00:00",0,0,"00:00:00","00:00:00",0,0,"00:00:00","00:00:00",0,0,"00:00:00","00:00:00",0,0,"00:00:00","00:00:00",0,0,"00:00:00","00:00:00",0,0,"00:00:00","00:00:00",0,0]
[null,null,null,null,null,null,null,0,"00:00:00","00:00:00",0,0,"00:00:00","00:00:00",0,0,"00:00:00","00:00:00",0,0,"00:00:00","00:00:00",0,0,"00:00:00","00:00:00",0,0,"00:00:00","00:00:00",0,0,"00:00:00","00:00:00",0,0,"00:00:00","00:00:00",0,0,"00:00:00","00:00:00",0,0,"00:00:00","00:00:00",0,0]
[null,null,null,null,null,null,null,0,"00:00:00","00:00:00",0,0,"00:00:00","00:00:00",0,0,"00:00:00","00:00:00",0,0,"00:00:00","00:00:00",0,0,"00:00:00","00:00:00",0,0,"00:00:00","00:00:00",0,0,"00:00:00","00:00:00",0,0,"00:00:00","00:00:00",0,0,"00:00:00","00:00:00",0,0,"00:00:00","00:00:00",0,0]
[null,null,null,null,null,null,null,0,"00:00:00","00:00:00",0,0,"00:00:00","00:00:00",0,0,"00:00:00","00:00:00",0,0,"00:00:00","00:00:00",0,0,"00:00:00","00:00:00",0,0,"00:00:00","00:00:00",0,0,"00:00:00","00:00:00",0,0,"00:00:00","00:00:00",0,0,"00:00:00","00:00:00",0,0,"00:00:00","00:00:00",0,0]
[null,null,null,null,null,null,null,0,"00:00:00","00:00:00",0,0,"00:00:00","00:00:00",0,0,"00:00:00","00:00:00",0,0,"00:00:00","00:00:00",0,0,"00:00:00","00:00:00",0,0,"00:00:00","00:00:00",0,0,"00:00:00","00:00:00",0,0,"00:00:00","00:00:00",0,0,"00:00:00","00:00:00",0,0,"00:00:00","00:00:00",0,0]
[null,null,null,null,null,null,null,0,"00:00:00","00:00:00",0,0,"00:00:00","00:00:00",0,0,"00:00:00","00:00:00",0,0,"00:00:00","00:00:00",0,0,"00:00:00","00:00:00",0,0,"00:00:00","00:00:00",0,0,"00:00:00","00:00:00",0,0,"00:00:00","00:00:00",0,0,"00:00:00","00:00:00",0,0,"00:00:00","00:00:00",0,0]
[null,null,null,null,null,null,null,0,"00:00:00","00:00:00",0,0,"00:00:00","00:00:00",0,0,"00:00:00","00:00:00",0,0,"00:00:00","00:00:00",0,0,"00:00:00","00:00:00",0,0,"00:00:00","00:00:00",0,0,"00:00:00","00:00:00",0,0,"00:00:00","00:00:00",0,0,"00:00:00","00:00:00",0,0,"00:00:00","00:00:00",0,0]
[null,null,null,null,null,null,null,0,"00:00:00","00:00:00",0,0,"00:00:00","00:00:00",0,0,"00:00:00","00:00:00",0,0,"00:00:00","00:00:00",0,0,"00:00:00","00:00:00",0,0,"00:00:00","00:00:00",0,0,"00:00:00","00:00:00",0,0,"00:00:00","00:00:00",0,0,"00:00:00","00:00:00",0,0,"00:00:00","00:00:00",0,0]
[null,null,null,null,null,null,null,0,"00:00:00","00:00:00",0,0,"00:00:00","00:00:00",0,0,"00:00:00","00:00:00",0,0,"00:00:00","00:00:00",0,0,"00:00:00","00:00:00",0,0,"00:00:00","00:00:00",0,0,"00:00:00","00:00:00",0,0,"00:00:00","00:00:00",0,0,"00:00:00","00:00:00",0,0,"00:00:00","00:00:00",0,0]
[null,null,null,null,null,null,null,0,"00:00:00","00:00:00",0,0,"00:00:00","00:00:00",0,0,"00:00:00","00:00:00",0,0,"00:00:00","00:00:00",0,0,"00:00:00","00:00:00",0,0,"00:00:00","00:00:00",0,0,"00:00:00","00:00:00",0,0,"00:00:00","00:00:00",0,0,"00:00:00","00:00:00",0,0,"00:00:00","00:00:00",0,0]
[null,null,null,null,null,null,null,0,"00:00:00","00:00:00",0,0,"00:00:00","00:00:00",0,0,"00:00:00","00:00:00",0,0,"00:00:00","00:00:00",0,0,"00:00:00","00:00:00",0,0,"00:00:00","00:00:00",0,0,"00:00:00","00:00:00",0,0,"00:00:00","00:00:00",0,0,"00:00:00","00:00:00",0,0,"00:00:00","00:00:00",0,0]
[null,null,null,null,null,null,null,0,"00:00:00","00:00:00",0,0,"00:00:00","00:00:00",0,0,"00:00:00","00:00:00",0,0,"00:00:00","00:00:00",0,0,"00:00:00","00:00:00",0,0,"00:00:00","00:00:00",0,0,"00:00:00","00:00:00",0,0,"00:00:00","00:00:00",0,0,"00:00:00","00:00:00",0,0,"00:00:00","00:00:00",0,0]
[null,null,null,null,null,null,null,0,"00:00:00","00:00:00",0,0,"00:00:00","00:00:00",0,0,"00:00:00","00:00:00",0,0,"00:00:00","00:00:00",0,0,"00:00:00","00:00:00",0,0,"00:00:00","00:00:00",0,0,"00:00:00","00:00:00",0,0,"00:00:00","00:00:00",0,0,"00:00:00","00:00:00",0,0,"00:00:00","00:00:00",0,0]
[null,null,null,null,null,null,null,0,"00:00:00","00:00:00",0,0,"00:00:00","00:00:00",0,0,"00:00:00","00:00:00",0,0,"00:00:00","00:00:00",0,0,"00:00:00","00:00:00",0,0,"00:00:00","00:00:00",0,0,"00:00:00","00:00:00",0,0,"00:00:00","00:00:00",0,0,"00:00:00","00:00:00",0,0,"00:00:00","00:00:00",0,0]
[null,null,null,null,null,null,null,0,"00:00:00","00:00:00",0,0,"00:00:00","00:00:00",0,0,"00:00:00","00:00:00",0,0,"00:00:00","00:00:00",0,0,"00:00:00","00:00:00",0,0,"00:00:00","00:00:00",0,0,"00:00:00","00:00:00",0,0,"00:00:00","00:00:00",0,0,"00:00:00","00:00:00",0,0,"00:00:00","00:00:00",0,0]
[null,null,null,null,null,null,null,0,"00:00:00","00:00:00",0,0,"00:00:00","00:00:00",0,0,"00:00:00","00:00:00",0,0,"00:00:00","00:00:00",0,0,"00:00:00","00:00:00",0,0,"00:00:00","00:00:00",0,0,"00:00:00","00:00:00",0,0,"00:00:00","00:00:00",0,0,"00:00:00","00:00:00",0,0,"00:00:00","00:00:00",0,0]
[null,null,null,null,null,null,null,0,{"$f":"IF(OR($F269<I$10,$E269>J$10),0,IF(AND($E269>=I$10,$F269<=J$10),$E269,IF(AND($E269<=I$10,$F269<=J$10),I$10,IF(AND($E269<=J$10,$F269>=J$10,$E269>=I$10),$E269,IF(AND($E269<=I$10,$F269>=J$10),I$10,\"chyba\")))))","v":"00:00:00"},{"$f":"IF(OR($F269<I$10,$E269>J$10),0,IF(AND($E269>=I$10,$F269<=J$10),$F269,IF(AND($E269<=I$10,$F269<=J$10),$F269,IF(AND($E269<=J$10,$F269>=J$10),J$10,IF(AND($E269<=I$10,$F269>=J$10),J$10,\"chyba\")))))","v":"00:00:00"},0,{"$f":"IF($H269<=0,0,$G269/$H269*K269)","v":0},{"$f":"IF(OR($F269<M$10,$E269>N$10),0,IF(AND($E269>=M$10,$F269<=N$10),$E269,IF(AND($E269<=M$10,$F269<=N$10),M$10,IF(AND($E269<=N$10,$F269>=N$10,$E269>=M$10),$E269,IF(AND($E269<=M$10,$F269>=N$10),M$10,\"chyba\")))))","v":"00:00:00"},{"$f":"IF(OR($F269<M$10,$E269>N$10),0,IF(AND($E269>=M$10,$F269<=N$10),$F269,IF(AND($E269<=M$10,$F269<=N$10),$F269,IF(AND($E269<=N$10,$F269>=N$10),N$10,IF(AND($E269<=M$10,$F269>=N$10),N$10,\"chyba\")))))","v":"00:00:00"},0,{"$f":"IF($H269<=0,0,$G269/$H269*O269)","v":0},{"$f":"IF(OR($F269<Q$10,$E269>R$10),0,IF(AND($E269>=Q$10,$F269<=R$10),$E269,IF(AND($E269<=Q$10,$F269<=R$10),Q$10,IF(AND($E269<=R$10,$F269>=R$10,$E269>=Q$10),$E269,IF(AND($E269<=Q$10,$F269>=R$10),Q$10,\"chyba\")))))","v":"00:00:00"},{"$f":"IF(OR($F269<Q$10,$E269>R$10),0,IF(AND($E269>=Q$10,$F269<=R$10),$F269,IF(AND($E269<=Q$10,$F269<=R$10),$F269,IF(AND($E269<=R$10,$F269>=R$10),R$10,IF(AND($E269<=Q$10,$F269>=R$10),R$10,\"chyba\")))))","v":"00:00:00"},0,{"$f":"IF($H269<=0,0,$G269/$H269*S269)","v":0},{"$f":"IF(OR($F269<U$10,$E269>V$10),0,IF(AND($E269>=U$10,$F269<=V$10),$E269,IF(AND($E269<=U$10,$F269<=V$10),U$10,IF(AND($E269<=V$10,$F269>=V$10,$E269>=U$10),$E269,IF(AND($E269<=U$10,$F269>=V$10),U$10,\"chyba\")))))","v":"00:00:00"},{"$f":"IF(OR($F269<U$10,$E269>V$10),0,IF(AND($E269>=U$10,$F269<=V$10),$F269,IF(AND($E269<=U$10,$F269<=V$10),$F269,IF(AND($E269<=V$10,$F269>=V$10),V$10,IF(AND($E269<=U$10,$F269>=V$10),V$10,\"chyba\")))))","v":"00:00:00"},0,{"$f":"IF($H269<=0,0,$G269/$H269*W269)","v":0},{"$f":"IF(OR($F269<Y$10,$E269>Z$10),0,IF(AND($E269>=Y$10,$F269<=Z$10),$E269,IF(AND($E269<=Y$10,$F269<=Z$10),Y$10,IF(AND($E269<=Z$10,$F269>=Z$10,$E269>=Y$10),$E269,IF(AND($E269<=Y$10,$F269>=Z$10),Y$10,\"chyba\")))))","v":"00:00:00"},{"$f":"IF(OR($F269<Y$10,$E269>Z$10),0,IF(AND($E269>=Y$10,$F269<=Z$10),$F269,IF(AND($E269<=Y$10,$F269<=Z$10),$F269,IF(AND($E269<=Z$10,$F269>=Z$10),Z$10,IF(AND($E269<=Y$10,$F269>=Z$10),Z$10,\"chyba\")))))","v":"00:00:00"},0,{"$f":"IF($H269<=0,0,$G269/$H269*AA269)","v":0},{"$f":"IF(OR($F269<AC$10,$E269>AD$10),0,IF(AND($E269>=AC$10,$F269<=AD$10),$E269,IF(AND($E269<=AC$10,$F269<=AD$10),AC$10,IF(AND($E269<=AD$10,$F269>=AD$10,$E269>=AC$10),$E269,IF(AND($E269<=AC$10,$F269>=AD$10),AC$10,\"chyba\")))))","v":"00:00:00"},{"$f":"IF(OR($F269<AC$10,$E269>AD$10),0,IF(AND($E269>=AC$10,$F269<=AD$10),$F269,IF(AND($E269<=AC$10,$F269<=AD$10),$F269,IF(AND($E269<=AD$10,$F269>=AD$10),AD$10,IF(AND($E269<=AC$10,$F269>=AD$10),AD$10,\"chyba\")))))","v":"00:00:00"},0,{"$f":"IF($H269<=0,0,$G269/$H269*AE269)","v":0},{"$f":"IF(OR($F269<AG$10,$E269>AH$10),0,IF(AND($E269>=AG$10,$F269<=AH$10),$E269,IF(AND($E269<=AG$10,$F269<=AH$10),AG$10,IF(AND($E269<=AH$10,$F269>=AH$10,$E269>=AG$10),$E269,IF(AND($E269<=AG$10,$F269>=AH$10),AG$10,\"chyba\")))))","v":"00:00:00"},{"$f":"IF(OR($F269<AG$10,$E269>AH$10),0,IF(AND($E269>=AG$10,$F269<=AH$10),$F269,IF(AND($E269<=AG$10,$F269<=AH$10),$F269,IF(AND($E269<=AH$10,$F269>=AH$10),AH$10,IF(AND($E269<=AG$10,$F269>=AH$10),AH$10,\"chyba\")))))","v":"00:00:00"},0,{"$f":"IF($H269<=0,0,$G269/$H269*AI269)","v":0},{"$f":"IF(OR($F269<AK$10,$E269>AL$10),0,IF(AND($E269>=AK$10,$F269<=AL$10),$E269,IF(AND($E269<=AK$10,$F269<=AL$10),AK$10,IF(AND($E269<=AL$10,$F269>=AL$10,$E269>=AK$10),$E269,IF(AND($E269<=AK$10,$F269>=AL$10),AK$10,\"chyba\")))))","v":"00:00:00"},{"$f":"IF(OR($F269<AK$10,$E269>AL$10),0,IF(AND($E269>=AK$10,$F269<=AL$10),$F269,IF(AND($E269<=AK$10,$F269<=AL$10),$F269,IF(AND($E269<=AL$10,$F269>=AL$10),AL$10,IF(AND($E269<=AK$10,$F269>=AL$10),AL$10,\"chyba\")))))","v":"00:00:00"},0,{"$f":"IF($H269<=0,0,$G269/$H269*AM269)","v":0},{"$f":"IF(OR($F269<AO$10,$E269>AP$10),0,IF(AND($E269>=AO$10,$F269<=AP$10),$E269,IF(AND($E269<=AO$10,$F269<=AP$10),AO$10,IF(AND($E269<=AP$10,$F269>=AP$10,$E269>=AO$10),$E269,IF(AND($E269<=AO$10,$F269>=AP$10),AO$10,\"chyba\")))))","v":"00:00:00"},{"$f":"IF(OR($F269<AO$10,$E269>AP$10),0,IF(AND($E269>=AO$10,$F269<=AP$10),$F269,IF(AND($E269<=AO$10,$F269<=AP$10),$F269,IF(AND($E269<=AP$10,$F269>=AP$10),AP$10,IF(AND($E269<=AO$10,$F269>=AP$10),AP$10,\"chyba\")))))","v":"00:00:00"},0,{"$f":"IF($H269<=0,0,$G269/$H269*AQ269)","v":0},{"$f":"IF(OR($F269<AS$10,$E269>AT$10),0,IF(AND($E269>=AS$10,$F269<=AT$10),$E269,IF(AND($E269<=AS$10,$F269<=AT$10),AS$10,IF(AND($E269<=AT$10,$F269>=AT$10,$E269>=AS$10),$E269,IF(AND($E269<=AS$10,$F269>=AT$10),AS$10,\"chyba\")))))","v":"00:00:00"},{"$f":"IF(OR($F269<AS$10,$E269>AT$10),0,IF(AND($E269>=AS$10,$F269<=AT$10),$F269,IF(AND($E269<=AS$10,$F269<=AT$10),$F269,IF(AND($E269<=AT$10,$F269>=AT$10),AT$10,IF(AND($E269<=AS$10,$F269>=AT$10),AT$10,\"chyba\")))))","v":"00:00:00"},0,{"$f":"IF($H269<=0,0,$G269/$H269*AU269)","v":0}]
[null,null,null,null,null,null,null,{"$f":"IF(F270-E270=0,0,F270-E270+1)","v":0},"00:00:00","00:00:00",{"$f":"IF(J270-I270=0,0,J270-I270+1)","v":0},0,"00:00:00","00:00:00",{"$f":"IF(N270-M270=0,0,N270-M270+1)","v":0},0,"00:00:00","00:00:00",{"$f":"IF(R270-Q270=0,0,R270-Q270+1)","v":0},0,"00:00:00","00:00:00",{"$f":"IF(V270-U270=0,0,V270-U270+1)","v":0},0,"00:00:00","00:00:00",{"$f":"IF(Z270-Y270=0,0,Z270-Y270+1)","v":0},0,"00:00:00","00:00:00",{"$f":"IF(AD270-AC270=0,0,AD270-AC270+1)","v":0},0,"00:00:00","00:00:00",{"$f":"IF(AH270-AG270=0,0,AH270-AG270+1)","v":0},0,"00:00:00","00:00:00",{"$f":"IF(AL270-AK270=0,0,AL270-AK270+1)","v":0},0,"00:00:00","00:00:00",{"$f":"IF(AP270-AO270=0,0,AP270-AO270+1)","v":0},0,"00:00:00","00:00:00",{"$f":"IF(AT270-AS270=0,0,AT270-AS270+1)","v":0},0]
[null,null,null,null,null,null,null,0,"00:00:00","00:00:00",0,0,"00:00:00","00:00:00",0,0,"00:00:00","00:00:00",0,0,"00:00:00","00:00:00",0,0,"00:00:00","00:00:00",0,0,"00:00:00","00:00:00",0,0,"00:00:00","00:00:00",0,0,"00:00:00","00:00:00",0,0,"00:00:00","00:00:00",0,0,"00:00:00","00:00:00",0,0]
[null,null,null,null,null,null,null,0,"00:00:00","00:00:00",0,0,"00:00:00","00:00:00",0,0,"00:00:00","00:00:00",0,0,"00:00:00","00:00:00",0,0,"00:00:00","00:00:00",0,0,"00:00:00","00:00:00",0,0,"00:00:00","00:00:00",0,0,"00:00:00","00:00:00",0,0,"00:00:00","00:00:00",0,0,"00:00:00","00:00:00",0,0]
[null,null,null,null,null,null,null,0,"00:00:00","00:00:00",0,0,"00:00:00","00:00:00",0,0,"00:00:00","00:00:00",0,0,"00:00:00","00:00:00",0,0,"00:00:00","00:00:00",0,0,"00:00:00","00:00:00",0,0,"00:00:00","00:00:00",0,0,"00:00:00","00:00:00",0,0,"00:00:00","00:00:00",0,0,"00:00:00","00:00:00",0,0]
[null,null,null,null,null,null,null,0,"00:00:00","00:00:00",0,0,"00:00:00","00:00:00",0,0,"00:00:00","00:00:00",0,0,"00:00:00","00:00:00",0,0,"00:00:00","00:00:00",0,0,"00:00:00","00:00:00",0,0,"00:00:00","00:00:00",0,0,"00:00:00","00:00:00",0,0,"00:00:00","00:00:00",0,0,"00:00:00","00:00:00",0,0]
[null,null,null,null,null,null,null,0,"00:00:00","00:00:00",0,0,"00:00:00","00:00:00",0,0,"00:00:00","00:00:00",0,0,"00:00:00","00:00:00",0,0,"00:00:00","00:00:00",0,0,"00:00:00","00:00:00",0,0,"00:00:00","00:00:00",0,0,"00:00:00","00:00:00",0,0,"00:00:00","00:00:00",0,0,"00:00:00","00:00:00",0,0]
[null,null,null,null,null,null,null,0,"00:00:00","00:00:00",0,0,"00:00:00","00:00:00",0,0,"00:00:00","00:00:00",0,0,"00:00:00","00:00:00",0,0,"00:00:00","00:00:00",0,0,"00:00:00","00:00:00",0,0,"00:00:00","00:00:00",0,0,"00:00:00","00:00:00",0,0,"00:00:00","00:00:00",0,0,"00:00:00","00:00:00",0,0]
[null,null,null,null,null,null,null,0,"00:00:00","00:00:00",0,0,"00:00:00","00:00:00",0,0,"00:00:00","00:00:00",0,0,"00:00:00","00:00:00",0,0,"00:00:00","00:00:00",0,0,"00:00:00","00:00:00",0,0,"00:00:00","00:00:00",0,0,"00:00:00","00:00:00",0,0,"00:00:00","00:00:00",0,0,"00:00:00","00:00:00",0,0]
[null,null,null,null,null,null,null,0,"00:00:00","00:00:00",0,0,"00:00:00","00:00:00",0,0,"00:00:00","00:00:00",0,0,"00:00:00","00:00:00",0,0,"00:00:00","00:00:00",0,0,"00:00:00","00:00:00",0,0,"00:00:00","00:00:00",0,0,"00:00:00","00:00:00",0,0,"00:00:00","00:00:00",0,0,"00:00:00","00:00:00",0,0]
[null,null,null,null,null,null,null,0,"00:00:00","00:00:00",0,0,"00:00:00","00:00:00",0,0,"00:00:00","00:00:00",0,0,"00:00:00","00:00:00",0,0,"00:00:00","00:00:00",0,0,"00:00:00","00:00:00",0,0,"00:00:00","00:00:00",0,0,"00:00:00","00:00:00",0,0,"00:00:00","00:00:00",0,0,"00:00:00","00:00:00",0,0]
[null,null,null,null,null,null,null,0,"00:00:00","00:00:00",0,0,"00:00:00","00:00:00",0,0,"00:00:00","00:00:00",0,0,"00:00:00","00:00:00",0,0,"00:00:00","00:00:00",0,0,"00:00:00","00:00:00",0,0,"00:00:00","00:00:00",0,0,"00:00:00","00:00:00",0,0,"00:00:00","00:00:00",0,0,"00:00:00","00:00:00",0,0]
[null,null,null,null,null,null,null,0,"00:00:00","00:00:00",0,0,"00:00:00","00:00:00",0,0,"00:00:00","00:00:00",0,0,"00:00:00","00:00:00",0,0,"00:00:00","00:00:00",0,0,"00:00:00","00:00:00",0,0,"00:00:00","00:00:00",0,0,"00:00:00","00:00:00",0,0,"00:00:00","00:00:00",0,0,"00:00:00","00:00:00",0,0]
[null,null,null,null,null,null,null,0,"00:00:00","00:00:00",0,0,"00:00:00","00:00:00",0,0,"00:00:00","00:00:00",0,0,"00:00:00","00:00:00",0,0,"00:00:00","00:00:00",0,0,"00:00:00","00:00:00",0,0,"00:00:00","00:00:00",0,0,"00:00:00","00:00:00",0,0,"00:00:00","00:00:00",0,0,"00:00:00","00:00:00",0,0]
[null,null,null,null,null,null,null,0,"00:00:00","00:00:00",0,0,"00:00:00","00:00:00",0,0,"00:00:00","00:00:00",0,0,"00:00:00","00:00:00",0,0,"00:00:00","00:00:00",0,0,"00:00:00","00:00:00",0,0,"00:00:00","00:00:00",0,0,"00:00:00","00:00:00",0,0,"00:00:00","00:00:00",0,0,"00:00:00","00:00:00",0,0]
[null,null,null,null,null,null,null,0,"00:00:00","00:00:00",0,0,"00:00:00","00:00:00",0,0,"00:00:00","00:00:00",0,0,"00:00:00","00:00:00",0,0,"00:00:00","00:00:00",0,0,"00:00:00","00:00:00",0,0,"00:00:00","00:00:00",0,0,"00:00:00","00:00:00",0,0,"00:00:00","00:00:00",0,0,"00:00:00","00:00:00",0,0]
[null,null,null,null,null,null,null,0,"00:00:00","00:00:00",0,0,"00:00:00","00:00:00",0,0,"00:00:00","00:00:00",0,0,"00:00:00","00:00:00",0,0,"00:00:00","00:00:00",0,0,"00:00:00","00:00:00",0,0,"00:00:00","00:00:00",0,0,"00:00:00","00:00:00",0,0,"00:00:00","00:00:00",0,0,"00:00:00","00:00:00",0,0]
[null,null,null,null,null,null,null,0,"00:00:00","00:00:00",0,0,"00:00:00","00:00:00",0,0,"00:00:00","00:00:00",0,0,"00:00:00","00:00:00",0,0,"00:00:00","00:00:00",0,0,"00:00:00","00:00:00",0,0,"00:00:00","00:00:00",0,0,"00:00:00","00:00:00",0,0,"00:00:00","00:00:00",0,0,"00:00:00","00:00:00",0,0]
[null,null,null,null,null,null,null,0,"00:00:00","00:00:00",0,0,"00:00:00","00:00:00",0,0,"00:00:00","00:00:00",0,0,"00:00:00","00:00:00",0,0,"00:00:00","00:00:00",0,0,"00:00:00","00:00:00",0,0,"00:00:00","00:00:00",0,0,"00:00:00","00:00:00",0,0,"00:00:00","00:00:00",0,0,"00:00:00","00:00:00",0,0]
[null,null,null,null,null,null,null,0,"00:00:00","00:00:00",0,0,"00:00:00","00:00:00",0,0,"00:00:00","00:00:00",0,0,"00:00:00","00:00:00",0,0,"00:00:00","00:00:00",0,0,"00:00:00","00:00:00",0,0,"00:00:00","00:00:00",0,0,"00:00:00","00:00:00",0,0,"00:00:00","00:00:00",0,0,"00:00:00","00:00:00",0,0]
[null,null,null,null,null,null,null,0,"00:00:00","00:00:00",0,0,"00:00:00","00:00:00",0,0,"00:00:00","00:00:00",0,0,"00:00:00","00:00:00",0,0,"00:00:00","00:00:00",0,0,"00:00:00","00:00:00",0,0,"00:00:00","00:00:00",0,0,"00:00:00","00:00:00",0,0,"00:00:00","00:00:00",0,0,"00:00:00","00:00:00",0,0]
[null,null,null,null,null,null,null,0,"00:00:00","00:00:00",0,0,"00:00:00","00:00:00",0,0,"00:00:00","00:00:00",0,0,"00:00:00","00:00:00",0,0,"00:00:00","00:00:00",0,0,"00:00:00","00:00:00",0,0,"00:00:00","00:00:00",0,0,"00:00:00","00:00:00",0,0,"00:00:00","00:00:00",0,0,"00:00:00","00:00:00",0,0]
[null,null,null,null,null,null,null,0,"00:00:00","00:00:00",0,0,"00:00:00","00:00:00",0,0,"00:00:00","00:00:00",0,0,"00:00:00","00:00:00",0,0,"00:00:00","00:00:00",0,0,"00:00:00","00:00:00",0,0,"00:00:00","00:00:00",0,0,"00:00:00","00:00:00",0,0,"00:00:00","00:00:00",0,0,"00:00:00","00:00:00",0,0]
[null,null,null,null,null,null,null,0,"00:00:00","00:00:00",0,0,"00:00:00","00:00:00",0,0,"00:00:00","00:00:00",0,0,"00:00:00","00:00:00",0,0,"00:00:00","00:00:00",0,0,"00:00:00","00:00:00",0,0,"00:00:00","00:00:00",0,0,"00:00:00","00:00:00",0,0,"00:00:00","00:00:00",0,0,"00:00:00","00:00:00",0,0]
[null,null,null,null,null,null,null,0,"00:00:00","00:00:00",0,0,"00:00:00","00:00:00",0,0,"00:00:00","00:00:00",0,0,"00:00:00","00:00:00",0,0,"00:00:00","00:00:00",0,0,"00:00:00","00:00:00",0,0,"00:00:00","00:00:00",0,0,"00:00:00","00:00:00",0,0,"00:00:00","00:00:00",0,0,"00:00:00","00:00:00",0,0]
[null,null,null,null,null,null,null,0,"00:00:00","00:00:00",0,0,"00:00:00","00:00:00",0,0,"00:00:00","00:00:00",0,0,"00:00:00","00:00:00",0,0,"00:00:00","00:00:00",0,0,"00:00:00","00:00:00",0,0,"00:00:00","00:00:00",0,0,"00:00:00","00:00:00",0,0,"00:00:00","00:00:00",0,0,"00:00:00","00:00:00",0,0]
[null,null,null,null,null,null,null,0,"00:00:00","00:00:00",0,0,"00:00:00","00:00:00",0,0,"00:00:00","00:00:00",0,0,"00:00:00","00:00:00",0,0,"00:00:00","00:00:00",0,0,"00:00:00","00:00:00",0,0,"00:00:00","00:00:00",0,0,"00:00:00","00:00:00",0,0,"00:00:00","00:00:00",0,0,"00:00:00","00:00:00",0,0]
[null,null,null,null,null,null,null,0,"00:00:00","00:00:00",0,0,"00:00:00","00:00:00",0,0,"00:00:00","00:00:00",0,0,"00:00:00","00:00:00",0,0,"00:00:00","00:00:00",0,0,"00:00:00","00:00:00",0,0,"00:00:00","00:00:00",0,0,"00:00:00","00:00:00",0,0,"00:00:00","00:00:00",0,0,"00:00:00","00:00:00",0,0]
[null,null,null,null,null,null,null,0,"00:00:00","00:00:00",0,0,"00:00:00","00:00:00",0,0,"00:00:00","00:00:00",0,0,"00:00:00","00:00:00",0,0,"00:00:00","00:00:00",0,0,"00:00:00","00:00:00",0,0,"00:00:00","00:00:00",0,0,"00:00:00","00:00:00",0,0,"00:00:00","00:00:00",0,0,"00:00:00","00:00:00",0,0]
[null,null,null,null,null,null,null,0,"00:00:00","00:00:00",0,0,"00:00:00","00:00:00",0,0,"00:00:00","00:00:00",0,0,"00:00:00","00:00:00",0,0,"00:00:00","00:00:00",0,0,"00:00:00","00:00:00",0,0,"00:00:00","00:00:00",0,0,"00:00:00","00:00:00",0,0,"00:00:00","00:00:00",0,0,"00:00:00","00:00:00",0,0]
[null,null,null,null,null,null,null,0,"00:00:00","00:00:00",0,0,"00:00:00","00:00:00",0,0,"00:00:00","00:00:00",0,0,"00:00:00","00:00:00",0,0,"00:00:00","00:00:00",0,0,"00:00:00","00:00:00",0,0,"00:00:00","00:00:00",0,0,"00:00:00","00:00:00",0,0,"00:00:00","00:00:00",0,0,"00:00:00","00:00:00",0,0]
[null,null,null,null,null,null,null,0,"00:00:00","00:00:00",0,0,"00:00:00","00:00:00",0,0,"00:00:00","00:00:00",0,0,"00:00:00","00:00:00",0,0,"00:00:00","00:00:00",0,0,"00:00:00","00:00:00",0,0,"00:00:00","00:00:00",0,0,"00:00:00","00:00:00",0,0,"00:00:00","00:00:00",0,0,"00:00:00","00:00:00",0,0]
[null,null,null,null,null,null,null,0,"00:00:00","00:00:00",0,0,"00:00:00","00:00:00",0,0,"00:00:00","00:00:00",0,0,"00:00:00","00:00:00",0,0,"00:00:00","00:00:00",0,0,"00:00:00","00:00:00",0,0,"00:00:00","00:00:00",0,0,"00:00:00","00:00:00",0,0,"00:00:00","00:00:00",0,0,"00:00:00","00:00:00",0,0]
[null,null,null,null,null,null,null,0,"00:00:00","00:00:00",0,0,"00:00:00","00:00:00",0,0,"00:00:00","00:00:00",0,0,"00:00:00","00:00:00",0,0,"00:00:00","00:00:00",0,0,"00:00:00","00:00:00",0,0,"00:00:00","00:00:00",0,0,"00:00:00","00:00:00",0,0,"00:00:00","00:00:00",0,0,"00:00:00","00:00:00",0,0]
[null,null,null,null,null,null,null,0,"00:00:00","00:00:00",0,0,"00:00:00","00:00:00",0,0,"00:00:00","00:00:00",0,0,"00:00:00","00:00:00",0,0,"00:00:00","00:00:00",0,0,"00:00:00","00:00:00",0,0,"00:00:00","00:00:00",0,0,"00:00:00","00:00:00",0,0,"00:00:00","00:00:00",0,0,"00:00:00","00:00:00",0,0]
[null,null,null,null,null,null,null,0,"00:00:00","00:00:00",0,0,"00:00:00","00:00:00",0,0,"00:00:00","00:00:00",0,0,"00:00:00","00:00:00",0,0,"00:00:00","00:00:00",0,0,"00:00:00","00:00:00",0,0,"00:00:00","00:00:00",0,0,"00:00:00","00:00:00",0,0,"00:00:00","00:00:00",0,0,"00:00:00","00:00:00",0,0]
[null,null,null,null,null,null,null,0,"00:00:00","00:00:00",0,0,"00:00:00","00:00:00",0,0,"00:00:00","00:00:00",0,0,"00:00:00","00:00:00",0,0,"00:00:00","00:00:00",0,0,"00:00:00","00:00:00",0,0,"00:00:00","00:00:00",0,0,"00:00:00","00:00:00",0,0,"00:00:00","00:00:00",0,0,"00:00:00","00:00:00",0,0]
[null,null,null,null,null,null,null,0,"00:00:00","00:00:00",0,0,"00:00:00","00:00:00",0,0,"00:00:00","00:00:00",0,0,"00:00:00","00:00:00",0,0,"00:00:00","00:00:00",0,0,"00:00:00","00:00:00",0,0,"00:00:00","00:00:00",0,0,"00:00:00","00:00:00",0,0,"00:00:00","00:00:00",0,0,"00:00:00","00:00:00",0,0]
[null,null,null,null,null,null,null,0,"00:00:00","00:00:00",0,0,"00:00:00","00:00:00",0,0,"00:00:00","00:00:00",0,0,"00:00:00","00:00:00",0,0,"00:00:00","00:00:00",0,0,"00:00:00","00:00:00",0,0,"00:00:00","00:00:00",0,0,"00:00:00","00:00:00",0,0,"00:00:00","00:00:00",0,0,"00:00:00","00:00:00",0,0]
[null,null,null,null,null,null,null,0,"00:00:00","00:00:00",0,0,"00:00:00","00:00:00",0,0,"00:00:00","00:00:00",0,0,"00:00:00","00:00:00",0,0,"00:00:00","00:00:00",0,0,"00:00:00","00:00:00",0,0,"00:00:00","00:00:00",0,0,"00:00:00","00:00:00",0,0,"00:00:00","00:00:00",0,0,"00:00:00","00:00:00",0,0]
[null,null,null,null,null,null,null,0,"00:00:00","00:00:00",0,0,"00:00:00","00:00:00",0,0,"00:00:00","00:00:00",0,0,"00:00:00","00:00:00",0,0,"00:00:00","00:00:00",0,0,"00:00:00","00:00:00",0,0,"00:00:00","00:00:00",0,0,"00:00:00","00:00:00",0,0,"00:00:00","00:00:00",0,0,"00:00:00","00:00:00",0,0]
[null,null,null,null,null,null,null,0,"00:00:00","00:00:00",0,0,"00:00:00","00:00:00",0,0,"00:00:00","00:00:00",0,0,"00:00:00","00:00:00",0,0,"00:00:00","00:00:00",0,0,"00:00:00","00:00:00",0,0,"00:00:00","00:00:00",0,0,"00:00:00","00:00:00",0,0,"00:00:00","00:00:00",0,0,"00:00:00","00:00:00",0,0]
[null,null,null,null,null,null,null,0,"00:00:00","00:00:00",0,0,"00:00:00","00:00:00",0,0,"00:00:00","00:00:00",0,0,"00:00:00","00:00:00",0,0,"00:00:00","00:00:00",0,0,"00:00:00","00:00:00",0,0,"00:00:00","00:00:00",0,0,"00:00:00","00:00:00",0,0,"00:00:00","00:00:00",0,0,"00:00:00","00:00:00",0,0]
[null,null,null,null,null,null,null,0,"00:00:00","00:00:00",0,0,"00:00:00","00:00:00",0,0,"00:00:00","00:00:00",0,0,"00:00:00","00:00:00",0,0,"00:00:00","00:00:00",0,0,"00:00:00","00:00:00",0,0,"00:00:00","00:00:00",0,0,"00:00:00","00:00:00",0,0,"00:00:00","00:00:00",0,0,"00:00:00","00:00:00",0,0]
[null,null,null,null,null,null,null,0,"00:00:00","00:00:00",0,0,"00:00:00","00:00:00",0,0,"00:00:00","00:00:00",0,0,"00:00:00","00:00:00",0,0,"00:00:00","00:00:00",0,0,"00:00:00","00:00:00",0,0,"00:00:00","00:00:00",0,0,"00:00:00","00:00:00",0,0,"00:00:00","00:00:00",0,0,"00:00:00","00:00:00",0,0]
[null,null,null,null,null,null,null,0,"00:00:00","00:00:00",0,0,"00:00:00","00:00:00",0,0,"00:00:00","00:00:00",0,0,"00:00:00","00:00:00",0,0,"00:00:00","00:00:00",0,0,"00:00:00","00:00:00",0,0,"00:00:00","00:00:00",0,0,"00:00:00","00:00:00",0,0,"00:00:00","00:00:00",0,0,"00:00:00","00:00:00",0,0]
[null,null,null,null,null,null,null,0,"00:00:00","00:00:00",0,0,"00:00:00","00:00:00",0,0,"00:00:00","00:00:00",0,0,"00:00:00","00:00:00",0,0,"00:00:00","00:00:00",0,0,"00:00:00","00:00:00",0,0,"00:00:00","00:00:00",0,0,"00:00:00","00:00:00",0,0,"00:00:00","00:00:00",0,0,"00:00:00","00:00:00",0,0]
[null,null,null,null,null,null,null,0,"00:00:00","00:00:00",0,0,"00:00:00","00:00:00",0,0,"00:00:00","00:00:00",0,0,"00:00:00","00:00:00",0,0,"00:00:00","00:00:00",0,0,"00:00:00","00:00:00",0,0,"00:00:00","00:00:00",0,0,"00:00:00","00:00:00",0,0,"00:00:00","00:00:00",0,0,"00:00:00","00:00:00",0,0]
[null,null,null,null,null,null,null,0,"00:00:00","00:00:00",0,0,"00:00:00","00:00:00",0,0,"00:00:00","00:00:00",0,0,"00:00:00","00:00:00",0,0,"00:00:00","00:00:00",0,0,"00:00:00","00:00:00",0,0,"00:00:00","00:00:00",0,0,"00:00:00","00:00:00",0,0,"00:00:00","00:00:00",0,0,"00:00:00","00:00:00",0,0]
[null,null,null,null,null,null,null,0,"00:00:00","00:00:00",0,0,"00:00:00","00:00:00",0,0,"00:00:00","00:00:00",0,0,"00:00:00","00:00:00",0,0,"00:00:00","00:00:00",0,0,"00:00:00","00:00:00",0,0,"00:00:00","00:00:00",0,0,"00:00:00","00:00:00",0,0,"00:00:00","00:00:00",0,0,"00:00:00","00:00:00",0,0]
[null,null,null,null,null,null,null,0,"00:00:00","00:00:00",0,0,"00:00:00","00:00:00",0,0,"00:00:00","00:00:00",0,0,"00:00:00","00:00:00",0,0,"00:00:00","00:00:00",0,0,"00:00:00","00:00:00",0,0,"00:00:00","00:00:00",0,0,"00:00:00","00:00:00",0,0,"00:00:00","00:00:00",0,0,"00:00:00","00:00:00",0,0]
[null,null,null,null,null,null,null,0,"00:00:00","00:00:00",0,0,"00:00:00","00:00:00",0,0,"00:00:00","00:00:00",0,0,"00:00:00","00:00:00",0,0,"00:00:00","00:00:00",0,0,"00:00:00","00:00:00",0,0,"00:00:00","00:00:00",0,0,"00:00:00","00:00:00",0,0,"00:00:00","00:00:00",0,0,"00:00:00","00:00:00",0,0]
[null,null,null,null,null,null,null,0,"00:00:00","00:00:00",0,0,"00:00:00","00:00:00",0,0,"00:00:00","00:00:00",0,0,"00:00:00","00:00:00",0,0,"00:00:00","00:00:00",0,0,"00:00:00","00:00:00",0,0,"00:00:00","00:00:00",0,0,"00:00:00","00:00:00",0,0,"00:00:00","00:00:00",0,0,"00:00:00","00:00:00",0,0]
[null,null,null,null,null,null,null,0,"00:00:00","00:00:00",0,0,"00:00:00","00:00:00",0,0,"00:00:00","00:00:00",0,0,"00:00:00","00:00:00",0,0,"00:00:00","00:00:00",0,0,"00:00:00","00:00:00",0,0,"00:00:00","00:00:00",0,0,"00:00:00","00:00:00",0,0,"00:00:00","00:00:00",0,0,"00:00:00","00:00:00",0,0]
[null,null,null,null,null,null,null,0,"00:00:00","00:00:00",0,0,"00:00:00","00:00:00",0,0,"00:00:00","00:00:00",0,0,"00:00:00","00:00:00",0,0,"00:00:00","00:00:00",0,0,"00:00:00","00:00:00",0,0,"00:00:00","00:00:00",0,0,"00:00:00","00:00:00",0,0,"00:00:00","00:00:00",0,0,"00:00:00","00:00:00",0,0]
[null,null,null,null,null,null,null,0,"00:00:00","00:00:00",0,0,"00:00:00","00:00:00",0,0,"00:00:00","00:00:00",0,0,"00:00:00","00:00:00",0,0,"00:00:00","00:00:00",0,0,"00:00:00","00:00:00",0,0,"00:00:00","00:00:00",0,0,"00:00:00","00:00:00",0,0,"00:00:00","00:00:00",0,0,"00:00:00","00:00:00",0,0]
[null,null,null,null,null,null,null,0,"00:00:00","00:00:00",0,0,"00:00:00","00:00:00",0,0,"00:00:00","00:00:00",0,0,"00:00:00","00:00:00",0,0,"00:00:00","00:00:00",0,0,"00:00:00","00:00:00",0,0,"00:00:00","00:00:00",0,0,"00:00:00","00:00:00",0,0,"00:00:00","00:00:00",0,0,"00:00:00","00:00:00",0,0]
[null,null,null,null,null,null,null,0,"00:00:00","00:00:00",0,0,"00:00:00","00:00:00",0,0,"00:00:00","00:00:00",0,0,"00:00:00","00:00:00",0,0,"00:00:00","00:00:00",0,0,"00:00:00","00:00:00",0,0,"00:00:00","00:00:00",0,0,"00:00:00","00:00:00",0,0,"00:00:00","00:00:00",0,0,"00:00:00","00:00:00",0,0]
[null,null,null,null,null,null,null,0,"00:00:00","00:00:00",0,0,"00:00:00","00:00:00",0,0,"00:00:00","00:00:00",0,0,"00:00:00","00:00:00",0,0,"00:00:00","00:00:00",0,0,"00:00:00","00:00:00",0,0,"00:00:00","00:00:00",0,0,"00:00:00","00:00:00",0,0,"00:00:00","00:00:00",0,0,"00:00:00","00:00:00",0,0]
[null,null,null,null,null,null,null,0,"00:00:00","00:00:00",0,0,"00:00:00","00:00:00",0,0,"00:00:00","00:00:00",0,0,"00:00:00","00:00:00",0,0,"00:00:00","00:00:00",0,0,"00:00:00","00:00:00",0,0,"00:00:00","00:00:00",0,0,"00:00:00","00:00:00",0,0,"00:00:00","00:00:00",0,0,"00:00:00","00:00:00",0,0]
[null,null,null,null,null,null,null,0,"00:00:00","00:00:00",0,0,"00:00:00","00:00:00",0,0,"00:00:00","00:00:00",0,0,"00:00:00","00:00:00",0,0,"00:00:00","00:00:00",0,0,"00:00:00","00:00:00",0,0,"00:00:00","00:00:00",0,0,"00:00:00","00:00:00",0,0,"00:00:00","00:00:00",0,0,"00:00:00","00:00:00",0,0]
[null,null,null,null,null,null,null,0,"00:00:00","00:00:00",0,0,"00:00:00","00:00:00",0,0,"00:00:00","00:00:00",0,0,"00:00:00","00:00:00",0,0,"00:00:00","00:00:00",0,0,"00:00:00","00:00:00",0,0,"00:00:00","00:00:00",0,0,"00:00:00","00:00:00",0,0,"00:00:00","00:00:00",0,0,"00:00:00","00:00:00",0,0]
[null,null,null,null,null,null,null,0,"00:00:00","00:00:00",0,0,"00:00:00","00:00:00",0,0,"00:00:00","00:00:00",0,0,"00:00:00","00:00:00",0,0,"00:00:00","00:00:00",0,0,"00:00:00","00:00:00",0,0,"00:00:00","00:00:00",0,0,"00:00:00","00:00:00",0,0,"00:00:00","00:00:00",0,0,"00:00:00","00:00:00",0,0]
[null,null,null,null,null,null,null,0,"00:00:00","00:00:00",0,0,"00:00:00","00:00:00",0,0,"00:00:00","00:00:00",0,0,"00:00:00","00:00:00",0,0,"00:00:00","00:00:00",0,0,"00:00:00","00:00:00",0,0,"00:00:00","00:00:00",0,0,"00:00:00","00:00:00",0,0,"00:00:00","00:00:00",0,0,"00:00:00","00:00:00",0,0]
[null,null,null,null,null,null,null,0,{"$f":"IF(OR($F333<I$10,$E333>J$10),0,IF(AND($E333>=I$10,$F333<=J$10),$E333,IF(AND($E333<=I$10,$F333<=J$10),I$10,IF(AND($E333<=J$10,$F333>=J$10,$E333>=I$10),$E333,IF(AND($E333<=I$10,$F333>=J$10),I$10,\"chyba\")))))","v":"00:00:00"},{"$f":"IF(OR($F333<I$10,$E333>J$10),0,IF(AND($E333>=I$10,$F333<=J$10),$F333,IF(AND($E333<=I$10,$F333<=J$10),$F333,IF(AND($E333<=J$10,$F333>=J$10),J$10,IF(AND($E333<=I$10,$F333>=J$10),J$10,\"chyba\")))))","v":"00:00:00"},0,{"$f":"IF($H333<=0,0,$G333/$H333*K333)","v":0},{"$f":"IF(OR($F333<M$10,$E333>N$10),0,IF(AND($E333>=M$10,$F333<=N$10),$E333,IF(AND($E333<=M$10,$F333<=N$10),M$10,IF(AND($E333<=N$10,$F333>=N$10,$E333>=M$10),$E333,IF(AND($E333<=M$10,$F333>=N$10),M$10,\"chyba\")))))","v":"00:00:00"},{"$f":"IF(OR($F333<M$10,$E333>N$10),0,IF(AND($E333>=M$10,$F333<=N$10),$F333,IF(AND($E333<=M$10,$F333<=N$10),$F333,IF(AND($E333<=N$10,$F333>=N$10),N$10,IF(AND($E333<=M$10,$F333>=N$10),N$10,\"chyba\")))))","v":"00:00:00"},0,{"$f":"IF($H333<=0,0,$G333/$H333*O333)","v":0},{"$f":"IF(OR($F333<Q$10,$E333>R$10),0,IF(AND($E333>=Q$10,$F333<=R$10),$E333,IF(AND($E333<=Q$10,$F333<=R$10),Q$10,IF(AND($E333<=R$10,$F333>=R$10,$E333>=Q$10),$E333,IF(AND($E333<=Q$10,$F333>=R$10),Q$10,\"chyba\")))))","v":"00:00:00"},{"$f":"IF(OR($F333<Q$10,$E333>R$10),0,IF(AND($E333>=Q$10,$F333<=R$10),$F333,IF(AND($E333<=Q$10,$F333<=R$10),$F333,IF(AND($E333<=R$10,$F333>=R$10),R$10,IF(AND($E333<=Q$10,$F333>=R$10),R$10,\"chyba\")))))","v":"00:00:00"},0,{"$f":"IF($H333<=0,0,$G333/$H333*S333)","v":0},{"$f":"IF(OR($F333<U$10,$E333>V$10),0,IF(AND($E333>=U$10,$F333<=V$10),$E333,IF(AND($E333<=U$10,$F333<=V$10),U$10,IF(AND($E333<=V$10,$F333>=V$10,$E333>=U$10),$E333,IF(AND($E333<=U$10,$F333>=V$10),U$10,\"chyba\")))))","v":"00:00:00"},{"$f":"IF(OR($F333<U$10,$E333>V$10),0,IF(AND($E333>=U$10,$F333<=V$10),$F333,IF(AND($E333<=U$10,$F333<=V$10),$F333,IF(AND($E333<=V$10,$F333>=V$10),V$10,IF(AND($E333<=U$10,$F333>=V$10),V$10,\"chyba\")))))","v":"00:00:00"},0,{"$f":"IF($H333<=0,0,$G333/$H333*W333)","v":0},{"$f":"IF(OR($F333<Y$10,$E333>Z$10),0,IF(AND($E333>=Y$10,$F333<=Z$10),$E333,IF(AND($E333<=Y$10,$F333<=Z$10),Y$10,IF(AND($E333<=Z$10,$F333>=Z$10,$E333>=Y$10),$E333,IF(AND($E333<=Y$10,$F333>=Z$10),Y$10,\"chyba\")))))","v":"00:00:00"},{"$f":"IF(OR($F333<Y$10,$E333>Z$10),0,IF(AND($E333>=Y$10,$F333<=Z$10),$F333,IF(AND($E333<=Y$10,$F333<=Z$10),$F333,IF(AND($E333<=Z$10,$F333>=Z$10),Z$10,IF(AND($E333<=Y$10,$F333>=Z$10),Z$10,\"chyba\")))))","v":"00:00:00"},0,{"$f":"IF($H333<=0,0,$G333/$H333*AA333)","v":0},{"$f":"IF(OR($F333<AC$10,$E333>AD$10),0,IF(AND($E333>=AC$10,$F333<=AD$10),$E333,IF(AND($E333<=AC$10,$F333<=AD$10),AC$10,IF(AND($E333<=AD$10,$F333>=AD$10,$E333>=AC$10),$E333,IF(AND($E333<=AC$10,$F333>=AD$10),AC$10,\"chyba\")))))","v":"00:00:00"},{"$f":"IF(OR($F333<AC$10,$E333>AD$10),0,IF(AND($E333>=AC$10,$F333<=AD$10),$F333,IF(AND($E333<=AC$10,$F333<=AD$10),$F333,IF(AND($E333<=AD$10,$F333>=AD$10),AD$10,IF(AND($E333<=AC$10,$F333>=AD$10),AD$10,\"chyba\")))))","v":"00:00:00"},0,{"$f":"IF($H333<=0,0,$G333/$H333*AE333)","v":0},{"$f":"IF(OR($F333<AG$10,$E333>AH$10),0,IF(AND($E333>=AG$10,$F333<=AH$10),$E333,IF(AND($E333<=AG$10,$F333<=AH$10),AG$10,IF(AND($E333<=AH$10,$F333>=AH$10,$E333>=AG$10),$E333,IF(AND($E333<=AG$10,$F333>=AH$10),AG$10,\"chyba\")))))","v":"00:00:00"},{"$f":"IF(OR($F333<AG$10,$E333>AH$10),0,IF(AND($E333>=AG$10,$F333<=AH$10),$F333,IF(AND($E333<=AG$10,$F333<=AH$10),$F333,IF(AND($E333<=AH$10,$F333>=AH$10),AH$10,IF(AND($E333<=AG$10,$F333>=AH$10),AH$10,\"chyba\")))))","v":"00:00:00"},0,{"$f":"IF($H333<=0,0,$G333/$H333*AI333)","v":0},{"$f":"IF(OR($F333<AK$10,$E333>AL$10),0,IF(AND($E333>=AK$10,$F333<=AL$10),$E333,IF(AND($E333<=AK$10,$F333<=AL$10),AK$10,IF(AND($E333<=AL$10,$F333>=AL$10,$E333>=AK$10),$E333,IF(AND($E333<=AK$10,$F333>=AL$10),AK$10,\"chyba\")))))","v":"00:00:00"},{"$f":"IF(OR($F333<AK$10,$E333>AL$10),0,IF(AND($E333>=AK$10,$F333<=AL$10),$F333,IF(AND($E333<=AK$10,$F333<=AL$10),$F333,IF(AND($E333<=AL$10,$F333>=AL$10),AL$10,IF(AND($E333<=AK$10,$F333>=AL$10),AL$10,\"chyba\")))))","v":"00:00:00"},0,{"$f":"IF($H333<=0,0,$G333/$H333*AM333)","v":0},{"$f":"IF(OR($F333<AO$10,$E333>AP$10),0,IF(AND($E333>=AO$10,$F333<=AP$10),$E333,IF(AND($E333<=AO$10,$F333<=AP$10),AO$10,IF(AND($E333<=AP$10,$F333>=AP$10,$E333>=AO$10),$E333,IF(AND($E333<=AO$10,$F333>=AP$10),AO$10,\"chyba\")))))","v":"00:00:00"},{"$f":"IF(OR($F333<AO$10,$E333>AP$10),0,IF(AND($E333>=AO$10,$F333<=AP$10),$F333,IF(AND($E333<=AO$10,$F333<=AP$10),$F333,IF(AND($E333<=AP$10,$F333>=AP$10),AP$10,IF(AND($E333<=AO$10,$F333>=AP$10),AP$10,\"chyba\")))))","v":"00:00:00"},0,{"$f":"IF($H333<=0,0,$G333/$H333*AQ333)","v":0},{"$f":"IF(OR($F333<AS$10,$E333>AT$10),0,IF(AND($E333>=AS$10,$F333<=AT$10),$E333,IF(AND($E333<=AS$10,$F333<=AT$10),AS$10,IF(AND($E333<=AT$10,$F333>=AT$10,$E333>=AS$10),$E333,IF(AND($E333<=AS$10,$F333>=AT$10),AS$10,\"chyba\")))))","v":"00:00:00"},{"$f":"IF(OR($F333<AS$10,$E333>AT$10),0,IF(AND($E333>=AS$10,$F333<=AT$10),$F333,IF(AND($E333<=AS$10,$F333<=AT$10),$F333,IF(AND($E333<=AT$10,$F333>=AT$10),AT$10,IF(AND($E333<=AS$10,$F333>=AT$10),AT$10,\"chyba\")))))","v":"00:00:00"},0,{"$f":"IF($H333<=0,0,$G333/$H333*AU333)","v":0}]
[null,null,null,null,null,null,null,{"$f":"IF(F334-E334=0,0,F334-E334+1)","v":0},"00:00:00","00:00:00",{"$f":"IF(J334-I334=0,0,J334-I334+1)","v":0},0,"00:00:00","00:00:00",{"$f":"IF(N334-M334=0,0,N334-M334+1)","v":0},0,"00:00:00","00:00:00",{"$f":"IF(R334-Q334=0,0,R334-Q334+1)","v":0},0,"00:00:00","00:00:00",{"$f":"IF(V334-U334=0,0,V334-U334+1)","v":0},0,"00:00:00","00:00:00",{"$f":"IF(Z334-Y334=0,0,Z334-Y334+1)","v":0},0,"00:00:00","00:00:00",{"$f":"IF(AD334-AC334=0,0,AD334-AC334+1)","v":0},0,"00:00:00","00:00:00",{"$f":"IF(AH334-AG334=0,0,AH334-AG334+1)","v":0},0,"00:00:00","00:00:00",{"$f":"IF(AL334-AK334=0,0,AL334-AK334+1)","v":0},0,"00:00:00","00:00:00",{"$f":"IF(AP334-AO334=0,0,AP334-AO334+1)","v":0},0,"00:00:00","00:00:00",{"$f":"IF(AT334-AS334=0,0,AT334-AS334+1)","v":0},0]
[null,null,null,null,null,null,null,0,"00:00:00","00:00:00",0,0,"00:00:00","00:00:00",0,0,"00:00:00","00:00:00",0,0,"00:00:00","00:00:00",0,0,"00:00:00","00:00:00",0,0,"00:00:00","00:00:00",0,0,"00:00:00","00:00:00",0,0,"00:00:00","00:00:00",0,0,"00:00:00","00:00:00",0,0,"00:00:00","00:00:00",0,0]
[null,null,null,null,null,null,null,0,"00:00:00","00:00:00",0,0,"00:00:00","00:00:00",0,0,"00:00:00","00:00:00",0,0,"00:00:00","00:00:00",0,0,"00:00:00","00:00:00",0,0,"00:00:00","00:00:00",0,0,"00:00:00","00:00:00",0,0,"00:00:00","00:00:00",0,0,"00:00:00","00:00:00",0,0,"00:00:00","00:00:00",0,0]
[null,null,null,null,null,null,null,0,"00:00:00","00:00:00",0,0,"00:00:00","00:00:00",0,0,"00:00:00","00:00:00",0,0,"00:00:00","00:00:00",0,0,"00:00:00","00:00:00",0,0,"00:00:00","00:00:00",0,0,"00:00:00","00:00:00",0,0,"00:00:00","00:00:00",0,0,"00:00:00","00:00:00",0,0,"00:00:00","00:00:00",0,0]
[null,null,null,null,null,null,null,0,"00:00:00","00:00:00",0,0,"00:00:00","00:00:00",0,0,"00:00:00","00:00:00",0,0,"00:00:00","00:00:00",0,0,"00:00:00","00:00:00",0,0,"00:00:00","00:00:00",0,0,"00:00:00","00:00:00",0,0,"00:00:00","00:00:00",0,0,"00:00:00","00:00:00",0,0,"00:00:00","00:00:00",0,0]
[null,null,null,null,null,null,null,0,"00:00:00","00:00:00",0,0,"00:00:00","00:00:00",0,0,"00:00:00","00:00:00",0,0,"00:00:00","00:00:00",0,0,"00:00:00","00:00:00",0,0,"00:00:00","00:00:00",0,0,"00:00:00","00:00:00",0,0,"00:00:00","00:00:00",0,0,"00:00:00","00:00:00",0,0,"00:00:00","00:00:00",0,0]
[null,null,null,null,null,null,null,0,"00:00:00","00:00:00",0,0,"00:00:00","00:00:00",0,0,"00:00:00","00:00:00",0,0,"00:00:00","00:00:00",0,0,"00:00:00","00:00:00",0,0,"00:00:00","00:00:00",0,0,"00:00:00","00:00:00",0,0,"00:00:00","00:00:00",0,0,"00:00:00","00:00:00",0,0,"00:00:00","00:00:00",0,0]
[null,null,null,null,null,null,null,0,"00:00:00","00:00:00",0,0,"00:00:00","00:00:00",0,0,"00:00:00","00:00:00",0,0,"00:00:00","00:00:00",0,0,"00:00:00","00:00:00",0,0,"00:00:00","00:00:00",0,0,"00:00:00","00:00:00",0,0,"00:00:00","00:00:00",0,0,"00:00:00","00:00:00",0,0,"00:00:00","00:00:00",0,0]
[null,null,null,null,null,null,null,0,"00:00:00","00:00:00",0,0,"00:00:00","00:00:00",0,0,"00:00:00","00:00:00",0,0,"00:00:00","00:00:00",0,0,"00:00:00","00:00:00",0,0,"00:00:00","00:00:00",0,0,"00:00:00","00:00:00",0,0,"00:00:00","00:00:00",0,0,"00:00:00","00:00:00",0,0,"00:00:00","00:00:00",0,0]
[null,null,null,null,null,null,null,0,"00:00:00","00:00:00",0,0,"00:00:00","00:00:00",0,0,"00:00:00","00:00:00",0,0,"00:00:00","00:00:00",0,0,"00:00:00","00:00:00",0,0,"00:00:00","00:00:00",0,0,"00:00:00","00:00:00",0,0,"00:00:00","00:00:00",0,0,"00:00:00","00:00:00",0,0,"00:00:00","00:00:00",0,0]
[null,null,null,null,null,null,null,0,"00:00:00","00:00:00",0,0,"00:00:00","00:00:00",0,0,"00:00:00","00:00:00",0,0,"00:00:00","00:00:00",0,0,"00:00:00","00:00:00",0,0,"00:00:00","00:00:00",0,0,"00:00:00","00:00:00",0,0,"00:00:00","00:00:00",0,0,"00:00:00","00:00:00",0,0,"00:00:00","00:00:00",0,0]
[null,null,null,null,null,null,null,0,"00:00:00","00:00:00",0,0,"00:00:00","00:00:00",0,0,"00:00:00","00:00:00",0,0,"00:00:00","00:00:00",0,0,"00:00:00","00:00:00",0,0,"00:00:00","00:00:00",0,0,"00:00:00","00:00:00",0,0,"00:00:00","00:00:00",0,0,"00:00:00","00:00:00",0,0,"00:00:00","00:00:00",0,0]
[null,null,null,null,null,null,null,0,"00:00:00","00:00:00",0,0,"00:00:00","00:00:00",0,0,"00:00:00","00:00:00",0,0,"00:00:00","00:00:00",0,0,"00:00:00","00:00:00",0,0,"00:00:00","00:00:00",0,0,"00:00:00","00:00:00",0,0,"00:00:00","00:00:00",0,0,"00:00:00","00:00:00",0,0,"00:00:00","00:00:00",0,0]
[null,null,null,null,null,null,null,0,"00:00:00","00:00:00",0,0,"00:00:00","00:00:00",0,0,"00:00:00","00:00:00",0,0,"00:00:00","00:00:00",0,0,"00:00:00","00:00:00",0,0,"00:00:00","00:00:00",0,0,"00:00:00","00:00:00",0,0,"00:00:00","00:00:00",0,0,"00:00:00","00:00:00",0,0,"00:00:00","00:00:00",0,0]
[null,null,null,null,null,null,null,0,"00:00:00","00:00:00",0,0,"00:00:00","00:00:00",0,0,"00:00:00","00:00:00",0,0,"00:00:00","00:00:00",0,0,"00:00:00","00:00:00",0,0,"00:00:00","00:00:00",0,0,"00:00:00","00:00:00",0,0,"00:00:00","00:00:00",0,0,"00:00:00","00:00:00",0,0,"00:00:00","00:00:00",0,0]
[null,null,null,null,null,null,null,0,"00:00:00","00:00:00",0,0,"00:00:00","00:00:00",0,0,"00:00:00","00:00:00",0,0,"00:00:00","00:00:00",0,0,"00:00:00","00:00:00",0,0,"00:00:00","00:00:00",0,0,"00:00:00","00:00:00",0,0,"00:00:00","00:00:00",0,0,"00:00:00","00:00:00",0,0,"00:00:00","00:00:00",0,0]
[null,null,null,null,null,null,null,0,"00:00:00","00:00:00",0,0,"00:00:00","00:00:00",0,0,"00:00:00","00:00:00",0,0,"00:00:00","00:00:00",0,0,"00:00:00","00:00:00",0,0,"00:00:00","00:00:00",0,0,"00:00:00","00:00:00",0,0,"00:00:00","00:00:00",0,0,"00:00:00","00:00:00",0,0,"00:00:00","00:00:00",0,0]
[null,null,null,null,null,null,null,0,"00:00:00","00:00:00",0,0,"00:00:00","00:00:00",0,0,"00:00:00","00:00:00",0,0,"00:00:00","00:00:00",0,0,"00:00:00","00:00:00",0,0,"00:00:00","00:00:00",0,0,"00:00:00","00:00:00",0,0,"00:00:00","00:00:00",0,0,"00:00:00","00:00:00",0,0,"00:00:00","00:00:00",0,0]
[null,null,null,null,null,null,null,0,"00:00:00","00:00:00",0,0,"00:00:00","00:00:00",0,0,"00:00:00","00:00:00",0,0,"00:00:00","00:00:00",0,0,"00:00:00","00:00:00",0,0,"00:00:00","00:00:00",0,0,"00:00:00","00:00:00",0,0,"00:00:00","00:00:00",0,0,"00:00:00","00:00:00",0,0,"00:00:00","00:00:00",0,0]
[null,null,null,null,null,null,null,0,"00:00:00","00:00:00",0,0,"00:00:00","00:00:00",0,0,"00:00:00","00:00:00",0,0,"00:00:00","00:00:00",0,0,"00:00:00","00:00:00",0,0,"00:00:00","00:00:00",0,0,"00:00:00","00:00:00",0,0,"00:00:00","00:00:00",0,0,"00:00:00","00:00:00",0,0,"00:00:00","00:00:00",0,0]
[null,null,null,null,null,null,null,0,"00:00:00","00:00:00",0,0,"00:00:00","00:00:00",0,0,"00:00:00","00:00:00",0,0,"00:00:00","00:00:00",0,0,"00:00:00","00:00:00",0,0,"00:00:00","00:00:00",0,0,"00:00:00","00:00:00",0,0,"00:00:00","00:00:00",0,0,"00:00:00","00:00:00",0,0,"00:00:00","00:00:00",0,0]
[null,null,null,null,null,null,null,0,"00:00:00","00:00:00",0,0,"00:00:00","00:00:00",0,0,"00:00:00","00:00:00",0,0,"00:00:00","00:00:00",0,0,"00:00:00","00:00:00",0,0,"00:00:00","00:00:00",0,0,"00:00:00","00:00:00",0,0,"00:00:00","00:00:00",0,0,"00:00:00","00:00:00",0,0,"00:00:00","00:00:00",0,0]
[null,null,null,null,null,null,null,0,"00:00:00","00:00:00",0,0,"00:00:00","00:00:00",0,0,"00:00:00","00:00:00",0,0,"00:00:00","00:00:00",0,0,"00:00:00","00:00:00",0,0,"00:00:00","00:00:00",0,0,"00:00:00","00:00:00",0,0,"00:00:00","00:00:00",0,0,"00:00:00","00:00:00",0,0,"00:00:00","00:00:00",0,0]
[null,null,null,null,null,null,null,0,"00:00:00","00:00:00",0,0,"00:00:00","00:00:00",0,0,"00:00:00","00:00:00",0,0,"00:00:00","00:00:00",0,0,"00:00:00","00:00:00",0,0,"00:00:00","00:00:00",0,0,"00:00:00","00:00:00",0,0,"00:00:00","00:00:00",0,0,"00:00:00","00:00:00",0,0,"00:00:00","00:00:00",0,0]
[null,null,null,null,null,null,null,0,"00:00:00","00:00:00",0,0,"00:00:00","00:00:00",0,0,"00:00:00","00:00:00",0,0,"00:00:00","00:00:00",0,0,"00:00:00","00:00:00",0,0,"00:00:00","00:00:00",0,0,"00:00:00","00:00:00",0,0,"00:00:00","00:00:00",0,0,"00:00:00","00:00:00",0,0,"00:00:00","00:00:00",0,0]
[null,null,null,null,null,null,null,0,"00:00:00","00:00:00",0,0,"00:00:00","00:00:00",0,0,"00:00:00","00:00:00",0,0,"00:00:00","00:00:00",0,0,"00:00:00","00:00:00",0,0,"00:00:00","00:00:00",0,0,"00:00:00","00:00:00",0,0,"00:00:00","00:00:00",0,0,"00:00:00","00:00:00",0,0,"00:00:00","00:00:00",0,0]
[null,null,null,null,null,null,null,0,"00:00:00","00:00:00",0,0,"00:00:00","00:00:00",0,0,"00:00:00","00:00:00",0,0,"00:00:00","00:00:00",0,0,"00:00:00","00:00:00",0,0,"00:00:00","00:00:00",0,0,"00:00:00","00:00:00",0,0,"00:00:00","00:00:00",0,0,"00:00:00","00:00:00",0,0,"00:00:00","00:00:00",0,0]
[null,null,null,null,null,null,null,0,"00:00:00","00:00:00",0,0,"00:00:00","00:00:00",0,0,"00:00:00","00:00:00",0,0,"00:00:00","00:00:00",0,0,"00:00:00","00:00:00",0,0,"00:00:00","00:00:00",0,0,"00:00:00","00:00:00",0,0,"00:00:00","00:00:00",0,0,"00:00:00","00:00:00",0,0,"00:00:00","00:00:00",0,0]
[null,null,null,null,null,null,null,0,"00:00:00","00:00:00",0,0,"00:00:00","00:00:00",0,0,"00:00:00","00:00:00",0,0,"00:00:00","00:00:00",0,0,"00:00:00","00:00:00",0,0,"00:00:00","00:00:00",0,0,"00:00:00","00:00:00",0,0,"00:00:00","00:00:00",0,0,"00:00:00","00:00:00",0,0,"00:00:00","00:00:00",0,0]
[null,null,null,null,null,null,null,0,"00:00:00","00:00:00",0,0,"00:00:00","00:00:00",0,0,"00:00:00","00:00:00",0,0,"00:00:00","00:00:00",0,0,"00:00:00","00:00:00",0,0,"00:00:00","00:00:00",0,0,"00:00:00","00:00:00",0,0,"00:00:00","00:00:00",0,0,"00:00:00","00:00:00",0,0,"00:00:00","00:00:00",0,0]
[null,null,null,null,null,null,null,0,"00:00:00","00:00:00",0,0,"00:00:00","00:00:00",0,0,"00:00:00","00:00:00",0,0,"00:00:00","00:00:00",0,0,"00:00:00","00:00:00",0,0,"00:00:00","00:00:00",0,0,"00:00:00","00:00:00",0,0,"00:00:00","00:00:00",0,0,"00:00:00","00:00:00",0,0,"00:00:00","00:00:00",0,0]
[null,null,null,null,null,null,null,0,"00:00:00","00:00:00",0,0,"00:00:00","00:00:00",0,0,"00:00:00","00:00:00",0,0,"00:00:00","00:00:00",0,0,"00:00:00","00:00:00",0,0,"00:00:00","00:00:00",0,0,"00:00:00","00:00:00",0,0,"00:00:00","00:00:00",0,0,"00:00:00","00:00:00",0,0,"00:00:00","00:00:00",0,0]
[null,null,null,null,null,null,null,0,"00:00:00","00:00:00",0,0,"00:00:00","00:00:00",0,0,"00:00:00","00:00:00",0,0,"00:00:00","00:00:00",0,0,"00:00:00","00:00:00",0,0,"00:00:00","00:00:00",0,0,"00:00:00","00:00:00",0,0,"00:00:00","00:00:00",0,0,"00:00:00","00:00:00",0,0,"00:00:00","00:00:00",0,0]
[null,null,null,null,null,null,null,0,"00:00:00","00:00:00",0,0,"00:00:00","00:00:00",0,0,"00:00:00","00:00:00",0,0,"00:00:00","00:00:00",0,0,"00:00:00","00:00:00",0,0,"00:00:00","00:00:00",0,0,"00:00:00","00:00:00",0,0,"00:00:00","00:00:00",0,0,"00:00:00","00:00:00",0,0,"00:00:00","00:00:00",0,0]
[null,null,null,null,null,null,null,0,"00:00:00","00:00:00",0,0,"00:00:00","00:00:00",0,0,"00:00:00","00:00:00",0,0,"00:00:00","00:00:00",0,0,"00:00:00","00:00:00",0,0,"00:00:00","00:00:00",0,0,"00:00:00","00:00:00",0,0,"00:00:00","00:00:00",0,0,"00:00:00","00:00:00",0,0,"00:00:00","00:00:00",0,0]
[null,null,null,null,null,null,null,0,"00:00:00","00:00:00",0,0,"00:00:00","00:00:00",0,0,"00:00:00","00:00:00",0,0,"00:00:00","00:00:00",0,0,"00:00:00","00:00:00",0,0,"00:00:00","00:00:00",0,0,"00:00:00","00:00:00",0,0,"00:00:00","00:00:00",0,0,"00:00:00","00:00:00",0,0,"00:00:00","00:00:00",0,0]
[null,null,null,null,null,null,null,0,"00:00:00","00:00:00",0,0,"00:00:00","00:00:00",0,0,"00:00:00","00:00:00",0,0,"00:00:00","00:00:00",0,0,"00:00:00","00:00:00",0,0,"00:00:00","00:00:00",0,0,"00:00:00","00:00:00",0,0,"00:00:00","00:00:00",0,0,"00:00:00","00:00:00",0,0,"00:00:00","00:00:00",0,0]
[null,null,null,null,null,null,null,0,"00:00:00","00:00:00",0,0,"00:00:00","00:00:00",0,0,"00:00:00","00:00:00",0,0,"00:00:00","00:00:00",0,0,"00:00:00","00:00:00",0,0,"00:00:00","00:00:00",0,0,"00:00:00","00:00:00",0,0,"00:00:00","00:00:00",0,0,"00:00:00","00:00:00",0,0,"00:00:00","00:00:00",0,0]
[null,null,null,null,null,null,null,0,"00:00:00","00:00:00",0,0,"00:00:00","00:00:00",0,0,"00:00:00","00:00:00",0,0,"00:00:00","00:00:00",0,0,"00:00:00","00:00:00",0,0,"00:00:00","00:00:00",0,0,"00:00:00","00:00:00",0,0,"00:00:00","00:00:00",0,0,"00:00:00","00:00:00",0,0,"00:00:00","00:00:00",0,0]
[null,null,null,null,null,null,null,0,"00:00:00","00:00:00",0,0,"00:00:00","00:00:00",0,0,"00:00:00","00:00:00",0,0,"00:00:00","00:00:00",0,0,"00:00:00","00:00:00",0,0,"00:00:00","00:00:00",0,0,"00:00:00","00:00:00",0,0,"00:00:00","00:00:00",0,0,"00:00:00","00:00:00",0,0,"00:00:00","00:00:00",0,0]
[null,null,null,null,null,null,null,0,"00:00:00","00:00:00",0,0,"00:00:00","00:00:00",0,0,"00:00:00","00:00:00",0,0,"00:00:00","00:00:00",0,0,"00:00:00","00:00:00",0,0,"00:00:00","00:00:00",0,0,"00:00:00","00:00:00",0,0,"00:00:00","00:00:00",0,0,"00:00:00","00:00:00",0,0,"00:00:00","00:00:00",0,0]
[null,null,null,null,null,null,null,0,"00:00:00","00:00:00",0,0,"00:00:00","00:00:00",0,0,"00:00:00","00:00:00",0,0,"00:00:00","00:00:00",0,0,"00:00:00","00:00:00",0,0,"00:00:00","00:00:00",0,0,"00:00:00","00:00:00",0,0,"00:00:00","00:00:00",0,0,"00:00:00","00:00:00",0,0,"00:00:00","00:00:00",0,0]
[null,null,null,null,null,null,null,0,"00:00:00","00:00:00",0,0,"00:00:00","00:00:00",0,0,"00:00:00","00:00:00",0,0,"00:00:00","00:00:00",0,0,"00:00:00","00:00:00",0,0,"00:00:00","00:00:00",0,0,"00:00:00","00:00:00",0,0,"00:00:00","00:00:00",0,0,"00:00:00","00:00:00",0,0,"00:00:00","00:00:00",0,0]
[null,null,null,null,null,null,null,0,"00:00:00","00:00:00",0,0,"00:00:00","00:00:00",0,0,"00:00:00","00:00:00",0,0,"00:00:00","00:00:00",0,0,"00:00:00","00:00:00",0,0,"00:00:00","00:00:00",0,0,"00:00:00","00:00:00",0,0,"00:00:00","00:00:00",0,0,"00:00:00","00:00:00",0,0,"00:00:00","00:00:00",0,0]
[null,null,null,null,null,null,null,0,"00:00:00","00:00:00",0,0,"00:00:00","00:00:00",0,0,"00:00:00","00:00:00",0,0,"00:00:00","00:00:00",0,0,"00:00:00","00:00:00",0,0,"00:00:00","00:00:00",0,0,"00:00:00","00:00:00",0,0,"00:00:00","00:00:00",0,0,"00:00:00","00:00:00",0,0,"00:00:00","00:00:00",0,0]
[null,null,null,null,null,null,null,0,"00:00:00","00:00:00",0,0,"00:00:00","00:00:00",0,0,"00:00:00","00:00:00",0,0,"00:00:00","00:00:00",0,0,"00:00:00","00:00:00",0,0,"00:00:00","00:00:00",0,0,"00:00:00","00:00:00",0,0,"00:00:00","00:00:00",0,0,"00:00:00","00:00:00",0,0,"00:00:00","00:00:00",0,0]
[null,null,null,null,null,null,null,0,"00:00:00","00:00:00",0,0,"00:00:00","00:00:00",0,0,"00:00:00","00:00:00",0,0,"00:00:00","00:00:00",0,0,"00:00:00","00:00:00",0,0,"00:00:00","00:00:00",0,0,"00:00:00","00:00:00",0,0,"00:00:00","00:00:00",0,0,"00:00:00","00:00:00",0,0,"00:00:00","00:00:00",0,0]
[null,null,null,null,null,null,null,0,"00:00:00","00:00:00",0,0,"00:00:00","00:00:00",0,0,"00:00:00","00:00:00",0,0,"00:00:00","00:00:00",0,0,"00:00:00","00:00:00",0,0,"00:00:00","00:00:00",0,0,"00:00:00","00:00:00",0,0,"00:00:00","00:00:00",0,0,"00:00:00","00:00:00",0,0,"00:00:00","00:00:00",0,0]
[null,null,null,null,null,null,null,0,"00:00:00","00:00:00",0,0,"00:00:00","00:00:00",0,0,"00:00:00","00:00:00",0,0,"00:00:00","00:00:00",0,0,"00:00:00","00:00:00",0,0,"00:00:00","00:00:00",0,0,"00:00:00","00:00:00",0,0,"00:00:00","00:00:00",0,0,"00:00:00","00:00:00",0,0,"00:00:00","00:00:00",0,0]
[null,null,null,null,null,null,null,0,"00:00:00","00:00:00",0,0,"00:00:00","00:00:00",0,0,"00:00:00","00:00:00",0,0,"00:00:00","00:00:00",0,0,"00:00:00","00:00:00",0,0,"00:00:00","00:00:00",0,0,"00:00:00","00:00:00",0,0,"00:00:00","00:00:00",0,0,"00:00:00","00:00:00",0,0,"00:00:00","00:00:00",0,0]
[null,null,null,null,null,null,null,0,"00:00:00","00:00:00",0,0,"00:00:00","00:00:00",0,0,"00:00:00","00:00:00",0,0,"00:00:00","00:00:00",0,0,"00:00:00","00:00:00",0,0,"00:00:00","00:00:00",0,0,"00:00:00","00:00:00",0,0,"00:00:00","00:00:00",0,0,"00:00:00","00:00:00",0,0,"00:00:00","00:00:00",0,0]
[null,null,null,null,null,null,null,0,"00:00:00","00:00:00",0,0,"00:00:00","00:00:00",0,0,"00:00:00","00:00:00",0,0,"00:00:00","00:00:00",0,0,"00:00:00","00:00:00",0,0,"00:00:00","00:00:00",0,0,"00:00:00","00:00:00",0,0,"00:00:00","00:00:00",0,0,"00:00:00","00:00:00",0,0,"00:00:00","00:00:00",0,0]
[null,null,null,null,null,null,null,0,"00:00:00","00:00:00",0,0,"00:00:00","00:00:00",0,0,"00:00:00","00:00:00",0,0,"00:00:00","00:00:00",0,0,"00:00:00","00:00:00",0,0,"00:00:00","00:00:00",0,0,"00:00:00","00:00:00",0,0,"00:00:00","00:00:00",0,0,"00:00:00","00:00:00",0,0,"00:00:00","00:00:00",0,0]
[null,null,null,null,null,null,null,0,"00:00:00","00:00:00",0,0,"00:00:00","00:00:00",0,0,"00:00:00","00:00:00",0,0,"00:00:00","00:00:00",0,0,"00:00:00","00:00:00",0,0,"00:00:00","00:00:00",0,0,"00:00:00","00:00:00",0,0,"00:00:00","00:00:00",0,0,"00:00:00","00:00:00",0,0,"00:00:00","00:00:00",0,0]
[null,null,null,null,null,null,null,0,"00:00:00","00:00:00",0,0,"00:00:00","00:00:00",0,0,"00:00:00","00:00:00",0,0,"00:00:00","00:00:00",0,0,"00:00:00","00:00:00",0,0,"00:00:00","00:00:00",0,0,"00:00:00","00:00:00",0,0,"00:00:00","00:00:00",0,0,"00:00:00","00:00:00",0,0,"00:00:00","00:00:00",0,0]
[null,null,null,null,null,null,null,0,"00:00:00","00:00:00",0,0,"00:00:00","00:00:00",0,0,"00:00:00","00:00:00",0,0,"00:00:00","00:00:00",0,0,"00:00:00","00:00:00",0,0,"00:00:00","00:00:00",0,0,"00:00:00","00:00:00",0,0,"00:00:00","00:00:00",0,0,"00:00:00","00:00:00",0,0,"00:00:00","00:00:00",0,0]
[null,null,null,null,null,null,null,0,"00:00:00","00:00:00",0,0,"00:00:00","00:00:00",0,0,"00:00:00","00:00:00",0,0,"00:00:00","00:00:00",0,0,"00:00:00","00:00:00",0,0,"00:00:00","00:00:00",0,0,"00:00:00","00:00:00",0,0,"00:00:00","00:00:00",0,0,"00:00:00","00:00:00",0,0,"00:00:00","00:00:00",0,0]
[null,null,null,null,null,null,null,0,"00:00:00","00:00:00",0,0,"00:00:00","00:00:00",0,0,"00:00:00","00:00:00",0,0,"00:00:00","00:00:00",0,0,"00:00:00","00:00:00",0,0,"00:00:00","00:00:00",0,0,"00:00:00","00:00:00",0,0,"00:00:00","00:00:00",0,0,"00:00:00","00:00:00",0,0,"00:00:00","00:00:00",0,0]
[null,null,null,null,null,null,null,0,"00:00:00","00:00:00",0,0,"00:00:00","00:00:00",0,0,"00:00:00","00:00:00",0,0,"00:00:00","00:00:00",0,0,"00:00:00","00:00:00",0,0,"00:00:00","00:00:00",0,0,"00:00:00","00:00:00",0,0,"00:00:00","00:00:00",0,0,"00:00:00","00:00:00",0,0,"00:00:00","00:00:00",0,0]
[null,null,null,null,null,null,null,0,"00:00:00","00:00:00",0,0,"00:00:00","00:00:00",0,0,"00:00:00","00:00:00",0,0,"00:00:00","00:00:00",0,0,"00:00:00","00:00:00",0,0,"00:00:00","00:00:00",0,0,"00:00:00","00:00:00",0,0,"00:00:00","00:00:00",0,0,"00:00:00","00:00:00",0,0,"00:00:00","00:00:00",0,0]
[null,null,null,null,null,null,null,0,"00:00:00","00:00:00",0,0,"00:00:00","00:00:00",0,0,"00:00:00","00:00:00",0,0,"00:00:00","00:00:00",0,0,"00:00:00","00:00:00",0,0,"00:00:00","00:00:00",0,0,"00:00:00","00:00:00",0,0,"00:00:00","00:00:00",0,0,"00:00:00","00:00:00",0,0,"00:00:00","00:00:00",0,0]
[null,null,null,null,null,null,null,0,"00:00:00","00:00:00",0,0,"00:00:00","00:00:00",0,0,"00:00:00","00:00:00",0,0,"00:00:00","00:00:00",0,0,"00:00:00","00:00:00",0,0,"00:00:00","00:00:00",0,0,"00:00:00","00:00:00",0,0,"00:00:00","00:00:00",0,0,"00:00:00","00:00:00",0,0,"00:00:00","00:00:00",0,0]
[null,null,null,null,null,null,null,0,"00:00:00","00:00:00",0,0,"00:00:00","00:00:00",0,0,"00:00:00","00:00:00",0,0,"00:00:00","00:00:00",0,0,"00:00:00","00:00:00",0,0,"00:00:00","00:00:00",0,0,"00:00:00","00:00:00",0,0,"00:00:00","00:00:00",0,0,"00:00:00","00:00:00",0,0,"00:00:00","00:00:00",0,0]
[null,null,null,null,null,null,null,0,{"$f":"IF(OR($F397<I$10,$E397>J$10),0,IF(AND($E397>=I$10,$F397<=J$10),$E397,IF(AND($E397<=I$10,$F397<=J$10),I$10,IF(AND($E397<=J$10,$F397>=J$10,$E397>=I$10),$E397,IF(AND($E397<=I$10,$F397>=J$10),I$10,\"chyba\")))))","v":"00:00:00"},{"$f":"IF(OR($F397<I$10,$E397>J$10),0,IF(AND($E397>=I$10,$F397<=J$10),$F397,IF(AND($E397<=I$10,$F397<=J$10),$F397,IF(AND($E397<=J$10,$F397>=J$10),J$10,IF(AND($E397<=I$10,$F397>=J$10),J$10,\"chyba\")))))","v":"00:00:00"},0,{"$f":"IF($H397<=0,0,$G397/$H397*K397)","v":0},{"$f":"IF(OR($F397<M$10,$E397>N$10),0,IF(AND($E397>=M$10,$F397<=N$10),$E397,IF(AND($E397<=M$10,$F397<=N$10),M$10,IF(AND($E397<=N$10,$F397>=N$10,$E397>=M$10),$E397,IF(AND($E397<=M$10,$F397>=N$10),M$10,\"chyba\")))))","v":"00:00:00"},{"$f":"IF(OR($F397<M$10,$E397>N$10),0,IF(AND($E397>=M$10,$F397<=N$10),$F397,IF(AND($E397<=M$10,$F397<=N$10),$F397,IF(AND($E397<=N$10,$F397>=N$10),N$10,IF(AND($E397<=M$10,$F397>=N$10),N$10,\"chyba\")))))","v":"00:00:00"},0,{"$f":"IF($H397<=0,0,$G397/$H397*O397)","v":0},{"$f":"IF(OR($F397<Q$10,$E397>R$10),0,IF(AND($E397>=Q$10,$F397<=R$10),$E397,IF(AND($E397<=Q$10,$F397<=R$10),Q$10,IF(AND($E397<=R$10,$F397>=R$10,$E397>=Q$10),$E397,IF(AND($E397<=Q$10,$F397>=R$10),Q$10,\"chyba\")))))","v":"00:00:00"},{"$f":"IF(OR($F397<Q$10,$E397>R$10),0,IF(AND($E397>=Q$10,$F397<=R$10),$F397,IF(AND($E397<=Q$10,$F397<=R$10),$F397,IF(AND($E397<=R$10,$F397>=R$10),R$10,IF(AND($E397<=Q$10,$F397>=R$10),R$10,\"chyba\")))))","v":"00:00:00"},0,{"$f":"IF($H397<=0,0,$G397/$H397*S397)","v":0},{"$f":"IF(OR($F397<U$10,$E397>V$10),0,IF(AND($E397>=U$10,$F397<=V$10),$E397,IF(AND($E397<=U$10,$F397<=V$10),U$10,IF(AND($E397<=V$10,$F397>=V$10,$E397>=U$10),$E397,IF(AND($E397<=U$10,$F397>=V$10),U$10,\"chyba\")))))","v":"00:00:00"},{"$f":"IF(OR($F397<U$10,$E397>V$10),0,IF(AND($E397>=U$10,$F397<=V$10),$F397,IF(AND($E397<=U$10,$F397<=V$10),$F397,IF(AND($E397<=V$10,$F397>=V$10),V$10,IF(AND($E397<=U$10,$F397>=V$10),V$10,\"chyba\")))))","v":"00:00:00"},0,{"$f":"IF($H397<=0,0,$G397/$H397*W397)","v":0},{"$f":"IF(OR($F397<Y$10,$E397>Z$10),0,IF(AND($E397>=Y$10,$F397<=Z$10),$E397,IF(AND($E397<=Y$10,$F397<=Z$10),Y$10,IF(AND($E397<=Z$10,$F397>=Z$10,$E397>=Y$10),$E397,IF(AND($E397<=Y$10,$F397>=Z$10),Y$10,\"chyba\")))))","v":"00:00:00"},{"$f":"IF(OR($F397<Y$10,$E397>Z$10),0,IF(AND($E397>=Y$10,$F397<=Z$10),$F397,IF(AND($E397<=Y$10,$F397<=Z$10),$F397,IF(AND($E397<=Z$10,$F397>=Z$10),Z$10,IF(AND($E397<=Y$10,$F397>=Z$10),Z$10,\"chyba\")))))","v":"00:00:00"},0,{"$f":"IF($H397<=0,0,$G397/$H397*AA397)","v":0},{"$f":"IF(OR($F397<AC$10,$E397>AD$10),0,IF(AND($E397>=AC$10,$F397<=AD$10),$E397,IF(AND($E397<=AC$10,$F397<=AD$10),AC$10,IF(AND($E397<=AD$10,$F397>=AD$10,$E397>=AC$10),$E397,IF(AND($E397<=AC$10,$F397>=AD$10),AC$10,\"chyba\")))))","v":"00:00:00"},{"$f":"IF(OR($F397<AC$10,$E397>AD$10),0,IF(AND($E397>=AC$10,$F397<=AD$10),$F397,IF(AND($E397<=AC$10,$F397<=AD$10),$F397,IF(AND($E397<=AD$10,$F397>=AD$10),AD$10,IF(AND($E397<=AC$10,$F397>=AD$10),AD$10,\"chyba\")))))","v":"00:00:00"},0,{"$f":"IF($H397<=0,0,$G397/$H397*AE397)","v":0},{"$f":"IF(OR($F397<AG$10,$E397>AH$10),0,IF(AND($E397>=AG$10,$F397<=AH$10),$E397,IF(AND($E397<=AG$10,$F397<=AH$10),AG$10,IF(AND($E397<=AH$10,$F397>=AH$10,$E397>=AG$10),$E397,IF(AND($E397<=AG$10,$F397>=AH$10),AG$10,\"chyba\")))))","v":"00:00:00"},{"$f":"IF(OR($F397<AG$10,$E397>AH$10),0,IF(AND($E397>=AG$10,$F397<=AH$10),$F397,IF(AND($E397<=AG$10,$F397<=AH$10),$F397,IF(AND($E397<=AH$10,$F397>=AH$10),AH$10,IF(AND($E397<=AG$10,$F397>=AH$10),AH$10,\"chyba\")))))","v":"00:00:00"},0,{"$f":"IF($H397<=0,0,$G397/$H397*AI397)","v":0},{"$f":"IF(OR($F397<AK$10,$E397>AL$10),0,IF(AND($E397>=AK$10,$F397<=AL$10),$E397,IF(AND($E397<=AK$10,$F397<=AL$10),AK$10,IF(AND($E397<=AL$10,$F397>=AL$10,$E397>=AK$10),$E397,IF(AND($E397<=AK$10,$F397>=AL$10),AK$10,\"chyba\")))))","v":"00:00:00"},{"$f":"IF(OR($F397<AK$10,$E397>AL$10),0,IF(AND($E397>=AK$10,$F397<=AL$10),$F397,IF(AND($E397<=AK$10,$F397<=AL$10),$F397,IF(AND($E397<=AL$10,$F397>=AL$10),AL$10,IF(AND($E397<=AK$10,$F397>=AL$10),AL$10,\"chyba\")))))","v":"00:00:00"},0,{"$f":"IF($H397<=0,0,$G397/$H397*AM397)","v":0},{"$f":"IF(OR($F397<AO$10,$E397>AP$10),0,IF(AND($E397>=AO$10,$F397<=AP$10),$E397,IF(AND($E397<=AO$10,$F397<=AP$10),AO$10,IF(AND($E397<=AP$10,$F397>=AP$10,$E397>=AO$10),$E397,IF(AND($E397<=AO$10,$F397>=AP$10),AO$10,\"chyba\")))))","v":"00:00:00"},{"$f":"IF(OR($F397<AO$10,$E397>AP$10),0,IF(AND($E397>=AO$10,$F397<=AP$10),$F397,IF(AND($E397<=AO$10,$F397<=AP$10),$F397,IF(AND($E397<=AP$10,$F397>=AP$10),AP$10,IF(AND($E397<=AO$10,$F397>=AP$10),AP$10,\"chyba\")))))","v":"00:00:00"},0,{"$f":"IF($H397<=0,0,$G397/$H397*AQ397)","v":0},{"$f":"IF(OR($F397<AS$10,$E397>AT$10),0,IF(AND($E397>=AS$10,$F397<=AT$10),$E397,IF(AND($E397<=AS$10,$F397<=AT$10),AS$10,IF(AND($E397<=AT$10,$F397>=AT$10,$E397>=AS$10),$E397,IF(AND($E397<=AS$10,$F397>=AT$10),AS$10,\"chyba\")))))","v":"00:00:00"},{"$f":"IF(OR($F397<AS$10,$E397>AT$10),0,IF(AND($E397>=AS$10,$F397<=AT$10),$F397,IF(AND($E397<=AS$10,$F397<=AT$10),$F397,IF(AND($E397<=AT$10,$F397>=AT$10),AT$10,IF(AND($E397<=AS$10,$F397>=AT$10),AT$10,\"chyba\")))))","v":"00:00:00"},0,{"$f":"IF($H397<=0,0,$G397/$H397*AU397)","v":0}]
[null,null,null,null,null,null,null,{"$f":"IF(F398-E398=0,0,F398-E398+1)","v":0},"00:00:00","00:00:00",{"$f":"IF(J398-I398=0,0,J398-I398+1)","v":0},0,"00:00:00","00:00:00",{"$f":"IF(N398-M398=0,0,N398-M398+1)","v":0},0,"00:00:00","00:00:00",{"$f":"IF(R398-Q398=0,0,R398-Q398+1)","v":0},0,"00:00:00","00:00:00",{"$f":"IF(V398-U398=0,0,V398-U398+1)","v":0},0,"00:00:00","00:00:00",{"$f":"IF(Z398-Y398=0,0,Z398-Y398+1)","v":0},0,"00:00:00","00:00:00",{"$f":"IF(AD398-AC398=0,0,AD398-AC398+1)","v":0},0,"00:00:00","00:00:00",{"$f":"IF(AH398-AG398=0,0,AH398-AG398+1)","v":0},0,"00:00:00","00:00:00",{"$f":"IF(AL398-AK398=0,0,AL398-AK398+1)","v":0},0,"00:00:00","00:00:00",{"$f":"IF(AP398-AO398=0,0,AP398-AO398+1)","v":0},0,"00:00:00","00:00:00",{"$f":"IF(AT398-AS398=0,0,AT398-AS398+1)","v":0},0]
[null,null,null,null,null,null,null,0,"00:00:00","00:00:00",0,0,"00:00:00","00:00:00",0,0,"00:00:00","00:00:00",0,0,"00:00:00","00:00:00",0,0,"00:00:00","00:00:00",0,0,"00:00:00","00:00:00",0,0,"00:00:00","00:00:00",0,0,"00:00:00","00:00:00",0,0,"00:00:00","00:00:00",0,0,"00:00:00","00:00:00",0,0]
[null,null,null,null,null,null,null,0,"00:00:00","00:00:00",0,0,"00:00:00","00:00:00",0,0,"00:00:00","00:00:00",0,0,"00:00:00","00:00:00",0,0,"00:00:00","00:00:00",0,0,"00:00:00","00:00:00",0,0,"00:00:00","00:00:00",0,0,"00:00:00","00:00:00",0,0,"00:00:00","00:00:00",0,0,"00:00:00","00:00:00",0,0]
[null,null,null,null,null,null,null,0,"00:00:00","00:00:00",0,0,"00:00:00","00:00:00",0,0,"00:00:00","00:00:00",0,0,"00:00:00","00:00:00",0,0,"00:00:00","00:00:00",0,0,"00:00:00","00:00:00",0,0,"00:00:00","00:00:00",0,0,"00:00:00","00:00:00",0,0,"00:00:00","00:00:00",0,0,"00:00:00","00:00:00",0,0]
[null,null,null,null,null,null,null,0,"00:00:00","00:00:00",0,0,"00:00:00","00:00:00",0,0,"00:00:00","00:00:00",0,0,"00:00:00","00:00:00",0,0,"00:00:00","00:00:00",0,0,"00:00:00","00:00:00",0,0,"00:00:00","00:00:00",0,0,"00:00:00","00:00:00",0,0,"00:00:00","00:00:00",0,0,"00:00:00","00:00:00",0,0]
[null,null,null,null,null,null,null,0,"00:00:00","00:00:00",0,0,"00:00:00","00:00:00",0,0,"00:00:00","00:00:00",0,0,"00:00:00","00:00:00",0,0,"00:00:00","00:00:00",0,0,"00:00:00","00:00:00",0,0,"00:00:00","00:00:00",0,0,"00:00:00","00:00:00",0,0,"00:00:00","00:00:00",0,0,"00:00:00","00:00:00",0,0]
[null,null,null,null,null,null,null,0,"00:00:00","00:00:00",0,0,"00:00:00","00:00:00",0,0,"00:00:00","00:00:00",0,0,"00:00:00","00:00:00",0,0,"00:00:00","00:00:00",0,0,"00:00:00","00:00:00",0,0,"00:00:00","00:00:00",0,0,"00:00:00","00:00:00",0,0,"00:00:00","00:00:00",0,0,"00:00:00","00:00:00",0,0]
[null,null,null,null,null,null,null,0,"00:00:00","00:00:00",0,0,"00:00:00","00:00:00",0,0,"00:00:00","00:00:00",0,0,"00:00:00","00:00:00",0,0,"00:00:00","00:00:00",0,0,"00:00:00","00:00:00",0,0,"00:00:00","00:00:00",0,0,"00:00:00","00:00:00",0,0,"00:00:00","00:00:00",0,0,"00:00:00","00:00:00",0,0]
[null,null,null,null,null,null,null,0,"00:00:00","00:00:00",0,0,"00:00:00","00:00:00",0,0,"00:00:00","00:00:00",0,0,"00:00:00","00:00:00",0,0,"00:00:00","00:00:00",0,0,"00:00:00","00:00:00",0,0,"00:00:00","00:00:00",0,0,"00:00:00","00:00:00",0,0,"00:00:00","00:00:00",0,0,"00:00:00","00:00:00",0,0]
[null,null,null,null,null,null,null,0,"00:00:00","00:00:00",0,0,"00:00:00","00:00:00",0,0,"00:00:00","00:00:00",0,0,"00:00:00","00:00:00",0,0,"00:00:00","00:00:00",0,0,"00:00:00","00:00:00",0,0,"00:00:00","00:00:00",0,0,"00:00:00","00:00:00",0,0,"00:00:00","00:00:00",0,0,"00:00:00","00:00:00",0,0]
[null,null,null,null,null,null,null,0,"00:00:00","00:00:00",0,0,"00:00:00","00:00:00",0,0,"00:00:00","00:00:00",0,0,"00:00:00","00:00:00",0,0,"00:00:00","00:00:00",0,0,"00:00:00","00:00:00",0,0,"00:00:00","00:00:00",0,0,"00:00:00","00:00:00",0,0,"00:00:00","00:00:00",0,0,"00:00:00","00:00:00",0,0]
[null,null,null,null,null,null,null,0,"00:00:00","00:00:00",0,0,"00:00:00","00:00:00",0,0,"00:00:00","00:00:00",0,0,"00:00:00","00:00:00",0,0,"00:00:00","00:00:00",0,0,"00:00:00","00:00:00",0,0,"00:00:00","00:00:00",0,0,"00:00:00","00:00:00",0,0,"00:00:00","00:00:00",0,0,"00:00:00","00:00:00",0,0]
[null,null,null,null,null,null,null,0,"00:00:00","00:00:00",0,0,"00:00:00","00:00:00",0,0,"00:00:00","00:00:00",0,0,"00:00:00","00:00:00",0,0,"00:00:00","00:00:00",0,0,"00:00:00","00:00:00",0,0,"00:00:00","00:00:00",0,0,"00:00:00","00:00:00",0,0,"00:00:00","00:00:00",0,0,"00:00:00","00:00:00",0,0]
[null,null,null,null,null,null,null,0,"00:00:00","00:00:00",0,0,"00:00:00","00:00:00",0,0,"00:00:00","00:00:00",0,0,"00:00:00","00:00:00",0,0,"00:00:00","00:00:00",0,0,"00:00:00","00:00:00",0,0,"00:00:00","00:00:00",0,0,"00:00:00","00:00:00",0,0,"00:00:00","00:00:00",0,0,"00:00:00","00:00:00",0,0]
[null,null,null,null,null,null,null,0,"00:00:00","00:00:00",0,0,"00:00:00","00:00:00",0,0,"00:00:00","00:00:00",0,0,"00:00:00","00:00:00",0,0,"00:00:00","00:00:00",0,0,"00:00:00","00:00:00",0,0,"00:00:00","00:00:00",0,0,"00:00:00","00:00:00",0,0,"00:00:00","00:00:00",0,0,"00:00:00","00:00:00",0,0]
[null,null,null,null,null,null,null,0,"00:00:00","00:00:00",0,0,"00:00:00","00:00:00",0,0,"00:00:00","00:00:00",0,0,"00:00:00","00:00:00",0,0,"00:00:00","00:00:00",0,0,"00:00:00","00:00:00",0,0,"00:00:00","00:00:00",0,0,"00:00:00","00:00:00",0,0,"00:00:00","00:00:00",0,0,"00:00:00","00:00:00",0,0]
[null,null,null,null,null,null,null,0,"00:00:00","00:00:00",0,0,"00:00:00","00:00:00",0,0,"00:00:00","00:00:00",0,0,"00:00:00","00:00:00",0,0,"00:00:00","00:00:00",0,0,"00:00:00","00:00:00",0,0,"00:00:00","00:00:00",0,0,"00:00:00","00:00:00",0,0,"00:00:00","00:00:00",0,0,"00:00:00","00:00:00",0,0]
[null,null,null,null,null,null,null,0,"00:00:00","00:00:00",0,0,"00:00:00","00:00:00",0,0,"00:00:00","00:00:00",0,0,"00:00:00","00:00:00",0,0,"00:00:00","00:00:00",0,0,"00:00:00","00:00:00",0,0,"00:00:00","00:00:00",0,0,"00:00:00","00:00:00",0,0,"00:00:00","00:00:00",0,0,"00:00:00","00:00:00",0,0]
[null,null,null,null,null,null,null,0,"00:00:00","00:00:00",0,0,"00:00:00","00:00:00",0,0,"00:00:00","00:00:00",0,0,"00:00:00","00:00:00",0,0,"00:00:00","00:00:00",0,0,"00:00:00","00:00:00",0,0,"00:00:00","00:00:00",0,0,"00:00:00","00:00:00",0,0,"00:00:00","00:00:00",0,0,"00:00:00","00:00:00",0,0]
[null,null,null,null,null,null,null,0,"00:00:00","00:00:00",0,0,"00:00:00","00:00:00",0,0,"00:00:00","00:00:00",0,0,"00:00:00","00:00:00",0,0,"00:00:00","00:00:00",0,0,"00:00:00","00:00:00",0,0,"00:00:00","00:00:00",0,0,"00:00:00","00:00:00",0,0,"00:00:00","00:00:00",0,0,"00:00:00","00:00:00",0,0]
[null,null,null,null,null,null,null,0,"00:00:00","00:00:00",0,0,"00:00:00","00:00:00",0,0,"00:00:00","00:00:00",0,0,"00:00:00","00:00:00",0,0,"00:00:00","00:00:00",0,0,"00:00:00","00:00:00",0,0,"00:00:00","00:00:00",0,0,"00:00:00","00:00:00",0,0,"00:00:00","00:00:00",0,0,"00:00:00","00:00:00",0,0]
[null,null,null,null,null,null,null,0,"00:00:00","00:00:00",0,0,"00:00:00","00:00:00",0,0,"00:00:00","00:00:00",0,0,"00:00:00","00:00:00",0,0,"00:00:00","00:00:00",0,0,"00:00:00","00:00:00",0,0,"00:00:00","00:00:00",0,0,"00:00:00","00:00:00",0,0,"00:00:00","00:00:00",0,0,"00:00:00","00:00:00",0,0]
[null,null,null,null,null,null,null,0,"00:00:00","00:00:00",0,0,"00:00:00","00:00:00",0,0,"00:00:00","00:00:00",0,0,"00:00:00","00:00:00",0,0,"00:00:00","00:00:00",0,0,"00:00:00","00:00:00",0,0,"00:00:00","00:00:00",0,0,"00:00:00","00:00:00",0,0,"00:00:00","00:00:00",0,0,"00:00:00","00:00:00",0,0]
[null,null,null,null,null,null,null,0,"00:00:00","00:00:00",0,0,"00:00:00","00:00:00",0,0,"00:00:00","00:00:00",0,0,"00:00:00","00:00:00",0,0,"00:00:00","00:00:00",0,0,"00:00:00","00:00:00",0,0,"00:00:00","00:00:00",0,0,"00:00:00","00:00:00",0,0,"00:00:00","00:00:00",0,0,"00:00:00","00:00:00",0,0]
[null,null,null,null,null,null,null,0,"00:00:00","00:00:00",0,0,"00:00:00","00:00:00",0,0,"00:00:00","00:00:00",0,0,"00:00:00","00:00:00",0,0,"00:00:00","00:00:00",0,0,"00:00:00","00:00:00",0,0,"00:00:00","00:00:00",0,0,"00:00:00","00:00:00",0,0,"00:00:00","00:00:00",0,0,"00:00:00","00:00:00",0,0]
[null,null,null,null,null,null,null,0,"00:00:00","00:00:00",0,0,"00:00:00","00:00:00",0,0,"00:00:00","00:00:00",0,0,"00:00:00","00:00:00",0,0,"00:00:00","00:00:00",0,0,"00:00:00","00:00:00",0,0,"00:00:00","00:00:00",0,0,"00:00:00","00:00:00",0,0,"00:00:00","00:00:00",0,0,"00:00:00","00:00:00",0,0]
[null,null,null,null,null,null,null,0,"00:00:00","00:00:00",0,0,"00:00:00","00:00:00",0,0,"00:00:00","00:00:00",0,0,"00:00:00","00:00:00",0,0,"00:00:00","00:00:00",0,0,"00:00:00","00:00:00",0,0,"00:00:00","00:00:00",0,0,"00:00:00","00:00:00",0,0,"00:00:00","00:00:00",0,0,"00:00:00","00:00:00",0,0]
[null,null,null,null,null,null,null,0,"00:00:00","00:00:00",0,0,"00:00:00","00:00:00",0,0,"00:00:00","00:00:00",0,0,"00:00:00","00:00:00",0,0,"00:00:00","00:00:00",0,0,"00:00:00","00:00:00",0,0,"00:00:00","00:00:00",0,0,"00:00:00","00:00:00",0,0,"00:00:00","00:00:00",0,0,"00:00:00","00:00:00",0,0]
[null,null,null,null,null,null,null,0,"00:00:00","00:00:00",0,0,"00:00:00","00:00:00",0,0,"00:00:00","00:00:00",0,0,"00:00:00","00:00:00",0,0,"00:00:00","00:00:00",0,0,"00:00:00","00:00:00",0,0,"00:00:00","00:00:00",0,0,"00:00:00","00:00:00",0,0,"00:00:00","00:00:00",0,0,"00:00:00","00:00:00",0,0]
[null,null,null,null,null,null,null,0,"00:00:00","00:00:00",0,0,"00:00:00","00:00:00",0,0,"00:00:00","00:00:00",0,0,"00:00:00","00:00:00",0,0,"00:00:00","00:00:00",0,0,"00:00:00","00:00:00",0,0,"00:00:00","00:00:00",0,0,"00:00:00","00:00:00",0,0,"00:00:00","00:00:00",0,0,"00:00:00","00:00:00",0,0]
[null,null,null,null,null,null,null,0,"00:00:00","00:00:00",0,0,"00:00:00","00:00:00",0,0,"00:00:00","00:00:00",0,0,"00:00:00","00:00:00",0,0,"00:00:00","00:00:00",0,0,"00:00:00","00:00:00",0,0,"00:00:00","00:00:00",0,0,"00:00:00","00:00:00",0,0,"00:00:00","00:00:00",0,0,"00:00:00","00:00:00",0,0]
[null,null,null,null,null,null,null,0,"00:00:00","00:00:00",0,0,"00:00:00","00:00:00",0,0,"00:00:00","00:00:00",0,0,"00:00:00","00:00:00",0,0,"00:00:00","00:00:00",0,0,"00:00:00","00:00:00",0,0,"00:00:00","00:00:00",0,0,"00:00:00","00:00:00",0,0,"00:00:00","00:00:00",0,0,"00:00:00","00:00:00",0,0]
[null,null,null,null,null,null,null,0,"00:00:00","00:00:00",0,0,"00:00:00","00:00:00",0,0,"00:00:00","00:00:00",0,0,"00:00:00","00:00:00",0,0,"00:00:00","00:00:00",0,0,"00:00:00","00:00:00",0,0,"00:00:00","00:00:00",0,0,"00:00:00","00:00:00",0,0,"00:00:00","00:00:00",0,0,"00:00:00","00:00:00",0,0]
[null,null,null,null,null,null,null,0,"00:00:00","00:00:00",0,0,"00:00:00","00:00:00",0,0,"00:00:00","00:00:00",0,0,"00:00:00","00:00:00",0,0,"00:00:00","00:00:00",0,0,"00:00:00","00:00:00",0,0,"00:00:00","00:00:00",0,0,"00:00:00","00:00:00",0,0,"00:00:00","00:00:00",0,0,"00:00:00","00:00:00",0,0]
[null,null,null,null,null,null,null,0,"00:00:00","00:00:00",0,0,"00:00:00","00:00:00",0,0,"00:00:00","00:00:00",0,0,"00:00:00","00:00:00",0,0,"00:00:00","00:00:00",0,0,"00:00:00","00:00:00",0,0,"00:00:00","00:00:00",0,0,"00:00:00","00:00:00",0,0,"00:00:00","00:00:00",0,0,"00:00:00","00:00:00",0,0]
[null,null,null,null,null,null,null,0,"00:00:00","00:00:00",0,0,"00:00:00","00:00:00",0,0,"00:00:00","00:00:00",0,0,"00:00:00","00:00:00",0,0,"00:00:00","00:00:00",0,0,"00:00:00","00:00:00",0,0,"00:00:00","00:00:00",0,0,"00:00:00","00:00:00",0,0,"00:00:00","00:00:00",0,0,"00:00:00","00:00:00",0,0]
[null,null,null,null,null,null,null,0,"00:00:00","00:00:00",0,0,"00:00:00","00:00:00",0,0,"00:00:00","00:00:00",0,0,"00:00:00","00:00:00",0,0,"00:00:00","00:00:00",0,0,"00:00:00","00:00:00",0,0,"00:00:00","00:00:00",0,0,"00:00:00","00:00:00",0,0,"00:00:00","00:00:00",0,0,"00:00:00","00:00:00",0,0]
[null,null,null,null,null,null,null,0,"00:00:00","00:00:00",0,0,"00:00:00","00:00:00",0,0,"00:00:00","00:00:00",0,0,"00:00:00","00:00:00",0,0,"00:00:00","00:00:00",0,0,"00:00:00","00:00:00",0,0,"00:00:00","00:00:00",0,0,"00:00:00","00:00:00",0,0,"00:00:00","00:00:00",0,0,"00:00:00","00:00:00",0,0]
[null,null,null,null,null,null,null,0,"00:00:00","00:00:00",0,0,"00:00:00","00:00:00",0,0,"00:00:00","00:00:00",0,0,"00:00:00","00:00:00",0,0,"00:00:00","00:00:00",0,0,"00:00:00","00:00:00",0,0,"00:00:00","00:00:00",0,0,"00:00:00","00:00:00",0,0,"00:00:00","00:00:00",0,0,"00:00:00","00:00:00",0,0]
[null,null,null,null,null,null,null,0,"00:00:00","00:00:00",0,0,"00:00:00","00:00:00",0,0,"00:00:00","00:00:00",0,0,"00:00:00","00:00:00",0,0,"00:00:00","00:00:00",0,0,"00:00:00","00:00:00",0,0,"00:00:00","00:00:00",0,0,"00:00:00","00:00:00",0,0,"00:00:00","00:00:00",0,0,"00:00:00","00:00:00",0,0]
[null,null,null,null,null,null,null,0,"00:00:00","00:00:00",0,0,"00:00:00","00:00:00",0,0,"00:00:00","00:00:00",0,0,"00:00:00","00:00:00",0,0,"00:00:00","00:00:00",0,0,"00:00:00","00:00:00",0,0,"00:00:00","00:00:00",0,0,"00:00:00","00:00:00",0,0,"00:00:00","00:00:00",0,0,"00:00:00","00:00:00",0,0]
[null,null,null,null,null,null,null,0,"00:00:00","00:00:00",0,0,"00:00:00","00:00:00",0,0,"00:00:00","00:00:00",0,0,"00:00:00","00:00:00",0,0,"00:00:00","00:00:00",0,0,"00:00:00","00:00:00",0,0,"00:00:00","00:00:00",0,0,"00:00:00","00:00:00",0,0,"00:00:00","00:00:00",0,0,"00:00:00","00:00:00",0,0]
[null,null,null,null,null,null,null,0,"00:00:00","00:00:00",0,0,"00:00:00","00:00:00",0,0,"00:00:00","00:00:00",0,0,"00:00:00","00:00:00",0,0,"00:00:00","00:00:00",0,0,"00:00:00","00:00:00",0,0,"00:00:00","00:00:00",0,0,"00:00:00","00:00:00",0,0,"00:00:00","00:00:00",0,0,"00:00:00","00:00:00",0,0]
[null,null,null,null,null,null,null,0,"00:00:00","00:00:00",0,0,"00:00:00","00:00:00",0,0,"00:00:00","00:00:00",0,0,"00:00:00","00:00:00",0,0,"00:00:00","00:00:00",0,0,"00:00:00","00:00:00",0,0,"00:00:00","00:00:00",0,0,"00:00:00","00:00:00",0,0,"00:00:00","00:00:00",0,0,"00:00:00","00:00:00",0,0]
[null,null,null,null,null,null,null,0,"00:00:00","00:00:00",0,0,"00:00:00","00:00:00",0,0,"00:00:00","00:00:00",0,0,"00:00:00","00:00:00",0,0,"00:00:00","00:00:00",0,0,"00:00:00","00:00:00",0,0,"00:00:00","00:00:00",0,0,"00:00:00","00:00:00",0,0,"00:00:00","00:00:00",0,0,"00:00:00","00:00:00",0,0]
[null,null,null,null,null,null,null,0,"00:00:00","00:00:00",0,0,"00:00:00","00:00:00",0,0,"00:00:00","00:00:00",0,0,"00:00:00","00:00:00",0,0,"00:00:00","00:00:00",0,0,"00:00:00","00:00:00",0,0,"00:00:00","00:00:00",0,0,"00:00:00","00:00:00",0,0,"00:00:00","00:00:00",0,0,"00:00:00","00:00:00",0,0]
[null,null,null,null,null,null,null,0,"00:00:00","00:00:00",0,0,"00:00:00","00:00:00",0,0,"00:00:00","00:00:00",0,0,"00:00:00","00:00:00",0,0,"00:00:00","00:00:00",0,0,"00:00:00","00:00:00",0,0,"00:00:00","00:00:00",0,0,"00:00:00","00:00:00",0,0,"00:00:00","00:00:00",0,0,"00:00:00","00:00:00",0,0]
[null,null,null,null,null,null,null,0,"00:00:00","00:00:00",0,0,"00:00:00","00:00:00",0,0,"00:00:00","00:00:00",0,0,"00:00:00","00:00:00",0,0,"00:00:00","00:00:00",0,0,"00:00:00","00:00:00",0,0,"00:00:00","00:00:00",0,0,"00:00:00","00:00:00",0,0,"00:00:00","00:00:00",0,0,"00:00:00","00:00:00",0,0]
[null,null,null,null,null,null,null,0,"00:00:00","00:00:00",0,0,"00:00:00","00:00:00",0,0,"00:00:00","00:00:00",0,0,"00:00:00","00:00:00",0,0,"00:00:00","00:00:00",0,0,"00:00:00","00:00:00",0,0,"00:00:00","00:00:00",0,0,"00:00:00","00:00:00",0,0,"00:00:00","00:00:00",0,0,"00:00:00","00:00:00",0,0]
[null,null,null,null,null,null,null,0,"00:00:00","00:00:00",0,0,"00:00:00","00:00:00",0,0,"00:00:00","00:00:00",0,0,"00:00:00","00:00:00",0,0,"00:00:00","00:00:00",0,0,"00:00:00","00:00:00",0,0,"00:00:00","00:00:00",0,0,"00:00:00","00:00:00",0,0,"00:00:00","00:00:00",0,0,"00:00:00","00:00:00",0,0]
[null,null,null,null,null,null,null,0,"00:00:00","00:00:00",0,0,"00:00:00","00:00:00",0,0,"00:00:00","00:00:00",0,0,"00:00:00","00:00:00",0,0,"00:00:00","00:00:00",0,0,"00:00:00","00:00:00",0,0,"00:00:00","00:00:00",0,0,"00:00:00","00:00:00",0,0,"00:00:00","00:00:00",0,0,"00:00:00","00:00:00",0,0]
[null,null,null,null,null,null,null,0,"00:00:00","00:00:00",0,0,"00:00:00","00:00:00",0,0,"00:00:00","00:00:00",0,0,"00:00:00","00:00:00",0,0,"00:00:00","00:00:00",0,0,"00:00:00","00:00:00",0,0,"00:00:00","00:00:00",0,0,"00:00:00","00:00:00",0,0,"00:00:00","00:00:00",0,0,"00:00:00","00:00:00",0,0]
[null,null,null,null,null,null,null,0,"00:00:00","00:00:00",0,0,"00:00:00","00:00:00",0,0,"00:00:00","00:00:00",0,0,"00:00:00","00:00:00",0,0,"00:00:00","00:00:00",0,0,"00:00:00","00:00:00",0,0,"00:00:00","00:00:00",0,0,"00:00:00","00:00:00",0,0,"00:00:00","00:00:00",0,0,"00:00:00","00:00:00",0,0]
[null,null,null,null,null,null,null,0,"00:00:00","00:00:00",0,0,"00:00:00","00:00:00",0,0,"00:00:00","00:00:00",0,0,"00:00:00","00:00:00",0,0,"00:00:00","00:00:00",0,0,"00:00:00","00:00:00",0,0,"00:00:00","00:00:00",0,0,"00:00:00","00:00:00",0,0,"00:00:00","00:00:00",0,0,"00:00:00","00:00:00",0,0]
[null,null,null,null,null,null,null,0,"00:00:00","00:00:00",0,0,"00:00:00","00:00:00",0,0,"00:00:00","00:00:00",0,0,"00:00:00","00:00:00",0,0,"00:00:00","00:00:00",0,0,"00:00:00","00:00:00",0,0,"00:00:00","00:00:00",0,0,"00:00:00","00:00:00",0,0,"00:00:00","00:00:00",0,0,"00:00:00","00:00:00",0,0]
[null,null,null,null,null,null,null,0,"00:00:00","00:00:00",0,0,"00:00:00","00:00:00",0,0,"00:00:00","00:00:00",0,0,"00:00:00","00:00:00",0,0,"00:00:00","00:00:00",0,0,"00:00:00","00:00:00",0,0,"00:00:00","00:00:00",0,0,"00:00:00","00:00:00",0,0,"00:00:00","00:00:00",0,0,"00:00:00","00:00:00",0,0]
[null,null,null,null,null,null,null,0,"00:00:00","00:00:00",0,0,"00:00:00","00:00:00",0,0,"00:00:00","00:00:00",0,0,"00:00:00","00:00:00",0,0,"00:00:00","00:00:00",0,0,"00:00:00","00:00:00",0,0,"00:00:00","00:00:00",0,0,"00:00:00","00:00:00",0,0,"00:00:00","00:00:00",0,0,"00:00:00","00:00:00",0,0]
[null,null,null,null,null,null,null,0,"00:00:00","00:00:00",0,0,"00:00:00","00:00:00",0,0,"00:00:00","00:00:00",0,0,"00:00:00","00:00:00",0,0,"00:00:00","00:00:00",0,0,"00:00:00","00:00:00",0,0,"00:00:00","00:00:00",0,0,"00:00:00","00:00:00",0,0,"00:00:00","00:00:00",0,0,"00:00:00","00:00:00",0,0]
[null,null,null,null,null,null,null,0,"00:00:00","00:00:00",0,0,"00:00:00","00:00:00",0,0,"00:00:00","00:00:00",0,0,"00:00:00","00:00:00",0,0,"00:00:00","00:00:00",0,0,"00:00:00","00:00:00",0,0,"00:00:00","00:00:00",0,0,"00:00:00","00:00:00",0,0,"00:00:00","00:00:00",0,0,"00:00:00","00:00:00",0,0]
[null,null,null,null,null,null,null,0,"00:00:00","00:00:00",0,0,"00:00:00","00:00:00",0,0,"00:00:00","00:00:00",0,0,"00:00:00","00:00:00",0,0,"00:00:00","00:00:00",0,0,"00:00:00","00:00:00",0,0,"00:00:00","00:00:00",0,0,"00:00:00","00:00:00",0,0,"00:00:00","00:00:00",0,0,"00:00:00","00:00:00",0,0]
[null,null,null,null,null,null,null,0,"00:00:00","00:00:00",0,0,"00:00:00","00:00:00",0,0,"00:00:00","00:00:00",0,0,"00:00:00","00:00:00",0,0,"00:00:00","00:00:00",0,0,"00:00:00","00:00:00",0,0,"00:00:00","00:00:00",0,0,"00:00:00","00:00:00",0,0,"00:00:00","00:00:00",0,0,"00:00:00","00:00:00",0,0]
[null,null,null,null,null,null,null,0,"00:00:00","00:00:00",0,0,"00:00:00","00:00:00",0,0,"00:00:00","00:00:00",0,0,"00:00:00","00:00:00",0,0,"00:00:00","00:00:00",0,0,"00:00:00","00:00:00",0,0,"00:00:00","00:00:00",0,0,"00:00:00","00:00:00",0,0,"00:00:00","00:00:00",0,0,"00:00:00","00:00:00",0,0]
[null,null,null,null,null,null,null,0,"00:00:00","00:00:00",0,0,"00:00:00","00:00:00",0,0,"00:00:00","00:00:00",0,0,"00:00:00","00:00:00",0,0,"00:00:00","00:00:00",0,0,"00:00:00","00:00:00",0,0,"00:00:00","00:00:00",0,0,"00:00:00","00:00:00",0,0,"00:00:00","00:00:00",0,0,"00:00:00","00:00:00",0,0]
[null,null,null,null,null,null,null,0,{"$f":"IF(OR($F461<I$10,$E461>J$10),0,IF(AND($E461>=I$10,$F461<=J$10),$E461,IF(AND($E461<=I$10,$F461<=J$10),I$10,IF(AND($E461<=J$10,$F461>=J$10,$E461>=I$10),$E461,IF(AND($E461<=I$10,$F461>=J$10),I$10,\"chyba\")))))","v":"00:00:00"},{"$f":"IF(OR($F461<I$10,$E461>J$10),0,IF(AND($E461>=I$10,$F461<=J$10),$F461,IF(AND($E461<=I$10,$F461<=J$10),$F461,IF(AND($E461<=J$10,$F461>=J$10),J$10,IF(AND($E461<=I$10,$F461>=J$10),J$10,\"chyba\")))))","v":"00:00:00"},0,{"$f":"IF($H461<=0,0,$G461/$H461*K461)","v":0},{"$f":"IF(OR($F461<M$10,$E461>N$10),0,IF(AND($E461>=M$10,$F461<=N$10),$E461,IF(AND($E461<=M$10,$F461<=N$10),M$10,IF(AND($E461<=N$10,$F461>=N$10,$E461>=M$10),$E461,IF(AND($E461<=M$10,$F461>=N$10),M$10,\"chyba\")))))","v":"00:00:00"},{"$f":"IF(OR($F461<M$10,$E461>N$10),0,IF(AND($E461>=M$10,$F461<=N$10),$F461,IF(AND($E461<=M$10,$F461<=N$10),$F461,IF(AND($E461<=N$10,$F461>=N$10),N$10,IF(AND($E461<=M$10,$F461>=N$10),N$10,\"chyba\")))))","v":"00:00:00"},0,{"$f":"IF($H461<=0,0,$G461/$H461*O461)","v":0},{"$f":"IF(OR($F461<Q$10,$E461>R$10),0,IF(AND($E461>=Q$10,$F461<=R$10),$E461,IF(AND($E461<=Q$10,$F461<=R$10),Q$10,IF(AND($E461<=R$10,$F461>=R$10,$E461>=Q$10),$E461,IF(AND($E461<=Q$10,$F461>=R$10),Q$10,\"chyba\")))))","v":"00:00:00"},{"$f":"IF(OR($F461<Q$10,$E461>R$10),0,IF(AND($E461>=Q$10,$F461<=R$10),$F461,IF(AND($E461<=Q$10,$F461<=R$10),$F461,IF(AND($E461<=R$10,$F461>=R$10),R$10,IF(AND($E461<=Q$10,$F461>=R$10),R$10,\"chyba\")))))","v":"00:00:00"},0,{"$f":"IF($H461<=0,0,$G461/$H461*S461)","v":0},{"$f":"IF(OR($F461<U$10,$E461>V$10),0,IF(AND($E461>=U$10,$F461<=V$10),$E461,IF(AND($E461<=U$10,$F461<=V$10),U$10,IF(AND($E461<=V$10,$F461>=V$10,$E461>=U$10),$E461,IF(AND($E461<=U$10,$F461>=V$10),U$10,\"chyba\")))))","v":"00:00:00"},{"$f":"IF(OR($F461<U$10,$E461>V$10),0,IF(AND($E461>=U$10,$F461<=V$10),$F461,IF(AND($E461<=U$10,$F461<=V$10),$F461,IF(AND($E461<=V$10,$F461>=V$10),V$10,IF(AND($E461<=U$10,$F461>=V$10),V$10,\"chyba\")))))","v":"00:00:00"},0,{"$f":"IF($H461<=0,0,$G461/$H461*W461)","v":0},{"$f":"IF(OR($F461<Y$10,$E461>Z$10),0,IF(AND($E461>=Y$10,$F461<=Z$10),$E461,IF(AND($E461<=Y$10,$F461<=Z$10),Y$10,IF(AND($E461<=Z$10,$F461>=Z$10,$E461>=Y$10),$E461,IF(AND($E461<=Y$10,$F461>=Z$10),Y$10,\"chyba\")))))","v":"00:00:00"},{"$f":"IF(OR($F461<Y$10,$E461>Z$10),0,IF(AND($E461>=Y$10,$F461<=Z$10),$F461,IF(AND($E461<=Y$10,$F461<=Z$10),$F461,IF(AND($E461<=Z$10,$F461>=Z$10),Z$10,IF(AND($E461<=Y$10,$F461>=Z$10),Z$10,\"chyba\")))))","v":"00:00:00"},0,{"$f":"IF($H461<=0,0,$G461/$H461*AA461)","v":0},{"$f":"IF(OR($F461<AC$10,$E461>AD$10),0,IF(AND($E461>=AC$10,$F461<=AD$10),$E461,IF(AND($E461<=AC$10,$F461<=AD$10),AC$10,IF(AND($E461<=AD$10,$F461>=AD$10,$E461>=AC$10),$E461,IF(AND($E461<=AC$10,$F461>=AD$10),AC$10,\"chyba\")))))","v":"00:00:00"},{"$f":"IF(OR($F461<AC$10,$E461>AD$10),0,IF(AND($E461>=AC$10,$F461<=AD$10),$F461,IF(AND($E461<=AC$10,$F461<=AD$10),$F461,IF(AND($E461<=AD$10,$F461>=AD$10),AD$10,IF(AND($E461<=AC$10,$F461>=AD$10),AD$10,\"chyba\")))))","v":"00:00:00"},0,{"$f":"IF($H461<=0,0,$G461/$H461*AE461)","v":0},{"$f":"IF(OR($F461<AG$10,$E461>AH$10),0,IF(AND($E461>=AG$10,$F461<=AH$10),$E461,IF(AND($E461<=AG$10,$F461<=AH$10),AG$10,IF(AND($E461<=AH$10,$F461>=AH$10,$E461>=AG$10),$E461,IF(AND($E461<=AG$10,$F461>=AH$10),AG$10,\"chyba\")))))","v":"00:00:00"},{"$f":"IF(OR($F461<AG$10,$E461>AH$10),0,IF(AND($E461>=AG$10,$F461<=AH$10),$F461,IF(AND($E461<=AG$10,$F461<=AH$10),$F461,IF(AND($E461<=AH$10,$F461>=AH$10),AH$10,IF(AND($E461<=AG$10,$F461>=AH$10),AH$10,\"chyba\")))))","v":"00:00:00"},0,{"$f":"IF($H461<=0,0,$G461/$H461*AI461)","v":0},{"$f":"IF(OR($F461<AK$10,$E461>AL$10),0,IF(AND($E461>=AK$10,$F461<=AL$10),$E461,IF(AND($E461<=AK$10,$F461<=AL$10),AK$10,IF(AND($E461<=AL$10,$F461>=AL$10,$E461>=AK$10),$E461,IF(AND($E461<=AK$10,$F461>=AL$10),AK$10,\"chyba\")))))","v":"00:00:00"},{"$f":"IF(OR($F461<AK$10,$E461>AL$10),0,IF(AND($E461>=AK$10,$F461<=AL$10),$F461,IF(AND($E461<=AK$10,$F461<=AL$10),$F461,IF(AND($E461<=AL$10,$F461>=AL$10),AL$10,IF(AND($E461<=AK$10,$F461>=AL$10),AL$10,\"chyba\")))))","v":"00:00:00"},0,{"$f":"IF($H461<=0,0,$G461/$H461*AM461)","v":0},{"$f":"IF(OR($F461<AO$10,$E461>AP$10),0,IF(AND($E461>=AO$10,$F461<=AP$10),$E461,IF(AND($E461<=AO$10,$F461<=AP$10),AO$10,IF(AND($E461<=AP$10,$F461>=AP$10,$E461>=AO$10),$E461,IF(AND($E461<=AO$10,$F461>=AP$10),AO$10,\"chyba\")))))","v":"00:00:00"},{"$f":"IF(OR($F461<AO$10,$E461>AP$10),0,IF(AND($E461>=AO$10,$F461<=AP$10),$F461,IF(AND($E461<=AO$10,$F461<=AP$10),$F461,IF(AND($E461<=AP$10,$F461>=AP$10),AP$10,IF(AND($E461<=AO$10,$F461>=AP$10),AP$10,\"chyba\")))))","v":"00:00:00"},0,{"$f":"IF($H461<=0,0,$G461/$H461*AQ461)","v":0},{"$f":"IF(OR($F461<AS$10,$E461>AT$10),0,IF(AND($E461>=AS$10,$F461<=AT$10),$E461,IF(AND($E461<=AS$10,$F461<=AT$10),AS$10,IF(AND($E461<=AT$10,$F461>=AT$10,$E461>=AS$10),$E461,IF(AND($E461<=AS$10,$F461>=AT$10),AS$10,\"chyba\")))))","v":"00:00:00"},{"$f":"IF(OR($F461<AS$10,$E461>AT$10),0,IF(AND($E461>=AS$10,$F461<=AT$10),$F461,IF(AND($E461<=AS$10,$F461<=AT$10),$F461,IF(AND($E461<=AT$10,$F461>=AT$10),AT$10,IF(AND($E461<=AS$10,$F461>=AT$10),AT$10,\"chyba\")))))","v":"00:00:00"},0,{"$f":"IF($H461<=0,0,$G461/$H461*AU461)","v":0}]
[null,null,null,null,null,null,null,{"$f":"IF(F462-E462=0,0,F462-E462+1)","v":0},"00:00:00","00:00:00",{"$f":"IF(J462-I462=0,0,J462-I462+1)","v":0},0,"00:00:00","00:00:00",{"$f":"IF(N462-M462=0,0,N462-M462+1)","v":0},0,"00:00:00","00:00:00",{"$f":"IF(R462-Q462=0,0,R462-Q462+1)","v":0},0,"00:00:00","00:00:00",{"$f":"IF(V462-U462=0,0,V462-U462+1)","v":0},0,"00:00:00","00:00:00",{"$f":"IF(Z462-Y462=0,0,Z462-Y462+1)","v":0},0,"00:00:00","00:00:00",{"$f":"IF(AD462-AC462=0,0,AD462-AC462+1)","v":0},0,"00:00:00","00:00:00",{"$f":"IF(AH462-AG462=0,0,AH462-AG462+1)","v":0},0,"00:00:00","00:00:00",{"$f":"IF(AL462-AK462=0,0,AL462-AK462+1)","v":0},0,"00:00:00","00:00:00",{"$f":"IF(AP462-AO462=0,0,AP462-AO462+1)","v":0},0,"00:00:00","00:00:00",{"$f":"IF(AT462-AS462=0,0,AT462-AS462+1)","v":0},0]
[null,null,null,null,null,null,null,0,"00:00:00","00:00:00",0,0,"00:00:00","00:00:00",0,0,"00:00:00","00:00:00",0,0,"00:00:00","00:00:00",0,0,"00:00:00","00:00:00",0,0,"00:00:00","00:00:00",0,0,"00:00:00","00:00:00",0,0,"00:00:00","00:00:00",0,0,"00:00:00","00:00:00",0,0,"00:00:00","00:00:00",0,0]
[null,null,null,null,null,null,null,0,"00:00:00","00:00:00",0,0,"00:00:00","00:00:00",0,0,"00:00:00","00:00:00",0,0,"00:00:00","00:00:00",0,0,"00:00:00","00:00:00",0,0,"00:00:00","00:00:00",0,0,"00:00:00","00:00:00",0,0,"00:00:00","00:00:00",0,0,"00:00:00","00:00:00",0,0,"00:00:00","00:00:00",0,0]
[null,null,null,null,null,null,null,0,"00:00:00","00:00:00",0,0,"00:00:00","00:00:00",0,0,"00:00:00","00:00:00",0,0,"00:00:00","00:00:00",0,0,"00:00:00","00:00:00",0,0,"00:00:00","00:00:00",0,0,"00:00:00","00:00:00",0,0,"00:00:00","00:00:00",0,0,"00:00:00","00:00:00",0,0,"00:00:00","00:00:00",0,0]
[null,null,null,null,null,null,null,0,"00:00:00","00:00:00",0,0,"00:00:00","00:00:00",0,0,"00:00:00","00:00:00",0,0,"00:00:00","00:00:00",0,0,"00:00:00","00:00:00",0,0,"00:00:00","00:00:00",0,0,"00:00:00","00:00:00",0,0,"00:00:00","00:00:00",0,0,"00:00:00","00:00:00",0,0,"00:00:00","00:00:00",0,0]
[null,null,null,null,null,null,null,0,"00:00:00","00:00:00",0,0,"00:00:00","00:00:00",0,0,"00:00:00","00:00:00",0,0,"00:00:00","00:00:00",0,0,"00:00:00","00:00:00",0,0,"00:00:00","00:00:00",0,0,"00:00:00","00:00:00",0,0,"00:00:00","00:00:00",0,0,"00:00:00","00:00:00",0,0,"00:00:00","00:00:00",0,0]
[null,null,null,null,null,null,null,0,"00:00:00","00:00:00",0,0,"00:00:00","00:00:00",0,0,"00:00:00","00:00:00",0,0,"00:00:00","00:00:00",0,0,"00:00:00","00:00:00",0,0,"00:00:00","00:00:00",0,0,"00:00:00","00:00:00",0,0,"00:00:00","00:00:00",0,0,"00:00:00","00:00:00",0,0,"00:00:00","00:00:00",0,0]
[null,null,null,null,null,null,null,0,"00:00:00","00:00:00",0,0,"00:00:00","00:00:00",0,0,"00:00:00","00:00:00",0,0,"00:00:00","00:00:00",0,0,"00:00:00","00:00:00",0,0,"00:00:00","00:00:00",0,0,"00:00:00","00:00:00",0,0,"00:00:00","00:00:00",0,0,"00:00:00","00:00:00",0,0,"00:00:00","00:00:00",0,0]
[null,null,null,null,null,null,null,0,"00:00:00","00:00:00",0,0,"00:00:00","00:00:00",0,0,"00:00:00","00:00:00",0,0,"00:00:00","00:00:00",0,0,"00:00:00","00:00:00",0,0,"00:00:00","00:00:00",0,0,"00:00:00","00:00:00",0,0,"00:00:00","00:00:00",0,0,"00:00:00","00:00:00",0,0,"00:00:00","00:00:00",0,0]
[null,null,null,null,null,null,null,0,"00:00:00","00:00:00",0,0,"00:00:00","00:00:00",0,0,"00:00:00","00:00:00",0,0,"00:00:00","00:00:00",0,0,"00:00:00","00:00:00",0,0,"00:00:00","00:00:00",0,0,"00:00:00","00:00:00",0,0,"00:00:00","00:00:00",0,0,"00:00:00","00:00:00",0,0,"00:00:00","00:00:00",0,0]
[null,null,null,null,null,null,null,0,"00:00:00","00:00:00",0,0,"00:00:00","00:00:00",0,0,"00:00:00","00:00:00",0,0,"00:00:00","00:00:00",0,0,"00:00:00","00:00:00",0,0,"00:00:00","00:00:00",0,0,"00:00:00","00:00:00",0,0,"00:00:00","00:00:00",0,0,"00:00:00","00:00:00",0,0,"00:00:00","00:00:00",0,0]
[null,null,null,null,null,null,null,0,"00:00:00","00:00:00",0,0,"00:00:00","00:00:00",0,0,"00:00:00","00:00:00",0,0,"00:00:00","00:00:00",0,0,"00:00:00","00:00:00",0,0,"00:00:00","00:00:00",0,0,"00:00:00","00:00:00",0,0,"00:00:00","00:00:00",0,0,"00:00:00","00:00:00",0,0,"00:00:00","00:00:00",0,0]
[null,null,null,null,null,null,null,0,"00:00:00","00:00:00",0,0,"00:00:00","00:00:00",0,0,"00:00:00","00:00:00",0,0,"00:00:00","00:00:00",0,0,"00:00:00","00:00:00",0,0,"00:00:00","00:00:00",0,0,"00:00:00","00:00:00",0,0,"00:00:00","00:00:00",0,0,"00:00:00","00:00:00",0,0,"00:00:00","00:00:00",0,0]
[null,null,null,null,null,null,null,0,"00:00:00","00:00:00",0,0,"00:00:00","00:00:00",0,0,"00:00:00","00:00:00",0,0,"00:00:00","00:00:00",0,0,"00:00:00","00:00:00",0,0,"00:00:00","00:00:00",0,0,"00:00:00","00:00:00",0,0,"00:00:00","00:00:00",0,0,"00:00:00","00:00:00",0,0,"00:00:00","00:00:00",0,0]
[null,null,null,null,null,null,null,0,"00:00:00","00:00:00",0,0,"00:00:00","00:00:00",0,0,"00:00:00","00:00:00",0,0,"00:00:00","00:00:00",0,0,"00:00:00","00:00:00",0,0,"00:00:00","00:00:00",0,0,"00:00:00","00:00:00",0,0,"00:00:00","00:00:00",0,0,"00:00:00","00:00:00",0,0,"00:00:00","00:00:00",0,0]
[null,null,null,null,null,null,null,0,"00:00:00","00:00:00",0,0,"00:00:00","00:00:00",0,0,"00:00:00","00:00:00",0,0,"00:00:00","00:00:00",0,0,"00:00:00","00:00:00",0,0,"00:00:00","00:00:00",0,0,"00:00:00","00:00:00",0,0,"00:00:00","00:00:00",0,0,"00:00:00","00:00:00",0,0,"00:00:00","00:00:00",0,0]
[null,null,null,null,null,null,null,0,"00:00:00","00:00:00",0,0,"00:00:00","00:00:00",0,0,"00:00:00","00:00:00",0,0,"00:00:00","00:00:00",0,0,"00:00:00","00:00:00",0,0,"00:00:00","00:00:00",0,0,"00:00:00","00:00:00",0,0,"00:00:00","00:00:00",0,0,"00:00:00","00:00:00",0,0,"00:00:00","00:00:00",0,0]
[null,null,null,null,null,null,null,0,"00:00:00","00:00:00",0,0,"00:00:00","00:00:00",0,0,"00:00:00","00:00:00",0,0,"00:00:00","00:00:00",0,0,"00:00:00","00:00:00",0,0,"00:00:00","00:00:00",0,0,"00:00:00","00:00:00",0,0,"00:00:00","00:00:00",0,0,"00:00:00","00:00:00",0,0,"00:00:00","00:00:00",0,0]
[null,null,null,null,null,null,null,0,"00:00:00","00:00:00",0,0,"00:00:00","00:00:00",0,0,"00:00:00","00:00:00",0,0,"00:00:00","00:00:00",0,0,"00:00:00","00:00:00",0,0,"00:00:00","00:00:00",0,0,"00:00:00","00:00:00",0,0,"00:00:00","00:00:00",0,0,"00:00:00","00:00:00",0,0,"00:00:00","00:00:00",0,0]
[null,null,null,null,null,null,null,0,"00:00:00","00:00:00",0,0,"00:00:00","00:00:00",0,0,"00:00:00","00:00:00",0,0,"00:00:00","00:00:00",0,0,"00:00:00","00:00:00",0,0,"00:00:00","00:00:00",0,0,"00:00:00","00:00:00",0,0,"00:00:00","00:00:00",0,0,"00:00:00","00:00:00",0,0,"00:00:00","00:00:00",0,0]
[null,null,null,null,null,null,null,0,"00:00:00","00:00:00",0,0,"00:00:00","00:00:00",0,0,"00:00:00","00:00:00",0,0,"00:00:00","00:00:00",0,0,"00:00:00","00:00:00",0,0,"00:00:00","00:00:00",0,0,"00:00:00","00:00:00",0,0,"00:00:00","00:00:00",0,0,"00:00:00","00:00:00",0,0,"00:00:00","00:00:00",0,0]
[null,null,null,null,null,null,null,0,"00:00:00","00:00:00",0,0,"00:00:00","00:00:00",0,0,"00:00:00","00:00:00",0,0,"00:00:00","00:00:00",0,0,"00:00:00","00:00:00",0,0,"00:00:00","00:00:00",0,0,"00:00:00","00:00:00",0,0,"00:00:00","00:00:00",0,0,"00:00:00","00:00:00",0,0,"00:00:00","00:00:00",0,0]
[null,null,null,null,null,null,null,0,"00:00:00","00:00:00",0,0,"00:00:00","00:00:00",0,0,"00:00:00","00:00:00",0,0,"00:00:00","00:00:00",0,0,"00:00:00","00:00:00",0,0,"00:00:00","00:00:00",0,0,"00:00:00","00:00:00",0,0,"00:00:00","00:00:00",0,0,"00:00:00","00:00:00",0,0,"00:00:00","00:00:00",0,0]
[null,null,null,null,null,null,null,0,"00:00:00","00:00:00",0,0,"00:00:00","00:00:00",0,0,"00:00:00","00:00:00",0,0,"00:00:00","00:00:00",0,0,"00:00:00","00:00:00",0,0,"00:00:00","00:00:00",0,0,"00:00:00","00:00:00",0,0,"00:00:00","00:00:00",0,0,"00:00:00","00:00:00",0,0,"00:00:00","00:00:00",0,0]
[null,null,null,null,null,null,null,0,"00:00:00","00:00:00",0,0,"00:00:00","00:00:00",0,0,"00:00:00","00:00:00",0,0,"00:00:00","00:00:00",0,0,"00:00:00","00:00:00",0,0,"00:00:00","00:00:00",0,0,"00:00:00","00:00:00",0,0,"00:00:00","00:00:00",0,0,"00:00:00","00:00:00",0,0,"00:00:00","00:00:00",0,0]
[null,null,null,null,null,null,null,0,"00:00:00","00:00:00",0,0,"00:00:00","00:00:00",0,0,"00:00:00","00:00:00",0,0,"00:00:00","00:00:00",0,0,"00:00:00","00:00:00",0,0,"00:00:00","00:00:00",0,0,"00:00:00","00:00:00",0,0,"00:00:00","00:00:00",0,0,"00:00:00","00:00:00",0,0,"00:00:00","00:00:00",0,0]
[null,null,null,null,null,null,null,0,"00:00:00","00:00:00",0,0,"00:00:00","00:00:00",0,0,"00:00:00","00:00:00",0,0,"00:00:00","00:00:00",0,0,"00:00:00","00:00:00",0,0,"00:00:00","00:00:00",0,0,"00:00:00","00:00:00",0,0,"00:00:00","00:00:00",0,0,"00:00:00","00:00:00",0,0,"00:00:00","00:00:00",0,0]
[null,null,null,null,null,null,null,0,"00:00:00","00:00:00",0,0,"00:00:00","00:00:00",0,0,"00:00:00","00:00:00",0,0,"00:00:00","00:00:00",0,0,"00:00:00","00:00:00",0,0,"00:00:00","00:00:00",0,0,"00:00:00","00:00:00",0,0,"00:00:00","00:00:00",0,0,"00:00:00","00:00:00",0,0,"00:00:00","00:00:00",0,0]
[null,null,null,null,null,null,null,0,"00:00:00","00:00:00",0,0,"00:00:00","00:00:00",0,0,"00:00:00","00:00:00",0,0,"00:00:00","00:00:00",0,0,"00:00:00","00:00:00",0,0,"00:00:00","00:00:00",0,0,"00:00:00","00:00:00",0,0,"00:00:00","00:00:00",0,0,"00:00:00","00:00:00",0,0,"00:00:00","00:00:00",0,0]
[null,null,null,null,null,null,null,0,"00:00:00","00:00:00",0,0,"00:00:00","00:00:00",0,0,"00:00:00","00:00:00",0,0,"00:00:00","00:00:00",0,0,"00:00:00","00:00:00",0,0,"00:00:00","00:00:00",0,0,"00:00:00","00:00:00",0,0,"00:00:00","00:00:00",0,0,"00:00:00","00:00:00",0,0,"00:00:00","00:00:00",0,0]
[null,null,null,null,null,null,null,0,"00:00:00","00:00:00",0,0,"00:00:00","00:00:00",0,0,"00:00:00","00:00:00",0,0,"00:00:00","00:00:00",0,0,"00:00:00","00:00:00",0,0,"00:00:00","00:00:00",0,0,"00:00:00","00:00:00",0,0,"00:00:00","00:00:00",0,0,"00:00:00","00:00:00",0,0,"00:00:00","00:00:00",0,0]
[null,null,null,null,null,null,null,0,"00:00:00","00:00:00",0,0,"00:00:00","00:00:00",0,0,"00:00:00","00:00:00",0,0,"00:00:00","00:00:00",0,0,"00:00:00","00:00:00",0,0,"00:00:00","00:00:00",0,0,"00:00:00","00:00:00",0,0,"00:00:00","00:00:00",0,0,"00:00:00","00:00:00",0,0,"00:00:00","00:00:00",0,0]
[null,null,null,null,null,null,null,0,"00:00:00","00:00:00",0,0,"00:00:00","00:00:00",0,0,"00:00:00","00:00:00",0,0,"00:00:00","00:00:00",0,0,"00:00:00","00:00:00",0,0,"00:00:00","00:00:00",0,0,"00:00:00","00:00:00",0,0,"00:00:00","00:00:00",0,0,"00:00:00","00:00:00",0,0,"00:00:00","00:00:00",0,0]
[null,null,null,null,null,null,null,0,"00:00:00","00:00:00",0,0,"00:00:00","00:00:00",0,0,"00:00:00","00:00:00",0,0,"00:00:00","00:00:00",0,0,"00:00:00","00:00:00",0,0,"00:00:00","00:00:00",0,0,"00:00:00","00:00:00",0,0,"00:00:00","00:00:00",0,0,"00:00:00","00:00:00",0,0,"00:00:00","00:00:00",0,0]
[null,null,null,null,null,null,null,0,"00:00:00","00:00:00",0,0,"00:00:00","00:00:00",0,0,"00:00:00","00:00:00",0,0,"00:00:00","00:00:00",0,0,"00:00:00","00:00:00",0,0,"00:00:00","00:00:00",0,0,"00:00:00","00:00:00",0,0,"00:00:00","00:00:00",0,0,"00:00:00","00:00:00",0,0,"00:00:00","00:00:00",0,0]
[null,null,null,null,null,null,null,0,"00:00:00","00:00:00",0,0,"00:00:00","00:00:00",0,0,"00:00:00","00:00:00",0,0,"00:00:00","00:00:00",0,0,"00:00:00","00:00:00",0,0,"00:00:00","00:00:00",0,0,"00:00:00","00:00:00",0,0,"00:00:00","00:00:00",0,0,"00:00:00","00:00:00",0,0,"00:00:00","00:00:00",0,0]
[null,null,null,null,null,null,null,0,"00:00:00","00:00:00",0,0,"00:00:00","00:00:00",0,0,"00:00:00","00:00:00",0,0,"00:00:00","00:00:00",0,0,"00:00:00","00:00:00",0,0,"00:00:00","00:00:00",0,0,"00:00:00","00:00:00",0,0,"00:00:00","00:00:00",0,0,"00:00:00","00:00:00",0,0,"00:00:00","00:00:00",0,0]
[null,null,null,null,null,null,null,0,"00:00:00","00:00:00",0,0,"00:00:00","00:00:00",0,0,"00:00:00","00:00:00",0,0,"00:00:00","00:00:00",0,0,"00:00:00","00:00:00",0,0,"00:00:00","00:00:00",0,0,"00:00:00","00:00:00",0,0,"00:00:00","00:00:00",0,0,"00:00:00","00:00:00",0,0,"00:00:00","00:00:00",0,0]
[null,null,null,null,null,null,null,0,"00:00:00","00:00:00",0,0,"00:00:00","00:00:00",0,0,"00:00:00","00:00:00",0,0,"00:00:00","00:00:00",0,0,"00:00:00","00:00:00",0,0,"00:00:00","00:00:00",0,0,"00:00:00","00:00:00",0,0,"00:00:00","00:00:00",0,0,"00:00:00","00:00:00",0,0,"00:00:00","00:00:00",0,0]
[null,null,null,null,null,null,null,0,"00:00:00","00:00:00",0,0,"00:00:00","00:00:00",0,0,"00:00:00","00:00:00",0,0,"00:00:00","00:00:00",0,0,"00:00:00","00:00:00",0,0,"00:00:00","00:00:00",0,0,"00:00:00","00:00:00",0,0,"00:00:00","00:00:00",0,0,"00:00:00","00:00:00",0,0,"00:00:00","00:00:00",0,0]
[null,null,null,null,null,null,null,0,"00:00:00","00:00:00",0,0,"00:00:00","00:00:00",0,0,"00:00:00","00:00:00",0,0,"00:00:00","00:00:00",0,0,"00:00:00","00:00:00",0,0,"00:00:00","00:00:00",0,0,"00:00:00","00:00:00",0,0,"00:00:00","00:00:00",0,0,"00:00:00","00:00:00",0,0,"00:00:00","00:00:00",0,0]
[null,null,null,null,null,null,null,0,"00:00:00","00:00:00",0,0,"00:00:00","00:00:00",0,0,"00:00:00","00:00:00",0,0,"00:00:00","00:00:00",0,0,"00:00:00","00:00:00",0,0,"00:00:00","00:00:00",0,0,"00:00:00","00:00:00",0,0,"00:00:00","00:00:00",0,0,"00:00:00","00:00:00",0,0,"00:00:00","00:00:00",0,0]
[null,null,null,null,null,null,null,0,"00:00:00","00:00:00",0,0,"00:00:00","00:00:00",0,0,"00:00:00","00:00:00",0,0,"00:00:00","00:00:00",0,0,"00:00:00","00:00:00",0,0,"00:00:00","00:00:00",0,0,"00:00:00","00:00:00",0,0,"00:00:00","00:00:00",0,0,"00:00:00","00:00:00",0,0,"00:00:00","00:00:00",0,0]
[null,null,null,null,null,null,null,0,"00:00:00","00:00:00",0,0,"00:00:00","00:00:00",0,0,"00:00:00","00:00:00",0,0,"00:00:00","00:00:00",0,0,"00:00:00","00:00:00",0,0,"00:00:00","00:00:00",0,0,"00:00:00","00:00:00",0,0,"00:00:00","00:00:00",0,0,"00:00:00","00:00:00",0,0,"00:00:00","00:00:00",0,0]
[null,null,null,null,null,null,null,0,"00:00:00","00:00:00",0,0,"00:00:00","00:00:00",0,0,"00:00:00","00:00:00",0,0,"00:00:00","00:00:00",0,0,"00:00:00","00:00:00",0,0,"00:00:00","00:00:00",0,0,"00:00:00","00:00:00",0,0,"00:00:00","00:00:00",0,0,"00:00:00","00:00:00",0,0,"00:00:00","00:00:00",0,0]
[null,null,null,null,null,null,null,0,"00:00:00","00:00:00",0,0,"00:00:00","00:00:00",0,0,"00:00:00","00:00:00",0,0,"00:00:00","00:00:00",0,0,"00:00:00","00:00:00",0,0,"00:00:00","00:00:00",0,0,"00:00:00","00:00:00",0,0,"00:00:00","00:00:00",0,0,"00:00:00","00:00:00",0,0,"00:00:00","00:00:00",0,0]
[null,null,null,null,null,null,null,0,"00:00:00","00:00:00",0,0,"00:00:00","00:00:00",0,0,"00:00:00","00:00:00",0,0,"00:00:00","00:00:00",0,0,"00:00:00","00:00:00",0,0,"00:00:00","00:00:00",0,0,"00:00:00","00:00:00",0,0,"00:00:00","00:00:00",0,0,"00:00:00","00:00:00",0,0,"00:00:00","00:00:00",0,0]
[null,null,null,null,null,null,null,0,"00:00:00","00:00:00",0,0,"00:00:00","00:00:00",0,0,"00:00:00","00:00:00",0,0,"00:00:00","00:00:00",0,0,"00:00:00","00:00:00",0,0,"00:00:00","00:00:00",0,0,"00:00:00","00:00:00",0,0,"00:00:00","00:00:00",0,0,"00:00:00","00:00:00",0,0,"00:00:00","00:00:00",0,0]
[null,null,null,null,null,null,null,0,"00:00:00","00:00:00",0,0,"00:00:00","00:00:00",0,0,"00:00:00","00:00:00",0,0,"00:00:00","00:00:00",0,0,"00:00:00","00:00:00",0,0,"00:00:00","00:00:00",0,0,"00:00:00","00:00:00",0,0,"00:00:00","00:00:00",0,0,"00:00:00","00:00:00",0,0,"00:00:00","00:00:00",0,0]
[null,null,null,null,null,null,null,0,"00:00:00","00:00:00",0,0,"00:00:00","00:00:00",0,0,"00:00:00","00:00:00",0,0,"00:00:00","00:00:00",0,0,"00:00:00","00:00:00",0,0,"00:00:00","00:00:00",0,0,"00:00:00","00:00:00",0,0,"00:00:00","00:00:00",0,0,"00:00:00","00:00:00",0,0,"00:00:00","00:00:00",0,0]
[null,null,null,null,null,null,null,0,"00:00:00","00:00:00",0,0,"00:00:00","00:00:00",0,0,"00:00:00","00:00:00",0,0,"00:00:00","00:00:00",0,0,"00:00:00","00:00:00",0,0,"00:00:00","00:00:00",0,0,"00:00:00","00:00:00",0,0,"00:00:00","00:00:00",0,0,"00:00:00","00:00:00",0,0,"00:00:00","00:00:00",0,0]
[null,null,null,null,null,null,null,0,"00:00:00","00:00:00",0,0,"00:00:00","00:00:00",0,0,"00:00:00","00:00:00",0,0,"00:00:00","00:00:00",0,0,"00:00:00","00:00:00",0,0,"00:00:00","00:00:00",0,0,"00:00:00","00:00:00",0,0,"00:00:00","00:00:00",0,0,"00:00:00","00:00:00",0,0,"00:00:00","00:00:00",0,0]
[null,null,null,null,null,null,null,0,"00:00:00","00:00:00",0,0,"00:00:00","00:00:00",0,0,"00:00:00","00:00:00",0,0,"00:00:00","00:00:00",0,0,"00:00:00","00:00:00",0,0,"00:00:00","00:00:00",0,0,"00:00:00","00:00:00",0,0,"00:00:00","00:00:00",0,0,"00:00:00","00:00:00",0,0,"00:00:00","00:00:00",0,0]
[null,null,null,null,null,null,null,0,"00:00:00","00:00:00",0,0,"00:00:00","00:00:00",0,0,"00:00:00","00:00:00",0,0,"00:00:00","00:00:00",0,0,"00:00:00","00:00:00",0,0,"00:00:00","00:00:00",0,0,"00:00:00","00:00:00",0,0,"00:00:00","00:00:00",0,0,"00:00:00","00:00:00",0,0,"00:00:00","00:00:00",0,0]
[null,null,null,null,null,null,null,0,"00:00:00","00:00:00",0,0,"00:00:00","00:00:00",0,0,"00:00:00","00:00:00",0,0,"00:00:00","00:00:00",0,0,"00:00:00","00:00:00",0,0,"00:00:00","00:00:00",0,0,"00:00:00","00:00:00",0,0,"00:00:00","00:00:00",0,0,"00:00:00","00:00:00",0,0,"00:00:00","00:00:00",0,0]
[null,null,null,null,null,null,null,0,"00:00:00","00:00:00",0,0,"00:00:00","00:00:00",0,0,"00:00:00","00:00:00",0,0,"00:00:00","00:00:00",0,0,"00:00:00","00:00:00",0,0,"00:00:00","00:00:00",0,0,"00:00:00","00:00:00",0,0,"00:00:00","00:00:00",0,0,"00:00:00","00:00:00",0,0,"00:00:00","00:00:00",0,0]
[null,null,null,null,null,null,null,0,"00:00:00","00:00:00",0,0,"00:00:00","00:00:00",0,0,"00:00:00","00:00:00",0,0,"00:00:00","00:00:00",0,0,"00:00:00","00:00:00",0,0,"00:00:00","00:00:00",0,0,"00:00:00","00:00:00",0,0,"00:00:00","00:00:00",0,0,"00:00:00","00:00:00",0,0,"00:00:00","00:00:00",0,0]
[null,null,null,null,null,null,null,0,"00:00:00","00:00:00",0,0,"00:00:00","00:00:00",0,0,"00:00:00","00:00:00",0,0,"00:00:00","00:00:00",0,0,"00:00:00","00:00:00",0,0,"00:00:00","00:00:00",0,0,"00:00:00","00:00:00",0,0,"00:00:00","00:00:00",0,0,"00:00:00","00:00:00",0,0,"00:00:00","00:00:00",0,0]
[null,null,null,null,null,null,null,0,"00:00:00","00:00:00",0,0,"00:00:00","00:00:00",0,0,"00:00:00","00:00:00",0,0,"00:00:00","00:00:00",0,0,"00:00:00","00:00:00",0,0,"00:00:00","00:00:00",0,0,"00:00:00","00:00:00",0,0,"00:00:00","00:00:00",0,0,"00:00:00","00:00:00",0,0,"00:00:00","00:00:00",0,0]
[null,null,null,null,null,null,null,0,"00:00:00","00:00:00",0,0,"00:00:00","00:00:00",0,0,"00:00:00","00:00:00",0,0,"00:00:00","00:00:00",0,0,"00:00:00","00:00:00",0,0,"00:00:00","00:00:00",0,0,"00:00:00","00:00:00",0,0,"00:00:00","00:00:00",0,0,"00:00:00","00:00:00",0,0,"00:00:00","00:00:00",0,0]
[null,null,null,null,null,null,null,0,"00:00:00","00:00:00",0,0,"00:00:00","00:00:00",0,0,"00:00:00","00:00:00",0,0,"00:00:00","00:00:00",0,0,"00:00:00","00:00:00",0,0,"00:00:00","00:00:00",0,0,"00:00:00","00:00:00",0,0,"00:00:00","00:00:00",0,0,"00:00:00","00:00:00",0,0,"00:00:00","00:00:00",0,0]
[null,null,null,null,null,null,null,0,"00:00:00","00:00:00",0,0,"00:00:00","00:00:00",0,0,"00:00:00","00:00:00",0,0,"00:00:00","00:00:00",0,0,"00:00:00","00:00:00",0,0,"00:00:00","00:00:00",0,0,"00:00:00","00:00:00",0,0,"00:00:00","00:00:00",0,0,"00:00:00","00:00:00",0,0,"00:00:00","00:00:00",0,0]
[null,null,null,null,null,null,null,0,"00:00:00","00:00:00",0,0,"00:00:00","00:00:00",0,0,"00:00:00","00:00:00",0,0,"00:00:00","00:00:00",0,0,"00:00:00","00:00:00",0,0,"00:00:00","00:00:00",0,0,"00:00:00","00:00:00",0,0,"00:00:00","00:00:00",0,0,"00:00:00","00:00:00",0,0,"00:00:00","00:00:00",0,0]
[null,null,null,null,null,null,null,0,{"$f":"IF(OR($F525<I$10,$E525>J$10),0,IF(AND($E525>=I$10,$F525<=J$10),$E525,IF(AND($E525<=I$10,$F525<=J$10),I$10,IF(AND($E525<=J$10,$F525>=J$10,$E525>=I$10),$E525,IF(AND($E525<=I$10,$F525>=J$10),I$10,\"chyba\")))))","v":"00:00:00"},{"$f":"IF(OR($F525<I$10,$E525>J$10),0,IF(AND($E525>=I$10,$F525<=J$10),$F525,IF(AND($E525<=I$10,$F525<=J$10),$F525,IF(AND($E525<=J$10,$F525>=J$10),J$10,IF(AND($E525<=I$10,$F525>=J$10),J$10,\"chyba\")))))","v":"00:00:00"},0,{"$f":"IF($H525<=0,0,$G525/$H525*K525)","v":0},{"$f":"IF(OR($F525<M$10,$E525>N$10),0,IF(AND($E525>=M$10,$F525<=N$10),$E525,IF(AND($E525<=M$10,$F525<=N$10),M$10,IF(AND($E525<=N$10,$F525>=N$10,$E525>=M$10),$E525,IF(AND($E525<=M$10,$F525>=N$10),M$10,\"chyba\")))))","v":"00:00:00"},{"$f":"IF(OR($F525<M$10,$E525>N$10),0,IF(AND($E525>=M$10,$F525<=N$10),$F525,IF(AND($E525<=M$10,$F525<=N$10),$F525,IF(AND($E525<=N$10,$F525>=N$10),N$10,IF(AND($E525<=M$10,$F525>=N$10),N$10,\"chyba\")))))","v":"00:00:00"},0,{"$f":"IF($H525<=0,0,$G525/$H525*O525)","v":0},{"$f":"IF(OR($F525<Q$10,$E525>R$10),0,IF(AND($E525>=Q$10,$F525<=R$10),$E525,IF(AND($E525<=Q$10,$F525<=R$10),Q$10,IF(AND($E525<=R$10,$F525>=R$10,$E525>=Q$10),$E525,IF(AND($E525<=Q$10,$F525>=R$10),Q$10,\"chyba\")))))","v":"00:00:00"},{"$f":"IF(OR($F525<Q$10,$E525>R$10),0,IF(AND($E525>=Q$10,$F525<=R$10),$F525,IF(AND($E525<=Q$10,$F525<=R$10),$F525,IF(AND($E525<=R$10,$F525>=R$10),R$10,IF(AND($E525<=Q$10,$F525>=R$10),R$10,\"chyba\")))))","v":"00:00:00"},0,{"$f":"IF($H525<=0,0,$G525/$H525*S525)","v":0},{"$f":"IF(OR($F525<U$10,$E525>V$10),0,IF(AND($E525>=U$10,$F525<=V$10),$E525,IF(AND($E525<=U$10,$F525<=V$10),U$10,IF(AND($E525<=V$10,$F525>=V$10,$E525>=U$10),$E525,IF(AND($E525<=U$10,$F525>=V$10),U$10,\"chyba\")))))","v":"00:00:00"},{"$f":"IF(OR($F525<U$10,$E525>V$10),0,IF(AND($E525>=U$10,$F525<=V$10),$F525,IF(AND($E525<=U$10,$F525<=V$10),$F525,IF(AND($E525<=V$10,$F525>=V$10),V$10,IF(AND($E525<=U$10,$F525>=V$10),V$10,\"chyba\")))))","v":"00:00:00"},0,{"$f":"IF($H525<=0,0,$G525/$H525*W525)","v":0},{"$f":"IF(OR($F525<Y$10,$E525>Z$10),0,IF(AND($E525>=Y$10,$F525<=Z$10),$E525,IF(AND($E525<=Y$10,$F525<=Z$10),Y$10,IF(AND($E525<=Z$10,$F525>=Z$10,$E525>=Y$10),$E525,IF(AND($E525<=Y$10,$F525>=Z$10),Y$10,\"chyba\")))))","v":"00:00:00"},{"$f":"IF(OR($F525<Y$10,$E525>Z$10),0,IF(AND($E525>=Y$10,$F525<=Z$10),$F525,IF(AND($E525<=Y$10,$F525<=Z$10),$F525,IF(AND($E525<=Z$10,$F525>=Z$10),Z$10,IF(AND($E525<=Y$10,$F525>=Z$10),Z$10,\"chyba\")))))","v":"00:00:00"},0,{"$f":"IF($H525<=0,0,$G525/$H525*AA525)","v":0},{"$f":"IF(OR($F525<AC$10,$E525>AD$10),0,IF(AND($E525>=AC$10,$F525<=AD$10),$E525,IF(AND($E525<=AC$10,$F525<=AD$10),AC$10,IF(AND($E525<=AD$10,$F525>=AD$10,$E525>=AC$10),$E525,IF(AND($E525<=AC$10,$F525>=AD$10),AC$10,\"chyba\")))))","v":"00:00:00"},{"$f":"IF(OR($F525<AC$10,$E525>AD$10),0,IF(AND($E525>=AC$10,$F525<=AD$10),$F525,IF(AND($E525<=AC$10,$F525<=AD$10),$F525,IF(AND($E525<=AD$10,$F525>=AD$10),AD$10,IF(AND($E525<=AC$10,$F525>=AD$10),AD$10,\"chyba\")))))","v":"00:00:00"},0,{"$f":"IF($H525<=0,0,$G525/$H525*AE525)","v":0},{"$f":"IF(OR($F525<AG$10,$E525>AH$10),0,IF(AND($E525>=AG$10,$F525<=AH$10),$E525,IF(AND($E525<=AG$10,$F525<=AH$10),AG$10,IF(AND($E525<=AH$10,$F525>=AH$10,$E525>=AG$10),$E525,IF(AND($E525<=AG$10,$F525>=AH$10),AG$10,\"chyba\")))))","v":"00:00:00"},{"$f":"IF(OR($F525<AG$10,$E525>AH$10),0,IF(AND($E525>=AG$10,$F525<=AH$10),$F525,IF(AND($E525<=AG$10,$F525<=AH$10),$F525,IF(AND($E525<=AH$10,$F525>=AH$10),AH$10,IF(AND($E525<=AG$10,$F525>=AH$10),AH$10,\"chyba\")))))","v":"00:00:00"},0,{"$f":"IF($H525<=0,0,$G525/$H525*AI525)","v":0},{"$f":"IF(OR($F525<AK$10,$E525>AL$10),0,IF(AND($E525>=AK$10,$F525<=AL$10),$E525,IF(AND($E525<=AK$10,$F525<=AL$10),AK$10,IF(AND($E525<=AL$10,$F525>=AL$10,$E525>=AK$10),$E525,IF(AND($E525<=AK$10,$F525>=AL$10),AK$10,\"chyba\")))))","v":"00:00:00"},{"$f":"IF(OR($F525<AK$10,$E525>AL$10),0,IF(AND($E525>=AK$10,$F525<=AL$10),$F525,IF(AND($E525<=AK$10,$F525<=AL$10),$F525,IF(AND($E525<=AL$10,$F525>=AL$10),AL$10,IF(AND($E525<=AK$10,$F525>=AL$10),AL$10,\"chyba\")))))","v":"00:00:00"},0,{"$f":"IF($H525<=0,0,$G525/$H525*AM525)","v":0},{"$f":"IF(OR($F525<AO$10,$E525>AP$10),0,IF(AND($E525>=AO$10,$F525<=AP$10),$E525,IF(AND($E525<=AO$10,$F525<=AP$10),AO$10,IF(AND($E525<=AP$10,$F525>=AP$10,$E525>=AO$10),$E525,IF(AND($E525<=AO$10,$F525>=AP$10),AO$10,\"chyba\")))))","v":"00:00:00"},{"$f":"IF(OR($F525<AO$10,$E525>AP$10),0,IF(AND($E525>=AO$10,$F525<=AP$10),$F525,IF(AND($E525<=AO$10,$F525<=AP$10),$F525,IF(AND($E525<=AP$10,$F525>=AP$10),AP$10,IF(AND($E525<=AO$10,$F525>=AP$10),AP$10,\"chyba\")))))","v":"00:00:00"},0,{"$f":"IF($H525<=0,0,$G525/$H525*AQ525)","v":0},{"$f":"IF(OR($F525<AS$10,$E525>AT$10),0,IF(AND($E525>=AS$10,$F525<=AT$10),$E525,IF(AND($E525<=AS$10,$F525<=AT$10),AS$10,IF(AND($E525<=AT$10,$F525>=AT$10,$E525>=AS$10),$E525,IF(AND($E525<=AS$10,$F525>=AT$10),AS$10,\"chyba\")))))","v":"00:00:00"},{"$f":"IF(OR($F525<AS$10,$E525>AT$10),0,IF(AND($E525>=AS$10,$F525<=AT$10),$F525,IF(AND($E525<=AS$10,$F525<=AT$10),$F525,IF(AND($E525<=AT$10,$F525>=AT$10),AT$10,IF(AND($E525<=AS$10,$F525>=AT$10),AT$10,\"chyba\")))))","v":"00:00:00"},0,{"$f":"IF($H525<=0,0,$G525/$H525*AU525)","v":0}]
[null,null,null,null,null,null,null,{"$f":"IF(F526-E526=0,0,F526-E526+1)","v":0},"00:00:00","00:00:00",{"$f":"IF(J526-I526=0,0,J526-I526+1)","v":0},0,"00:00:00","00:00:00",{"$f":"IF(N526-M526=0,0,N526-M526+1)","v":0},0,"00:00:00","00:00:00",{"$f":"IF(R526-Q526=0,0,R526-Q526+1)","v":0},0,"00:00:00","00:00:00",{"$f":"IF(V526-U526=0,0,V526-U526+1)","v":0},0,"00:00:00","00:00:00",{"$f":"IF(Z526-Y526=0,0,Z526-Y526+1)","v":0},0,"00:00:00","00:00:00",{"$f":"IF(AD526-AC526=0,0,AD526-AC526+1)","v":0},0,"00:00:00","00:00:00",{"$f":"IF(AH526-AG526=0,0,AH526-AG526+1)","v":0},0,"00:00:00","00:00:00",{"$f":"IF(AL526-AK526=0,0,AL526-AK526+1)","v":0},0,"00:00:00","00:00:00",{"$f":"IF(AP526-AO526=0,0,AP526-AO526+1)","v":0},0,"00:00:00","00:00:00",{"$f":"IF(AT526-AS526=0,0,AT526-AS526+1)","v":0},0]
[null,null,null,null,null,null,null,0,"00:00:00","00:00:00",0,0,"00:00:00","00:00:00",0,0,"00:00:00","00:00:00",0,0,"00:00:00","00:00:00",0,0,"00:00:00","00:00:00",0,0,"00:00:00","00:00:00",0,0,"00:00:00","00:00:00",0,0,"00:00:00","00:00:00",0,0,"00:00:00","00:00:00",0,0,"00:00:00","00:00:00",0,0]
[null,null,null,null,null,null,null,0,"00:00:00","00:00:00",0,0,"00:00:00","00:00:00",0,0,"00:00:00","00:00:00",0,0,"00:00:00","00:00:00",0,0,"00:00:00","00:00:00",0,0,"00:00:00","00:00:00",0,0,"00:00:00","00:00:00",0,0,"00:00:00","00:00:00",0,0,"00:00:00","00:00:00",0,0,"00:00:00","00:00:00",0,0]
[null,null,null,null,null,null,null,0,"00:00:00","00:00:00",0,0,"00:00:00","00:00:00",0,0,"00:00:00","00:00:00",0,0,"00:00:00","00:00:00",0,0,"00:00:00","00:00:00",0,0,"00:00:00","00:00:00",0,0,"00:00:00","00:00:00",0,0,"00:00:00","00:00:00",0,0,"00:00:00","00:00:00",0,0,"00:00:00","00:00:00",0,0]
[null,null,null,null,null,null,null,0,"00:00:00","00:00:00",0,0,"00:00:00","00:00:00",0,0,"00:00:00","00:00:00",0,0,"00:00:00","00:00:00",0,0,"00:00:00","00:00:00",0,0,"00:00:00","00:00:00",0,0,"00:00:00","00:00:00",0,0,"00:00:00","00:00:00",0,0,"00:00:00","00:00:00",0,0,"00:00:00","00:00:00",0,0]
[null,null,null,null,null,null,null,0,"00:00:00","00:00:00",0,0,"00:00:00","00:00:00",0,0,"00:00:00","00:00:00",0,0,"00:00:00","00:00:00",0,0,"00:00:00","00:00:00",0,0,"00:00:00","00:00:00",0,0,"00:00:00","00:00:00",0,0,"00:00:00","00:00:00",0,0,"00:00:00","00:00:00",0,0,"00:00:00","00:00:00",0,0]
[null,null,null,null,null,null,null,0,"00:00:00","00:00:00",0,0,"00:00:00","00:00:00",0,0,"00:00:00","00:00:00",0,0,"00:00:00","00:00:00",0,0,"00:00:00","00:00:00",0,0,"00:00:00","00:00:00",0,0,"00:00:00","00:00:00",0,0,"00:00:00","00:00:00",0,0,"00:00:00","00:00:00",0,0,"00:00:00","00:00:00",0,0]
[null,null,null,null,null,null,null,0,"00:00:00","00:00:00",0,0,"00:00:00","00:00:00",0,0,"00:00:00","00:00:00",0,0,"00:00:00","00:00:00",0,0,"00:00:00","00:00:00",0,0,"00:00:00","00:00:00",0,0,"00:00:00","00:00:00",0,0,"00:00:00","00:00:00",0,0,"00:00:00","00:00:00",0,0,"00:00:00","00:00:00",0,0]
[null,null,null,null,null,null,null,0,"00:00:00","00:00:00",0,0,"00:00:00","00:00:00",0,0,"00:00:00","00:00:00",0,0,"00:00:00","00:00:00",0,0,"00:00:00","00:00:00",0,0,"00:00:00","00:00:00",0,0,"00:00:00","00:00:00",0,0,"00:00:00","00:00:00",0,0,"00:00:00","00:00:00",0,0,"00:00:00","00:00:00",0,0]
[null,null,null,null,null,null,null,0,"00:00:00","00:00:00",0,0,"00:00:00","00:00:00",0,0,"00:00:00","00:00:00",0,0,"00:00:00","00:00:00",0,0,"00:00:00","00:00:00",0,0,"00:00:00","00:00:00",0,0,"00:00:00","00:00:00",0,0,"00:00:00","00:00:00",0,0,"00:00:00","00:00:00",0,0,"00:00:00","00:00:00",0,0]
[null,null,null,null,null,null,null,0,"00:00:00","00:00:00",0,0,"00:00:00","00:00:00",0,0,"00:00:00","00:00:00",0,0,"00:00:00","00:00:00",0,0,"00:00:00","00:00:00",0,0,"00:00:00","00:00:00",0,0,"00:00:00","00:00:00",0,0,"00:00:00","00:00:00",0,0,"00:00:00","00:00:00",0,0,"00:00:00","00:00:00",0,0]
[null,null,null,null,null,null,null,0,"00:00:00","00:00:00",0,0,"00:00:00","00:00:00",0,0,"00:00:00","00:00:00",0,0,"00:00:00","00:00:00",0,0,"00:00:00","00:00:00",0,0,"00:00:00","00:00:00",0,0,"00:00:00","00:00:00",0,0,"00:00:00","00:00:00",0,0,"00:00:00","00:00:00",0,0,"00:00:00","00:00:00",0,0]
[null,null,null,null,null,null,null,0,"00:00:00","00:00:00",0,0,"00:00:00","00:00:00",0,0,"00:00:00","00:00:00",0,0,"00:00:00","00:00:00",0,0,"00:00:00","00:00:00",0,0,"00:00:00","00:00:00",0,0,"00:00:00","00:00:00",0,0,"00:00:00","00:00:00",0,0,"00:00:00","00:00:00",0,0,"00:00:00","00:00:00",0,0]
[null,null,null,null,null,null,null,0,"00:00:00","00:00:00",0,0,"00:00:00","00:00:00",0,0,"00:00:00","00:00:00",0,0,"00:00:00","00:00:00",0,0,"00:00:00","00:00:00",0,0,"00:00:00","00:00:00",0,0,"00:00:00","00:00:00",0,0,"00:00:00","00:00:00",0,0,"00:00:00","00:00:00",0,0,"00:00:00","00:00:00",0,0]
[null,null,null,null,null,null,null,0,"00:00:00","00:00:00",0,0,"00:00:00","00:00:00",0,0,"00:00:00","00:00:00",0,0,"00:00:00","00:00:00",0,0,"00:00:00","00:00:00",0,0,"00:00:00","00:00:00",0,0,"00:00:00","00:00:00",0,0,"00:00:00","00:00:00",0,0,"00:00:00","00:00:00",0,0,"00:00:00","00:00:00",0,0]
[null,null,null,null,null,null,null,0,"00:00:00","00:00:00",0,0,"00:00:00","00:00:00",0,0,"00:00:00","00:00:00",0,0,"00:00:00","00:00:00",0,0,"00:00:00","00:00:00",0,0,"00:00:00","00:00:00",0,0,"00:00:00","00:00:00",0,0,"00:00:00","00:00:00",0,0,"00:00:00","00:00:00",0,0,"00:00:00","00:00:00",0,0]
[null,null,null,null,null,null,null,0,"00:00:00","00:00:00",0,0,"00:00:00","00:00:00",0,0,"00:00:00","00:00:00",0,0,"00:00:00","00:00:00",0,0,"00:00:00","00:00:00",0,0,"00:00:00","00:00:00",0,0,"00:00:00","00:00:00",0,0,"00:00:00","00:00:00",0,0,"00:00:00","00:00:00",0,0,"00:00:00","00:00:00",0,0]
[null,null,null,null,null,null,null,0,"00:00:00","00:00:00",0,0,"00:00:00","00:00:00",0,0,"00:00:00","00:00:00",0,0,"00:00:00","00:00:00",0,0,"00:00:00","00:00:00",0,0,"00:00:00","00:00:00",0,0,"00:00:00","00:00:00",0,0,"00:00:00","00:00:00",0,0,"00:00:00","00:00:00",0,0,"00:00:00","00:00:00",0,0]
[null,null,null,null,null,null,null,0,"00:00:00","00:00:00",0,0,"00:00:00","00:00:00",0,0,"00:00:00","00:00:00",0,0,"00:00:00","00:00:00",0,0,"00:00:00","00:00:00",0,0,"00:00:00","00:00:00",0,0,"00:00:00","00:00:00",0,0,"00:00:00","00:00:00",0,0,"00:00:00","00:00:00",0,0,"00:00:00","00:00:00",0,0]
[null,null,null,null,null,null,null,0,"00:00:00","00:00:00",0,0,"00:00:00","00:00:00",0,0,"00:00:00","00:00:00",0,0,"00:00:00","00:00:00",0,0,"00:00:00","00:00:00",0,0,"00:00:00","00:00:00",0,0,"00:00:00","00:00:00",0,0,"00:00:00","00:00:00",0,0,"00:00:00","00:00:00",0,0,"00:00:00","00:00:00",0,0]
[null,null,null,null,null,null,null,0,"00:00:00","00:00:00",0,0,"00:00:00","00:00:00",0,0,"00:00:00","00:00:00",0,0,"00:00:00","00:00:00",0,0,"00:00:00","00:00:00",0,0,"00:00:00","00:00:00",0,0,"00:00:00","00:00:00",0,0,"00:00:00","00:00:00",0,0,"00:00:00","00:00:00",0,0,"00:00:00","00:00:00",0,0]
[null,null,null,null,null,null,null,0,"00:00:00","00:00:00",0,0,"00:00:00","00:00:00",0,0,"00:00:00","00:00:00",0,0,"00:00:00","00:00:00",0,0,"00:00:00","00:00:00",0,0,"00:00:00","00:00:00",0,0,"00:00:00","00:00:00",0,0,"00:00:00","00:00:00",0,0,"00:00:00","00:00:00",0,0,"00:00:00","00:00:00",0,0]
[null,null,null,null,null,null,null,0,"00:00:00","00:00:00",0,0,"00:00:00","00:00:00",0,0,"00:00:00","00:00:00",0,0,"00:00:00","00:00:00",0,0,"00:00:00","00:00:00",0,0,"00:00:00","00:00:00",0,0,"00:00:00","00:00:00",0,0,"00:00:00","00:00:00",0,0,"00:00:00","00:00:00",0,0,"00:00:00","00:00:00",0,0]
[null,null,null,null,null,null,null,0,"00:00:00","00:00:00",0,0,"00:00:00","00:00:00",0,0,"00:00:00","00:00:00",0,0,"00:00:00","00:00:00",0,0,"00:00:00","00:00:00",0,0,"00:00:00","00:00:00",0,0,"00:00:00","00:00:00",0,0,"00:00:00","00:00:00",0,0,"00:00:00","00:00:00",0,0,"00:00:00","00:00:00",0,0]
[null,null,null,null,null,null,null,0,"00:00:00","00:00:00",0,0,"00:00:00","00:00:00",0,0,"00:00:00","00:00:00",0,0,"00:00:00","00:00:00",0,0,"00:00:00","00:00:00",0,0,"00:00:00","00:00:00",0,0,"00:00:00","00:00:00",0,0,"00:00:00","00:00:00",0,0,"00:00:00","00:00:00",0,0,"00:00:00","00:00:00",0,0]
[null,null,null,null,null,null,null,0,"00:00:00","00:00:00",0,0,"00:00:00","00:00:00",0,0,"00:00:00","00:00:00",0,0,"00:00:00","00:00:00",0,0,"00:00:00","00:00:00",0,0,"00:00:00","00:00:00",0,0,"00:00:00","00:00:00",0,0,"00:00:00","00:00:00",0,0,"00:00:00","00:00:00",0,0,"00:00:00","00:00:00",0,0]
[null,null,null,null,null,null,null,0,"00:00:00","00:00:00",0,0,"00:00:00","00:00:00",0,0,"00:00:00","00:00:00",0,0,"00:00:00","00:00:00",0,0,"00:00:00","00:00:00",0,0,"00:00:00","00:00:00",0,0,"00:00:00","00:00:00",0,0,"00:00:00","00:00:00",0,0,"00:00:00","00:00:00",0,0,"00:00:00","00:00:00",0,0]
[null,null,null,null,null,null,null,0,"00:00:00","00:00:00",0,0,"00:00:00","00:00:00",0,0,"00:00:00","00:00:00",0,0,"00:00:00","00:00:00",0,0,"00:00:00","00:00:00",0,0,"00:00:00","00:00:00",0,0,"00:00:00","00:00:00",0,0,"00:00:00","00:00:00",0,0,"00:00:00","00:00:00",0,0,"00:00:00","00:00:00",0,0]
[null,null,null,null,null,null,null,0,"00:00:00","00:00:00",0,0,"00:00:00","00:00:00",0,0,"00:00:00","00:00:00",0,0,"00:00:00","00:00:00",0,0,"00:00:00","00:00:00",0,0,"00:00:00","00:00:00",0,0,"00:00:00","00:00:00",0,0,"00:00:00","00:00:00",0,0,"00:00:00","00:00:00",0,0,"00:00:00","00:00:00",0,0]
[null,null,null,null,null,null,null,0,"00:00:00","00:00:00",0,0,"00:00:00","00:00:00",0,0,"00:00:00","00:00:00",0,0,"00:00:00","00:00:00",0,0,"00:00:00","00:00:00",0,0,"00:00:00","00:00:00",0,0,"00:00:00","00:00:00",0,0,"00:00:00","00:00:00",0,0,"00:00:00","00:00:00",0,0,"00:00:00","00:00:00",0,0]
[null,null,null,null,null,null,null,0,"00:00:00","00:00:00",0,0,"00:00:00","00:00:00",0,0,"00:00:00","00:00:00",0,0,"00:00:00","00:00:00",0,0,"00:00:00","00:00:00",0,0,"00:00:00","00:00:00",0,0,"00:00:00","00:00:00",0,0,"00:00:00","00:00:00",0,0,"00:00:00","00:00:00",0,0,"00:00:00","00:00:00",0,0]
[null,null,null,null,null,null,null,0,"00:00:00","00:00:00",0,0,"00:00:00","00:00:00",0,0,"00:00:00","00:00:00",0,0,"00:00:00","00:00:00",0,0,"00:00:00","00:00:00",0,0,"00:00:00","00:00:00",0,0,"00:00:00","00:00:00",0,0,"00:00:00","00:00:00",0,0,"00:00:00","00:00:00",0,0,"00:00:00","00:00:00",0,0]
[null,null,null,null,null,null,null,0,"00:00:00","00:00:00",0,0,"00:00:00","00:00:00",0,0,"00:00:00","00:00:00",0,0,"00:00:00","00:00:00",0,0,"00:00:00","00:00:00",0,0,"00:00:00","00:00:00",0,0,"00:00:00","00:00:00",0,0,"00:00:00","00:00:00",0,0,"00:00:00","00:00:00",0,0,"00:00:00","00:00:00",0,0]
[null,null,null,null,null,null,null,0,"00:00:00","00:00:00",0,0,"00:00:00","00:00:00",0,0,"00:00:00","00:00:00",0,0,"00:00:00","00:00:00",0,0,"00:00:00","00:00:00",0,0,"00:00:00","00:00:00",0,0,"00:00:00","00:00:00",0,0,"00:00:00","00:00:00",0,0,"00:00:00","00:00:00",0,0,"00:00:00","00:00:00",0,0]
[null,null,null,null,null,null,null,0,"00:00:00","00:00:00",0,0,"00:00:00","00:00:00",0,0,"00:00:00","00:00:00",0,0,"00:00:00","00:00:00",0,0,"00:00:00","00:00:00",0,0,"00:00:00","00:00:00",0,0,"00:00:00","00:00:00",0,0,"00:00:00","00:00:00",0,0,"00:00:00","00:00:00",0,0,"00:00:00","00:00:00",0,0]
[null,null,null,null,null,null,null,0,"00:00:00","00:00:00",0,0,"00:00:00","00:00:00",0,0,"00:00:00","00:00:00",0,0,"00:00:00","00:00:00",0,0,"00:00:00","00:00:00",0,0,"00:00:00","00:00:00",0,0,"00:00:00","00:00:00",0,0,"00:00:00","00:00:00",0,0,"00:00:00","00:00:00",0,0,"00:00:00","00:00:00",0,0]
[null,null,null,null,null,null,null,0,"00:00:00","00:00:00",0,0,"00:00:00","00:00:00",0,0,"00:00:00","00:00:00",0,0,"00:00:00","00:00:00",0,0,"00:00:00","00:00:00",0,0,"00:00:00","00:00:00",0,0,"00:00:00","00:00:00",0,0,"00:00:00","00:00:00",0,0,"00:00:00","00:00:00",0,0,"00:00:00","00:00:00",0,0]
[null,null,null,null,null,null,null,0,"00:00:00","00:00:00",0,0,"00:00:00","00:00:00",0,0,"00:00:00","00:00:00",0,0,"00:00:00","00:00:00",0,0,"00:00:00","00:00:00",0,0,"00:00:00","00:00:00",0,0,"00:00:00","00:00:00",0,0,"00:00:00","00:00:00",0,0,"00:00:00","00:00:00",0,0,"00:00:00","00:00:00",0,0]
[null,null,null,null,null,null,null,0,"00:00:00","00:00:00",0,0,"00:00:00","00:00:00",0,0,"00:00:00","00:00:00",0,0,"00:00:00","00:00:00",0,0,"00:00:00","00:00:00",0,0,"00:00:00","00:00:00",0,0,"00:00:00","00:00:00",0,0,"00:00:00","00:00:00",0,0,"00:00:00","00:00:00",0,0,"00:00:00","00:00:00",0,0]
[null,null,null,null,null,null,null,0,"00:00:00","00:00:00",0,0,"00:00:00","00:00:00",0,0,"00:00:00","00:00:00",0,0,"00:00:00","00:00:00",0,0,"00:00:00","00:00:00",0,0,"00:00:00","00:00:00",0,0,"00:00:00","00:00:00",0,0,"00:00:00","00:00:00",0,0,"00:00:00","00:00:00",0,0,"00:00:00","00:00:00",0,0]
[null,null,null,null,null,null,null,0,"00:00:00","00:00:00",0,0,"00:00:00","00:00:00",0,0,"00:00:00","00:00:00",0,0,"00:00:00","00:00:00",0,0,"00:00:00","00:00:00",0,0,"00:00:00","00:00:00",0,0,"00:00:00","00:00:00",0,0,"00:00:00","00:00:00",0,0,"00:00:00","00:00:00",0,0,"00:00:00","00:00:00",0,0]
[null,null,null,null,null,null,null,0,"00:00:00","00:00:00",0,0,"00:00:00","00:00:00",0,0,"00:00:00","00:00:00",0,0,"00:00:00","00:00:00",0,0,"00:00:00","00:00:00",0,0,"00:00:00","00:00:00",0,0,"00:00:00","00:00:00",0,0,"00:00:00","00:00:00",0,0,"00:00:00","00:00:00",0,0,"00:00:00","00:00:00",0,0]
[null,null,null,null,null,null,null,0,"00:00:00","00:00:00",0,0,"00:00:00","00:00:00",0,0,"00:00:00","00:00:00",0,0,"00:00:00","00:00:00",0,0,"00:00:00","00:00:00",0,0,"00:00:00","00:00:00",0,0,"00:00:00","00:00:00",0,0,"00:00:00","00:00:00",0,0,"00:00:00","00:00:00",0,0,"00:00:00","00:00:00",0,0]
[null,null,null,null,null,null,null,0,"00:00:00","00:00:00",0,0,"00:00:00","00:00:00",0,0,"00:00:00","00:00:00",0,0,"00:00:00","00:00:00",0,0,"00:00:00","00:00:00",0,0,"00:00:00","00:00:00",0,0,"00:00:00","00:00:00",0,0,"00:00:00","00:00:00",0,0,"00:00:00","00:00:00",0,0,"00:00:00","00:00:00",0,0]
[null,null,null,null,null,null,null,0,"00:00:00","00:00:00",0,0,"00:00:00","00:00:00",0,0,"00:00:00","00:00:00",0,0,"00:00:00","00:00:00",0,0,"00:00:00","00:00:00",0,0,"00:00:00","00:00:00",0,0,"00:00:00","00:00:00",0,0,"00:00:00","00:00:00",0,0,"00:00:00","00:00:00",0,0,"00:00:00","00:00:00",0,0]
[null,null,null,null,null,null,null,0,"00:00:00","00:00:00",0,0,"00:00:00","00:00:00",0,0,"00:00:00","00:00:00",0,0,"00:00:00","00:00:00",0,0,"00:00:00","00:00:00",0,0,"00:00:00","00:00:00",0,0,"00:00:00","00:00:00",0,0,"00:00:00","00:00:00",0,0,"00:00:00","00:00:00",0,0,"00:00:00","00:00:00",0,0]
[null,null,null,null,null,null,null,0,"00:00:00","00:00:00",0,0,"00:00:00","00:00:00",0,0,"00:00:00","00:00:00",0,0,"00:00:00","00:00:00",0,0,"00:00:00","00:00:00",0,0,"00:00:00","00:00:00",0,0,"00:00:00","00:00:00",0,0,"00:00:00","00:00:00",0,0,"00:00:00","00:00:00",0,0,"00:00:00","00:00:00",0,0]
[null,null,null,null,null,null,null,0,"00:00:00","00:00:00",0,0,"00:00:00","00:00:00",0,0,"00:00:00","00:00:00",0,0,"00:00:00","00:00:00",0,0,"00:00:00","00:00:00",0,0,"00:00:00","00:00:00",0,0,"00:00:00","00:00:00",0,0,"00:00:00","00:00:00",0,0,"00:00:00","00:00:00",0,0,"00:00:00","00:00:00",0,0]
[null,null,null,null,null,null,null,0,"00:00:00","00:00:00",0,0,"00:00:00","00:00:00",0,0,"00:00:00","00:00:00",0,0,"00:00:00","00:00:00",0,0,"00:00:00","00:00:00",0,0,"00:00:00","00:00:00",0,0,"00:00:00","00:00:00",0,0,"00:00:00","00:00:00",0,0,"00:00:00","00:00:00",0,0,"00:00:00","00:00:00",0,0]
[null,null,null,null,null,null,null,0,"00:00:00","00:00:00",0,0,"00:00:00","00:00:00",0,0,"00:00:00","00:00:00",0,0,"00:00:00","00:00:00",0,0,"00:00:00","00:00:00",0,0,"00:00:00","00:00:00",0,0,"00:00:00","00:00:00",0,0,"00:00:00","00:00:00",0,0,"00:00:00","00:00:00",0,0,"00:00:00","00:00:00",0,0]
[null,null,null,null,null,null,null,0,"00:00:00","00:00:00",0,0,"00:00:00","00:00:00",0,0,"00:00:00","00:00:00",0,0,"00:00:00","00:00:00",0,0,"00:00:00","00:00:00",0,0,"00:00:00","00:00:00",0,0,"00:00:00","00:00:00",0,0,"00:00:00","00:00:00",0,0,"00:00:00","00:00:00",0,0,"00:00:00","00:00:00",0,0]
[null,null,null,null,null,null,null,0,"00:00:00","00:00:00",0,0,"00:00:00","00:00:00",0,0,"00:00:00","00:00:00",0,0,"00:00:00","00:00:00",0,0,"00:00:00","00:00:00",0,0,"00:00:00","00:00:00",0,0,"00:00:00","00:00:00",0,0,"00:00:00","00:00:00",0,0,"00:00:00","00:00:00",0,0,"00:00:00","00:00:00",0,0]
[null,null,null,null,null,null,null,0,"00:00:00","00:00:00",0,0,"00:00:00","00:00:00",0,0,"00:00:00","00:00:00",0,0,"00:00:00","00:00:00",0,0,"00:00:00","00:00:00",0,0,"00:00:00","00:00:00",0,0,"00:00:00","00:00:00",0,0,"00:00:00","00:00:00",0,0,"00:00:00","00:00:00",0,0,"00:00:00","00:00:00",0,0]
[null,null,null,null,null,null,null,0,"00:00:00","00:00:00",0,0,"00:00:00","00:00:00",0,0,"00:00:00","00:00:00",0,0,"00:00:00","00:00:00",0,0,"00:00:00","00:00:00",0,0,"00:00:00","00:00:00",0,0,"00:00:00","00:00:00",0,0,"00:00:00","00:00:00",0,0,"00:00:00","00:00:00",0,0,"00:00:00","00:00:00",0,0]
[null,null,null,null,null,null,null,0,"00:00:00","00:00:00",0,0,"00:00:00","00:00:00",0,0,"00:00:00","00:00:00",0,0,"00:00:00","00:00:00",0,0,"00:00:00","00:00:00",0,0,"00:00:00","00:00:00",0,0,"00:00:00","00:00:00",0,0,"00:00:00","00:00:00",0,0,"00:00:00","00:00:00",0,0,"00:00:00","00:00:00",0,0]
[null,null,null,null,null,null,null,0,"00:00:00","00:00:00",0,0,"00:00:00","00:00:00",0,0,"00:00:00","00:00:00",0,0,"00:00:00","00:00:00",0,0,"00:00:00","00:00:00",0,0,"00:00:00","00:00:00",0,0,"00:00:00","00:00:00",0,0,"00:00:00","00:00:00",0,0,"00:00:00","00:00:00",0,0,"00:00:00","00:00:00",0,0]
[null,null,null,null,null,null,null,0,"00:00:00","00:00:00",0,0,"00:00:00","00:00:00",0,0,"00:00:00","00:00:00",0,0,"00:00:00","00:00:00",0,0,"00:00:00","00:00:00",0,0,"00:00:00","00:00:00",0,0,"00:00:00","00:00:00",0,0,"00:00:00","00:00:00",0,0,"00:00:00","00:00:00",0,0,"00:00:00","00:00:00",0,0]
[null,null,null,null,null,null,null,0,"00:00:00","00:00:00",0,0,"00:00:00","00:00:00",0,0,"00:00:00","00:00:00",0,0,"00:00:00","00:00:00",0,0,"00:00:00","00:00:00",0,0,"00:00:00","00:00:00",0,0,"00:00:00","00:00:00",0,0,"00:00:00","00:00:00",0,0,"00:00:00","00:00:00",0,0,"00:00:00","00:00:00",0,0]
[null,null,null,null,null,null,null,0,"00:00:00","00:00:00",0,0,"00:00:00","00:00:00",0,0,"00:00:00","00:00:00",0,0,"00:00:00","00:00:00",0,0,"00:00:00","00:00:00",0,0,"00:00:00","00:00:00",0,0,"00:00:00","00:00:00",0,0,"00:00:00","00:00:00",0,0,"00:00:00","00:00:00",0,0,"00:00:00","00:00:00",0,0]
[null,null,null,null,null,null,null,0,"00:00:00","00:00:00",0,0,"00:00:00","00:00:00",0,0,"00:00:00","00:00:00",0,0,"00:00:00","00:00:00",0,0,"00:00:00","00:00:00",0,0,"00:00:00","00:00:00",0,0,"00:00:00","00:00:00",0,0,"00:00:00","00:00:00",0,0,"00:00:00","00:00:00",0,0,"00:00:00","00:00:00",0,0]
[null,null,null,null,null,null,null,0,"00:00:00","00:00:00",0,0,"00:00:00","00:00:00",0,0,"00:00:00","00:00:00",0,0,"00:00:00","00:00:00",0,0,"00:00:00","00:00:00",0,0,"00:00:00","00:00:00",0,0,"00:00:00","00:00:00",0,0,"00:00:00","00:00:00",0,0,"00:00:00","00:00:00",0,0,"00:00:00","00:00:00",0,0]
[null,null,null,null,null,null,null,0,"00:00:00","00:00:00",0,0,"00:00:00","00:00:00",0,0,"00:00:00","00:00:00",0,0,"00:00:00","00:00:00",0,0,"00:00:00","00:00:00",0,0,"00:00:00","00:00:00",0,0,"00:00:00","00:00:00",0,0,"00:00:00","00:00:00",0,0,"00:00:00","00:00:00",0,0,"00:00:00","00:00:00",0,0]
[null,null,null,null,null,null,null,0,"00:00:00","00:00:00",0,0,"00:00:00","00:00:00",0,0,"00:00:00","00:00:00",0,0,"00:00:00","00:00:00",0,0,"00:00:00","00:00:00",0,0,"00:00:00","00:00:00",0,0,"00:00:00","00:00:00",0,0,"00:00:00","00:00:00",0,0,"00:00:00","00:00:00",0,0,"00:00:00","00:00:00",0,0]
[null,null,null,null,null,null,null,0,{"$f":"IF(OR($F589<I$10,$E589>J$10),0,IF(AND($E589>=I$10,$F589<=J$10),$E589,IF(AND($E589<=I$10,$F589<=J$10),I$10,IF(AND($E589<=J$10,$F589>=J$10,$E589>=I$10),$E589,IF(AND($E589<=I$10,$F589>=J$10),I$10,\"chyba\")))))","v":"00:00:00"},{"$f":"IF(OR($F589<I$10,$E589>J$10),0,IF(AND($E589>=I$10,$F589<=J$10),$F589,IF(AND($E589<=I$10,$F589<=J$10),$F589,IF(AND($E589<=J$10,$F589>=J$10),J$10,IF(AND($E589<=I$10,$F589>=J$10),J$10,\"chyba\")))))","v":"00:00:00"},0,{"$f":"IF($H589<=0,0,$G589/$H589*K589)","v":0},{"$f":"IF(OR($F589<M$10,$E589>N$10),0,IF(AND($E589>=M$10,$F589<=N$10),$E589,IF(AND($E589<=M$10,$F589<=N$10),M$10,IF(AND($E589<=N$10,$F589>=N$10,$E589>=M$10),$E589,IF(AND($E589<=M$10,$F589>=N$10),M$10,\"chyba\")))))","v":"00:00:00"},{"$f":"IF(OR($F589<M$10,$E589>N$10),0,IF(AND($E589>=M$10,$F589<=N$10),$F589,IF(AND($E589<=M$10,$F589<=N$10),$F589,IF(AND($E589<=N$10,$F589>=N$10),N$10,IF(AND($E589<=M$10,$F589>=N$10),N$10,\"chyba\")))))","v":"00:00:00"},0,{"$f":"IF($H589<=0,0,$G589/$H589*O589)","v":0},{"$f":"IF(OR($F589<Q$10,$E589>R$10),0,IF(AND($E589>=Q$10,$F589<=R$10),$E589,IF(AND($E589<=Q$10,$F589<=R$10),Q$10,IF(AND($E589<=R$10,$F589>=R$10,$E589>=Q$10),$E589,IF(AND($E589<=Q$10,$F589>=R$10),Q$10,\"chyba\")))))","v":"00:00:00"},{"$f":"IF(OR($F589<Q$10,$E589>R$10),0,IF(AND($E589>=Q$10,$F589<=R$10),$F589,IF(AND($E589<=Q$10,$F589<=R$10),$F589,IF(AND($E589<=R$10,$F589>=R$10),R$10,IF(AND($E589<=Q$10,$F589>=R$10),R$10,\"chyba\")))))","v":"00:00:00"},0,{"$f":"IF($H589<=0,0,$G589/$H589*S589)","v":0},{"$f":"IF(OR($F589<U$10,$E589>V$10),0,IF(AND($E589>=U$10,$F589<=V$10),$E589,IF(AND($E589<=U$10,$F589<=V$10),U$10,IF(AND($E589<=V$10,$F589>=V$10,$E589>=U$10),$E589,IF(AND($E589<=U$10,$F589>=V$10),U$10,\"chyba\")))))","v":"00:00:00"},{"$f":"IF(OR($F589<U$10,$E589>V$10),0,IF(AND($E589>=U$10,$F589<=V$10),$F589,IF(AND($E589<=U$10,$F589<=V$10),$F589,IF(AND($E589<=V$10,$F589>=V$10),V$10,IF(AND($E589<=U$10,$F589>=V$10),V$10,\"chyba\")))))","v":"00:00:00"},0,{"$f":"IF($H589<=0,0,$G589/$H589*W589)","v":0},{"$f":"IF(OR($F589<Y$10,$E589>Z$10),0,IF(AND($E589>=Y$10,$F589<=Z$10),$E589,IF(AND($E589<=Y$10,$F589<=Z$10),Y$10,IF(AND($E589<=Z$10,$F589>=Z$10,$E589>=Y$10),$E589,IF(AND($E589<=Y$10,$F589>=Z$10),Y$10,\"chyba\")))))","v":"00:00:00"},{"$f":"IF(OR($F589<Y$10,$E589>Z$10),0,IF(AND($E589>=Y$10,$F589<=Z$10),$F589,IF(AND($E589<=Y$10,$F589<=Z$10),$F589,IF(AND($E589<=Z$10,$F589>=Z$10),Z$10,IF(AND($E589<=Y$10,$F589>=Z$10),Z$10,\"chyba\")))))","v":"00:00:00"},0,{"$f":"IF($H589<=0,0,$G589/$H589*AA589)","v":0},{"$f":"IF(OR($F589<AC$10,$E589>AD$10),0,IF(AND($E589>=AC$10,$F589<=AD$10),$E589,IF(AND($E589<=AC$10,$F589<=AD$10),AC$10,IF(AND($E589<=AD$10,$F589>=AD$10,$E589>=AC$10),$E589,IF(AND($E589<=AC$10,$F589>=AD$10),AC$10,\"chyba\")))))","v":"00:00:00"},{"$f":"IF(OR($F589<AC$10,$E589>AD$10),0,IF(AND($E589>=AC$10,$F589<=AD$10),$F589,IF(AND($E589<=AC$10,$F589<=AD$10),$F589,IF(AND($E589<=AD$10,$F589>=AD$10),AD$10,IF(AND($E589<=AC$10,$F589>=AD$10),AD$10,\"chyba\")))))","v":"00:00:00"},0,{"$f":"IF($H589<=0,0,$G589/$H589*AE589)","v":0},{"$f":"IF(OR($F589<AG$10,$E589>AH$10),0,IF(AND($E589>=AG$10,$F589<=AH$10),$E589,IF(AND($E589<=AG$10,$F589<=AH$10),AG$10,IF(AND($E589<=AH$10,$F589>=AH$10,$E589>=AG$10),$E589,IF(AND($E589<=AG$10,$F589>=AH$10),AG$10,\"chyba\")))))","v":"00:00:00"},{"$f":"IF(OR($F589<AG$10,$E589>AH$10),0,IF(AND($E589>=AG$10,$F589<=AH$10),$F589,IF(AND($E589<=AG$10,$F589<=AH$10),$F589,IF(AND($E589<=AH$10,$F589>=AH$10),AH$10,IF(AND($E589<=AG$10,$F589>=AH$10),AH$10,\"chyba\")))))","v":"00:00:00"},0,{"$f":"IF($H589<=0,0,$G589/$H589*AI589)","v":0},{"$f":"IF(OR($F589<AK$10,$E589>AL$10),0,IF(AND($E589>=AK$10,$F589<=AL$10),$E589,IF(AND($E589<=AK$10,$F589<=AL$10),AK$10,IF(AND($E589<=AL$10,$F589>=AL$10,$E589>=AK$10),$E589,IF(AND($E589<=AK$10,$F589>=AL$10),AK$10,\"chyba\")))))","v":"00:00:00"},{"$f":"IF(OR($F589<AK$10,$E589>AL$10),0,IF(AND($E589>=AK$10,$F589<=AL$10),$F589,IF(AND($E589<=AK$10,$F589<=AL$10),$F589,IF(AND($E589<=AL$10,$F589>=AL$10),AL$10,IF(AND($E589<=AK$10,$F589>=AL$10),AL$10,\"chyba\")))))","v":"00:00:00"},0,{"$f":"IF($H589<=0,0,$G589/$H589*AM589)","v":0},{"$f":"IF(OR($F589<AO$10,$E589>AP$10),0,IF(AND($E589>=AO$10,$F589<=AP$10),$E589,IF(AND($E589<=AO$10,$F589<=AP$10),AO$10,IF(AND($E589<=AP$10,$F589>=AP$10,$E589>=AO$10),$E589,IF(AND($E589<=AO$10,$F589>=AP$10),AO$10,\"chyba\")))))","v":"00:00:00"},{"$f":"IF(OR($F589<AO$10,$E589>AP$10),0,IF(AND($E589>=AO$10,$F589<=AP$10),$F589,IF(AND($E589<=AO$10,$F589<=AP$10),$F589,IF(AND($E589<=AP$10,$F589>=AP$10),AP$10,IF(AND($E589<=AO$10,$F589>=AP$10),AP$10,\"chyba\")))))","v":"00:00:00"},0,{"$f":"IF($H589<=0,0,$G589/$H589*AQ589)","v":0},{"$f":"IF(OR($F589<AS$10,$E589>AT$10),0,IF(AND($E589>=AS$10,$F589<=AT$10),$E589,IF(AND($E589<=AS$10,$F589<=AT$10),AS$10,IF(AND($E589<=AT$10,$F589>=AT$10,$E589>=AS$10),$E589,IF(AND($E589<=AS$10,$F589>=AT$10),AS$10,\"chyba\")))))","v":"00:00:00"},{"$f":"IF(OR($F589<AS$10,$E589>AT$10),0,IF(AND($E589>=AS$10,$F589<=AT$10),$F589,IF(AND($E589<=AS$10,$F589<=AT$10),$F589,IF(AND($E589<=AT$10,$F589>=AT$10),AT$10,IF(AND($E589<=AS$10,$F589>=AT$10),AT$10,\"chyba\")))))","v":"00:00:00"},0,{"$f":"IF($H589<=0,0,$G589/$H589*AU589)","v":0}]
[null,null,null,null,null,null,null,{"$f":"IF(F590-E590=0,0,F590-E590+1)","v":0},"00:00:00","00:00:00",{"$f":"IF(J590-I590=0,0,J590-I590+1)","v":0},0,"00:00:00","00:00:00",{"$f":"IF(N590-M590=0,0,N590-M590+1)","v":0},0,"00:00:00","00:00:00",{"$f":"IF(R590-Q590=0,0,R590-Q590+1)","v":0},0,"00:00:00","00:00:00",{"$f":"IF(V590-U590=0,0,V590-U590+1)","v":0},0,"00:00:00","00:00:00",{"$f":"IF(Z590-Y590=0,0,Z590-Y590+1)","v":0},0,"00:00:00","00:00:00",{"$f":"IF(AD590-AC590=0,0,AD590-AC590+1)","v":0},0,"00:00:00","00:00:00",{"$f":"IF(AH590-AG590=0,0,AH590-AG590+1)","v":0},0,"00:00:00","00:00:00",{"$f":"IF(AL590-AK590=0,0,AL590-AK590+1)","v":0},0,"00:00:00","00:00:00",{"$f":"IF(AP590-AO590=0,0,AP590-AO590+1)","v":0},0,"00:00:00","00:00:00",{"$f":"IF(AT590-AS590=0,0,AT590-AS590+1)","v":0},0]
[null,null,null,null,null,null,null,0,"00:00:00","00:00:00",0,0,"00:00:00","00:00:00",0,0,"00:00:00","00:00:00",0,0,"00:00:00","00:00:00",0,0,"00:00:00","00:00:00",0,0,"00:00:00","00:00:00",0,0,"00:00:00","00:00:00",0,0,"00:00:00","00:00:00",0,0,"00:00:00","00:00:00",0,0,"00:00:00","00:00:00",0,0]
[null,null,null,null,null,null,null,0,"00:00:00","00:00:00",0,0,"00:00:00","00:00:00",0,0,"00:00:00","00:00:00",0,0,"00:00:00","00:00:00",0,0,"00:00:00","00:00:00",0,0,"00:00:00","00:00:00",0,0,"00:00:00","00:00:00",0,0,"00:00:00","00:00:00",0,0,"00:00:00","00:00:00",0,0,"00:00:00","00:00:00",0,0]
[null,null,null,null,null,null,null,0,"00:00:00","00:00:00",0,0,"00:00:00","00:00:00",0,0,"00:00:00","00:00:00",0,0,"00:00:00","00:00:00",0,0,"00:00:00","00:00:00",0,0,"00:00:00","00:00:00",0,0,"00:00:00","00:00:00",0,0,"00:00:00","00:00:00",0,0,"00:00:00","00:00:00",0,0,"00:00:00","00:00:00",0,0]
[null,null,null,null,null,null,null,0,"00:00:00","00:00:00",0,0,"00:00:00","00:00:00",0,0,"00:00:00","00:00:00",0,0,"00:00:00","00:00:00",0,0,"00:00:00","00:00:00",0,0,"00:00:00","00:00:00",0,0,"00:00:00","00:00:00",0,0,"00:00:00","00:00:00",0,0,"00:00:00","00:00:00",0,0,"00:00:00","00:00:00",0,0]
[null,null,null,null,null,null,null,0,"00:00:00","00:00:00",0,0,"00:00:00","00:00:00",0,0,"00:00:00","00:00:00",0,0,"00:00:00","00:00:00",0,0,"00:00:00","00:00:00",0,0,"00:00:00","00:00:00",0,0,"00:00:00","00:00:00",0,0,"00:00:00","00:00:00",0,0,"00:00:00","00:00:00",0,0,"00:00:00","00:00:00",0,0]
[null,null,null,null,null,null,null,0,"00:00:00","00:00:00",0,0,"00:00:00","00:00:00",0,0,"00:00:00","00:00:00",0,0,"00:00:00","00:00:00",0,0,"00:00:00","00:00:00",0,0,"00:00:00","00:00:00",0,0,"00:00:00","00:00:00",0,0,"00:00:00","00:00:00",0,0,"00:00:00","00:00:00",0,0,"00:00:00","00:00:00",0,0]
[null,null,null,null,null,null,null,0,"00:00:00","00:00:00",0,0,"00:00:00","00:00:00",0,0,"00:00:00","00:00:00",0,0,"00:00:00","00:00:00",0,0,"00:00:00","00:00:00",0,0,"00:00:00","00:00:00",0,0,"00:00:00","00:00:00",0,0,"00:00:00","00:00:00",0,0,"00:00:00","00:00:00",0,0,"00:00:00","00:00:00",0,0]
[null,null,null,null,null,null,null,0,"00:00:00","00:00:00",0,0,"00:00:00","00:00:00",0,0,"00:00:00","00:00:00",0,0,"00:00:00","00:00:00",0,0,"00:00:00","00:00:00",0,0,"00:00:00","00:00:00",0,0,"00:00:00","00:00:00",0,0,"00:00:00","00:00:00",0,0,"00:00:00","00:00:00",0,0,"00:00:00","00:00:00",0,0]
[null,null,null,null,null,null,null,0,"00:00:00","00:00:00",0,0,"00:00:00","00:00:00",0,0,"00:00:00","00:00:00",0,0,"00:00:00","00:00:00",0,0,"00:00:00","00:00:00",0,0,"00:00:00","00:00:00",0,0,"00:00:00","00:00:00",0,0,"00:00:00","00:00:00",0,0,"00:00:00","00:00:00",0,0,"00:00:00","00:00:00",0,0]
[null,null,null,null,null,null,null,0,"00:00:00","00:00:00",0,0,"00:00:00","00:00:00",0,0,"00:00:00","00:00:00",0,0,"00:00:00","00:00:00",0,0,"00:00:00","00:00:00",0,0,"00:00:00","00:00:00",0,0,"00:00:00","00:00:00",0,0,"00:00:00","00:00:00",0,0,"00:00:00","00:00:00",0,0,"00:00:00","00:00:00",0,0]
[null,null,null,null,null,null,null,0,"00:00:00","00:00:00",0,0,"00:00:00","00:00:00",0,0,"00:00:00","00:00:00",0,0,"00:00:00","00:00:00",0,0,"00:00:00","00:00:00",0,0,"00:00:00","00:00:00",0,0,"00:00:00","00:00:00",0,0,"00:00:00","00:00:00",0,0,"00:00:00","00:00:00",0,0,"00:00:00","00:00:00",0,0]
[null,null,null,null,null,null,null,0,"00:00:00","00:00:00",0,0,"00:00:00","00:00:00",0,0,"00:00:00","00:00:00",0,0,"00:00:00","00:00:00",0,0,"00:00:00","00:00:00",0,0,"00:00:00","00:00:00",0,0,"00:00:00","00:00:00",0,0,"00:00:00","00:00:00",0,0,"00:00:00","00:00:00",0,0,"00:00:00","00:00:00",0,0]
[null,null,null,null,null,null,null,0,"00:00:00","00:00:00",0,0,"00:00:00","00:00:00",0,0,"00:00:00","00:00:00",0,0,"00:00:00","00:00:00",0,0,"00:00:00","00:00:00",0,0,"00:00:00","00:00:00",0,0,"00:00:00","00:00:00",0,0,"00:00:00","00:00:00",0,0,"00:00:00","00:00:00",0,0,"00:00:00","00:00:00",0,0]
[null,null,null,null,null,null,null,0,"00:00:00","00:00:00",0,0,"00:00:00","00:00:00",0,0,"00:00:00","00:00:00",0,0,"00:00:00","00:00:00",0,0,"00:00:00","00:00:00",0,0,"00:00:00","00:00:00",0,0,"00:00:00","00:00:00",0,0,"00:00:00","00:00:00",0,0,"00:00:00","00:00:00",0,0,"00:00:00","00:00:00",0,0]
[null,null,null,null,null,null,null,0,"00:00:00","00:00:00",0,0,"00:00:00","00:00:00",0,0,"00:00:00","00:00:00",0,0,"00:00:00","00:00:00",0,0,"00:00:00","00:00:00",0,0,"00:00:00","00:00:00",0,0,"00:00:00","00:00:00",0,0,"00:00:00","00:00:00",0,0,"00:00:00","00:00:00",0,0,"00:00:00","00:00:00",0,0]
[null,null,null,null,null,null,null,0,"00:00:00","00:00:00",0,0,"00:00:00","00:00:00",0,0,"00:00:00","00:00:00",0,0,"00:00:00","00:00:00",0,0,"00:00:00","00:00:00",0,0,"00:00:00","00:00:00",0,0,"00:00:00","00:00:00",0,0,"00:00:00","00:00:00",0,0,"00:00:00","00:00:00",0,0,"00:00:00","00:00:00",0,0]
[null,null,null,null,null,null,null,0,"00:00:00","00:00:00",0,0,"00:00:00","00:00:00",0,0,"00:00:00","00:00:00",0,0,"00:00:00","00:00:00",0,0,"00:00:00","00:00:00",0,0,"00:00:00","00:00:00",0,0,"00:00:00","00:00:00",0,0,"00:00:00","00:00:00",0,0,"00:00:00","00:00:00",0,0,"00:00:00","00:00:00",0,0]
[null,null,null,null,null,null,null,0,"00:00:00","00:00:00",0,0,"00:00:00","00:00:00",0,0,"00:00:00","00:00:00",0,0,"00:00:00","00:00:00",0,0,"00:00:00","00:00:00",0,0,"00:00:00","00:00:00",0,0,"00:00:00","00:00:00",0,0,"00:00:00","00:00:00",0,0,"00:00:00","00:00:00",0,0,"00:00:00","00:00:00",0,0]
[null,null,null,null,null,null,null,0,"00:00:00","00:00:00",0,0,"00:00:00","00:00:00",0,0,"00:00:00","00:00:00",0,0,"00:00:00","00:00:00",0,0,"00:00:00","00:00:00",0,0,"00:00:00","00:00:00",0,0,"00:00:00","00:00:00",0,0,"00:00:00","00:00:00",0,0,"00:00:00","00:00:00",0,0,"00:00:00","00:00:00",0,0]
[null,null,null,null,null,null,null,0,"00:00:00","00:00:00",0,0,"00:00:00","00:00:00",0,0,"00:00:00","00:00:00",0,0,"00:00:00","00:00:00",0,0,"00:00:00","00:00:00",0,0,"00:00:00","00:00:00",0,0,"00:00:00","00:00:00",0,0,"00:00:00","00:00:00",0,0,"00:00:00","00:00:00",0,0,"00:00:00","00:00:00",0,0]
[null,null,null,null,null,null,null,0,"00:00:00","00:00:00",0,0,"00:00:00","00:00:00",0,0,"00:00:00","00:00:00",0,0,"00:00:00","00:00:00",0,0,"00:00:00","00:00:00",0,0,"00:00:00","00:00:00",0,0,"00:00:00","00:00:00",0,0,"00:00:00","00:00:00",0,0,"00:00:00","00:00:00",0,0,"00:00:00","00:00:00",0,0]
[null,null,null,null,null,null,null,0,"00:00:00","00:00:00",0,0,"00:00:00","00:00:00",0,0,"00:00:00","00:00:00",0,0,"00:00:00","00:00:00",0,0,"00:00:00","00:00:00",0,0,"00:00:00","00:00:00",0,0,"00:00:00","00:00:00",0,0,"00:00:00","00:00:00",0,0,"00:00:00","00:00:00",0,0,"00:00:00","00:00:00",0,0]
[null,null,null,null,null,null,null,0,"00:00:00","00:00:00",0,0,"00:00:00","00:00:00",0,0,"00:00:00","00:00:00",0,0,"00:00:00","00:00:00",0,0,"00:00:00","00:00:00",0,0,"00:00:00","00:00:00",0,0,"00:00:00","00:00:00",0,0,"00:00:00","00:00:00",0,0,"00:00:00","00:00:00",0,0,"00:00:00","00:00:00",0,0]
[null,null,null,null,null,null,null,0,"00:00:00","00:00:00",0,0,"00:00:00","00:00:00",0,0,"00:00:00","00:00:00",0,0,"00:00:00","00:00:00",0,0,"00:00:00","00:00:00",0,0,"00:00:00","00:00:00",0,0,"00:00:00","00:00:00",0,0,"00:00:00","00:00:00",0,0,"00:00:00","00:00:00",0,0,"00:00:00","00:00:00",0,0]
[null,null,null,null,null,null,null,0,"00:00:00","00:00:00",0,0,"00:00:00","00:00:00",0,0,"00:00:00","00:00:00",0,0,"00:00:00","00:00:00",0,0,"00:00:00","00:00:00",0,0,"00:00:00","00:00:00",0,0,"00:00:00","00:00:00",0,0,"00:00:00","00:00:00",0,0,"00:00:00","00:00:00",0,0,"00:00:00","00:00:00",0,0]
[null,null,null,null,null,null,null,0,"00:00:00","00:00:00",0,0,"00:00:00","00:00:00",0,0,"00:00:00","00:00:00",0,0,"00:00:00","00:00:00",0,0,"00:00:00","00:00:00",0,0,"00:00:00","00:00:00",0,0,"00:00:00","00:00:00",0,0,"00:00:00","00:00:00",0,0,"00:00:00","00:00:00",0,0,"00:00:00","00:00:00",0,0]
[null,null,null,null,null,null,null,0,"00:00:00","00:00:00",0,0,"00:00:00","00:00:00",0,0,"00:00:00","00:00:00",0,0,"00:00:00","00:00:00",0,0,"00:00:00","00:00:00",0,0,"00:00:00","00:00:00",0,0,"00:00:00","00:00:00",0,0,"00:00:00","00:00:00",0,0,"00:00:00","00:00:00",0,0,"00:00:00","00:00:00",0,0]
[null,null,null,null,null,null,null,0,"00:00:00","00:00:00",0,0,"00:00:00","00:00:00",0,0,"00:00:00","00:00:00",0,0,"00:00:00","00:00:00",0,0,"00:00:00","00:00:00",0,0,"00:00:00","00:00:00",0,0,"00:00:00","00:00:00",0,0,"00:00:00","00:00:00",0,0,"00:00:00","00:00:00",0,0,"00:00:00","00:00:00",0,0]
[null,null,null,null,null,null,null,0,"00:00:00","00:00:00",0,0,"00:00:00","00:00:00",0,0,"00:00:00","00:00:00",0,0,"00:00:00","00:00:00",0,0,"00:00:00","00:00:00",0,0,"00:00:00","00:00:00",0,0,"00:00:00","00:00:00",0,0,"00:00:00","00:00:00",0,0,"00:00:00","00:00:00",0,0,"00:00:00","00:00:00",0,0]
[null,null,null,null,null,null,null,0,"00:00:00","00:00:00",0,0,"00:00:00","00:00:00",0,0,"00:00:00","00:00:00",0,0,"00:00:00","00:00:00",0,0,"00:00:00","00:00:00",0,0,"00:00:00","00:00:00",0,0,"00:00:00","00:00:00",0,0,"00:00:00","00:00:00",0,0,"00:00:00","00:00:00",0,0,"00:00:00","00:00:00",0,0]
[null,null,null,null,null,null,null,0,"00:00:00","00:00:00",0,0,"00:00:00","00:00:00",0,0,"00:00:00","00:00:00",0,0,"00:00:00","00:00:00",0,0,"00:00:00","00:00:00",0,0,"00:00:00","00:00:00",0,0,"00:00:00","00:00:00",0,0,"00:00:00","00:00:00",0,0,"00:00:00","00:00:00",0,0,"00:00:00","00:00:00",0,0]
[null,null,null,null,null,null,null,0,"00:00:00","00:00:00",0,0,"00:00:00","00:00:00",0,0,"00:00:00","00:00:00",0,0,"00:00:00","00:00:00",0,0,"00:00:00","00:00:00",0,0,"00:00:00","00:00:00",0,0,"00:00:00","00:00:00",0,0,"00:00:00","00:00:00",0,0,"00:00:00","00:00:00",0,0,"00:00:00","00:00:00",0,0]
[null,null,null,null,null,null,null,0,"00:00:00","00:00:00",0,0,"00:00:00","00:00:00",0,0,"00:00:00","00:00:00",0,0,"00:00:00","00:00:00",0,0,"00:00:00","00:00:00",0,0,"00:00:00","00:00:00",0,0,"00:00:00","00:00:00",0,0,"00:00:00","00:00:00",0,0,"00:00:00","00:00:00",0,0,"00:00:00","00:00:00",0,0]
[null,null,null,null,null,null,null,0,"00:00:00","00:00:00",0,0,"00:00:00","00:00:00",0,0,"00:00:00","00:00:00",0,0,"00:00:00","00:00:00",0,0,"00:00:00","00:00:00",0,0,"00:00:00","00:00:00",0,0,"00:00:00","00:00:00",0,0,"00:00:00","00:00:00",0,0,"00:00:00","00:00:00",0,0,"00:00:00","00:00:00",0,0]
[null,null,null,null,null,null,null,0,"00:00:00","00:00:00",0,0,"00:00:00","00:00:00",0,0,"00:00:00","00:00:00",0,0,"00:00:00","00:00:00",0,0,"00:00:00","00:00:00",0,0,"00:00:00","00:00:00",0,0,"00:00:00","00:00:00",0,0,"00:00:00","00:00:00",0,0,"00:00:00","00:00:00",0,0,"00:00:00","00:00:00",0,0]
[null,null,null,null,null,null,null,0,"00:00:00","00:00:00",0,0,"00:00:00","00:00:00",0,0,"00:00:00","00:00:00",0,0,"00:00:00","00:00:00",0,0,"00:00:00","00:00:00",0,0,"00:00:00","00:00:00",0,0,"00:00:00","00:00:00",0,0,"00:00:00","00:00:00",0,0,"00:00:00","00:00:00",0,0,"00:00:00","00:00:00",0,0]
[null,null,null,null,null,null,null,0,"00:00:00","00:00:00",0,0,"00:00:00","00:00:00",0,0,"00:00:00","00:00:00",0,0,"00:00:00","00:00:00",0,0,"00:00:00","00:00:00",0,0,"00:00:00","00:00:00",0,0,"00:00:00","00:00:00",0,0,"00:00:00","00:00:00",0,0,"00:00:00","00:00:00",0,0,"00:00:00","00:00:00",0,0]
[null,null,null,null,null,null,null,0,"00:00:00","00:00:00",0,0,"00:00:00","00:00:00",0,0,"00:00:00","00:00:00",0,0,"00:00:00","00:00:00",0,0,"00:00:00","00:00:00",0,0,"00:00:00","00:00:00",0,0,"00:00:00","00:00:00",0,0,"00:00:00","00:00:00",0,0,"00:00:00","00:00:00",0,0,"00:00:00","00:00:00",0,0]
[null,null,null,null,null,null,null,0,"00:00:00","00:00:00",0,0,"00:00:00","00:00:00",0,0,"00:00:00","00:00:00",0,0,"00:00:00","00:00:00",0,0,"00:00:00","00:00:00",0,0,"00:00:00","00:00:00",0,0,"00:00:00","00:00:00",0,0,"00:00:00","00:00:00",0,0,"00:00:00","00:00:00",0,0,"00:00:00","00:00:00",0,0]
[null,null,null,null,null,null,null,0,"00:00:00","00:00:00",0,0,"00:00:00","00:00:00",0,0,"00:00:00","00:00:00",0,0,"00:00:00","00:00:00",0,0,"00:00:00","00:00:00",0,0,"00:00:00","00:00:00",0,0,"00:00:00","00:00:00",0,0,"00:00:00","00:00:00",0,0,"00:00:00","00:00:00",0,0,"00:00:00","00:00:00",0,0]
[null,null,null,null,null,null,null,0,"00:00:00","00:00:00",0,0,"00:00:00","00:00:00",0,0,"00:00:00","00:00:00",0,0,"00:00:00","00:00:00",0,0,"00:00:00","00:00:00",0,0,"00:00:00","00:00:00",0,0,"00:00:00","00:00:00",0,0,"00:00:00","00:00:00",0,0,"00:00:00","00:00:00",0,0,"00:00:00","00:00:00",0,0]
[null,null,null,null,null,null,null,0,"00:00:00","00:00:00",0,0,"00:00:00","00:00:00",0,0,"00:00:00","00:00:00",0,0,"00:00:00","00:00:00",0,0,"00:00:00","00:00:00",0,0,"00:00:00","00:00:00",0,0,"00:00:00","00:00:00",0,0,"00:00:00","00:00:00",0,0,"00:00:00","00:00:00",0,0,"00:00:00","00:00:00",0,0]
[null,null,null,null,null,null,null,0,"00:00:00","00:00:00",0,0,"00:00:00","00:00:00",0,0,"00:00:00","00:00:00",0,0,"00:00:00","00:00:00",0,0,"00:00:00","00:00:00",0,0,"00:00:00","00:00:00",0,0,"00:00:00","00:00:00",0,0,"00:00:00","00:00:00",0,0,"00:00:00","00:00:00",0,0,"00:00:00","00:00:00",0,0]
[null,null,null,null,null,null,null,0,"00:00:00","00:00:00",0,0,"00:00:00","00:00:00",0,0,"00:00:00","00:00:00",0,0,"00:00:00","00:00:00",0,0,"00:00:00","00:00:00",0,0,"00:00:00","00:00:00",0,0,"00:00:00","00:00:00",0,0,"00:00:00","00:00:00",0,0,"00:00:00","00:00:00",0,0,"00:00:00","00:00:00",0,0]
[null,null,null,null,null,null,null,0,"00:00:00","00:00:00",0,0,"00:00:00","00:00:00",0,0,"00:00:00","00:00:00",0,0,"00:00:00","00:00:00",0,0,"00:00:00","00:00:00",0,0,"00:00:00","00:00:00",0,0,"00:00:00","00:00:00",0,0,"00:00:00","00:00:00",0,0,"00:00:00","00:00:00",0,0,"00:00:00","00:00:00",0,0]
[null,null,null,null,null,null,null,0,"00:00:00","00:00:00",0,0,"00:00:00","00:00:00",0,0,"00:00:00","00:00:00",0,0,"00:00:00","00:00:00",0,0,"00:00:00","00:00:00",0,0,"00:00:00","00:00:00",0,0,"00:00:00","00:00:00",0,0,"00:00:00","00:00:00",0,0,"00:00:00","00:00:00",0,0,"00:00:00","00:00:00",0,0]
[null,null,null,null,null,null,null,0,"00:00:00","00:00:00",0,0,"00:00:00","00:00:00",0,0,"00:00:00","00:00:00",0,0,"00:00:00","00:00:00",0,0,"00:00:00","00:00:00",0,0,"00:00:00","00:00:00",0,0,"00:00:00","00:00:00",0,0,"00:00:00","00:00:00",0,0,"00:00:00","00:00:00",0,0,"00:00:00","00:00:00",0,0]
[null,null,null,null,null,null,null,0,"00:00:00","00:00:00",0,0,"00:00:00","00:00:00",0,0,"00:00:00","00:00:00",0,0,"00:00:00","00:00:00",0,0,"00:00:00","00:00:00",0,0,"00:00:00","00:00:00",0,0,"00:00:00","00:00:00",0,0,"00:00:00","00:00:00",0,0,"00:00:00","00:00:00",0,0,"00:00:00","00:00:00",0,0]
[null,null,null,null,null,null,null,0,"00:00:00","00:00:00",0,0,"00:00:00","00:00:00",0,0,"00:00:00","00:00:00",0,0,"00:00:00","00:00:00",0,0,"00:00:00","00:00:00",0,0,"00:00:00","00:00:00",0,0,"00:00:00","00:00:00",0,0,"00:00:00","00:00:00",0,0,"00:00:00","00:00:00",0,0,"00:00:00","00:00:00",0,0]
[null,null,null,null,null,null,null,0,"00:00:00","00:00:00",0,0,"00:00:00","00:00:00",0,0,"00:00:00","00:00:00",0,0,"00:00:00","00:00:00",0,0,"00:00:00","00:00:00",0,0,"00:00:00","00:00:00",0,0,"00:00:00","00:00:00",0,0,"00:00:00","00:00:00",0,0,"00:00:00","00:00:00",0,0,"00:00:00","00:00:00",0,0]
[null,null,null,null,null,null,null,0,"00:00:00","00:00:00",0,0,"00:00:00","00:00:00",0,0,"00:00:00","00:00:00",0,0,"00:00:00","00:00:00",0,0,"00:00:00","00:00:00",0,0,"00:00:00","00:00:00",0,0,"00:00:00","00:00:00",0,0,"00:00:00","00:00:00",0,0,"00:00:00","00:00:00",0,0,"00:00:00","00:00:00",0,0]
[null,null,null,null,null,null,null,0,"00:00:00","00:00:00",0,0,"00:00:00","00:00:00",0,0,"00:00:00","00:00:00",0,0,"00:00:00","00:00:00",0,0,"00:00:00","00:00:00",0,0,"00:00:00","00:00:00",0,0,"00:00:00","00:00:00",0,0,"00:00:00","00:00:00",0,0,"00:00:00","00:00:00",0,0,"00:00:00","00:00:00",0,0]
[null,null,null,null,null,null,null,0,"00:00:00","00:00:00",0,0,"00:00:00","00:00:00",0,0,"00:00:00","00:00:00",0,0,"00:00:00","00:00:00",0,0,"00:00:00","00:00:00",0,0,"00:00:00","00:00:00",0,0,"00:00:00","00:00:00",0,0,"00:00:00","00:00:00",0,0,"00:00:00","00:00:00",0,0,"00:00:00","00:00:00",0,0]
[null,null,null,null,null,null,null,0,"00:00:00","00:00:00",0,0,"00:00:00","00:00:00",0,0,"00:00:00","00:00:00",0,0,"00:00:00","00:00:00",0,0,"00:00:00","00:00:00",0,0,"00:00:00","00:00:00",0,0,"00:00:00","00:00:00",0,0,"00:00:00","00:00:00",0,0,"00:00:00","00:00:00",0,0,"00:00:00","00:00:00",0,0]
[null,null,null,null,null,null,null,0,"00:00:00","00:00:00",0,0,"00:00:00","00:00:00",0,0,"00:00:00","00:00:00",0,0,"00:00:00","00:00:00",0,0,"00:00:00","00:00:00",0,0,"00:00:00","00:00:00",0,0,"00:00:00","00:00:00",0,0,"00:00:00","00:00:00",0,0,"00:00:00","00:00:00",0,0,"00:00:00","00:00:00",0,0]
[null,null,null,null,null,null,null,0,"00:00:00","00:00:00",0,0,"00:00:00","00:00:00",0,0,"00:00:00","00:00:00",0,0,"00:00:00","00:00:00",0,0,"00:00:00","00:00:00",0,0,"00:00:00","00:00:00",0,0,"00:00:00","00:00:00",0,0,"00:00:00","00:00:00",0,0,"00:00:00","00:00:00",0,0,"00:00:00","00:00:00",0,0]
[null,null,null,null,null,null,null,0,"00:00:00","00:00:00",0,0,"00:00:00","00:00:00",0,0,"00:00:00","00:00:00",0,0,"00:00:00","00:00:00",0,0,"00:00:00","00:00:00",0,0,"00:00:00","00:00:00",0,0,"00:00:00","00:00:00",0,0,"00:00:00","00:00:00",0,0,"00:00:00","00:00:00",0,0,"00:00:00","00:00:00",0,0]
[null,null,null,null,null,null,null,0,"00:00:00","00:00:00",0,0,"00:00:00","00:00:00",0,0,"00:00:00","00:00:00",0,0,"00:00:00","00:00:00",0,0,"00:00:00","00:00:00",0,0,"00:00:00","00:00:00",0,0,"00:00:00","00:00:00",0,0,"00:00:00","00:00:00",0,0,"00:00:00","00:00:00",0,0,"00:00:00","00:00:00",0,0]
[null,null,null,null,null,null,null,0,"00:00:00","00:00:00",0,0,"00:00:00","00:00:00",0,0,"00:00:00","00:00:00",0,0,"00:00:00","00:00:00",0,0,"00:00:00","00:00:00",0,0,"00:00:00","00:00:00",0,0,"00:00:00","00:00:00",0,0,"00:00:00","00:00:00",0,0,"00:00:00","00:00:00",0,0,"00:00:00","00:00:00",0,0]
[null,null,null,null,null,null,null,0,"00:00:00","00:00:00",0,0,"00:00:00","00:00:00",0,0,"00:00:00","00:00:00",0,0,"00:00:00","00:00:00",0,0,"00:00:00","00:00:00",0,0,"00:00:00","00:00:00",0,0,"00:00:00","00:00:00",0,0,"00:00:00","00:00:00",0,0,"00:00:00","00:00:00",0,0,"00:00:00","00:00:00",0,0]
[null,null,null,null,null,null,null,0,"00:00:00","00:00:00",0,0,"00:00:00","00:00:00",0,0,"00:00:00","00:00:00",0,0,"00:00:00","00:00:00",0,0,"00:00:00","00:00:00",0,0,"00:00:00","00:00:00",0,0,"00:00:00","00:00:00",0,0,"00:00:00","00:00:00",0,0,"00:00:00","00:00:00",0,0,"00:00:00","00:00:00",0,0]
[null,null,null,null,null,null,null,0,"00:00:00","00:00:00",0,0,"00:00:00","00:00:00",0,0,"00:00:00","00:00:00",0,0,"00:00:00","00:00:00",0,0,"00:00:00","00:00:00",0,0,"00:00:00","00:00:00",0,0,"00:00:00","00:00:00",0,0,"00:00:00","00:00:00",0,0,"00:00:00","00:00:00",0,0,"00:00:00","00:00:00",0,0]
[null,null,null,null,null,null,null,0,{"$f":"IF(OR($F653<I$10,$E653>J$10),0,IF(AND($E653>=I$10,$F653<=J$10),$E653,IF(AND($E653<=I$10,$F653<=J$10),I$10,IF(AND($E653<=J$10,$F653>=J$10,$E653>=I$10),$E653,IF(AND($E653<=I$10,$F653>=J$10),I$10,\"chyba\")))))","v":"00:00:00"},{"$f":"IF(OR($F653<I$10,$E653>J$10),0,IF(AND($E653>=I$10,$F653<=J$10),$F653,IF(AND($E653<=I$10,$F653<=J$10),$F653,IF(AND($E653<=J$10,$F653>=J$10),J$10,IF(AND($E653<=I$10,$F653>=J$10),J$10,\"chyba\")))))","v":"00:00:00"},0,{"$f":"IF($H653<=0,0,$G653/$H653*K653)","v":0},{"$f":"IF(OR($F653<M$10,$E653>N$10),0,IF(AND($E653>=M$10,$F653<=N$10),$E653,IF(AND($E653<=M$10,$F653<=N$10),M$10,IF(AND($E653<=N$10,$F653>=N$10,$E653>=M$10),$E653,IF(AND($E653<=M$10,$F653>=N$10),M$10,\"chyba\")))))","v":"00:00:00"},{"$f":"IF(OR($F653<M$10,$E653>N$10),0,IF(AND($E653>=M$10,$F653<=N$10),$F653,IF(AND($E653<=M$10,$F653<=N$10),$F653,IF(AND($E653<=N$10,$F653>=N$10),N$10,IF(AND($E653<=M$10,$F653>=N$10),N$10,\"chyba\")))))","v":"00:00:00"},0,{"$f":"IF($H653<=0,0,$G653/$H653*O653)","v":0},{"$f":"IF(OR($F653<Q$10,$E653>R$10),0,IF(AND($E653>=Q$10,$F653<=R$10),$E653,IF(AND($E653<=Q$10,$F653<=R$10),Q$10,IF(AND($E653<=R$10,$F653>=R$10,$E653>=Q$10),$E653,IF(AND($E653<=Q$10,$F653>=R$10),Q$10,\"chyba\")))))","v":"00:00:00"},{"$f":"IF(OR($F653<Q$10,$E653>R$10),0,IF(AND($E653>=Q$10,$F653<=R$10),$F653,IF(AND($E653<=Q$10,$F653<=R$10),$F653,IF(AND($E653<=R$10,$F653>=R$10),R$10,IF(AND($E653<=Q$10,$F653>=R$10),R$10,\"chyba\")))))","v":"00:00:00"},0,{"$f":"IF($H653<=0,0,$G653/$H653*S653)","v":0},{"$f":"IF(OR($F653<U$10,$E653>V$10),0,IF(AND($E653>=U$10,$F653<=V$10),$E653,IF(AND($E653<=U$10,$F653<=V$10),U$10,IF(AND($E653<=V$10,$F653>=V$10,$E653>=U$10),$E653,IF(AND($E653<=U$10,$F653>=V$10),U$10,\"chyba\")))))","v":"00:00:00"},{"$f":"IF(OR($F653<U$10,$E653>V$10),0,IF(AND($E653>=U$10,$F653<=V$10),$F653,IF(AND($E653<=U$10,$F653<=V$10),$F653,IF(AND($E653<=V$10,$F653>=V$10),V$10,IF(AND($E653<=U$10,$F653>=V$10),V$10,\"chyba\")))))","v":"00:00:00"},0,{"$f":"IF($H653<=0,0,$G653/$H653*W653)","v":0},{"$f":"IF(OR($F653<Y$10,$E653>Z$10),0,IF(AND($E653>=Y$10,$F653<=Z$10),$E653,IF(AND($E653<=Y$10,$F653<=Z$10),Y$10,IF(AND($E653<=Z$10,$F653>=Z$10,$E653>=Y$10),$E653,IF(AND($E653<=Y$10,$F653>=Z$10),Y$10,\"chyba\")))))","v":"00:00:00"},{"$f":"IF(OR($F653<Y$10,$E653>Z$10),0,IF(AND($E653>=Y$10,$F653<=Z$10),$F653,IF(AND($E653<=Y$10,$F653<=Z$10),$F653,IF(AND($E653<=Z$10,$F653>=Z$10),Z$10,IF(AND($E653<=Y$10,$F653>=Z$10),Z$10,\"chyba\")))))","v":"00:00:00"},0,{"$f":"IF($H653<=0,0,$G653/$H653*AA653)","v":0},{"$f":"IF(OR($F653<AC$10,$E653>AD$10),0,IF(AND($E653>=AC$10,$F653<=AD$10),$E653,IF(AND($E653<=AC$10,$F653<=AD$10),AC$10,IF(AND($E653<=AD$10,$F653>=AD$10,$E653>=AC$10),$E653,IF(AND($E653<=AC$10,$F653>=AD$10),AC$10,\"chyba\")))))","v":"00:00:00"},{"$f":"IF(OR($F653<AC$10,$E653>AD$10),0,IF(AND($E653>=AC$10,$F653<=AD$10),$F653,IF(AND($E653<=AC$10,$F653<=AD$10),$F653,IF(AND($E653<=AD$10,$F653>=AD$10),AD$10,IF(AND($E653<=AC$10,$F653>=AD$10),AD$10,\"chyba\")))))","v":"00:00:00"},0,{"$f":"IF($H653<=0,0,$G653/$H653*AE653)","v":0},{"$f":"IF(OR($F653<AG$10,$E653>AH$10),0,IF(AND($E653>=AG$10,$F653<=AH$10),$E653,IF(AND($E653<=AG$10,$F653<=AH$10),AG$10,IF(AND($E653<=AH$10,$F653>=AH$10,$E653>=AG$10),$E653,IF(AND($E653<=AG$10,$F653>=AH$10),AG$10,\"chyba\")))))","v":"00:00:00"},{"$f":"IF(OR($F653<AG$10,$E653>AH$10),0,IF(AND($E653>=AG$10,$F653<=AH$10),$F653,IF(AND($E653<=AG$10,$F653<=AH$10),$F653,IF(AND($E653<=AH$10,$F653>=AH$10),AH$10,IF(AND($E653<=AG$10,$F653>=AH$10),AH$10,\"chyba\")))))","v":"00:00:00"},0,{"$f":"IF($H653<=0,0,$G653/$H653*AI653)","v":0},{"$f":"IF(OR($F653<AK$10,$E653>AL$10),0,IF(AND($E653>=AK$10,$F653<=AL$10),$E653,IF(AND($E653<=AK$10,$F653<=AL$10),AK$10,IF(AND($E653<=AL$10,$F653>=AL$10,$E653>=AK$10),$E653,IF(AND($E653<=AK$10,$F653>=AL$10),AK$10,\"chyba\")))))","v":"00:00:00"},{"$f":"IF(OR($F653<AK$10,$E653>AL$10),0,IF(AND($E653>=AK$10,$F653<=AL$10),$F653,IF(AND($E653<=AK$10,$F653<=AL$10),$F653,IF(AND($E653<=AL$10,$F653>=AL$10),AL$10,IF(AND($E653<=AK$10,$F653>=AL$10),AL$10,\"chyba\")))))","v":"00:00:00"},0,{"$f":"IF($H653<=0,0,$G653/$H653*AM653)","v":0},{"$f":"IF(OR($F653<AO$10,$E653>AP$10),0,IF(AND($E653>=AO$10,$F653<=AP$10),$E653,IF(AND($E653<=AO$10,$F653<=AP$10),AO$10,IF(AND($E653<=AP$10,$F653>=AP$10,$E653>=AO$10),$E653,IF(AND($E653<=AO$10,$F653>=AP$10),AO$10,\"chyba\")))))","v":"00:00:00"},{"$f":"IF(OR($F653<AO$10,$E653>AP$10),0,IF(AND($E653>=AO$10,$F653<=AP$10),$F653,IF(AND($E653<=AO$10,$F653<=AP$10),$F653,IF(AND($E653<=AP$10,$F653>=AP$10),AP$10,IF(AND($E653<=AO$10,$F653>=AP$10),AP$10,\"chyba\")))))","v":"00:00:00"},0,{"$f":"IF($H653<=0,0,$G653/$H653*AQ653)","v":0},{"$f":"IF(OR($F653<AS$10,$E653>AT$10),0,IF(AND($E653>=AS$10,$F653<=AT$10),$E653,IF(AND($E653<=AS$10,$F653<=AT$10),AS$10,IF(AND($E653<=AT$10,$F653>=AT$10,$E653>=AS$10),$E653,IF(AND($E653<=AS$10,$F653>=AT$10),AS$10,\"chyba\")))))","v":"00:00:00"},{"$f":"IF(OR($F653<AS$10,$E653>AT$10),0,IF(AND($E653>=AS$10,$F653<=AT$10),$F653,IF(AND($E653<=AS$10,$F653<=AT$10),$F653,IF(AND($E653<=AT$10,$F653>=AT$10),AT$10,IF(AND($E653<=AS$10,$F653>=AT$10),AT$10,\"chyba\")))))","v":"00:00:00"},0,{"$f":"IF($H653<=0,0,$G653/$H653*AU653)","v":0}]
[null,null,null,null,null,null,null,{"$f":"IF(F654-E654=0,0,F654-E654+1)","v":0},"00:00:00","00:00:00",{"$f":"IF(J654-I654=0,0,J654-I654+1)","v":0},0,"00:00:00","00:00:00",{"$f":"IF(N654-M654=0,0,N654-M654+1)","v":0},0,"00:00:00","00:00:00",{"$f":"IF(R654-Q654=0,0,R654-Q654+1)","v":0},0,"00:00:00","00:00:00",{"$f":"IF(V654-U654=0,0,V654-U654+1)","v":0},0,"00:00:00","00:00:00",{"$f":"IF(Z654-Y654=0,0,Z654-Y654+1)","v":0},0,"00:00:00","00:00:00",{"$f":"IF(AD654-AC654=0,0,AD654-AC654+1)","v":0},0,"00:00:00","00:00:00",{"$f":"IF(AH654-AG654=0,0,AH654-AG654+1)","v":0},0,"00:00:00","00:00:00",{"$f":"IF(AL654-AK654=0,0,AL654-AK654+1)","v":0},0,"00:00:00","00:00:00",{"$f":"IF(AP654-AO654=0,0,AP654-AO654+1)","v":0},0,"00:00:00","00:00:00",{"$f":"IF(AT654-AS654=0,0,AT654-AS654+1)","v":0},0]
[null,null,null,null,null,null,null,0,"00:00:00","00:00:00",0,0,"00:00:00","00:00:00",0,0,"00:00:00","00:00:00",0,0,"00:00:00","00:00:00",0,0,"00:00:00","00:00:00",0,0,"00:00:00","00:00:00",0,0,"00:00:00","00:00:00",0,0,"00:00:00","00:00:00",0,0,"00:00:00","00:00:00",0,0,"00:00:00","00:00:00",0,0]
[null,null,null,null,null,null,null,0,"00:00:00","00:00:00",0,0,"00:00:00","00:00:00",0,0,"00:00:00","00:00:00",0,0,"00:00:00","00:00:00",0,0,"00:00:00","00:00:00",0,0,"00:00:00","00:00:00",0,0,"00:00:00","00:00:00",0,0,"00:00:00","00:00:00",0,0,"00:00:00","00:00:00",0,0,"00:00:00","00:00:00",0,0]
[null,null,null,null,null,null,null,0,"00:00:00","00:00:00",0,0,"00:00:00","00:00:00",0,0,"00:00:00","00:00:00",0,0,"00:00:00","00:00:00",0,0,"00:00:00","00:00:00",0,0,"00:00:00","00:00:00",0,0,"00:00:00","00:00:00",0,0,"00:00:00","00:00:00",0,0,"00:00:00","00:00:00",0,0,"00:00:00","00:00:00",0,0]
[null,null,null,null,null,null,null,0,"00:00:00","00:00:00",0,0,"00:00:00","00:00:00",0,0,"00:00:00","00:00:00",0,0,"00:00:00","00:00:00",0,0,"00:00:00","00:00:00",0,0,"00:00:00","00:00:00",0,0,"00:00:00","00:00:00",0,0,"00:00:00","00:00:00",0,0,"00:00:00","00:00:00",0,0,"00:00:00","00:00:00",0,0]
[null,null,null,null,null,null,null,0,"00:00:00","00:00:00",0,0,"00:00:00","00:00:00",0,0,"00:00:00","00:00:00",0,0,"00:00:00","00:00:00",0,0,"00:00:00","00:00:00",0,0,"00:00:00","00:00:00",0,0,"00:00:00","00:00:00",0,0,"00:00:00","00:00:00",0,0,"00:00:00","00:00:00",0,0,"00:00:00","00:00:00",0,0]
[null,null,null,null,null,null,null,0,"00:00:00","00:00:00",0,0,"00:00:00","00:00:00",0,0,"00:00:00","00:00:00",0,0,"00:00:00","00:00:00",0,0,"00:00:00","00:00:00",0,0,"00:00:00","00:00:00",0,0,"00:00:00","00:00:00",0,0,"00:00:00","00:00:00",0,0,"00:00:00","00:00:00",0,0,"00:00:00","00:00:00",0,0]
[null,null,null,null,null,null,null,0,"00:00:00","00:00:00",0,0,"00:00:00","00:00:00",0,0,"00:00:00","00:00:00",0,0,"00:00:00","00:00:00",0,0,"00:00:00","00:00:00",0,0,"00:00:00","00:00:00",0,0,"00:00:00","00:00:00",0,0,"00:00:00","00:00:00",0,0,"00:00:00","00:00:00",0,0,"00:00:00","00:00:00",0,0]
[null,null,null,null,null,null,null,0,"00:00:00","00:00:00",0,0,"00:00:00","00:00:00",0,0,"00:00:00","00:00:00",0,0,"00:00:00","00:00:00",0,0,"00:00:00","00:00:00",0,0,"00:00:00","00:00:00",0,0,"00:00:00","00:00:00",0,0,"00:00:00","00:00:00",0,0,"00:00:00","00:00:00",0,0,"00:00:00","00:00:00",0,0]
[null,null,null,null,null,null,null,0,"00:00:00","00:00:00",0,0,"00:00:00","00:00:00",0,0,"00:00:00","00:00:00",0,0,"00:00:00","00:00:00",0,0,"00:00:00","00:00:00",0,0,"00:00:00","00:00:00",0,0,"00:00:00","00:00:00",0,0,"00:00:00","00:00:00",0,0,"00:00:00","00:00:00",0,0,"00:00:00","00:00:00",0,0]
[null,null,null,null,null,null,null,0,"00:00:00","00:00:00",0,0,"00:00:00","00:00:00",0,0,"00:00:00","00:00:00",0,0,"00:00:00","00:00:00",0,0,"00:00:00","00:00:00",0,0,"00:00:00","00:00:00",0,0,"00:00:00","00:00:00",0,0,"00:00:00","00:00:00",0,0,"00:00:00","00:00:00",0,0,"00:00:00","00:00:00",0,0]
[null,null,null,null,null,null,null,0,"00:00:00","00:00:00",0,0,"00:00:00","00:00:00",0,0,"00:00:00","00:00:00",0,0,"00:00:00","00:00:00",0,0,"00:00:00","00:00:00",0,0,"00:00:00","00:00:00",0,0,"00:00:00","00:00:00",0,0,"00:00:00","00:00:00",0,0,"00:00:00","00:00:00",0,0,"00:00:00","00:00:00",0,0]
[null,null,null,null,null,null,null,0,"00:00:00","00:00:00",0,0,"00:00:00","00:00:00",0,0,"00:00:00","00:00:00",0,0,"00:00:00","00:00:00",0,0,"00:00:00","00:00:00",0,0,"00:00:00","00:00:00",0,0,"00:00:00","00:00:00",0,0,"00:00:00","00:00:00",0,0,"00:00:00","00:00:00",0,0,"00:00:00","00:00:00",0,0]
[null,null,null,null,null,null,null,0,"00:00:00","00:00:00",0,0,"00:00:00","00:00:00",0,0,"00:00:00","00:00:00",0,0,"00:00:00","00:00:00",0,0,"00:00:00","00:00:00",0,0,"00:00:00","00:00:00",0,0,"00:00:00","00:00:00",0,0,"00:00:00","00:00:00",0,0,"00:00:00","00:00:00",0,0,"00:00:00","00:00:00",0,0]
[null,null,null,null,null,null,null,0,"00:00:00","00:00:00",0,0,"00:00:00","00:00:00",0,0,"00:00:00","00:00:00",0,0,"00:00:00","00:00:00",0,0,"00:00:00","00:00:00",0,0,"00:00:00","00:00:00",0,0,"00:00:00","00:00:00",0,0,"00:00:00","00:00:00",0,0,"00:00:00","00:00:00",0,0,"00:00:00","00:00:00",0,0]
[null,null,null,null,null,null,null,0,"00:00:00","00:00:00",0,0,"00:00:00","00:00:00",0,0,"00:00:00","00:00:00",0,0,"00:00:00","00:00:00",0,0,"00:00:00","00:00:00",0,0,"00:00:00","00:00:00",0,0,"00:00:00","00:00:00",0,0,"00:00:00","00:00:00",0,0,"00:00:00","00:00:00",0,0,"00:00:00","00:00:00",0,0]
[null,null,null,null,null,null,null,0,"00:00:00","00:00:00",0,0,"00:00:00","00:00:00",0,0,"00:00:00","00:00:00",0,0,"00:00:00","00:00:00",0,0,"00:00:00","00:00:00",0,0,"00:00:00","00:00:00",0,0,"00:00:00","00:00:00",0,0,"00:00:00","00:00:00",0,0,"00:00:00","00:00:00",0,0,"00:00:00","00:00:00",0,0]
[null,null,null,null,null,null,null,0,"00:00:00","00:00:00",0,0,"00:00:00","00:00:00",0,0,"00:00:00","00:00:00",0,0,"00:00:00","00:00:00",0,0,"00:00:00","00:00:00",0,0,"00:00:00","00:00:00",0,0,"00:00:00","00:00:00",0,0,"00:00:00","00:00:00",0,0,"00:00:00","00:00:00",0,0,"00:00:00","00:00:00",0,0]
[null,null,null,null,null,null,null,0,"00:00:00","00:00:00",0,0,"00:00:00","00:00:00",0,0,"00:00:00","00:00:00",0,0,"00:00:00","00:00:00",0,0,"00:00:00","00:00:00",0,0,"00:00:00","00:00:00",0,0,"00:00:00","00:00:00",0,0,"00:00:00","00:00:00",0,0,"00:00:00","00:00:00",0,0,"00:00:00","00:00:00",0,0]
[null,null,null,null,null,null,null,0,"00:00:00","00:00:00",0,0,"00:00:00","00:00:00",0,0,"00:00:00","00:00:00",0,0,"00:00:00","00:00:00",0,0,"00:00:00","00:00:00",0,0,"00:00:00","00:00:00",0,0,"00:00:00","00:00:00",0,0,"00:00:00","00:00:00",0,0,"00:00:00","00:00:00",0,0,"00:00:00","00:00:00",0,0]
[null,null,null,null,null,null,null,0,"00:00:00","00:00:00",0,0,"00:00:00","00:00:00",0,0,"00:00:00","00:00:00",0,0,"00:00:00","00:00:00",0,0,"00:00:00","00:00:00",0,0,"00:00:00","00:00:00",0,0,"00:00:00","00:00:00",0,0,"00:00:00","00:00:00",0,0,"00:00:00","00:00:00",0,0,"00:00:00","00:00:00",0,0]
[null,null,null,null,null,null,null,0,"00:00:00","00:00:00",0,0,"00:00:00","00:00:00",0,0,"00:00:00","00:00:00",0,0,"00:00:00","00:00:00",0,0,"00:00:00","00:00:00",0,0,"00:00:00","00:00:00",0,0,"00:00:00","00:00:00",0,0,"00:00:00","00:00:00",0,0,"00:00:00","00:00:00",0,0,"00:00:00","00:00:00",0,0]
[null,null,null,null,null,null,null,0,"00:00:00","00:00:00",0,0,"00:00:00","00:00:00",0,0,"00:00:00","00:00:00",0,0,"00:00:00","00:00:00",0,0,"00:00:00","00:00:00",0,0,"00:00:00","00:00:00",0,0,"00:00:00","00:00:00",0,0,"00:00:00","00:00:00",0,0,"00:00:00","00:00:00",0,0,"00:00:00","00:00:00",0,0]
[null,null,null,null,null,null,null,0,"00:00:00","00:00:00",0,0,"00:00:00","00:00:00",0,0,"00:00:00","00:00:00",0,0,"00:00:00","00:00:00",0,0,"00:00:00","00:00:00",0,0,"00:00:00","00:00:00",0,0,"00:00:00","00:00:00",0,0,"00:00:00","00:00:00",0,0,"00:00:00","00:00:00",0,0,"00:00:00","00:00:00",0,0]
[null,null,null,null,null,null,null,0,"00:00:00","00:00:00",0,0,"00:00:00","00:00:00",0,0,"00:00:00","00:00:00",0,0,"00:00:00","00:00:00",0,0,"00:00:00","00:00:00",0,0,"00:00:00","00:00:00",0,0,"00:00:00","00:00:00",0,0,"00:00:00","00:00:00",0,0,"00:00:00","00:00:00",0,0,"00:00:00","00:00:00",0,0]
[null,null,null,null,null,null,null,0,"00:00:00","00:00:00",0,0,"00:00:00","00:00:00",0,0,"00:00:00","00:00:00",0,0,"00:00:00","00:00:00",0,0,"00:00:00","00:00:00",0,0,"00:00:00","00:00:00",0,0,"00:00:00","00:00:00",0,0,"00:00:00","00:00:00",0,0,"00:00:00","00:00:00",0,0,"00:00:00","00:00:00",0,0]
[null,null,null,null,null,null,null,0,"00:00:00","00:00:00",0,0,"00:00:00","00:00:00",0,0,"00:00:00","00:00:00",0,0,"00:00:00","00:00:00",0,0,"00:00:00","00:00:00",0,0,"00:00:00","00:00:00",0,0,"00:00:00","00:00:00",0,0,"00:00:00","00:00:00",0,0,"00:00:00","00:00:00",0,0,"00:00:00","00:00:00",0,0]
[null,null,null,null,null,null,null,0,"00:00:00","00:00:00",0,0,"00:00:00","00:00:00",0,0,"00:00:00","00:00:00",0,0,"00:00:00","00:00:00",0,0,"00:00:00","00:00:00",0,0,"00:00:00","00:00:00",0,0,"00:00:00","00:00:00",0,0,"00:00:00","00:00:00",0,0,"00:00:00","00:00:00",0,0,"00:00:00","00:00:00",0,0]
[null,null,null,null,null,null,null,0,"00:00:00","00:00:00",0,0,"00:00:00","00:00:00",0,0,"00:00:00","00:00:00",0,0,"00:00:00","00:00:00",0,0,"00:00:00","00:00:00",0,0,"00:00:00","00:00:00",0,0,"00:00:00","00:00:00",0,0,"00:00:00","00:00:00",0,0,"00:00:00","00:00:00",0,0,"00:00:00","00:00:00",0,0]
[null,null,null,null,null,null,null,0,"00:00:00","00:00:00",0,0,"00:00:00","00:00:00",0,0,"00:00:00","00:00:00",0,0,"00:00:00","00:00:00",0,0,"00:00:00","00:00:00",0,0,"00:00:00","00:00:00",0,0,"00:00:00","00:00:00",0,0,"00:00:00","00:00:00",0,0,"00:00:00","00:00:00",0,0,"00:00:00","00:00:00",0,0]
[null,null,null,null,null,null,null,0,"00:00:00","00:00:00",0,0,"00:00:00","00:00:00",0,0,"00:00:00","00:00:00",0,0,"00:00:00","00:00:00",0,0,"00:00:00","00:00:00",0,0,"00:00:00","00:00:00",0,0,"00:00:00","00:00:00",0,0,"00:00:00","00:00:00",0,0,"00:00:00","00:00:00",0,0,"00:00:00","00:00:00",0,0]
[null,null,null,null,null,null,null,0,"00:00:00","00:00:00",0,0,"00:00:00","00:00:00",0,0,"00:00:00","00:00:00",0,0,"00:00:00","00:00:00",0,0,"00:00:00","00:00:00",0,0,"00:00:00","00:00:00",0,0,"00:00:00","00:00:00",0,0,"00:00:00","00:00:00",0,0,"00:00:00","00:00:00",0,0,"00:00:00","00:00:00",0,0]
[null,null,null,null,null,null,null,0,"00:00:00","00:00:00",0,0,"00:00:00","00:00:00",0,0,"00:00:00","00:00:00",0,0,"00:00:00","00:00:00",0,0,"00:00:00","00:00:00",0,0,"00:00:00","00:00:00",0,0,"00:00:00","00:00:00",0,0,"00:00:00","00:00:00",0,0,"00:00:00","00:00:00",0,0,"00:00:00","00:00:00",0,0]
[null,null,null,null,null,null,null,0,"00:00:00","00:00:00",0,0,"00:00:00","00:00:00",0,0,"00:00:00","00:00:00",0,0,"00:00:00","00:00:00",0,0,"00:00:00","00:00:00",0,0,"00:00:00","00:00:00",0,0,"00:00:00","00:00:00",0,0,"00:00:00","00:00:00",0,0,"00:00:00","00:00:00",0,0,"00:00:00","00:00:00",0,0]
[null,null,null,null,null,null,null,0,"00:00:00","00:00:00",0,0,"00:00:00","00:00:00",0,0,"00:00:00","00:00:00",0,0,"00:00:00","00:00:00",0,0,"00:00:00","00:00:00",0,0,"00:00:00","00:00:00",0,0,"00:00:00","00:00:00",0,0,"00:00:00","00:00:00",0,0,"00:00:00","00:00:00",0,0,"00:00:00","00:00:00",0,0]
[null,null,null,null,null,null,null,0,"00:00:00","00:00:00",0,0,"00:00:00","00:00:00",0,0,"00:00:00","00:00:00",0,0,"00:00:00","00:00:00",0,0,"00:00:00","00:00:00",0,0,"00:00:00","00:00:00",0,0,"00:00:00","00:00:00",0,0,"00:00:00","00:00:00",0,0,"00:00:00","00:00:00",0,0,"00:00:00","00:00:00",0,0]
[null,null,null,null,null,null,null,0,"00:00:00","00:00:00",0,0,"00:00:00","00:00:00",0,0,"00:00:00","00:00:00",0,0,"00:00:00","00:00:00",0,0,"00:00:00","00:00:00",0,0,"00:00:00","00:00:00",0,0,"00:00:00","00:00:00",0,0,"00:00:00","00:00:00",0,0,"00:00:00","00:00:00",0,0,"00:00:00","00:00:00",0,0]
[null,null,null,null,null,null,null,0,"00:00:00","00:00:00",0,0,"00:00:00","00:00:00",0,0,"00:00:00","00:00:00",0,0,"00:00:00","00:00:00",0,0,"00:00:00","00:00:00",0,0,"00:00:00","00:00:00",0,0,"00:00:00","00:00:00",0,0,"00:00:00","00:00:00",0,0,"00:00:00","00:00:00",0,0,"00:00:00","00:00:00",0,0]
[null,null,null,null,null,null,null,0,"00:00:00","00:00:00",0,0,"00:00:00","00:00:00",0,0,"00:00:00","00:00:00",0,0,"00:00:00","00:00:00",0,0,"00:00:00","00:00:00",0,0,"00:00:00","00:00:00",0,0,"00:00:00","00:00:00",0,0,"00:00:00","00:00:00",0,0,"00:00:00","00:00:00",0,0,"00:00:00","00:00:00",0,0]
[null,null,null,null,null,null,null,0,"00:00:00","00:00:00",0,0,"00:00:00","00:00:00",0,0,"00:00:00","00:00:00",0,0,"00:00:00","00:00:00",0,0,"00:00:00","00:00:00",0,0,"00:00:00","00:00:00",0,0,"00:00:00","00:00:00",0,0,"00:00:00","00:00:00",0,0,"00:00:00","00:00:00",0,0,"00:00:00","00:00:00",0,0]
[null,null,null,null,null,null,null,0,"00:00:00","00:00:00",0,0,"00:00:00","00:00:00",0,0,"00:00:00","00:00:00",0,0,"00:00:00","00:00:00",0,0,"00:00:00","00:00:00",0,0,"00:00:00","00:00:00",0,0,"00:00:00","00:00:00",0,0,"00:00:00","00:00:00",0,0,"00:00:00","00:00:00",0,0,"00:00:00","00:00:00",0,0]
[null,null,null,null,null,null,null,0,"00:00:00","00:00:00",0,0,"00:00:00","00:00:00",0,0,"00:00:00","00:00:00",0,0,"00:00:00","00:00:00",0,0,"00:00:00","00:00:00",0,0,"00:00:00","00:00:00",0,0,"00:00:00","00:00:00",0,0,"00:00:00","00:00:00",0,0,"00:00:00","00:00:00",0,0,"00:00:00","00:00:00",0,0]
[null,null,null,null,null,null,null,0,"00:00:00","00:00:00",0,0,"00:00:00","00:00:00",0,0,"00:00:00","00:00:00",0,0,"00:00:00","00:00:00",0,0,"00:00:00","00:00:00",0,0,"00:00:00","00:00:00",0,0,"00:00:00","00:00:00",0,0,"00:00:00","00:00:00",0,0,"00:00:00","00:00:00",0,0,"00:00:00","00:00:00",0,0]
[null,null,null,null,null,null,null,0,"00:00:00","00:00:00",0,0,"00:00:00","00:00:00",0,0,"00:00:00","00:00:00",0,0,"00:00:00","00:00:00",0,0,"00:00:00","00:00:00",0,0,"00:00:00","00:00:00",0,0,"00:00:00","00:00:00",0,0,"00:00:00","00:00:00",0,0,"00:00:00","00:00:00",0,0,"00:00:00","00:00:00",0,0]
[null,null,null,null,null,null,null,0,"00:00:00","00:00:00",0,0,"00:00:00","00:00:00",0,0,"00:00:00","00:00:00",0,0,"00:00:00","00:00:00",0,0,"00:00:00","00:00:00",0,0,"00:00:00","00:00:00",0,0,"00:00:00","00:00:00",0,0,"00:00:00","00:00:00",0,0,"00:00:00","00:00:00",0,0,"00:00:00","00:00:00",0,0]
[null,null,null,null,null,null,null,0,"00:00:00","00:00:00",0,0,"00:00:00","00:00:00",0,0,"00:00:00","00:00:00",0,0,"00:00:00","00:00:00",0,0,"00:00:00","00:00:00",0,0,"00:00:00","00:00:00",0,0,"00:00:00","00:00:00",0,0,"00:00:00","00:00:00",0,0,"00:00:00","00:00:00",0,0,"00:00:00","00:00:00",0,0]
[null,null,null,null,null,null,null,0,"00:00:00","00:00:00",0,0,"00:00:00","00:00:00",0,0,"00:00:00","00:00:00",0,0,"00:00:00","00:00:00",0,0,"00:00:00","00:00:00",0,0,"00:00:00","00:00:00",0,0,"00:00:00","00:00:00",0,0,"00:00:00","00:00:00",0,0,"00:00:00","00:00:00",0,0,"00:00:00","00:00:00",0,0]
[null,null,null,null,null,null,null,0,"00:00:00","00:00:00",0,0,"00:00:00","00:00:00",0,0,"00:00:00","00:00:00",0,0,"00:00:00","00:00:00",0,0,"00:00:00","00:00:00",0,0,"00:00:00","00:00:00",0,0,"00:00:00","00:00:00",0,0,"00:00:00","00:00:00",0,0,"00:00:00","00:00:00",0,0,"00:00:00","00:00:00",0,0]
[null,null,null,null,null,null,null,0,"00:00:00","00:00:00",0,0,"00:00:00","00:00:00",0,0,"00:00:00","00:00:00",0,0,"00:00:00","00:00:00",0,0,"00:00:00","00:00:00",0,0,"00:00:00","00:00:00",0,0,"00:00:00","00:00:00",0,0,"00:00:00","00:00:00",0,0,"00:00:00","00:00:00",0,0,"00:00:00","00:00:00",0,0]
[null,null,null,null,null,null,null,0,"00:00:00","00:00:00",0,0,"00:00:00","00:00:00",0,0,"00:00:00","00:00:00",0,0,"00:00:00","00:00:00",0,0,"00:00:00","00:00:00",0,0,"00:00:00","00:00:00",0,0,"00:00:00","00:00:00",0,0,"00:00:00","00:00:00",0,0,"00:00:00","00:00:00",0,0,"00:00:00","00:00:00",0,0]
[null,null,null,null,null,null,null,0,"00:00:00","00:00:00",0,0,"00:00:00","00:00:00",0,0,"00:00:00","00:00:00",0,0,"00:00:00","00:00:00",0,0,"00:00:00","00:00:00",0,0,"00:00:00","00:00:00",0,0,"00:00:00","00:00:00",0,0,"00:00:00","00:00:00",0,0,"00:00:00","00:00:00",0,0,"00:00:00","00:00:00",0,0]
[null,null,null,null,null,null,null,0,"00:00:00","00:00:00",0,0,"00:00:00","00:00:00",0,0,"00:00:00","00:00:00",0,0,"00:00:00","00:00:00",0,0,"00:00:00","00:00:00",0,0,"00:00:00","00:00:00",0,0,"00:00:00","00:00:00",0,0,"00:00:00","00:00:00",0,0,"00:00:00","00:00:00",0,0,"00:00:00","00:00:00",0,0]
[null,null,null,null,null,null,null,0,"00:00:00","00:00:00",0,0,"00:00:00","00:00:00",0,0,"00:00:00","00:00:00",0,0,"00:00:00","00:00:00",0,0,"00:00:00","00:00:00",0,0,"00:00:00","00:00:00",0,0,"00:00:00","00:00:00",0,0,"00:00:00","00:00:00",0,0,"00:00:00","00:00:00",0,0,"00:00:00","00:00:00",0,0]
[null,null,null,null,null,null,null,0,"00:00:00","00:00:00",0,0,"00:00:00","00:00:00",0,0,"00:00:00","00:00:00",0,0,"00:00:00","00:00:00",0,0,"00:00:00","00:00:00",0,0,"00:00:00","00:00:00",0,0,"00:00:00","00:00:00",0,0,"00:00:00","00:00:00",0,0,"00:00:00","00:00:00",0,0,"00:00:00","00:00:00",0,0]
[null,null,null,null,null,null,null,0,"00:00:00","00:00:00",0,0,"00:00:00","00:00:00",0,0,"00:00:00","00:00:00",0,0,"00:00:00","00:00:00",0,0,"00:00:00","00:00:00",0,0,"00:00:00","00:00:00",0,0,"00:00:00","00:00:00",0,0,"00:00:00","00:00:00",0,0,"00:00:00","00:00:00",0,0,"00:00:00","00:00:00",0,0]
[null,null,null,null,null,null,null,0,"00:00:00","00:00:00",0,0,"00:00:00","00:00:00",0,0,"00:00:00","00:00:00",0,0,"00:00:00","00:00:00",0,0,"00:00:00","00:00:00",0,0,"00:00:00","00:00:00",0,0,"00:00:00","00:00:00",0,0,"00:00:00","00:00:00",0,0,"00:00:00","00:00:00",0,0,"00:00:00","00:00:00",0,0]
[null,null,null,null,null,null,null,0,"00:00:00","00:00:00",0,0,"00:00:00","00:00:00",0,0,"00:00:00","00:00:00",0,0,"00:00:00","00:00:00",0,0,"00:00:00","00:00:00",0,0,"00:00:00","00:00:00",0,0,"00:00:00","00:00:00",0,0,"00:00:00","00:00:00",0,0,"00:00:00","00:00:00",0,0,"00:00:00","00:00:00",0,0]
[null,null,null,null,null,null,null,0,"00:00:00","00:00:00",0,0,"00:00:00","00:00:00",0,0,"00:00:00","00:00:00",0,0,"00:00:00","00:00:00",0,0,"00:00:00","00:00:00",0,0,"00:00:00","00:00:00",0,0,"00:00:00","00:00:00",0,0,"00:00:00","00:00:00",0,0,"00:00:00","00:00:00",0,0,"00:00:00","00:00:00",0,0]
[null,null,null,null,null,null,null,0,"00:00:00","00:00:00",0,0,"00:00:00","00:00:00",0,0,"00:00:00","00:00:00",0,0,"00:00:00","00:00:00",0,0,"00:00:00","00:00:00",0,0,"00:00:00","00:00:00",0,0,"00:00:00","00:00:00",0,0,"00:00:00","00:00:00",0,0,"00:00:00","00:00:00",0,0,"00:00:00","00:00:00",0,0]
[null,null,null,null,null,null,null,0,"00:00:00","00:00:00",0,0,"00:00:00","00:00:00",0,0,"00:00:00","00:00:00",0,0,"00:00:00","00:00:00",0,0,"00:00:00","00:00:00",0,0,"00:00:00","00:00:00",0,0,"00:00:00","00:00:00",0,0,"00:00:00","00:00:00",0,0,"00:00:00","00:00:00",0,0,"00:00:00","00:00:00",0,0]
[null,null,null,null,null,null,null,0,"00:00:00","00:00:00",0,0,"00:00:00","00:00:00",0,0,"00:00:00","00:00:00",0,0,"00:00:00","00:00:00",0,0,"00:00:00","00:00:00",0,0,"00:00:00","00:00:00",0,0,"00:00:00","00:00:00",0,0,"00:00:00","00:00:00",0,0,"00:00:00","00:00:00",0,0,"00:00:00","00:00:00",0,0]
[null,null,null,null,null,null,null,0,"00:00:00","00:00:00",0,0,"00:00:00","00:00:00",0,0,"00:00:00","00:00:00",0,0,"00:00:00","00:00:00",0,0,"00:00:00","00:00:00",0,0,"00:00:00","00:00:00",0,0,"00:00:00","00:00:00",0,0,"00:00:00","00:00:00",0,0,"00:00:00","00:00:00",0,0,"00:00:00","00:00:00",0,0]
[null,null,null,null,null,null,null,0,"00:00:00","00:00:00",0,0,"00:00:00","00:00:00",0,0,"00:00:00","00:00:00",0,0,"00:00:00","00:00:00",0,0,"00:00:00","00:00:00",0,0,"00:00:00","00:00:00",0,0,"00:00:00","00:00:00",0,0,"00:00:00","00:00:00",0,0,"00:00:00","00:00:00",0,0,"00:00:00","00:00:00",0,0]
[null,null,null,null,null,null,null,0,{"$f":"IF(OR($F717<I$10,$E717>J$10),0,IF(AND($E717>=I$10,$F717<=J$10),$E717,IF(AND($E717<=I$10,$F717<=J$10),I$10,IF(AND($E717<=J$10,$F717>=J$10,$E717>=I$10),$E717,IF(AND($E717<=I$10,$F717>=J$10),I$10,\"chyba\")))))","v":"00:00:00"},{"$f":"IF(OR($F717<I$10,$E717>J$10),0,IF(AND($E717>=I$10,$F717<=J$10),$F717,IF(AND($E717<=I$10,$F717<=J$10),$F717,IF(AND($E717<=J$10,$F717>=J$10),J$10,IF(AND($E717<=I$10,$F717>=J$10),J$10,\"chyba\")))))","v":"00:00:00"},0,{"$f":"IF($H717<=0,0,$G717/$H717*K717)","v":0},{"$f":"IF(OR($F717<M$10,$E717>N$10),0,IF(AND($E717>=M$10,$F717<=N$10),$E717,IF(AND($E717<=M$10,$F717<=N$10),M$10,IF(AND($E717<=N$10,$F717>=N$10,$E717>=M$10),$E717,IF(AND($E717<=M$10,$F717>=N$10),M$10,\"chyba\")))))","v":"00:00:00"},{"$f":"IF(OR($F717<M$10,$E717>N$10),0,IF(AND($E717>=M$10,$F717<=N$10),$F717,IF(AND($E717<=M$10,$F717<=N$10),$F717,IF(AND($E717<=N$10,$F717>=N$10),N$10,IF(AND($E717<=M$10,$F717>=N$10),N$10,\"chyba\")))))","v":"00:00:00"},0,{"$f":"IF($H717<=0,0,$G717/$H717*O717)","v":0},{"$f":"IF(OR($F717<Q$10,$E717>R$10),0,IF(AND($E717>=Q$10,$F717<=R$10),$E717,IF(AND($E717<=Q$10,$F717<=R$10),Q$10,IF(AND($E717<=R$10,$F717>=R$10,$E717>=Q$10),$E717,IF(AND($E717<=Q$10,$F717>=R$10),Q$10,\"chyba\")))))","v":"00:00:00"},{"$f":"IF(OR($F717<Q$10,$E717>R$10),0,IF(AND($E717>=Q$10,$F717<=R$10),$F717,IF(AND($E717<=Q$10,$F717<=R$10),$F717,IF(AND($E717<=R$10,$F717>=R$10),R$10,IF(AND($E717<=Q$10,$F717>=R$10),R$10,\"chyba\")))))","v":"00:00:00"},0,{"$f":"IF($H717<=0,0,$G717/$H717*S717)","v":0},{"$f":"IF(OR($F717<U$10,$E717>V$10),0,IF(AND($E717>=U$10,$F717<=V$10),$E717,IF(AND($E717<=U$10,$F717<=V$10),U$10,IF(AND($E717<=V$10,$F717>=V$10,$E717>=U$10),$E717,IF(AND($E717<=U$10,$F717>=V$10),U$10,\"chyba\")))))","v":"00:00:00"},{"$f":"IF(OR($F717<U$10,$E717>V$10),0,IF(AND($E717>=U$10,$F717<=V$10),$F717,IF(AND($E717<=U$10,$F717<=V$10),$F717,IF(AND($E717<=V$10,$F717>=V$10),V$10,IF(AND($E717<=U$10,$F717>=V$10),V$10,\"chyba\")))))","v":"00:00:00"},0,{"$f":"IF($H717<=0,0,$G717/$H717*W717)","v":0},{"$f":"IF(OR($F717<Y$10,$E717>Z$10),0,IF(AND($E717>=Y$10,$F717<=Z$10),$E717,IF(AND($E717<=Y$10,$F717<=Z$10),Y$10,IF(AND($E717<=Z$10,$F717>=Z$10,$E717>=Y$10),$E717,IF(AND($E717<=Y$10,$F717>=Z$10),Y$10,\"chyba\")))))","v":"00:00:00"},{"$f":"IF(OR($F717<Y$10,$E717>Z$10),0,IF(AND($E717>=Y$10,$F717<=Z$10),$F717,IF(AND($E717<=Y$10,$F717<=Z$10),$F717,IF(AND($E717<=Z$10,$F717>=Z$10),Z$10,IF(AND($E717<=Y$10,$F717>=Z$10),Z$10,\"chyba\")))))","v":"00:00:00"},0,{"$f":"IF($H717<=0,0,$G717/$H717*AA717)","v":0},{"$f":"IF(OR($F717<AC$10,$E717>AD$10),0,IF(AND($E717>=AC$10,$F717<=AD$10),$E717,IF(AND($E717<=AC$10,$F717<=AD$10),AC$10,IF(AND($E717<=AD$10,$F717>=AD$10,$E717>=AC$10),$E717,IF(AND($E717<=AC$10,$F717>=AD$10),AC$10,\"chyba\")))))","v":"00:00:00"},{"$f":"IF(OR($F717<AC$10,$E717>AD$10),0,IF(AND($E717>=AC$10,$F717<=AD$10),$F717,IF(AND($E717<=AC$10,$F717<=AD$10),$F717,IF(AND($E717<=AD$10,$F717>=AD$10),AD$10,IF(AND($E717<=AC$10,$F717>=AD$10),AD$10,\"chyba\")))))","v":"00:00:00"},0,{"$f":"IF($H717<=0,0,$G717/$H717*AE717)","v":0},{"$f":"IF(OR($F717<AG$10,$E717>AH$10),0,IF(AND($E717>=AG$10,$F717<=AH$10),$E717,IF(AND($E717<=AG$10,$F717<=AH$10),AG$10,IF(AND($E717<=AH$10,$F717>=AH$10,$E717>=AG$10),$E717,IF(AND($E717<=AG$10,$F717>=AH$10),AG$10,\"chyba\")))))","v":"00:00:00"},{"$f":"IF(OR($F717<AG$10,$E717>AH$10),0,IF(AND($E717>=AG$10,$F717<=AH$10),$F717,IF(AND($E717<=AG$10,$F717<=AH$10),$F717,IF(AND($E717<=AH$10,$F717>=AH$10),AH$10,IF(AND($E717<=AG$10,$F717>=AH$10),AH$10,\"chyba\")))))","v":"00:00:00"},0,{"$f":"IF($H717<=0,0,$G717/$H717*AI717)","v":0},{"$f":"IF(OR($F717<AK$10,$E717>AL$10),0,IF(AND($E717>=AK$10,$F717<=AL$10),$E717,IF(AND($E717<=AK$10,$F717<=AL$10),AK$10,IF(AND($E717<=AL$10,$F717>=AL$10,$E717>=AK$10),$E717,IF(AND($E717<=AK$10,$F717>=AL$10),AK$10,\"chyba\")))))","v":"00:00:00"},{"$f":"IF(OR($F717<AK$10,$E717>AL$10),0,IF(AND($E717>=AK$10,$F717<=AL$10),$F717,IF(AND($E717<=AK$10,$F717<=AL$10),$F717,IF(AND($E717<=AL$10,$F717>=AL$10),AL$10,IF(AND($E717<=AK$10,$F717>=AL$10),AL$10,\"chyba\")))))","v":"00:00:00"},0,{"$f":"IF($H717<=0,0,$G717/$H717*AM717)","v":0},{"$f":"IF(OR($F717<AO$10,$E717>AP$10),0,IF(AND($E717>=AO$10,$F717<=AP$10),$E717,IF(AND($E717<=AO$10,$F717<=AP$10),AO$10,IF(AND($E717<=AP$10,$F717>=AP$10,$E717>=AO$10),$E717,IF(AND($E717<=AO$10,$F717>=AP$10),AO$10,\"chyba\")))))","v":"00:00:00"},{"$f":"IF(OR($F717<AO$10,$E717>AP$10),0,IF(AND($E717>=AO$10,$F717<=AP$10),$F717,IF(AND($E717<=AO$10,$F717<=AP$10),$F717,IF(AND($E717<=AP$10,$F717>=AP$10),AP$10,IF(AND($E717<=AO$10,$F717>=AP$10),AP$10,\"chyba\")))))","v":"00:00:00"},0,{"$f":"IF($H717<=0,0,$G717/$H717*AQ717)","v":0},{"$f":"IF(OR($F717<AS$10,$E717>AT$10),0,IF(AND($E717>=AS$10,$F717<=AT$10),$E717,IF(AND($E717<=AS$10,$F717<=AT$10),AS$10,IF(AND($E717<=AT$10,$F717>=AT$10,$E717>=AS$10),$E717,IF(AND($E717<=AS$10,$F717>=AT$10),AS$10,\"chyba\")))))","v":"00:00:00"},{"$f":"IF(OR($F717<AS$10,$E717>AT$10),0,IF(AND($E717>=AS$10,$F717<=AT$10),$F717,IF(AND($E717<=AS$10,$F717<=AT$10),$F717,IF(AND($E717<=AT$10,$F717>=AT$10),AT$10,IF(AND($E717<=AS$10,$F717>=AT$10),AT$10,\"chyba\")))))","v":"00:00:00"},0,{"$f":"IF($H717<=0,0,$G717/$H717*AU717)","v":0}]
[null,null,null,null,null,null,null,{"$f":"IF(F718-E718=0,0,F718-E718+1)","v":0},"00:00:00","00:00:00",{"$f":"IF(J718-I718=0,0,J718-I718+1)","v":0},0,"00:00:00","00:00:00",{"$f":"IF(N718-M718=0,0,N718-M718+1)","v":0},0,"00:00:00","00:00:00",{"$f":"IF(R718-Q718=0,0,R718-Q718+1)","v":0},0,"00:00:00","00:00:00",{"$f":"IF(V718-U718=0,0,V718-U718+1)","v":0},0,"00:00:00","00:00:00",{"$f":"IF(Z718-Y718=0,0,Z718-Y718+1)","v":0},0,"00:00:00","00:00:00",{"$f":"IF(AD718-AC718=0,0,AD718-AC718+1)","v":0},0,"00:00:00","00:00:00",{"$f":"IF(AH718-AG718=0,0,AH718-AG718+1)","v":0},0,"00:00:00","00:00:00",{"$f":"IF(AL718-AK718=0,0,AL718-AK718+1)","v":0},0,"00:00:00","00:00:00",{"$f":"IF(AP718-AO718=0,0,AP718-AO718+1)","v":0},0,"00:00:00","00:00:00",{"$f":"IF(AT718-AS718=0,0,AT718-AS718+1)","v":0},0]
[null,null,null,null,null,null,null,0,"00:00:00","00:00:00",0,0,"00:00:00","00:00:00",0,0,"00:00:00","00:00:00",0,0,"00:00:00","00:00:00",0,0,"00:00:00","00:00:00",0,0,"00:00:00","00:00:00",0,0,"00:00:00","00:00:00",0,0,"00:00:00","00:00:00",0,0,"00:00:00","00:00:00",0,0,"00:00:00","00:00:00",0,0]
[null,null,null,null,null,null,null,0,"00:00:00","00:00:00",0,0,"00:00:00","00:00:00",0,0,"00:00:00","00:00:00",0,0,"00:00:00","00:00:00",0,0,"00:00:00","00:00:00",0,0,"00:00:00","00:00:00",0,0,"00:00:00","00:00:00",0,0,"00:00:00","00:00:00",0,0,"00:00:00","00:00:00",0,0,"00:00:00","00:00:00",0,0]
[null,null,null,null,null,null,null,0,"00:00:00","00:00:00",0,0,"00:00:00","00:00:00",0,0,"00:00:00","00:00:00",0,0,"00:00:00","00:00:00",0,0,"00:00:00","00:00:00",0,0,"00:00:00","00:00:00",0,0,"00:00:00","00:00:00",0,0,"00:00:00","00:00:00",0,0,"00:00:00","00:00:00",0,0,"00:00:00","00:00:00",0,0]
[null,null,null,null,null,null,null,0,"00:00:00","00:00:00",0,0,"00:00:00","00:00:00",0,0,"00:00:00","00:00:00",0,0,"00:00:00","00:00:00",0,0,"00:00:00","00:00:00",0,0,"00:00:00","00:00:00",0,0,"00:00:00","00:00:00",0,0,"00:00:00","00:00:00",0,0,"00:00:00","00:00:00",0,0,"00:00:00","00:00:00",0,0]
[null,null,null,null,null,null,null,0,"00:00:00","00:00:00",0,0,"00:00:00","00:00:00",0,0,"00:00:00","00:00:00",0,0,"00:00:00","00:00:00",0,0,"00:00:00","00:00:00",0,0,"00:00:00","00:00:00",0,0,"00:00:00","00:00:00",0,0,"00:00:00","00:00:00",0,0,"00:00:00","00:00:00",0,0,"00:00:00","00:00:00",0,0]
[null,null,null,null,null,null,null,0,"00:00:00","00:00:00",0,0,"00:00:00","00:00:00",0,0,"00:00:00","00:00:00",0,0,"00:00:00","00:00:00",0,0,"00:00:00","00:00:00",0,0,"00:00:00","00:00:00",0,0,"00:00:00","00:00:00",0,0,"00:00:00","00:00:00",0,0,"00:00:00","00:00:00",0,0,"00:00:00","00:00:00",0,0]
[null,null,null,null,null,null,null,0,"00:00:00","00:00:00",0,0,"00:00:00","00:00:00",0,0,"00:00:00","00:00:00",0,0,"00:00:00","00:00:00",0,0,"00:00:00","00:00:00",0,0,"00:00:00","00:00:00",0,0,"00:00:00","00:00:00",0,0,"00:00:00","00:00:00",0,0,"00:00:00","00:00:00",0,0,"00:00:00","00:00:00",0,0]
[null,null,null,null,null,null,null,0,"00:00:00","00:00:00",0,0,"00:00:00","00:00:00",0,0,"00:00:00","00:00:00",0,0,"00:00:00","00:00:00",0,0,"00:00:00","00:00:00",0,0,"00:00:00","00:00:00",0,0,"00:00:00","00:00:00",0,0,"00:00:00","00:00:00",0,0,"00:00:00","00:00:00",0,0,"00:00:00","00:00:00",0,0]
[null,null,null,null,null,null,null,0,"00:00:00","00:00:00",0,0,"00:00:00","00:00:00",0,0,"00:00:00","00:00:00",0,0,"00:00:00","00:00:00",0,0,"00:00:00","00:00:00",0,0,"00:00:00","00:00:00",0,0,"00:00:00","00:00:00",0,0,"00:00:00","00:00:00",0,0,"00:00:00","00:00:00",0,0,"00:00:00","00:00:00",0,0]
[null,null,null,null,null,null,null,0,"00:00:00","00:00:00",0,0,"00:00:00","00:00:00",0,0,"00:00:00","00:00:00",0,0,"00:00:00","00:00:00",0,0,"00:00:00","00:00:00",0,0,"00:00:00","00:00:00",0,0,"00:00:00","00:00:00",0,0,"00:00:00","00:00:00",0,0,"00:00:00","00:00:00",0,0,"00:00:00","00:00:00",0,0]
[null,null,null,null,null,null,null,0,"00:00:00","00:00:00",0,0,"00:00:00","00:00:00",0,0,"00:00:00","00:00:00",0,0,"00:00:00","00:00:00",0,0,"00:00:00","00:00:00",0,0,"00:00:00","00:00:00",0,0,"00:00:00","00:00:00",0,0,"00:00:00","00:00:00",0,0,"00:00:00","00:00:00",0,0,"00:00:00","00:00:00",0,0]
[null,null,null,null,null,null,null,0,"00:00:00","00:00:00",0,0,"00:00:00","00:00:00",0,0,"00:00:00","00:00:00",0,0,"00:00:00","00:00:00",0,0,"00:00:00","00:00:00",0,0,"00:00:00","00:00:00",0,0,"00:00:00","00:00:00",0,0,"00:00:00","00:00:00",0,0,"00:00:00","00:00:00",0,0,"00:00:00","00:00:00",0,0]
[null,null,null,null,null,null,null,0,"00:00:00","00:00:00",0,0,"00:00:00","00:00:00",0,0,"00:00:00","00:00:00",0,0,"00:00:00","00:00:00",0,0,"00:00:00","00:00:00",0,0,"00:00:00","00:00:00",0,0,"00:00:00","00:00:00",0,0,"00:00:00","00:00:00",0,0,"00:00:00","00:00:00",0,0,"00:00:00","00:00:00",0,0]
[null,null,null,null,null,null,null,0,"00:00:00","00:00:00",0,0,"00:00:00","00:00:00",0,0,"00:00:00","00:00:00",0,0,"00:00:00","00:00:00",0,0,"00:00:00","00:00:00",0,0,"00:00:00","00:00:00",0,0,"00:00:00","00:00:00",0,0,"00:00:00","00:00:00",0,0,"00:00:00","00:00:00",0,0,"00:00:00","00:00:00",0,0]
[null,null,null,null,null,null,null,0,"00:00:00","00:00:00",0,0,"00:00:00","00:00:00",0,0,"00:00:00","00:00:00",0,0,"00:00:00","00:00:00",0,0,"00:00:00","00:00:00",0,0,"00:00:00","00:00:00",0,0,"00:00:00","00:00:00",0,0,"00:00:00","00:00:00",0,0,"00:00:00","00:00:00",0,0,"00:00:00","00:00:00",0,0]
[null,null,null,null,null,null,null,0,"00:00:00","00:00:00",0,0,"00:00:00","00:00:00",0,0,"00:00:00","00:00:00",0,0,"00:00:00","00:00:00",0,0,"00:00:00","00:00:00",0,0,"00:00:00","00:00:00",0,0,"00:00:00","00:00:00",0,0,"00:00:00","00:00:00",0,0,"00:00:00","00:00:00",0,0,"00:00:00","00:00:00",0,0]
[null,null,null,null,null,null,null,0,"00:00:00","00:00:00",0,0,"00:00:00","00:00:00",0,0,"00:00:00","00:00:00",0,0,"00:00:00","00:00:00",0,0,"00:00:00","00:00:00",0,0,"00:00:00","00:00:00",0,0,"00:00:00","00:00:00",0,0,"00:00:00","00:00:00",0,0,"00:00:00","00:00:00",0,0,"00:00:00","00:00:00",0,0]
[null,null,null,null,null,null,null,0,"00:00:00","00:00:00",0,0,"00:00:00","00:00:00",0,0,"00:00:00","00:00:00",0,0,"00:00:00","00:00:00",0,0,"00:00:00","00:00:00",0,0,"00:00:00","00:00:00",0,0,"00:00:00","00:00:00",0,0,"00:00:00","00:00:00",0,0,"00:00:00","00:00:00",0,0,"00:00:00","00:00:00",0,0]
[null,null,null,null,null,null,null,0,"00:00:00","00:00:00",0,0,"00:00:00","00:00:00",0,0,"00:00:00","00:00:00",0,0,"00:00:00","00:00:00",0,0,"00:00:00","00:00:00",0,0,"00:00:00","00:00:00",0,0,"00:00:00","00:00:00",0,0,"00:00:00","00:00:00",0,0,"00:00:00","00:00:00",0,0,"00:00:00","00:00:00",0,0]
[null,null,null,null,null,null,null,0,"00:00:00","00:00:00",0,0,"00:00:00","00:00:00",0,0,"00:00:00","00:00:00",0,0,"00:00:00","00:00:00",0,0,"00:00:00","00:00:00",0,0,"00:00:00","00:00:00",0,0,"00:00:00","00:00:00",0,0,"00:00:00","00:00:00",0,0,"00:00:00","00:00:00",0,0,"00:00:00","00:00:00",0,0]
[null,null,null,null,null,null,null,0,"00:00:00","00:00:00",0,0,"00:00:00","00:00:00",0,0,"00:00:00","00:00:00",0,0,"00:00:00","00:00:00",0,0,"00:00:00","00:00:00",0,0,"00:00:00","00:00:00",0,0,"00:00:00","00:00:00",0,0,"00:00:00","00:00:00",0,0,"00:00:00","00:00:00",0,0,"00:00:00","00:00:00",0,0]
[null,null,null,null,null,null,null,0,"00:00:00","00:00:00",0,0,"00:00:00","00:00:00",0,0,"00:00:00","00:00:00",0,0,"00:00:00","00:00:00",0,0,"00:00:00","00:00:00",0,0,"00:00:00","00:00:00",0,0,"00:00:00","00:00:00",0,0,"00:00:00","00:00:00",0,0,"00:00:00","00:00:00",0,0,"00:00:00","00:00:00",0,0]
[null,null,null,null,null,null,null,0,"00:00:00","00:00:00",0,0,"00:00:00","00:00:00",0,0,"00:00:00","00:00:00",0,0,"00:00:00","00:00:00",0,0,"00:00:00","00:00:00",0,0,"00:00:00","00:00:00",0,0,"00:00:00","00:00:00",0,0,"00:00:00","00:00:00",0,0,"00:00:00","00:00:00",0,0,"00:00:00","00:00:00",0,0]
[null,null,null,null,null,null,null,0,"00:00:00","00:00:00",0,0,"00:00:00","00:00:00",0,0,"00:00:00","00:00:00",0,0,"00:00:00","00:00:00",0,0,"00:00:00","00:00:00",0,0,"00:00:00","00:00:00",0,0,"00:00:00","00:00:00",0,0,"00:00:00","00:00:00",0,0,"00:00:00","00:00:00",0,0,"00:00:00","00:00:00",0,0]
[null,null,null,null,null,null,null,0,"00:00:00","00:00:00",0,0,"00:00:00","00:00:00",0,0,"00:00:00","00:00:00",0,0,"00:00:00","00:00:00",0,0,"00:00:00","00:00:00",0,0,"00:00:00","00:00:00",0,0,"00:00:00","00:00:00",0,0,"00:00:00","00:00:00",0,0,"00:00:00","00:00:00",0,0,"00:00:00","00:00:00",0,0]
[null,null,null,null,null,null,null,0,"00:00:00","00:00:00",0,0,"00:00:00","00:00:00",0,0,"00:00:00","00:00:00",0,0,"00:00:00","00:00:00",0,0,"00:00:00","00:00:00",0,0,"00:00:00","00:00:00",0,0,"00:00:00","00:00:00",0,0,"00:00:00","00:00:00",0,0,"00:00:00","00:00:00",0,0,"00:00:00","00:00:00",0,0]
[null,null,null,null,null,null,null,0,"00:00:00","00:00:00",0,0,"00:00:00","00:00:00",0,0,"00:00:00","00:00:00",0,0,"00:00:00","00:00:00",0,0,"00:00:00","00:00:00",0,0,"00:00:00","00:00:00",0,0,"00:00:00","00:00:00",0,0,"00:00:00","00:00:00",0,0,"00:00:00","00:00:00",0,0,"00:00:00","00:00:00",0,0]
[null,null,null,null,null,null,null,0,"00:00:00","00:00:00",0,0,"00:00:00","00:00:00",0,0,"00:00:00","00:00:00",0,0,"00:00:00","00:00:00",0,0,"00:00:00","00:00:00",0,0,"00:00:00","00:00:00",0,0,"00:00:00","00:00:00",0,0,"00:00:00","00:00:00",0,0,"00:00:00","00:00:00",0,0,"00:00:00","00:00:00",0,0]
[null,null,null,null,null,null,null,0,"00:00:00","00:00:00",0,0,"00:00:00","00:00:00",0,0,"00:00:00","00:00:00",0,0,"00:00:00","00:00:00",0,0,"00:00:00","00:00:00",0,0,"00:00:00","00:00:00",0,0,"00:00:00","00:00:00",0,0,"00:00:00","00:00:00",0,0,"00:00:00","00:00:00",0,0,"00:00:00","00:00:00",0,0]
[null,null,null,null,null,null,null,0,"00:00:00","00:00:00",0,0,"00:00:00","00:00:00",0,0,"00:00:00","00:00:00",0,0,"00:00:00","00:00:00",0,0,"00:00:00","00:00:00",0,0,"00:00:00","00:00:00",0,0,"00:00:00","00:00:00",0,0,"00:00:00","00:00:00",0,0,"00:00:00","00:00:00",0,0,"00:00:00","00:00:00",0,0]
[null,null,null,null,null,null,null,0,"00:00:00","00:00:00",0,0,"00:00:00","00:00:00",0,0,"00:00:00","00:00:00",0,0,"00:00:00","00:00:00",0,0,"00:00:00","00:00:00",0,0,"00:00:00","00:00:00",0,0,"00:00:00","00:00:00",0,0,"00:00:00","00:00:00",0,0,"00:00:00","00:00:00",0,0,"00:00:00","00:00:00",0,0]
[null,null,null,null,null,null,null,0,"00:00:00","00:00:00",0,0,"00:00:00","00:00:00",0,0,"00:00:00","00:00:00",0,0,"00:00:00","00:00:00",0,0,"00:00:00","00:00:00",0,0,"00:00:00","00:00:00",0,0,"00:00:00","00:00:00",0,0,"00:00:00","00:00:00",0,0,"00:00:00","00:00:00",0,0,"00:00:00","00:00:00",0,0]
[null,null,null,null,null,null,null,0,"00:00:00","00:00:00",0,0,"00:00:00","00:00:00",0,0,"00:00:00","00:00:00",0,0,"00:00:00","00:00:00",0,0,"00:00:00","00:00:00",0,0,"00:00:00","00:00:00",0,0,"00:00:00","00:00:00",0,0,"00:00:00","00:00:00",0,0,"00:00:00","00:00:00",0,0,"00:00:00","00:00:00",0,0]
[null,null,null,null,null,null,null,0,"00:00:00","00:00:00",0,0,"00:00:00","00:00:00",0,0,"00:00:00","00:00:00",0,0,"00:00:00","00:00:00",0,0,"00:00:00","00:00:00",0,0,"00:00:00","00:00:00",0,0,"00:00:00","00:00:00",0,0,"00:00:00","00:00:00",0,0,"00:00:00","00:00:00",0,0,"00:00:00","00:00:00",0,0]
[null,null,null,null,null,null,null,0,"00:00:00","00:00:00",0,0,"00:00:00","00:00:00",0,0,"00:00:00","00:00:00",0,0,"00:00:00","00:00:00",0,0,"00:00:00","00:00:00",0,0,"00:00:00","00:00:00",0,0,"00:00:00","00:00:00",0,0,"00:00:00","00:00:00",0,0,"00:00:00","00:00:00",0,0,"00:00:00","00:00:00",0,0]
[null,null,null,null,null,null,null,0,"00:00:00","00:00:00",0,0,"00:00:00","00:00:00",0,0,"00:00:00","00:00:00",0,0,"00:00:00","00:00:00",0,0,"00:00:00","00:00:00",0,0,"00:00:00","00:00:00",0,0,"00:00:00","00:00:00",0,0,"00:00:00","00:00:00",0,0,"00:00:00","00:00:00",0,0,"00:00:00","00:00:00",0,0]
[null,null,null,null,null,null,null,0,"00:00:00","00:00:00",0,0,"00:00:00","00:00:00",0,0,"00:00:00","00:00:00",0,0,"00:00:00","00:00:00",0,0,"00:00:00","00:00:00",0,0,"00:00:00","00:00:00",0,0,"00:00:00","00:00:00",0,0,"00:00:00","00:00:00",0,0,"00:00:00","00:00:00",0,0,"00:00:00","00:00:00",0,0]
[null,null,null,null,null,null,null,0,"00:00:00","00:00:00",0,0,"00:00:00","00:00:00",0,0,"00:00:00","00:00:00",0,0,"00:00:00","00:00:00",0,0,"00:00:00","00:00:00",0,0,"00:00:00","00:00:00",0,0,"00:00:00","00:00:00",0,0,"00:00:00","00:00:00",0,0,"00:00:00","00:00:00",0,0,"00:00:00","00:00:00",0,0]
[null,null,null,null,null,null,null,0,"00:00:00","00:00:00",0,0,"00:00:00","00:00:00",0,0,"00:00:00","00:00:00",0,0,"00:00:00","00:00:00",0,0,"00:00:00","00:00:00",0,0,"00:00:00","00:00:00",0,0,"00:00:00","00:00:00",0,0,"00:00:00","00:00:00",0,0,"00:00:00","00:00:00",0,0,"00:00:00","00:00:00",0,0]
[null,null,null,null,null,null,null,0,"00:00:00","00:00:00",0,0,"00:00:00","00:00:00",0,0,"00:00:00","00:00:00",0,0,"00:00:00","00:00:00",0,0,"00:00:00","00:00:00",0,0,"00:00:00","00:00:00",0,0,"00:00:00","00:00:00",0,0,"00:00:00","00:00:00",0,0,"00:00:00","00:00:00",0,0,"00:00:00","00:00:00",0,0]
[null,null,null,null,null,null,null,0,"00:00:00","00:00:00",0,0,"00:00:00","00:00:00",0,0,"00:00:00","00:00:00",0,0,"00:00:00","00:00:00",0,0,"00:00:00","00:00:00",0,0,"00:00:00","00:00:00",0,0,"00:00:00","00:00:00",0,0,"00:00:00","00:00:00",0,0,"00:00:00","00:00:00",0,0,"00:00:00","00:00:00",0,0]
[null,null,null,null,null,null,null,0,"00:00:00","00:00:00",0,0,"00:00:00","00:00:00",0,0,"00:00:00","00:00:00",0,0,"00:00:00","00:00:00",0,0,"00:00:00","00:00:00",0,0,"00:00:00","00:00:00",0,0,"00:00:00","00:00:00",0,0,"00:00:00","00:00:00",0,0,"00:00:00","00:00:00",0,0,"00:00:00","00:00:00",0,0]
[null,null,null,null,null,null,null,0,"00:00:00","00:00:00",0,0,"00:00:00","00:00:00",0,0,"00:00:00","00:00:00",0,0,"00:00:00","00:00:00",0,0,"00:00:00","00:00:00",0,0,"00:00:00","00:00:00",0,0,"00:00:00","00:00:00",0,0,"00:00:00","00:00:00",0,0,"00:00:00","00:00:00",0,0,"00:00:00","00:00:00",0,0]
[null,null,null,null,null,null,null,0,"00:00:00","00:00:00",0,0,"00:00:00","00:00:00",0,0,"00:00:00","00:00:00",0,0,"00:00:00","00:00:00",0,0,"00:00:00","00:00:00",0,0,"00:00:00","00:00:00",0,0,"00:00:00","00:00:00",0,0,"00:00:00","00:00:00",0,0,"00:00:00","00:00:00",0,0,"00:00:00","00:00:00",0,0]
[null,null,null,null,null,null,null,0,"00:00:00","00:00:00",0,0,"00:00:00","00:00:00",0,0,"00:00:00","00:00:00",0,0,"00:00:00","00:00:00",0,0,"00:00:00","00:00:00",0,0,"00:00:00","00:00:00",0,0,"00:00:00","00:00:00",0,0,"00:00:00","00:00:00",0,0,"00:00:00","00:00:00",0,0,"00:00:00","00:00:00",0,0]
[null,null,null,null,null,null,null,0,"00:00:00","00:00:00",0,0,"00:00:00","00:00:00",0,0,"00:00:00","00:00:00",0,0,"00:00:00","00:00:00",0,0,"00:00:00","00:00:00",0,0,"00:00:00","00:00:00",0,0,"00:00:00","00:00:00",0,0,"00:00:00","00:00:00",0,0,"00:00:00","00:00:00",0,0,"00:00:00","00:00:00",0,0]
[null,null,null,null,null,null,null,0,"00:00:00","00:00:00",0,0,"00:00:00","00:00:00",0,0,"00:00:00","00:00:00",0,0,"00:00:00","00:00:00",0,0,"00:00:00","00:00:00",0,0,"00:00:00","00:00:00",0,0,"00:00:00","00:00:00",0,0,"00:00:00","00:00:00",0,0,"00:00:00","00:00:00",0,0,"00:00:00","00:00:00",0,0]
[null,null,null,null,null,null,null,0,"00:00:00","00:00:00",0,0,"00:00:00","00:00:00",0,0,"00:00:00","00:00:00",0,0,"00:00:00","00:00:00",0,0,"00:00:00","00:00:00",0,0,"00:00:00","00:00:00",0,0,"00:00:00","00:00:00",0,0,"00:00:00","00:00:00",0,0,"00:00:00","00:00:00",0,0,"00:00:00","00:00:00",0,0]
[null,null,null,null,null,null,null,0,"00:00:00","00:00:00",0,0,"00:00:00","00:00:00",0,0,"00:00:00","00:00:00",0,0,"00:00:00","00:00:00",0,0,"00:00:00","00:00:00",0,0,"00:00:00","00:00:00",0,0,"00:00:00","00:00:00",0,0,"00:00:00","00:00:00",0,0,"00:00:00","00:00:00",0,0,"00:00:00","00:00:00",0,0]
[null,null,null,null,null,null,null,0,"00:00:00","00:00:00",0,0,"00:00:00","00:00:00",0,0,"00:00:00","00:00:00",0,0,"00:00:00","00:00:00",0,0,"00:00:00","00:00:00",0,0,"00:00:00","00:00:00",0,0,"00:00:00","00:00:00",0,0,"00:00:00","00:00:00",0,0,"00:00:00","00:00:00",0,0,"00:00:00","00:00:00",0,0]
[null,null,null,null,null,null,null,0,"00:00:00","00:00:00",0,0,"00:00:00","00:00:00",0,0,"00:00:00","00:00:00",0,0,"00:00:00","00:00:00",0,0,"00:00:00","00:00:00",0,0,"00:00:00","00:00:00",0,0,"00:00:00","00:00:00",0,0,"00:00:00","00:00:00",0,0,"00:00:00","00:00:00",0,0,"00:00:00","00:00:00",0,0]
[null,null,null,null,null,null,null,0,"00:00:00","00:00:00",0,0,"00:00:00","00:00:00",0,0,"00:00:00","00:00:00",0,0,"00:00:00","00:00:00",0,0,"00:00:00","00:00:00",0,0,"00:00:00","00:00:00",0,0,"00:00:00","00:00:00",0,0,"00:00:00","00:00:00",0,0,"00:00:00","00:00:00",0,0,"00:00:00","00:00:00",0,0]
[null,null,null,null,null,null,null,0,"00:00:00","00:00:00",0,0,"00:00:00","00:00:00",0,0,"00:00:00","00:00:00",0,0,"00:00:00","00:00:00",0,0,"00:00:00","00:00:00",0,0,"00:00:00","00:00:00",0,0,"00:00:00","00:00:00",0,0,"00:00:00","00:00:00",0,0,"00:00:00","00:00:00",0,0,"00:00:00","00:00:00",0,0]
[null,null,null,null,null,null,null,0,"00:00:00","00:00:00",0,0,"00:00:00","00:00:00",0,0,"00:00:00","00:00:00",0,0,"00:00:00","00:00:00",0,0,"00:00:00","00:00:00",0,0,"00:00:00","00:00:00",0,0,"00:00:00","00:00:00",0,0,"00:00:00","00:00:00",0,0,"00:00:00","00:00:00",0,0,"00:00:00","00:00:00",0,0]
[null,null,null,null,null,null,null,0,"00:00:00","00:00:00",0,0,"00:00:00","00:00:00",0,0,"00:00:00","00:00:00",0,0,"00:00:00","00:00:00",0,0,"00:00:00","00:00:00",0,0,"00:00:00","00:00:00",0,0,"00:00:00","00:00:00",0,0,"00:00:00","00:00:00",0,0,"00:00:00","00:00:00",0,0,"00:00:00","00:00:00",0,0]
[null,null,null,null,null,null,null,0,"00:00:00","00:00:00",0,0,"00:00:00","00:00:00",0,0,"00:00:00","00:00:00",0,0,"00:00:00","00:00:00",0,0,"00:00:00","00:00:00",0,0,"00:00:00","00:00:00",0,0,"00:00:00","00:00:00",0,0,"00:00:00","00:00:00",0,0,"00:00:00","00:00:00",0,0,"00:00:00","00:00:00",0,0]
[null,null,null,null,null,null,null,0,"00:00:00","00:00:00",0,0,"00:00:00","00:00:00",0,0,"00:00:00","00:00:00",0,0,"00:00:00","00:00:00",0,0,"00:00:00","00:00:00",0,0,"00:00:00","00:00:00",0,0,"00:00:00","00:00:00",0,0,"00:00:00","00:00:00",0,0,"00:00:00","00:00:00",0,0,"00:00:00","00:00:00",0,0]
[null,null,null,null,null,null,null,0,"00:00:00","00:00:00",0,0,"00:00:00","00:00:00",0,0,"00:00:00","00:00:00",0,0,"00:00:00","00:00:00",0,0,"00:00:00","00:00:00",0,0,"00:00:00","00:00:00",0,0,"00:00:00","00:00:00",0,0,"00:00:00","00:00:00",0,0,"00:00:00","00:00:00",0,0,"00:00:00","00:00:00",0,0]
[null,null,null,null,null,null,null,0,"00:00:00","00:00:00",0,0,"00:00:00","00:00:00",0,0,"00:00:00","00:00:00",0,0,"00:00:00","00:00:00",0,0,"00:00:00","00:00:00",0,0,"00:00:00","00:00:00",0,0,"00:00:00","00:00:00",0,0,"00:00:00","00:00:00",0,0,"00:00:00","00:00:00",0,0,"00:00:00","00:00:00",0,0]
[null,null,null,null,null,null,null,0,"00:00:00","00:00:00",0,0,"00:00:00","00:00:00",0,0,"00:00:00","00:00:00",0,0,"00:00:00","00:00:00",0,0,"00:00:00","00:00:00",0,0,"00:00:00","00:00:00",0,0,"00:00:00","00:00:00",0,0,"00:00:00","00:00:00",0,0,"00:00:00","00:00:00",0,0,"00:00:00","00:00:00",0,0]
[null,null,null,null,null,null,null,0,"00:00:00","00:00:00",0,0,"00:00:00","00:00:00",0,0,"00:00:00","00:00:00",0,0,"00:00:00","00:00:00",0,0,"00:00:00","00:00:00",0,0,"00:00:00","00:00:00",0,0,"00:00:00","00:00:00",0,0,"00:00:00","00:00:00",0,0,"00:00:00","00:00:00",0,0,"00:00:00","00:00:00",0,0]
[null,null,null,null,null,null,null,0,"00:00:00","00:00:00",0,0,"00:00:00","00:00:00",0,0,"00:00:00","00:00:00",0,0,"00:00:00","00:00:00",0,0,"00:00:00","00:00:00",0,0,"00:00:00","00:00:00",0,0,"00:00:00","00:00:00",0,0,"00:00:00","00:00:00",0,0,"00:00:00","00:00:00",0,0,"00:00:00","00:00:00",0,0]
[null,null,null,null,null,null,null,0,{"$f":"IF(OR($F781<I$10,$E781>J$10),0,IF(AND($E781>=I$10,$F781<=J$10),$E781,IF(AND($E781<=I$10,$F781<=J$10),I$10,IF(AND($E781<=J$10,$F781>=J$10,$E781>=I$10),$E781,IF(AND($E781<=I$10,$F781>=J$10),I$10,\"chyba\")))))","v":"00:00:00"},{"$f":"IF(OR($F781<I$10,$E781>J$10),0,IF(AND($E781>=I$10,$F781<=J$10),$F781,IF(AND($E781<=I$10,$F781<=J$10),$F781,IF(AND($E781<=J$10,$F781>=J$10),J$10,IF(AND($E781<=I$10,$F781>=J$10),J$10,\"chyba\")))))","v":"00:00:00"},0,{"$f":"IF($H781<=0,0,$G781/$H781*K781)","v":0},{"$f":"IF(OR($F781<M$10,$E781>N$10),0,IF(AND($E781>=M$10,$F781<=N$10),$E781,IF(AND($E781<=M$10,$F781<=N$10),M$10,IF(AND($E781<=N$10,$F781>=N$10,$E781>=M$10),$E781,IF(AND($E781<=M$10,$F781>=N$10),M$10,\"chyba\")))))","v":"00:00:00"},{"$f":"IF(OR($F781<M$10,$E781>N$10),0,IF(AND($E781>=M$10,$F781<=N$10),$F781,IF(AND($E781<=M$10,$F781<=N$10),$F781,IF(AND($E781<=N$10,$F781>=N$10),N$10,IF(AND($E781<=M$10,$F781>=N$10),N$10,\"chyba\")))))","v":"00:00:00"},0,{"$f":"IF($H781<=0,0,$G781/$H781*O781)","v":0},{"$f":"IF(OR($F781<Q$10,$E781>R$10),0,IF(AND($E781>=Q$10,$F781<=R$10),$E781,IF(AND($E781<=Q$10,$F781<=R$10),Q$10,IF(AND($E781<=R$10,$F781>=R$10,$E781>=Q$10),$E781,IF(AND($E781<=Q$10,$F781>=R$10),Q$10,\"chyba\")))))","v":"00:00:00"},{"$f":"IF(OR($F781<Q$10,$E781>R$10),0,IF(AND($E781>=Q$10,$F781<=R$10),$F781,IF(AND($E781<=Q$10,$F781<=R$10),$F781,IF(AND($E781<=R$10,$F781>=R$10),R$10,IF(AND($E781<=Q$10,$F781>=R$10),R$10,\"chyba\")))))","v":"00:00:00"},0,{"$f":"IF($H781<=0,0,$G781/$H781*S781)","v":0},{"$f":"IF(OR($F781<U$10,$E781>V$10),0,IF(AND($E781>=U$10,$F781<=V$10),$E781,IF(AND($E781<=U$10,$F781<=V$10),U$10,IF(AND($E781<=V$10,$F781>=V$10,$E781>=U$10),$E781,IF(AND($E781<=U$10,$F781>=V$10),U$10,\"chyba\")))))","v":"00:00:00"},{"$f":"IF(OR($F781<U$10,$E781>V$10),0,IF(AND($E781>=U$10,$F781<=V$10),$F781,IF(AND($E781<=U$10,$F781<=V$10),$F781,IF(AND($E781<=V$10,$F781>=V$10),V$10,IF(AND($E781<=U$10,$F781>=V$10),V$10,\"chyba\")))))","v":"00:00:00"},0,{"$f":"IF($H781<=0,0,$G781/$H781*W781)","v":0},{"$f":"IF(OR($F781<Y$10,$E781>Z$10),0,IF(AND($E781>=Y$10,$F781<=Z$10),$E781,IF(AND($E781<=Y$10,$F781<=Z$10),Y$10,IF(AND($E781<=Z$10,$F781>=Z$10,$E781>=Y$10),$E781,IF(AND($E781<=Y$10,$F781>=Z$10),Y$10,\"chyba\")))))","v":"00:00:00"},{"$f":"IF(OR($F781<Y$10,$E781>Z$10),0,IF(AND($E781>=Y$10,$F781<=Z$10),$F781,IF(AND($E781<=Y$10,$F781<=Z$10),$F781,IF(AND($E781<=Z$10,$F781>=Z$10),Z$10,IF(AND($E781<=Y$10,$F781>=Z$10),Z$10,\"chyba\")))))","v":"00:00:00"},0,{"$f":"IF($H781<=0,0,$G781/$H781*AA781)","v":0},{"$f":"IF(OR($F781<AC$10,$E781>AD$10),0,IF(AND($E781>=AC$10,$F781<=AD$10),$E781,IF(AND($E781<=AC$10,$F781<=AD$10),AC$10,IF(AND($E781<=AD$10,$F781>=AD$10,$E781>=AC$10),$E781,IF(AND($E781<=AC$10,$F781>=AD$10),AC$10,\"chyba\")))))","v":"00:00:00"},{"$f":"IF(OR($F781<AC$10,$E781>AD$10),0,IF(AND($E781>=AC$10,$F781<=AD$10),$F781,IF(AND($E781<=AC$10,$F781<=AD$10),$F781,IF(AND($E781<=AD$10,$F781>=AD$10),AD$10,IF(AND($E781<=AC$10,$F781>=AD$10),AD$10,\"chyba\")))))","v":"00:00:00"},0,{"$f":"IF($H781<=0,0,$G781/$H781*AE781)","v":0},{"$f":"IF(OR($F781<AG$10,$E781>AH$10),0,IF(AND($E781>=AG$10,$F781<=AH$10),$E781,IF(AND($E781<=AG$10,$F781<=AH$10),AG$10,IF(AND($E781<=AH$10,$F781>=AH$10,$E781>=AG$10),$E781,IF(AND($E781<=AG$10,$F781>=AH$10),AG$10,\"chyba\")))))","v":"00:00:00"},{"$f":"IF(OR($F781<AG$10,$E781>AH$10),0,IF(AND($E781>=AG$10,$F781<=AH$10),$F781,IF(AND($E781<=AG$10,$F781<=AH$10),$F781,IF(AND($E781<=AH$10,$F781>=AH$10),AH$10,IF(AND($E781<=AG$10,$F781>=AH$10),AH$10,\"chyba\")))))","v":"00:00:00"},0,{"$f":"IF($H781<=0,0,$G781/$H781*AI781)","v":0},{"$f":"IF(OR($F781<AK$10,$E781>AL$10),0,IF(AND($E781>=AK$10,$F781<=AL$10),$E781,IF(AND($E781<=AK$10,$F781<=AL$10),AK$10,IF(AND($E781<=AL$10,$F781>=AL$10,$E781>=AK$10),$E781,IF(AND($E781<=AK$10,$F781>=AL$10),AK$10,\"chyba\")))))","v":"00:00:00"},{"$f":"IF(OR($F781<AK$10,$E781>AL$10),0,IF(AND($E781>=AK$10,$F781<=AL$10),$F781,IF(AND($E781<=AK$10,$F781<=AL$10),$F781,IF(AND($E781<=AL$10,$F781>=AL$10),AL$10,IF(AND($E781<=AK$10,$F781>=AL$10),AL$10,\"chyba\")))))","v":"00:00:00"},0,{"$f":"IF($H781<=0,0,$G781/$H781*AM781)","v":0},{"$f":"IF(OR($F781<AO$10,$E781>AP$10),0,IF(AND($E781>=AO$10,$F781<=AP$10),$E781,IF(AND($E781<=AO$10,$F781<=AP$10),AO$10,IF(AND($E781<=AP$10,$F781>=AP$10,$E781>=AO$10),$E781,IF(AND($E781<=AO$10,$F781>=AP$10),AO$10,\"chyba\")))))","v":"00:00:00"},{"$f":"IF(OR($F781<AO$10,$E781>AP$10),0,IF(AND($E781>=AO$10,$F781<=AP$10),$F781,IF(AND($E781<=AO$10,$F781<=AP$10),$F781,IF(AND($E781<=AP$10,$F781>=AP$10),AP$10,IF(AND($E781<=AO$10,$F781>=AP$10),AP$10,\"chyba\")))))","v":"00:00:00"},0,{"$f":"IF($H781<=0,0,$G781/$H781*AQ781)","v":0},{"$f":"IF(OR($F781<AS$10,$E781>AT$10),0,IF(AND($E781>=AS$10,$F781<=AT$10),$E781,IF(AND($E781<=AS$10,$F781<=AT$10),AS$10,IF(AND($E781<=AT$10,$F781>=AT$10,$E781>=AS$10),$E781,IF(AND($E781<=AS$10,$F781>=AT$10),AS$10,\"chyba\")))))","v":"00:00:00"},{"$f":"IF(OR($F781<AS$10,$E781>AT$10),0,IF(AND($E781>=AS$10,$F781<=AT$10),$F781,IF(AND($E781<=AS$10,$F781<=AT$10),$F781,IF(AND($E781<=AT$10,$F781>=AT$10),AT$10,IF(AND($E781<=AS$10,$F781>=AT$10),AT$10,\"chyba\")))))","v":"00:00:00"},0,{"$f":"IF($H781<=0,0,$G781/$H781*AU781)","v":0}]
[null,null,null,null,null,null,null,{"$f":"IF(F782-E782=0,0,F782-E782+1)","v":0},"00:00:00","00:00:00",{"$f":"IF(J782-I782=0,0,J782-I782+1)","v":0},0,"00:00:00","00:00:00",{"$f":"IF(N782-M782=0,0,N782-M782+1)","v":0},0,"00:00:00","00:00:00",{"$f":"IF(R782-Q782=0,0,R782-Q782+1)","v":0},0,"00:00:00","00:00:00",{"$f":"IF(V782-U782=0,0,V782-U782+1)","v":0},0,"00:00:00","00:00:00",{"$f":"IF(Z782-Y782=0,0,Z782-Y782+1)","v":0},0,"00:00:00","00:00:00",{"$f":"IF(AD782-AC782=0,0,AD782-AC782+1)","v":0},0,"00:00:00","00:00:00",{"$f":"IF(AH782-AG782=0,0,AH782-AG782+1)","v":0},0,"00:00:00","00:00:00",{"$f":"IF(AL782-AK782=0,0,AL782-AK782+1)","v":0},0,"00:00:00","00:00:00",{"$f":"IF(AP782-AO782=0,0,AP782-AO782+1)","v":0},0,"00:00:00","00:00:00",{"$f":"IF(AT782-AS782=0,0,AT782-AS782+1)","v":0},0]
[null,null,null,null,null,null,null,0,"00:00:00","00:00:00",0,0,"00:00:00","00:00:00",0,0,"00:00:00","00:00:00",0,0,"00:00:00","00:00:00",0,0,"00:00:00","00:00:00",0,0,"00:00:00","00:00:00",0,0,"00:00:00","00:00:00",0,0,"00:00:00","00:00:00",0,0,"00:00:00","00:00:00",0,0,"00:00:00","00:00:00",0,0]
[null,null,null,null,null,null,null,0,"00:00:00","00:00:00",0,0,"00:00:00","00:00:00",0,0,"00:00:00","00:00:00",0,0,"00:00:00","00:00:00",0,0,"00:00:00","00:00:00",0,0,"00:00:00","00:00:00",0,0,"00:00:00","00:00:00",0,0,"00:00:00","00:00:00",0,0,"00:00:00","00:00:00",0,0,"00:00:00","00:00:00",0,0]
[null,null,null,null,null,null,null,0,"00:00:00","00:00:00",0,0,"00:00:00","00:00:00",0,0,"00:00:00","00:00:00",0,0,"00:00:00","00:00:00",0,0,"00:00:00","00:00:00",0,0,"00:00:00","00:00:00",0,0,"00:00:00","00:00:00",0,0,"00:00:00","00:00:00",0,0,"00:00:00","00:00:00",0,0,"00:00:00","00:00:00",0,0]
[null,null,null,null,null,null,null,0,"00:00:00","00:00:00",0,0,"00:00:00","00:00:00",0,0,"00:00:00","00:00:00",0,0,"00:00:00","00:00:00",0,0,"00:00:00","00:00:00",0,0,"00:00:00","00:00:00",0,0,"00:00:00","00:00:00",0,0,"00:00:00","00:00:00",0,0,"00:00:00","00:00:00",0,0,"00:00:00","00:00:00",0,0]
[null,null,null,null,null,null,null,0,"00:00:00","00:00:00",0,0,"00:00:00","00:00:00",0,0,"00:00:00","00:00:00",0,0,"00:00:00","00:00:00",0,0,"00:00:00","00:00:00",0,0,"00:00:00","00:00:00",0,0,"00:00:00","00:00:00",0,0,"00:00:00","00:00:00",0,0,"00:00:00","00:00:00",0,0,"00:00:00","00:00:00",0,0]
[null,null,null,null,null,null,null,0,"00:00:00","00:00:00",0,0,"00:00:00","00:00:00",0,0,"00:00:00","00:00:00",0,0,"00:00:00","00:00:00",0,0,"00:00:00","00:00:00",0,0,"00:00:00","00:00:00",0,0,"00:00:00","00:00:00",0,0,"00:00:00","00:00:00",0,0,"00:00:00","00:00:00",0,0,"00:00:00","00:00:00",0,0]
[null,null,null,null,null,null,null,0,"00:00:00","00:00:00",0,0,"00:00:00","00:00:00",0,0,"00:00:00","00:00:00",0,0,"00:00:00","00:00:00",0,0,"00:00:00","00:00:00",0,0,"00:00:00","00:00:00",0,0,"00:00:00","00:00:00",0,0,"00:00:00","00:00:00",0,0,"00:00:00","00:00:00",0,0,"00:00:00","00:00:00",0,0]
[null,null,null,null,null,null,null,0,"00:00:00","00:00:00",0,0,"00:00:00","00:00:00",0,0,"00:00:00","00:00:00",0,0,"00:00:00","00:00:00",0,0,"00:00:00","00:00:00",0,0,"00:00:00","00:00:00",0,0,"00:00:00","00:00:00",0,0,"00:00:00","00:00:00",0,0,"00:00:00","00:00:00",0,0,"00:00:00","00:00:00",0,0]
[null,null,null,null,null,null,null,0,"00:00:00","00:00:00",0,0,"00:00:00","00:00:00",0,0,"00:00:00","00:00:00",0,0,"00:00:00","00:00:00",0,0,"00:00:00","00:00:00",0,0,"00:00:00","00:00:00",0,0,"00:00:00","00:00:00",0,0,"00:00:00","00:00:00",0,0,"00:00:00","00:00:00",0,0,"00:00:00","00:00:00",0,0]
[null,null,null,null,null,null,null,0,"00:00:00","00:00:00",0,0,"00:00:00","00:00:00",0,0,"00:00:00","00:00:00",0,0,"00:00:00","00:00:00",0,0,"00:00:00","00:00:00",0,0,"00:00:00","00:00:00",0,0,"00:00:00","00:00:00",0,0,"00:00:00","00:00:00",0,0,"00:00:00","00:00:00",0,0,"00:00:00","00:00:00",0,0]
[null,null,null,null,null,null,null,0,"00:00:00","00:00:00",0,0,"00:00:00","00:00:00",0,0,"00:00:00","00:00:00",0,0,"00:00:00","00:00:00",0,0,"00:00:00","00:00:00",0,0,"00:00:00","00:00:00",0,0,"00:00:00","00:00:00",0,0,"00:00:00","00:00:00",0,0,"00:00:00","00:00:00",0,0,"00:00:00","00:00:00",0,0]
[null,null,null,null,null,null,null,0,"00:00:00","00:00:00",0,0,"00:00:00","00:00:00",0,0,"00:00:00","00:00:00",0,0,"00:00:00","00:00:00",0,0,"00:00:00","00:00:00",0,0,"00:00:00","00:00:00",0,0,"00:00:00","00:00:00",0,0,"00:00:00","00:00:00",0,0,"00:00:00","00:00:00",0,0,"00:00:00","00:00:00",0,0]
[null,null,null,null,null,null,null,0,"00:00:00","00:00:00",0,0,"00:00:00","00:00:00",0,0,"00:00:00","00:00:00",0,0,"00:00:00","00:00:00",0,0,"00:00:00","00:00:00",0,0,"00:00:00","00:00:00",0,0,"00:00:00","00:00:00",0,0,"00:00:00","00:00:00",0,0,"00:00:00","00:00:00",0,0,"00:00:00","00:00:00",0,0]
[null,null,null,null,null,null,null,0,"00:00:00","00:00:00",0,0,"00:00:00","00:00:00",0,0,"00:00:00","00:00:00",0,0,"00:00:00","00:00:00",0,0,"00:00:00","00:00:00",0,0,"00:00:00","00:00:00",0,0,"00:00:00","00:00:00",0,0,"00:00:00","00:00:00",0,0,"00:00:00","00:00:00",0,0,"00:00:00","00:00:00",0,0]
[null,null,null,null,null,null,null,0,"00:00:00","00:00:00",0,0,"00:00:00","00:00:00",0,0,"00:00:00","00:00:00",0,0,"00:00:00","00:00:00",0,0,"00:00:00","00:00:00",0,0,"00:00:00","00:00:00",0,0,"00:00:00","00:00:00",0,0,"00:00:00","00:00:00",0,0,"00:00:00","00:00:00",0,0,"00:00:00","00:00:00",0,0]
[null,null,null,null,null,null,null,0,"00:00:00","00:00:00",0,0,"00:00:00","00:00:00",0,0,"00:00:00","00:00:00",0,0,"00:00:00","00:00:00",0,0,"00:00:00","00:00:00",0,0,"00:00:00","00:00:00",0,0,"00:00:00","00:00:00",0,0,"00:00:00","00:00:00",0,0,"00:00:00","00:00:00",0,0,"00:00:00","00:00:00",0,0]
[null,null,null,null,null,null,null,0,"00:00:00","00:00:00",0,0,"00:00:00","00:00:00",0,0,"00:00:00","00:00:00",0,0,"00:00:00","00:00:00",0,0,"00:00:00","00:00:00",0,0,"00:00:00","00:00:00",0,0,"00:00:00","00:00:00",0,0,"00:00:00","00:00:00",0,0,"00:00:00","00:00:00",0,0,"00:00:00","00:00:00",0,0]
[null,null,null,null,null,null,null,0,"00:00:00","00:00:00",0,0,"00:00:00","00:00:00",0,0,"00:00:00","00:00:00",0,0,"00:00:00","00:00:00",0,0,"00:00:00","00:00:00",0,0,"00:00:00","00:00:00",0,0,"00:00:00","00:00:00",0,0,"00:00:00","00:00:00",0,0,"00:00:00","00:00:00",0,0,"00:00:00","00:00:00",0,0]
[null,null,null,null,null,null,null,0,"00:00:00","00:00:00",0,0,"00:00:00","00:00:00",0,0,"00:00:00","00:00:00",0,0,"00:00:00","00:00:00",0,0,"00:00:00","00:00:00",0,0,"00:00:00","00:00:00",0,0,"00:00:00","00:00:00",0,0,"00:00:00","00:00:00",0,0,"00:00:00","00:00:00",0,0,"00:00:00","00:00:00",0,0]
[null,null,null,null,null,null,null,0,"00:00:00","00:00:00",0,0,"00:00:00","00:00:00",0,0,"00:00:00","00:00:00",0,0,"00:00:00","00:00:00",0,0,"00:00:00","00:00:00",0,0,"00:00:00","00:00:00",0,0,"00:00:00","00:00:00",0,0,"00:00:00","00:00:00",0,0,"00:00:00","00:00:00",0,0,"00:00:00","00:00:00",0,0]
[null,null,null,null,null,null,null,0,"00:00:00","00:00:00",0,0,"00:00:00","00:00:00",0,0,"00:00:00","00:00:00",0,0,"00:00:00","00:00:00",0,0,"00:00:00","00:00:00",0,0,"00:00:00","00:00:00",0,0,"00:00:00","00:00:00",0,0,"00:00:00","00:00:00",0,0,"00:00:00","00:00:00",0,0,"00:00:00","00:00:00",0,0]
[null,null,null,null,null,null,null,0,"00:00:00","00:00:00",0,0,"00:00:00","00:00:00",0,0,"00:00:00","00:00:00",0,0,"00:00:00","00:00:00",0,0,"00:00:00","00:00:00",0,0,"00:00:00","00:00:00",0,0,"00:00:00","00:00:00",0,0,"00:00:00","00:00:00",0,0,"00:00:00","00:00:00",0,0,"00:00:00","00:00:00",0,0]
[null,null,null,null,null,null,null,0,"00:00:00","00:00:00",0,0,"00:00:00","00:00:00",0,0,"00:00:00","00:00:00",0,0,"00:00:00","00:00:00",0,0,"00:00:00","00:00:00",0,0,"00:00:00","00:00:00",0,0,"00:00:00","00:00:00",0,0,"00:00:00","00:00:00",0,0,"00:00:00","00:00:00",0,0,"00:00:00","00:00:00",0,0]
[null,null,null,null,null,null,null,0,"00:00:00","00:00:00",0,0,"00:00:00","00:00:00",0,0,"00:00:00","00:00:00",0,0,"00:00:00","00:00:00",0,0,"00:00:00","00:00:00",0,0,"00:00:00","00:00:00",0,0,"00:00:00","00:00:00",0,0,"00:00:00","00:00:00",0,0,"00:00:00","00:00:00",0,0,"00:00:00","00:00:00",0,0]
[null,null,null,null,null,null,null,0,"00:00:00","00:00:00",0,0,"00:00:00","00:00:00",0,0,"00:00:00","00:00:00",0,0,"00:00:00","00:00:00",0,0,"00:00:00","00:00:00",0,0,"00:00:00","00:00:00",0,0,"00:00:00","00:00:00",0,0,"00:00:00","00:00:00",0,0,"00:00:00","00:00:00",0,0,"00:00:00","00:00:00",0,0]
[null,null,null,null,null,null,null,0,"00:00:00","00:00:00",0,0,"00:00:00","00:00:00",0,0,"00:00:00","00:00:00",0,0,"00:00:00","00:00:00",0,0,"00:00:00","00:00:00",0,0,"00:00:00","00:00:00",0,0,"00:00:00","00:00:00",0,0,"00:00:00","00:00:00",0,0,"00:00:00","00:00:00",0,0,"00:00:00","00:00:00",0,0]
[null,null,null,null,null,null,null,0,"00:00:00","00:00:00",0,0,"00:00:00","00:00:00",0,0,"00:00:00","00:00:00",0,0,"00:00:00","00:00:00",0,0,"00:00:00","00:00:00",0,0,"00:00:00","00:00:00",0,0,"00:00:00","00:00:00",0,0,"00:00:00","00:00:00",0,0,"00:00:00","00:00:00",0,0,"00:00:00","00:00:00",0,0]
[null,null,null,null,null,null,null,0,"00:00:00","00:00:00",0,0,"00:00:00","00:00:00",0,0,"00:00:00","00:00:00",0,0,"00:00:00","00:00:00",0,0,"00:00:00","00:00:00",0,0,"00:00:00","00:00:00",0,0,"00:00:00","00:00:00",0,0,"00:00:00","00:00:00",0,0,"00:00:00","00:00:00",0,0,"00:00:00","00:00:00",0,0]
[null,null,null,null,null,null,null,0,"00:00:00","00:00:00",0,0,"00:00:00","00:00:00",0,0,"00:00:00","00:00:00",0,0,"00:00:00","00:00:00",0,0,"00:00:00","00:00:00",0,0,"00:00:00","00:00:00",0,0,"00:00:00","00:00:00",0,0,"00:00:00","00:00:00",0,0,"00:00:00","00:00:00",0,0,"00:00:00","00:00:00",0,0]
[null,null,null,null,null,null,null,0,"00:00:00","00:00:00",0,0,"00:00:00","00:00:00",0,0,"00:00:00","00:00:00",0,0,"00:00:00","00:00:00",0,0,"00:00:00","00:00:00",0,0,"00:00:00","00:00:00",0,0,"00:00:00","00:00:00",0,0,"00:00:00","00:00:00",0,0,"00:00:00","00:00:00",0,0,"00:00:00","00:00:00",0,0]
[null,null,null,null,null,null,null,0,"00:00:00","00:00:00",0,0,"00:00:00","00:00:00",0,0,"00:00:00","00:00:00",0,0,"00:00:00","00:00:00",0,0,"00:00:00","00:00:00",0,0,"00:00:00","00:00:00",0,0,"00:00:00","00:00:00",0,0,"00:00:00","00:00:00",0,0,"00:00:00","00:00:00",0,0,"00:00:00","00:00:00",0,0]
[null,null,null,null,null,null,null,0,"00:00:00","00:00:00",0,0,"00:00:00","00:00:00",0,0,"00:00:00","00:00:00",0,0,"00:00:00","00:00:00",0,0,"00:00:00","00:00:00",0,0,"00:00:00","00:00:00",0,0,"00:00:00","00:00:00",0,0,"00:00:00","00:00:00",0,0,"00:00:00","00:00:00",0,0,"00:00:00","00:00:00",0,0]
[null,null,null,null,null,null,null,0,"00:00:00","00:00:00",0,0,"00:00:00","00:00:00",0,0,"00:00:00","00:00:00",0,0,"00:00:00","00:00:00",0,0,"00:00:00","00:00:00",0,0,"00:00:00","00:00:00",0,0,"00:00:00","00:00:00",0,0,"00:00:00","00:00:00",0,0,"00:00:00","00:00:00",0,0,"00:00:00","00:00:00",0,0]
[null,null,null,null,null,null,null,0,"00:00:00","00:00:00",0,0,"00:00:00","00:00:00",0,0,"00:00:00","00:00:00",0,0,"00:00:00","00:00:00",0,0,"00:00:00","00:00:00",0,0,"00:00:00","00:00:00",0,0,"00:00:00","00:00:00",0,0,"00:00:00","00:00:00",0,0,"00:00:00","00:00:00",0,0,"00:00:00","00:00:00",0,0]
[null,null,null,null,null,null,null,0,"00:00:00","00:00:00",0,0,"00:00:00","00:00:00",0,0,"00:00:00","00:00:00",0,0,"00:00:00","00:00:00",0,0,"00:00:00","00:00:00",0,0,"00:00:00","00:00:00",0,0,"00:00:00","00:00:00",0,0,"00:00:00","00:00:00",0,0,"00:00:00","00:00:00",0,0,"00:00:00","00:00:00",0,0]
[null,null,null,null,null,null,null,0,"00:00:00","00:00:00",0,0,"00:00:00","00:00:00",0,0,"00:00:00","00:00:00",0,0,"00:00:00","00:00:00",0,0,"00:00:00","00:00:00",0,0,"00:00:00","00:00:00",0,0,"00:00:00","00:00:00",0,0,"00:00:00","00:00:00",0,0,"00:00:00","00:00:00",0,0,"00:00:00","00:00:00",0,0]
[null,null,null,null,null,null,null,0,"00:00:00","00:00:00",0,0,"00:00:00","00:00:00",0,0,"00:00:00","00:00:00",0,0,"00:00:00","00:00:00",0,0,"00:00:00","00:00:00",0,0,"00:00:00","00:00:00",0,0,"00:00:00","00:00:00",0,0,"00:00:00","00:00:00",0,0,"00:00:00","00:00:00",0,0,"00:00:00","00:00:00",0,0]
[null,null,null,null,null,null,null,0,"00:00:00","00:00:00",0,0,"00:00:00","00:00:00",0,0,"00:00:00","00:00:00",0,0,"00:00:00","00:00:00",0,0,"00:00:00","00:00:00",0,0,"00:00:00","00:00:00",0,0,"00:00:00","00:00:00",0,0,"00:00:00","00:00:00",0,0,"00:00:00","00:00:00",0,0,"00:00:00","00:00:00",0,0]
[null,null,null,null,null,null,null,0,"00:00:00","00:00:00",0,0,"00:00:00","00:00:00",0,0,"00:00:00","00:00:00",0,0,"00:00:00","00:00:00",0,0,"00:00:00","00:00:00",0,0,"00:00:00","00:00:00",0,0,"00:00:00","00:00:00",0,0,"00:00:00","00:00:00",0,0,"00:00:00","00:00:00",0,0,"00:00:00","00:00:00",0,0]
[null,null,null,null,null,null,null,0,"00:00:00","00:00:00",0,0,"00:00:00","00:00:00",0,0,"00:00:00","00:00:00",0,0,"00:00:00","00:00:00",0,0,"00:00:00","00:00:00",0,0,"00:00:00","00:00:00",0,0,"00:00:00","00:00:00",0,0,"00:00:00","00:00:00",0,0,"00:00:00","00:00:00",0,0,"00:00:00","00:00:00",0,0]
[null,null,null,null,null,null,null,0,"00:00:00","00:00:00",0,0,"00:00:00","00:00:00",0,0,"00:00:00","00:00:00",0,0,"00:00:00","00:00:00",0,0,"00:00:00","00:00:00",0,0,"00:00:00","00:00:00",0,0,"00:00:00","00:00:00",0,0,"00:00:00","00:00:00",0,0,"00:00:00","00:00:00",0,0,"00:00:00","00:00:00",0,0]
[null,null,null,null,null,null,null,0,"00:00:00","00:00:00",0,0,"00:00:00","00:00:00",0,0,"00:00:00","00:00:00",0,0,"00:00:00","00:00:00",0,0,"00:00:00","00:00:00",0,0,"00:00:00","00:00:00",0,0,"00:00:00","00:00:00",0,0,"00:00:00","00:00:00",0,0,"00:00:00","00:00:00",0,0,"00:00:00","00:00:00",0,0]
[null,null,null,null,null,null,null,0,"00:00:00","00:00:00",0,0,"00:00:00","00:00:00",0,0,"00:00:00","00:00:00",0,0,"00:00:00","00:00:00",0,0,"00:00:00","00:00:00",0,0,"00:00:00","00:00:00",0,0,"00:00:00","00:00:00",0,0,"00:00:00","00:00:00",0,0,"00:00:00","00:00:00",0,0,"00:00:00","00:00:00",0,0]
[null,null,null,null,null,null,null,0,"00:00:00","00:00:00",0,0,"00:00:00","00:00:00",0,0,"00:00:00","00:00:00",0,0,"00:00:00","00:00:00",0,0,"00:00:00","00:00:00",0,0,"00:00:00","00:00:00",0,0,"00:00:00","00:00:00",0,0,"00:00:00","00:00:00",0,0,"00:00:00","00:00:00",0,0,"00:00:00","00:00:00",0,0]
[null,null,null,null,null,null,null,0,"00:00:00","00:00:00",0,0,"00:00:00","00:00:00",0,0,"00:00:00","00:00:00",0,0,"00:00:00","00:00:00",0,0,"00:00:00","00:00:00",0,0,"00:00:00","00:00:00",0,0,"00:00:00","00:00:00",0,0,"00:00:00","00:00:00",0,0,"00:00:00","00:00:00",0,0,"00:00:00","00:00:00",0,0]
[null,null,null,null,null,null,null,0,"00:00:00","00:00:00",0,0,"00:00:00","00:00:00",0,0,"00:00:00","00:00:00",0,0,"00:00:00","00:00:00",0,0,"00:00:00","00:00:00",0,0,"00:00:00","00:00:00",0,0,"00:00:00","00:00:00",0,0,"00:00:00","00:00:00",0,0,"00:00:00","00:00:00",0,0,"00:00:00","00:00:00",0,0]
[null,null,null,null,null,null,null,0,"00:00:00","00:00:00",0,0,"00:00:00","00:00:00",0,0,"00:00:00","00:00:00",0,0,"00:00:00","00:00:00",0,0,"00:00:00","00:00:00",0,0,"00:00:00","00:00:00",0,0,"00:00:00","00:00:00",0,0,"00:00:00","00:00:00",0,0,"00:00:00","00:00:00",0,0,"00:00:00","00:00:00",0,0]
[null,null,null,null,null,null,null,0,"00:00:00","00:00:00",0,0,"00:00:00","00:00:00",0,0,"00:00:00","00:00:00",0,0,"00:00:00","00:00:00",0,0,"00:00:00","00:00:00",0,0,"00:00:00","00:00:00",0,0,"00:00:00","00:00:00",0,0,"00:00:00","00:00:00",0,0,"00:00:00","00:00:00",0,0,"00:00:00","00:00:00",0,0]
[null,null,null,null,null,null,null,0,"00:00:00","00:00:00",0,0,"00:00:00","00:00:00",0,0,"00:00:00","00:00:00",0,0,"00:00:00","00:00:00",0,0,"00:00:00","00:00:00",0,0,"00:00:00","00:00:00",0,0,"00:00:00","00:00:00",0,0,"00:00:00","00:00:00",0,0,"00:00:00","00:00:00",0,0,"00:00:00","00:00:00",0,0]
[null,null,null,null,null,null,null,0,"00:00:00","00:00:00",0,0,"00:00:00","00:00:00",0,0,"00:00:00","00:00:00",0,0,"00:00:00","00:00:00",0,0,"00:00:00","00:00:00",0,0,"00:00:00","00:00:00",0,0,"00:00:00","00:00:00",0,0,"00:00:00","00:00:00",0,0,"00:00:00","00:00:00",0,0,"00:00:00","00:00:00",0,0]
[null,null,null,null,null,null,null,0,"00:00:00","00:00:00",0,0,"00:00:00","00:00:00",0,0,"00:00:00","00:00:00",0,0,"00:00:00","00:00:00",0,0,"00:00:00","00:00:00",0,0,"00:00:00","00:00:00",0,0,"00:00:00","00:00:00",0,0,"00:00:00","00:00:00",0,0,"00:00:00","00:00:00",0,0,"00:00:00","00:00:00",0,0]
[null,null,null,null,null,null,null,0,"00:00:00","00:00:00",0,0,"00:00:00","00:00:00",0,0,"00:00:00","00:00:00",0,0,"00:00:00","00:00:00",0,0,"00:00:00","00:00:00",0,0,"00:00:00","00:00:00",0,0,"00:00:00","00:00:00",0,0,"00:00:00","00:00:00",0,0,"00:00:00","00:00:00",0,0,"00:00:00","00:00:00",0,0]
[null,null,null,null,null,null,null,0,"00:00:00","00:00:00",0,0,"00:00:00","00:00:00",0,0,"00:00:00","00:00:00",0,0,"00:00:00","00:00:00",0,0,"00:00:00","00:00:00",0,0,"00:00:00","00:00:00",0,0,"00:00:00","00:00:00",0,0,"00:00:00","00:00:00",0,0,"00:00:00","00:00:00",0,0,"00:00:00","00:00:00",0,0]
[null,null,null,null,null,null,null,0,"00:00:00","00:00:00",0,0,"00:00:00","00:00:00",0,0,"00:00:00","00:00:00",0,0,"00:00:00","00:00:00",0,0,"00:00:00","00:00:00",0,0,"00:00:00","00:00:00",0,0,"00:00:00","00:00:00",0,0,"00:00:00","00:00:00",0,0,"00:00:00","00:00:00",0,0,"00:00:00","00:00:00",0,0]
[null,null,null,null,null,null,null,0,"00:00:00","00:00:00",0,0,"00:00:00","00:00:00",0,0,"00:00:00","00:00:00",0,0,"00:00:00","00:00:00",0,0,"00:00:00","00:00:00",0,0,"00:00:00","00:00:00",0,0,"00:00:00","00:00:00",0,0,"00:00:00","00:00:00",0,0,"00:00:00","00:00:00",0,0,"00:00:00","00:00:00",0,0]
[null,null,null,null,null,null,null,0,"00:00:00","00:00:00",0,0,"00:00:00","00:00:00",0,0,"00:00:00","00:00:00",0,0,"00:00:00","00:00:00",0,0,"00:00:00","00:00:00",0,0,"00:00:00","00:00:00",0,0,"00:00:00","00:00:00",0,0,"00:00:00","00:00:00",0,0,"00:00:00","00:00:00",0,0,"00:00:00","00:00:00",0,0]
[null,null,null,null,null,null,null,0,"00:00:00","00:00:00",0,0,"00:00:00","00:00:00",0,0,"00:00:00","00:00:00",0,0,"00:00:00","00:00:00",0,0,"00:00:00","00:00:00",0,0,"00:00:00","00:00:00",0,0,"00:00:00","00:00:00",0,0,"00:00:00","00:00:00",0,0,"00:00:00","00:00:00",0,0,"00:00:00","00:00:00",0,0]
[null,null,null,null,null,null,null,0,"00:00:00","00:00:00",0,0,"00:00:00","00:00:00",0,0,"00:00:00","00:00:00",0,0,"00:00:00","00:00:00",0,0,"00:00:00","00:00:00",0,0,"00:00:00","00:00:00",0,0,"00:00:00","00:00:00",0,0,"00:00:00","00:00:00",0,0,"00:00:00","00:00:00",0,0,"00:00:00","00:00:00",0,0]
[null,null,null,null,null,null,null,0,"00:00:00","00:00:00",0,0,"00:00:00","00:00:00",0,0,"00:00:00","00:00:00",0,0,"00:00:00","00:00:00",0,0,"00:00:00","00:00:00",0,0,"00:00:00","00:00:00",0,0,"00:00:00","00:00:00",0,0,"00:00:00","00:00:00",0,0,"00:00:00","00:00:00",0,0,"00:00:00","00:00:00",0,0]
[null,null,null,null,null,null,null,0,"00:00:00","00:00:00",0,0,"00:00:00","00:00:00",0,0,"00:00:00","00:00:00",0,0,"00:00:00","00:00:00",0,0,"00:00:00","00:00:00",0,0,"00:00:00","00:00:00",0,0,"00:00:00","00:00:00",0,0,"00:00:00","00:00:00",0,0,"00:00:00","00:00:00",0,0,"00:00:00","00:00:00",0,0]
[null,null,null,null,null,null,null,0,"00:00:00","00:00:00",0,0,"00:00:00","00:00:00",0,0,"00:00:00","00:00:00",0,0,"00:00:00","00:00:00",0,0,"00:00:00","00:00:00",0,0,"00:00:00","00:00:00",0,0,"00:00:00","00:00:00",0,0,"00:00:00","00:00:00",0,0,"00:00:00","00:00:00",0,0,"00:00:00","00:00:00",0,0]
[null,null,null,null,null,null,null,0,"00:00:00","00:00:00",0,0,"00:00:00","00:00:00",0,0,"00:00:00","00:00:00",0,0,"00:00:00","00:00:00",0,0,"00:00:00","00:00:00",0,0,"00:00:00","00:00:00",0,0,"00:00:00","00:00:00",0,0,"00:00:00","00:00:00",0,0,"00:00:00","00:00:00",0,0,"00:00:00","00:00:00",0,0]
[null,null,null,null,null,null,null,0,{"$f":"IF(OR($F845<I$10,$E845>J$10),0,IF(AND($E845>=I$10,$F845<=J$10),$E845,IF(AND($E845<=I$10,$F845<=J$10),I$10,IF(AND($E845<=J$10,$F845>=J$10,$E845>=I$10),$E845,IF(AND($E845<=I$10,$F845>=J$10),I$10,\"chyba\")))))","v":"00:00:00"},{"$f":"IF(OR($F845<I$10,$E845>J$10),0,IF(AND($E845>=I$10,$F845<=J$10),$F845,IF(AND($E845<=I$10,$F845<=J$10),$F845,IF(AND($E845<=J$10,$F845>=J$10),J$10,IF(AND($E845<=I$10,$F845>=J$10),J$10,\"chyba\")))))","v":"00:00:00"},0,{"$f":"IF($H845<=0,0,$G845/$H845*K845)","v":0},{"$f":"IF(OR($F845<M$10,$E845>N$10),0,IF(AND($E845>=M$10,$F845<=N$10),$E845,IF(AND($E845<=M$10,$F845<=N$10),M$10,IF(AND($E845<=N$10,$F845>=N$10,$E845>=M$10),$E845,IF(AND($E845<=M$10,$F845>=N$10),M$10,\"chyba\")))))","v":"00:00:00"},{"$f":"IF(OR($F845<M$10,$E845>N$10),0,IF(AND($E845>=M$10,$F845<=N$10),$F845,IF(AND($E845<=M$10,$F845<=N$10),$F845,IF(AND($E845<=N$10,$F845>=N$10),N$10,IF(AND($E845<=M$10,$F845>=N$10),N$10,\"chyba\")))))","v":"00:00:00"},0,{"$f":"IF($H845<=0,0,$G845/$H845*O845)","v":0},{"$f":"IF(OR($F845<Q$10,$E845>R$10),0,IF(AND($E845>=Q$10,$F845<=R$10),$E845,IF(AND($E845<=Q$10,$F845<=R$10),Q$10,IF(AND($E845<=R$10,$F845>=R$10,$E845>=Q$10),$E845,IF(AND($E845<=Q$10,$F845>=R$10),Q$10,\"chyba\")))))","v":"00:00:00"},{"$f":"IF(OR($F845<Q$10,$E845>R$10),0,IF(AND($E845>=Q$10,$F845<=R$10),$F845,IF(AND($E845<=Q$10,$F845<=R$10),$F845,IF(AND($E845<=R$10,$F845>=R$10),R$10,IF(AND($E845<=Q$10,$F845>=R$10),R$10,\"chyba\")))))","v":"00:00:00"},0,{"$f":"IF($H845<=0,0,$G845/$H845*S845)","v":0},{"$f":"IF(OR($F845<U$10,$E845>V$10),0,IF(AND($E845>=U$10,$F845<=V$10),$E845,IF(AND($E845<=U$10,$F845<=V$10),U$10,IF(AND($E845<=V$10,$F845>=V$10,$E845>=U$10),$E845,IF(AND($E845<=U$10,$F845>=V$10),U$10,\"chyba\")))))","v":"00:00:00"},{"$f":"IF(OR($F845<U$10,$E845>V$10),0,IF(AND($E845>=U$10,$F845<=V$10),$F845,IF(AND($E845<=U$10,$F845<=V$10),$F845,IF(AND($E845<=V$10,$F845>=V$10),V$10,IF(AND($E845<=U$10,$F845>=V$10),V$10,\"chyba\")))))","v":"00:00:00"},0,{"$f":"IF($H845<=0,0,$G845/$H845*W845)","v":0},{"$f":"IF(OR($F845<Y$10,$E845>Z$10),0,IF(AND($E845>=Y$10,$F845<=Z$10),$E845,IF(AND($E845<=Y$10,$F845<=Z$10),Y$10,IF(AND($E845<=Z$10,$F845>=Z$10,$E845>=Y$10),$E845,IF(AND($E845<=Y$10,$F845>=Z$10),Y$10,\"chyba\")))))","v":"00:00:00"},{"$f":"IF(OR($F845<Y$10,$E845>Z$10),0,IF(AND($E845>=Y$10,$F845<=Z$10),$F845,IF(AND($E845<=Y$10,$F845<=Z$10),$F845,IF(AND($E845<=Z$10,$F845>=Z$10),Z$10,IF(AND($E845<=Y$10,$F845>=Z$10),Z$10,\"chyba\")))))","v":"00:00:00"},0,{"$f":"IF($H845<=0,0,$G845/$H845*AA845)","v":0},{"$f":"IF(OR($F845<AC$10,$E845>AD$10),0,IF(AND($E845>=AC$10,$F845<=AD$10),$E845,IF(AND($E845<=AC$10,$F845<=AD$10),AC$10,IF(AND($E845<=AD$10,$F845>=AD$10,$E845>=AC$10),$E845,IF(AND($E845<=AC$10,$F845>=AD$10),AC$10,\"chyba\")))))","v":"00:00:00"},{"$f":"IF(OR($F845<AC$10,$E845>AD$10),0,IF(AND($E845>=AC$10,$F845<=AD$10),$F845,IF(AND($E845<=AC$10,$F845<=AD$10),$F845,IF(AND($E845<=AD$10,$F845>=AD$10),AD$10,IF(AND($E845<=AC$10,$F845>=AD$10),AD$10,\"chyba\")))))","v":"00:00:00"},0,{"$f":"IF($H845<=0,0,$G845/$H845*AE845)","v":0},{"$f":"IF(OR($F845<AG$10,$E845>AH$10),0,IF(AND($E845>=AG$10,$F845<=AH$10),$E845,IF(AND($E845<=AG$10,$F845<=AH$10),AG$10,IF(AND($E845<=AH$10,$F845>=AH$10,$E845>=AG$10),$E845,IF(AND($E845<=AG$10,$F845>=AH$10),AG$10,\"chyba\")))))","v":"00:00:00"},{"$f":"IF(OR($F845<AG$10,$E845>AH$10),0,IF(AND($E845>=AG$10,$F845<=AH$10),$F845,IF(AND($E845<=AG$10,$F845<=AH$10),$F845,IF(AND($E845<=AH$10,$F845>=AH$10),AH$10,IF(AND($E845<=AG$10,$F845>=AH$10),AH$10,\"chyba\")))))","v":"00:00:00"},0,{"$f":"IF($H845<=0,0,$G845/$H845*AI845)","v":0},{"$f":"IF(OR($F845<AK$10,$E845>AL$10),0,IF(AND($E845>=AK$10,$F845<=AL$10),$E845,IF(AND($E845<=AK$10,$F845<=AL$10),AK$10,IF(AND($E845<=AL$10,$F845>=AL$10,$E845>=AK$10),$E845,IF(AND($E845<=AK$10,$F845>=AL$10),AK$10,\"chyba\")))))","v":"00:00:00"},{"$f":"IF(OR($F845<AK$10,$E845>AL$10),0,IF(AND($E845>=AK$10,$F845<=AL$10),$F845,IF(AND($E845<=AK$10,$F845<=AL$10),$F845,IF(AND($E845<=AL$10,$F845>=AL$10),AL$10,IF(AND($E845<=AK$10,$F845>=AL$10),AL$10,\"chyba\")))))","v":"00:00:00"},0,{"$f":"IF($H845<=0,0,$G845/$H845*AM845)","v":0},{"$f":"IF(OR($F845<AO$10,$E845>AP$10),0,IF(AND($E845>=AO$10,$F845<=AP$10),$E845,IF(AND($E845<=AO$10,$F845<=AP$10),AO$10,IF(AND($E845<=AP$10,$F845>=AP$10,$E845>=AO$10),$E845,IF(AND($E845<=AO$10,$F845>=AP$10),AO$10,\"chyba\")))))","v":"00:00:00"},{"$f":"IF(OR($F845<AO$10,$E845>AP$10),0,IF(AND($E845>=AO$10,$F845<=AP$10),$F845,IF(AND($E845<=AO$10,$F845<=AP$10),$F845,IF(AND($E845<=AP$10,$F845>=AP$10),AP$10,IF(AND($E845<=AO$10,$F845>=AP$10),AP$10,\"chyba\")))))","v":"00:00:00"},0,{"$f":"IF($H845<=0,0,$G845/$H845*AQ845)","v":0},{"$f":"IF(OR($F845<AS$10,$E845>AT$10),0,IF(AND($E845>=AS$10,$F845<=AT$10),$E845,IF(AND($E845<=AS$10,$F845<=AT$10),AS$10,IF(AND($E845<=AT$10,$F845>=AT$10,$E845>=AS$10),$E845,IF(AND($E845<=AS$10,$F845>=AT$10),AS$10,\"chyba\")))))","v":"00:00:00"},{"$f":"IF(OR($F845<AS$10,$E845>AT$10),0,IF(AND($E845>=AS$10,$F845<=AT$10),$F845,IF(AND($E845<=AS$10,$F845<=AT$10),$F845,IF(AND($E845<=AT$10,$F845>=AT$10),AT$10,IF(AND($E845<=AS$10,$F845>=AT$10),AT$10,\"chyba\")))))","v":"00:00:00"},0,{"$f":"IF($H845<=0,0,$G845/$H845*AU845)","v":0}]
[null,null,null,null,null,null,null,{"$f":"IF(F846-E846=0,0,F846-E846+1)","v":0},"00:00:00","00:00:00",{"$f":"IF(J846-I846=0,0,J846-I846+1)","v":0},0,"00:00:00","00:00:00",{"$f":"IF(N846-M846=0,0,N846-M846+1)","v":0},0,"00:00:00","00:00:00",{"$f":"IF(R846-Q846=0,0,R846-Q846+1)","v":0},0,"00:00:00","00:00:00",{"$f":"IF(V846-U846=0,0,V846-U846+1)","v":0},0,"00:00:00","00:00:00",{"$f":"IF(Z846-Y846=0,0,Z846-Y846+1)","v":0},0,"00:00:00","00:00:00",{"$f":"IF(AD846-AC846=0,0,AD846-AC846+1)","v":0},0,"00:00:00","00:00:00",{"$f":"IF(AH846-AG846=0,0,AH846-AG846+1)","v":0},0,"00:00:00","00:00:00",{"$f":"IF(AL846-AK846=0,0,AL846-AK846+1)","v":0},0,"00:00:00","00:00:00",{"$f":"IF(AP846-AO846=0,0,AP846-AO846+1)","v":0},0,"00:00:00","00:00:00",{"$f":"IF(AT846-AS846=0,0,AT846-AS846+1)","v":0},0]
[null,null,null,null,null,null,null,0,"00:00:00","00:00:00",0,0,"00:00:00","00:00:00",0,0,"00:00:00","00:00:00",0,0,"00:00:00","00:00:00",0,0,"00:00:00","00:00:00",0,0,"00:00:00","00:00:00",0,0,"00:00:00","00:00:00",0,0,"00:00:00","00:00:00",0,0,"00:00:00","00:00:00",0,0,"00:00:00","00:00:00",0,0]
[null,null,null,null,null,null,null,0,"00:00:00","00:00:00",0,0,"00:00:00","00:00:00",0,0,"00:00:00","00:00:00",0,0,"00:00:00","00:00:00",0,0,"00:00:00","00:00:00",0,0,"00:00:00","00:00:00",0,0,"00:00:00","00:00:00",0,0,"00:00:00","00:00:00",0,0,"00:00:00","00:00:00",0,0,"00:00:00","00:00:00",0,0]
[null,null,null,null,null,null,null,0,"00:00:00","00:00:00",0,0,"00:00:00","00:00:00",0,0,"00:00:00","00:00:00",0,0,"00:00:00","00:00:00",0,0,"00:00:00","00:00:00",0,0,"00:00:00","00:00:00",0,0,"00:00:00","00:00:00",0,0,"00:00:00","00:00:00",0,0,"00:00:00","00:00:00",0,0,"00:00:00","00:00:00",0,0]
[null,null,null,null,null,null,null,0,"00:00:00","00:00:00",0,0,"00:00:00","00:00:00",0,0,"00:00:00","00:00:00",0,0,"00:00:00","00:00:00",0,0,"00:00:00","00:00:00",0,0,"00:00:00","00:00:00",0,0,"00:00:00","00:00:00",0,0,"00:00:00","00:00:00",0,0,"00:00:00","00:00:00",0,0,"00:00:00","00:00:00",0,0]
[null,null,null,null,null,null,null,0,"00:00:00","00:00:00",0,0,"00:00:00","00:00:00",0,0,"00:00:00","00:00:00",0,0,"00:00:00","00:00:00",0,0,"00:00:00","00:00:00",0,0,"00:00:00","00:00:00",0,0,"00:00:00","00:00:00",0,0,"00:00:00","00:00:00",0,0,"00:00:00","00:00:00",0,0,"00:00:00","00:00:00",0,0]
[null,null,null,null,null,null,null,0,"00:00:00","00:00:00",0,0,"00:00:00","00:00:00",0,0,"00:00:00","00:00:00",0,0,"00:00:00","00:00:00",0,0,"00:00:00","00:00:00",0,0,"00:00:00","00:00:00",0,0,"00:00:00","00:00:00",0,0,"00:00:00","00:00:00",0,0,"00:00:00","00:00:00",0,0,"00:00:00","00:00:00",0,0]
[null,null,null,null,null,null,null,0,"00:00:00","00:00:00",0,0,"00:00:00","00:00:00",0,0,"00:00:00","00:00:00",0,0,"00:00:00","00:00:00",0,0,"00:00:00","00:00:00",0,0,"00:00:00","00:00:00",0,0,"00:00:00","00:00:00",0,0,"00:00:00","00:00:00",0,0,"00:00:00","00:00:00",0,0,"00:00:00","00:00:00",0,0]
[null,null,null,null,null,null,null,0,"00:00:00","00:00:00",0,0,"00:00:00","00:00:00",0,0,"00:00:00","00:00:00",0,0,"00:00:00","00:00:00",0,0,"00:00:00","00:00:00",0,0,"00:00:00","00:00:00",0,0,"00:00:00","00:00:00",0,0,"00:00:00","00:00:00",0,0,"00:00:00","00:00:00",0,0,"00:00:00","00:00:00",0,0]
[null,null,null,null,null,null,null,0,"00:00:00","00:00:00",0,0,"00:00:00","00:00:00",0,0,"00:00:00","00:00:00",0,0,"00:00:00","00:00:00",0,0,"00:00:00","00:00:00",0,0,"00:00:00","00:00:00",0,0,"00:00:00","00:00:00",0,0,"00:00:00","00:00:00",0,0,"00:00:00","00:00:00",0,0,"00:00:00","00:00:00",0,0]
[null,null,null,null,null,null,null,0,"00:00:00","00:00:00",0,0,"00:00:00","00:00:00",0,0,"00:00:00","00:00:00",0,0,"00:00:00","00:00:00",0,0,"00:00:00","00:00:00",0,0,"00:00:00","00:00:00",0,0,"00:00:00","00:00:00",0,0,"00:00:00","00:00:00",0,0,"00:00:00","00:00:00",0,0,"00:00:00","00:00:00",0,0]
[null,null,null,null,null,null,null,0,"00:00:00","00:00:00",0,0,"00:00:00","00:00:00",0,0,"00:00:00","00:00:00",0,0,"00:00:00","00:00:00",0,0,"00:00:00","00:00:00",0,0,"00:00:00","00:00:00",0,0,"00:00:00","00:00:00",0,0,"00:00:00","00:00:00",0,0,"00:00:00","00:00:00",0,0,"00:00:00","00:00:00",0,0]
[null,null,null,null,null,null,null,0,"00:00:00","00:00:00",0,0,"00:00:00","00:00:00",0,0,"00:00:00","00:00:00",0,0,"00:00:00","00:00:00",0,0,"00:00:00","00:00:00",0,0,"00:00:00","00:00:00",0,0,"00:00:00","00:00:00",0,0,"00:00:00","00:00:00",0,0,"00:00:00","00:00:00",0,0,"00:00:00","00:00:00",0,0]
[null,null,null,null,null,null,null,0,"00:00:00","00:00:00",0,0,"00:00:00","00:00:00",0,0,"00:00:00","00:00:00",0,0,"00:00:00","00:00:00",0,0,"00:00:00","00:00:00",0,0,"00:00:00","00:00:00",0,0,"00:00:00","00:00:00",0,0,"00:00:00","00:00:00",0,0,"00:00:00","00:00:00",0,0,"00:00:00","00:00:00",0,0]
[null,null,null,null,null,null,null,0,"00:00:00","00:00:00",0,0,"00:00:00","00:00:00",0,0,"00:00:00","00:00:00",0,0,"00:00:00","00:00:00",0,0,"00:00:00","00:00:00",0,0,"00:00:00","00:00:00",0,0,"00:00:00","00:00:00",0,0,"00:00:00","00:00:00",0,0,"00:00:00","00:00:00",0,0,"00:00:00","00:00:00",0,0]
[null,null,null,null,null,null,null,0,"00:00:00","00:00:00",0,0,"00:00:00","00:00:00",0,0,"00:00:00","00:00:00",0,0,"00:00:00","00:00:00",0,0,"00:00:00","00:00:00",0,0,"00:00:00","00:00:00",0,0,"00:00:00","00:00:00",0,0,"00:00:00","00:00:00",0,0,"00:00:00","00:00:00",0,0,"00:00:00","00:00:00",0,0]
[null,null,null,null,null,null,null,0,"00:00:00","00:00:00",0,0,"00:00:00","00:00:00",0,0,"00:00:00","00:00:00",0,0,"00:00:00","00:00:00",0,0,"00:00:00","00:00:00",0,0,"00:00:00","00:00:00",0,0,"00:00:00","00:00:00",0,0,"00:00:00","00:00:00",0,0,"00:00:00","00:00:00",0,0,"00:00:00","00:00:00",0,0]
[null,null,null,null,null,null,null,0,"00:00:00","00:00:00",0,0,"00:00:00","00:00:00",0,0,"00:00:00","00:00:00",0,0,"00:00:00","00:00:00",0,0,"00:00:00","00:00:00",0,0,"00:00:00","00:00:00",0,0,"00:00:00","00:00:00",0,0,"00:00:00","00:00:00",0,0,"00:00:00","00:00:00",0,0,"00:00:00","00:00:00",0,0]
[null,null,null,null,null,null,null,0,"00:00:00","00:00:00",0,0,"00:00:00","00:00:00",0,0,"00:00:00","00:00:00",0,0,"00:00:00","00:00:00",0,0,"00:00:00","00:00:00",0,0,"00:00:00","00:00:00",0,0,"00:00:00","00:00:00",0,0,"00:00:00","00:00:00",0,0,"00:00:00","00:00:00",0,0,"00:00:00","00:00:00",0,0]
[null,null,null,null,null,null,null,0,"00:00:00","00:00:00",0,0,"00:00:00","00:00:00",0,0,"00:00:00","00:00:00",0,0,"00:00:00","00:00:00",0,0,"00:00:00","00:00:00",0,0,"00:00:00","00:00:00",0,0,"00:00:00","00:00:00",0,0,"00:00:00","00:00:00",0,0,"00:00:00","00:00:00",0,0,"00:00:00","00:00:00",0,0]
[null,null,null,null,null,null,null,0,"00:00:00","00:00:00",0,0,"00:00:00","00:00:00",0,0,"00:00:00","00:00:00",0,0,"00:00:00","00:00:00",0,0,"00:00:00","00:00:00",0,0,"00:00:00","00:00:00",0,0,"00:00:00","00:00:00",0,0,"00:00:00","00:00:00",0,0,"00:00:00","00:00:00",0,0,"00:00:00","00:00:00",0,0]
[null,null,null,null,null,null,null,0,"00:00:00","00:00:00",0,0,"00:00:00","00:00:00",0,0,"00:00:00","00:00:00",0,0,"00:00:00","00:00:00",0,0,"00:00:00","00:00:00",0,0,"00:00:00","00:00:00",0,0,"00:00:00","00:00:00",0,0,"00:00:00","00:00:00",0,0,"00:00:00","00:00:00",0,0,"00:00:00","00:00:00",0,0]
[null,null,null,null,null,null,null,0,"00:00:00","00:00:00",0,0,"00:00:00","00:00:00",0,0,"00:00:00","00:00:00",0,0,"00:00:00","00:00:00",0,0,"00:00:00","00:00:00",0,0,"00:00:00","00:00:00",0,0,"00:00:00","00:00:00",0,0,"00:00:00","00:00:00",0,0,"00:00:00","00:00:00",0,0,"00:00:00","00:00:00",0,0]
[null,null,null,null,null,null,null,0,"00:00:00","00:00:00",0,0,"00:00:00","00:00:00",0,0,"00:00:00","00:00:00",0,0,"00:00:00","00:00:00",0,0,"00:00:00","00:00:00",0,0,"00:00:00","00:00:00",0,0,"00:00:00","00:00:00",0,0,"00:00:00","00:00:00",0,0,"00:00:00","00:00:00",0,0,"00:00:00","00:00:00",0,0]
[null,null,null,null,null,null,null,0,"00:00:00","00:00:00",0,0,"00:00:00","00:00:00",0,0,"00:00:00","00:00:00",0,0,"00:00:00","00:00:00",0,0,"00:00:00","00:00:00",0,0,"00:00:00","00:00:00",0,0,"00:00:00","00:00:00",0,0,"00:00:00","00:00:00",0,0,"00:00:00","00:00:00",0,0,"00:00:00","00:00:00",0,0]
[null,null,null,null,null,null,null,0,"00:00:00","00:00:00",0,0,"00:00:00","00:00:00",0,0,"00:00:00","00:00:00",0,0,"00:00:00","00:00:00",0,0,"00:00:00","00:00:00",0,0,"00:00:00","00:00:00",0,0,"00:00:00","00:00:00",0,0,"00:00:00","00:00:00",0,0,"00:00:00","00:00:00",0,0,"00:00:00","00:00:00",0,0]
[null,null,null,null,null,null,null,0,"00:00:00","00:00:00",0,0,"00:00:00","00:00:00",0,0,"00:00:00","00:00:00",0,0,"00:00:00","00:00:00",0,0,"00:00:00","00:00:00",0,0,"00:00:00","00:00:00",0,0,"00:00:00","00:00:00",0,0,"00:00:00","00:00:00",0,0,"00:00:00","00:00:00",0,0,"00:00:00","00:00:00",0,0]
[null,null,null,null,null,null,null,0,"00:00:00","00:00:00",0,0,"00:00:00","00:00:00",0,0,"00:00:00","00:00:00",0,0,"00:00:00","00:00:00",0,0,"00:00:00","00:00:00",0,0,"00:00:00","00:00:00",0,0,"00:00:00","00:00:00",0,0,"00:00:00","00:00:00",0,0,"00:00:00","00:00:00",0,0,"00:00:00","00:00:00",0,0]
[null,null,null,null,null,null,null,0,"00:00:00","00:00:00",0,0,"00:00:00","00:00:00",0,0,"00:00:00","00:00:00",0,0,"00:00:00","00:00:00",0,0,"00:00:00","00:00:00",0,0,"00:00:00","00:00:00",0,0,"00:00:00","00:00:00",0,0,"00:00:00","00:00:00",0,0,"00:00:00","00:00:00",0,0,"00:00:00","00:00:00",0,0]
[null,null,null,null,null,null,null,0,"00:00:00","00:00:00",0,0,"00:00:00","00:00:00",0,0,"00:00:00","00:00:00",0,0,"00:00:00","00:00:00",0,0,"00:00:00","00:00:00",0,0,"00:00:00","00:00:00",0,0,"00:00:00","00:00:00",0,0,"00:00:00","00:00:00",0,0,"00:00:00","00:00:00",0,0,"00:00:00","00:00:00",0,0]
[null,null,null,null,null,null,null,0,"00:00:00","00:00:00",0,0,"00:00:00","00:00:00",0,0,"00:00:00","00:00:00",0,0,"00:00:00","00:00:00",0,0,"00:00:00","00:00:00",0,0,"00:00:00","00:00:00",0,0,"00:00:00","00:00:00",0,0,"00:00:00","00:00:00",0,0,"00:00:00","00:00:00",0,0,"00:00:00","00:00:00",0,0]
[null,null,null,null,null,null,null,0,"00:00:00","00:00:00",0,0,"00:00:00","00:00:00",0,0,"00:00:00","00:00:00",0,0,"00:00:00","00:00:00",0,0,"00:00:00","00:00:00",0,0,"00:00:00","00:00:00",0,0,"00:00:00","00:00:00",0,0,"00:00:00","00:00:00",0,0,"00:00:00","00:00:00",0,0,"00:00:00","00:00:00",0,0]
[null,null,null,null,null,null,null,0,"00:00:00","00:00:00",0,0,"00:00:00","00:00:00",0,0,"00:00:00","00:00:00",0,0,"00:00:00","00:00:00",0,0,"00:00:00","00:00:00",0,0,"00:00:00","00:00:00",0,0,"00:00:00","00:00:00",0,0,"00:00:00","00:00:00",0,0,"00:00:00","00:00:00",0,0,"00:00:00","00:00:00",0,0]
[null,null,null,null,null,null,null,0,"00:00:00","00:00:00",0,0,"00:00:00","00:00:00",0,0,"00:00:00","00:00:00",0,0,"00:00:00","00:00:00",0,0,"00:00:00","00:00:00",0,0,"00:00:00","00:00:00",0,0,"00:00:00","00:00:00",0,0,"00:00:00","00:00:00",0,0,"00:00:00","00:00:00",0,0,"00:00:00","00:00:00",0,0]
[null,null,null,null,null,null,null,0,"00:00:00","00:00:00",0,0,"00:00:00","00:00:00",0,0,"00:00:00","00:00:00",0,0,"00:00:00","00:00:00",0,0,"00:00:00","00:00:00",0,0,"00:00:00","00:00:00",0,0,"00:00:00","00:00:00",0,0,"00:00:00","00:00:00",0,0,"00:00:00","00:00:00",0,0,"00:00:00","00:00:00",0,0]
[null,null,null,null,null,null,null,0,"00:00:00","00:00:00",0,0,"00:00:00","00:00:00",0,0,"00:00:00","00:00:00",0,0,"00:00:00","00:00:00",0,0,"00:00:00","00:00:00",0,0,"00:00:00","00:00:00",0,0,"00:00:00","00:00:00",0,0,"00:00:00","00:00:00",0,0,"00:00:00","00:00:00",0,0,"00:00:00","00:00:00",0,0]
[null,null,null,null,null,null,null,0,"00:00:00","00:00:00",0,0,"00:00:00","00:00:00",0,0,"00:00:00","00:00:00",0,0,"00:00:00","00:00:00",0,0,"00:00:00","00:00:00",0,0,"00:00:00","00:00:00",0,0,"00:00:00","00:00:00",0,0,"00:00:00","00:00:00",0,0,"00:00:00","00:00:00",0,0,"00:00:00","00:00:00",0,0]
[null,null,null,null,null,null,null,0,"00:00:00","00:00:00",0,0,"00:00:00","00:00:00",0,0,"00:00:00","00:00:00",0,0,"00:00:00","00:00:00",0,0,"00:00:00","00:00:00",0,0,"00:00:00","00:00:00",0,0,"00:00:00","00:00:00",0,0,"00:00:00","00:00:00",0,0,"00:00:00","00:00:00",0,0,"00:00:00","00:00:00",0,0]
[null,null,null,null,null,null,null,0,"00:00:00","00:00:00",0,0,"00:00:00","00:00:00",0,0,"00:00:00","00:00:00",0,0,"00:00:00","00:00:00",0,0,"00:00:00","00:00:00",0,0,"00:00:00","00:00:00",0,0,"00:00:00","00:00:00",0,0,"00:00:00","00:00:00",0,0,"00:00:00","00:00:00",0,0,"00:00:00","00:00:00",0,0]
[null,null,null,null,null,null,null,0,"00:00:00","00:00:00",0,0,"00:00:00","00:00:00",0,0,"00:00:00","00:00:00",0,0,"00:00:00","00:00:00",0,0,"00:00:00","00:00:00",0,0,"00:00:00","00:00:00",0,0,"00:00:00","00:00:00",0,0,"00:00:00","00:00:00",0,0,"00:00:00","00:00:00",0,0,"00:00:00","00:00:00",0,0]
[null,null,null,null,null,null,null,0,"00:00:00","00:00:00",0,0,"00:00:00","00:00:00",0,0,"00:00:00","00:00:00",0,0,"00:00:00","00:00:00",0,0,"00:00:00","00:00:00",0,0,"00:00:00","00:00:00",0,0,"00:00:00","00:00:00",0,0,"00:00:00","00:00:00",0,0,"00:00:00","00:00:00",0,0,"00:00:00","00:00:00",0,0]
[null,null,null,null,null,null,null,0,"00:00:00","00:00:00",0,0,"00:00:00","00:00:00",0,0,"00:00:00","00:00:00",0,0,"00:00:00","00:00:00",0,0,"00:00:00","00:00:00",0,0,"00:00:00","00:00:00",0,0,"00:00:00","00:00:00",0,0,"00:00:00","00:00:00",0,0,"00:00:00","00:00:00",0,0,"00:00:00","00:00:00",0,0]
[null,null,null,null,null,null,null,0,"00:00:00","00:00:00",0,0,"00:00:00","00:00:00",0,0,"00:00:00","00:00:00",0,0,"00:00:00","00:00:00",0,0,"00:00:00","00:00:00",0,0,"00:00:00","00:00:00",0,0,"00:00:00","00:00:00",0,0,"00:00:00","00:00:00",0,0,"00:00:00","00:00:00",0,0,"00:00:00","00:00:00",0,0]
[null,null,null,null,null,null,null,0,"00:00:00","00:00:00",0,0,"00:00:00","00:00:00",0,0,"00:00:00","00:00:00",0,0,"00:00:00","00:00:00",0,0,"00:00:00","00:00:00",0,0,"00:00:00","00:00:00",0,0,"00:00:00","00:00:00",0,0,"00:00:00","00:00:00",0,0,"00:00:00","00:00:00",0,0,"00:00:00","00:00:00",0,0]
[null,null,null,null,null,null,null,0,"00:00:00","00:00:00",0,0,"00:00:00","00:00:00",0,0,"00:00:00","00:00:00",0,0,"00:00:00","00:00:00",0,0,"00:00:00","00:00:00",0,0,"00:00:00","00:00:00",0,0,"00:00:00","00:00:00",0,0,"00:00:00","00:00:00",0,0,"00:00:00","00:00:00",0,0,"00:00:00","00:00:00",0,0]
[null,null,null,null,null,null,null,0,"00:00:00","00:00:00",0,0,"00:00:00","00:00:00",0,0,"00:00:00","00:00:00",0,0,"00:00:00","00:00:00",0,0,"00:00:00","00:00:00",0,0,"00:00:00","00:00:00",0,0,"00:00:00","00:00:00",0,0,"00:00:00","00:00:00",0,0,"00:00:00","00:00:00",0,0,"00:00:00","00:00:00",0,0]
[null,null,null,null,null,null,null,0,"00:00:00","00:00:00",0,0,"00:00:00","00:00:00",0,0,"00:00:00","00:00:00",0,0,"00:00:00","00:00:00",0,0,"00:00:00","00:00:00",0,0,"00:00:00","00:00:00",0,0,"00:00:00","00:00:00",0,0,"00:00:00","00:00:00",0,0,"00:00:00","00:00:00",0,0,"00:00:00","00:00:00",0,0]
[null,null,null,null,null,null,null,0,"00:00:00","00:00:00",0,0,"00:00:00","00:00:00",0,0,"00:00:00","00:00:00",0,0,"00:00:00","00:00:00",0,0,"00:00:00","00:00:00",0,0,"00:00:00","00:00:00",0,0,"00:00:00","00:00:00",0,0,"00:00:00","00:00:00",0,0,"00:00:00","00:00:00",0,0,"00:00:00","00:00:00",0,0]
[null,null,null,null,null,null,null,0,"00:00:00","00:00:00",0,0,"00:00:00","00:00:00",0,0,"00:00:00","00:00:00",0,0,"00:00:00","00:00:00",0,0,"00:00:00","00:00:00",0,0,"00:00:00","00:00:00",0,0,"00:00:00","00:00:00",0,0,"00:00:00","00:00:00",0,0,"00:00:00","00:00:00",0,0,"00:00:00","00:00:00",0,0]
[null,null,null,null,null,null,null,0,"00:00:00","00:00:00",0,0,"00:00:00","00:00:00",0,0,"00:00:00","00:00:00",0,0,"00:00:00","00:00:00",0,0,"00:00:00","00:00:00",0,0,"00:00:00","00:00:00",0,0,"00:00:00","00:00:00",0,0,"00:00:00","00:00:00",0,0,"00:00:00","00:00:00",0,0,"00:00:00","00:00:00",0,0]
[null,null,null,null,null,null,null,0,"00:00:00","00:00:00",0,0,"00:00:00","00:00:00",0,0,"00:00:00","00:00:00",0,0,"00:00:00","00:00:00",0,0,"00:00:00","00:00:00",0,0,"00:00:00","00:00:00",0,0,"00:00:00","00:00:00",0,0,"00:00:00","00:00:00",0,0,"00:00:00","00:00:00",0,0,"00:00:00","00:00:00",0,0]
[null,null,null,null,null,null,null,0,"00:00:00","00:00:00",0,0,"00:00:00","00:00:00",0,0,"00:00:00","00:00:00",0,0,"00:00:00","00:00:00",0,0,"00:00:00","00:00:00",0,0,"00:00:00","00:00:00",0,0,"00:00:00","00:00:00",0,0,"00:00:00","00:00:00",0,0,"00:00:00","00:00:00",0,0,"00:00:00","00:00:00",0,0]
[null,null,null,null,null,null,null,0,"00:00:00","00:00:00",0,0,"00:00:00","00:00:00",0,0,"00:00:00","00:00:00",0,0,"00:00:00","00:00:00",0,0,"00:00:00","00:00:00",0,0,"00:00:00","00:00:00",0,0,"00:00:00","00:00:00",0,0,"00:00:00","00:00:00",0,0,"00:00:00","00:00:00",0,0,"00:00:00","00:00:00",0,0]
[null,null,null,null,null,null,null,0,"00:00:00","00:00:00",0,0,"00:00:00","00:00:00",0,0,"00:00:00","00:00:00",0,0,"00:00:00","00:00:00",0,0,"00:00:00","00:00:00",0,0,"00:00:00","00:00:00",0,0,"00:00:00","00:00:00",0,0,"00:00:00","00:00:00",0,0,"00:00:00","00:00:00",0,0,"00:00:00","00:00:00",0,0]
[null,null,null,null,null,null,null,0,"00:00:00","00:00:00",0,0,"00:00:00","00:00:00",0,0,"00:00:00","00:00:00",0,0,"00:00:00","00:00:00",0,0,"00:00:00","00:00:00",0,0,"00:00:00","00:00:00",0,0,"00:00:00","00:00:00",0,0,"00:00:00","00:00:00",0,0,"00:00:00","00:00:00",0,0,"00:00:00","00:00:00",0,0]
[null,null,null,null,null,null,null,0,"00:00:00","00:00:00",0,0,"00:00:00","00:00:00",0,0,"00:00:00","00:00:00",0,0,"00:00:00","00:00:00",0,0,"00:00:00","00:00:00",0,0,"00:00:00","00:00:00",0,0,"00:00:00","00:00:00",0,0,"00:00:00","00:00:00",0,0,"00:00:00","00:00:00",0,0,"00:00:00","00:00:00",0,0]
[null,null,null,null,null,null,null,0,"00:00:00","00:00:00",0,0,"00:00:00","00:00:00",0,0,"00:00:00","00:00:00",0,0,"00:00:00","00:00:00",0,0,"00:00:00","00:00:00",0,0,"00:00:00","00:00:00",0,0,"00:00:00","00:00:00",0,0,"00:00:00","00:00:00",0,0,"00:00:00","00:00:00",0,0,"00:00:00","00:00:00",0,0]
[null,null,null,null,null,null,null,0,"00:00:00","00:00:00",0,0,"00:00:00","00:00:00",0,0,"00:00:00","00:00:00",0,0,"00:00:00","00:00:00",0,0,"00:00:00","00:00:00",0,0,"00:00:00","00:00:00",0,0,"00:00:00","00:00:00",0,0,"00:00:00","00:00:00",0,0,"00:00:00","00:00:00",0,0,"00:00:00","00:00:00",0,0]
[null,null,null,null,null,null,null,0,"00:00:00","00:00:00",0,0,"00:00:00","00:00:00",0,0,"00:00:00","00:00:00",0,0,"00:00:00","00:00:00",0,0,"00:00:00","00:00:00",0,0,"00:00:00","00:00:00",0,0,"00:00:00","00:00:00",0,0,"00:00:00","00:00:00",0,0,"00:00:00","00:00:00",0,0,"00:00:00","00:00:00",0,0]
[null,null,null,null,null,null,null,0,"00:00:00","00:00:00",0,0,"00:00:00","00:00:00",0,0,"00:00:00","00:00:00",0,0,"00:00:00","00:00:00",0,0,"00:00:00","00:00:00",0,0,"00:00:00","00:00:00",0,0,"00:00:00","00:00:00",0,0,"00:00:00","00:00:00",0,0,"00:00:00","00:00:00",0,0,"00:00:00","00:00:00",0,0]
[null,null,null,null,null,null,null,0,"00:00:00","00:00:00",0,0,"00:00:00","00:00:00",0,0,"00:00:00","00:00:00",0,0,"00:00:00","00:00:00",0,0,"00:00:00","00:00:00",0,0,"00:00:00","00:00:00",0,0,"00:00:00","00:00:00",0,0,"00:00:00","00:00:00",0,0,"00:00:00","00:00:00",0,0,"00:00:00","00:00:00",0,0]
[null,null,null,null,null,null,null,0,"00:00:00","00:00:00",0,0,"00:00:00","00:00:00",0,0,"00:00:00","00:00:00",0,0,"00:00:00","00:00:00",0,0,"00:00:00","00:00:00",0,0,"00:00:00","00:00:00",0,0,"00:00:00","00:00:00",0,0,"00:00:00","00:00:00",0,0,"00:00:00","00:00:00",0,0,"00:00:00","00:00:00",0,0]
[null,null,null,null,null,null,null,0,"00:00:00","00:00:00",0,0,"00:00:00","00:00:00",0,0,"00:00:00","00:00:00",0,0,"00:00:00","00:00:00",0,0,"00:00:00","00:00:00",0,0,"00:00:00","00:00:00",0,0,"00:00:00","00:00:00",0,0,"00:00:00","00:00:00",0,0,"00:00:00","00:00:00",0,0,"00:00:00","00:00:00",0,0]
[null,null,null,null,null,null,null,0,{"$f":"IF(OR($F909<I$10,$E909>J$10),0,IF(AND($E909>=I$10,$F909<=J$10),$E909,IF(AND($E909<=I$10,$F909<=J$10),I$10,IF(AND($E909<=J$10,$F909>=J$10,$E909>=I$10),$E909,IF(AND($E909<=I$10,$F909>=J$10),I$10,\"chyba\")))))","v":"00:00:00"},{"$f":"IF(OR($F909<I$10,$E909>J$10),0,IF(AND($E909>=I$10,$F909<=J$10),$F909,IF(AND($E909<=I$10,$F909<=J$10),$F909,IF(AND($E909<=J$10,$F909>=J$10),J$10,IF(AND($E909<=I$10,$F909>=J$10),J$10,\"chyba\")))))","v":"00:00:00"},0,{"$f":"IF($H909<=0,0,$G909/$H909*K909)","v":0},{"$f":"IF(OR($F909<M$10,$E909>N$10),0,IF(AND($E909>=M$10,$F909<=N$10),$E909,IF(AND($E909<=M$10,$F909<=N$10),M$10,IF(AND($E909<=N$10,$F909>=N$10,$E909>=M$10),$E909,IF(AND($E909<=M$10,$F909>=N$10),M$10,\"chyba\")))))","v":"00:00:00"},{"$f":"IF(OR($F909<M$10,$E909>N$10),0,IF(AND($E909>=M$10,$F909<=N$10),$F909,IF(AND($E909<=M$10,$F909<=N$10),$F909,IF(AND($E909<=N$10,$F909>=N$10),N$10,IF(AND($E909<=M$10,$F909>=N$10),N$10,\"chyba\")))))","v":"00:00:00"},0,{"$f":"IF($H909<=0,0,$G909/$H909*O909)","v":0},{"$f":"IF(OR($F909<Q$10,$E909>R$10),0,IF(AND($E909>=Q$10,$F909<=R$10),$E909,IF(AND($E909<=Q$10,$F909<=R$10),Q$10,IF(AND($E909<=R$10,$F909>=R$10,$E909>=Q$10),$E909,IF(AND($E909<=Q$10,$F909>=R$10),Q$10,\"chyba\")))))","v":"00:00:00"},{"$f":"IF(OR($F909<Q$10,$E909>R$10),0,IF(AND($E909>=Q$10,$F909<=R$10),$F909,IF(AND($E909<=Q$10,$F909<=R$10),$F909,IF(AND($E909<=R$10,$F909>=R$10),R$10,IF(AND($E909<=Q$10,$F909>=R$10),R$10,\"chyba\")))))","v":"00:00:00"},0,{"$f":"IF($H909<=0,0,$G909/$H909*S909)","v":0},{"$f":"IF(OR($F909<U$10,$E909>V$10),0,IF(AND($E909>=U$10,$F909<=V$10),$E909,IF(AND($E909<=U$10,$F909<=V$10),U$10,IF(AND($E909<=V$10,$F909>=V$10,$E909>=U$10),$E909,IF(AND($E909<=U$10,$F909>=V$10),U$10,\"chyba\")))))","v":"00:00:00"},{"$f":"IF(OR($F909<U$10,$E909>V$10),0,IF(AND($E909>=U$10,$F909<=V$10),$F909,IF(AND($E909<=U$10,$F909<=V$10),$F909,IF(AND($E909<=V$10,$F909>=V$10),V$10,IF(AND($E909<=U$10,$F909>=V$10),V$10,\"chyba\")))))","v":"00:00:00"},0,{"$f":"IF($H909<=0,0,$G909/$H909*W909)","v":0},{"$f":"IF(OR($F909<Y$10,$E909>Z$10),0,IF(AND($E909>=Y$10,$F909<=Z$10),$E909,IF(AND($E909<=Y$10,$F909<=Z$10),Y$10,IF(AND($E909<=Z$10,$F909>=Z$10,$E909>=Y$10),$E909,IF(AND($E909<=Y$10,$F909>=Z$10),Y$10,\"chyba\")))))","v":"00:00:00"},{"$f":"IF(OR($F909<Y$10,$E909>Z$10),0,IF(AND($E909>=Y$10,$F909<=Z$10),$F909,IF(AND($E909<=Y$10,$F909<=Z$10),$F909,IF(AND($E909<=Z$10,$F909>=Z$10),Z$10,IF(AND($E909<=Y$10,$F909>=Z$10),Z$10,\"chyba\")))))","v":"00:00:00"},0,{"$f":"IF($H909<=0,0,$G909/$H909*AA909)","v":0},{"$f":"IF(OR($F909<AC$10,$E909>AD$10),0,IF(AND($E909>=AC$10,$F909<=AD$10),$E909,IF(AND($E909<=AC$10,$F909<=AD$10),AC$10,IF(AND($E909<=AD$10,$F909>=AD$10,$E909>=AC$10),$E909,IF(AND($E909<=AC$10,$F909>=AD$10),AC$10,\"chyba\")))))","v":"00:00:00"},{"$f":"IF(OR($F909<AC$10,$E909>AD$10),0,IF(AND($E909>=AC$10,$F909<=AD$10),$F909,IF(AND($E909<=AC$10,$F909<=AD$10),$F909,IF(AND($E909<=AD$10,$F909>=AD$10),AD$10,IF(AND($E909<=AC$10,$F909>=AD$10),AD$10,\"chyba\")))))","v":"00:00:00"},0,{"$f":"IF($H909<=0,0,$G909/$H909*AE909)","v":0},{"$f":"IF(OR($F909<AG$10,$E909>AH$10),0,IF(AND($E909>=AG$10,$F909<=AH$10),$E909,IF(AND($E909<=AG$10,$F909<=AH$10),AG$10,IF(AND($E909<=AH$10,$F909>=AH$10,$E909>=AG$10),$E909,IF(AND($E909<=AG$10,$F909>=AH$10),AG$10,\"chyba\")))))","v":"00:00:00"},{"$f":"IF(OR($F909<AG$10,$E909>AH$10),0,IF(AND($E909>=AG$10,$F909<=AH$10),$F909,IF(AND($E909<=AG$10,$F909<=AH$10),$F909,IF(AND($E909<=AH$10,$F909>=AH$10),AH$10,IF(AND($E909<=AG$10,$F909>=AH$10),AH$10,\"chyba\")))))","v":"00:00:00"},0,{"$f":"IF($H909<=0,0,$G909/$H909*AI909)","v":0},{"$f":"IF(OR($F909<AK$10,$E909>AL$10),0,IF(AND($E909>=AK$10,$F909<=AL$10),$E909,IF(AND($E909<=AK$10,$F909<=AL$10),AK$10,IF(AND($E909<=AL$10,$F909>=AL$10,$E909>=AK$10),$E909,IF(AND($E909<=AK$10,$F909>=AL$10),AK$10,\"chyba\")))))","v":"00:00:00"},{"$f":"IF(OR($F909<AK$10,$E909>AL$10),0,IF(AND($E909>=AK$10,$F909<=AL$10),$F909,IF(AND($E909<=AK$10,$F909<=AL$10),$F909,IF(AND($E909<=AL$10,$F909>=AL$10),AL$10,IF(AND($E909<=AK$10,$F909>=AL$10),AL$10,\"chyba\")))))","v":"00:00:00"},0,{"$f":"IF($H909<=0,0,$G909/$H909*AM909)","v":0},{"$f":"IF(OR($F909<AO$10,$E909>AP$10),0,IF(AND($E909>=AO$10,$F909<=AP$10),$E909,IF(AND($E909<=AO$10,$F909<=AP$10),AO$10,IF(AND($E909<=AP$10,$F909>=AP$10,$E909>=AO$10),$E909,IF(AND($E909<=AO$10,$F909>=AP$10),AO$10,\"chyba\")))))","v":"00:00:00"},{"$f":"IF(OR($F909<AO$10,$E909>AP$10),0,IF(AND($E909>=AO$10,$F909<=AP$10),$F909,IF(AND($E909<=AO$10,$F909<=AP$10),$F909,IF(AND($E909<=AP$10,$F909>=AP$10),AP$10,IF(AND($E909<=AO$10,$F909>=AP$10),AP$10,\"chyba\")))))","v":"00:00:00"},0,{"$f":"IF($H909<=0,0,$G909/$H909*AQ909)","v":0},{"$f":"IF(OR($F909<AS$10,$E909>AT$10),0,IF(AND($E909>=AS$10,$F909<=AT$10),$E909,IF(AND($E909<=AS$10,$F909<=AT$10),AS$10,IF(AND($E909<=AT$10,$F909>=AT$10,$E909>=AS$10),$E909,IF(AND($E909<=AS$10,$F909>=AT$10),AS$10,\"chyba\")))))","v":"00:00:00"},{"$f":"IF(OR($F909<AS$10,$E909>AT$10),0,IF(AND($E909>=AS$10,$F909<=AT$10),$F909,IF(AND($E909<=AS$10,$F909<=AT$10),$F909,IF(AND($E909<=AT$10,$F909>=AT$10),AT$10,IF(AND($E909<=AS$10,$F909>=AT$10),AT$10,\"chyba\")))))","v":"00:00:00"},0,{"$f":"IF($H909<=0,0,$G909/$H909*AU909)","v":0}]
[null,null,null,null,null,null,null,{"$f":"IF(F910-E910=0,0,F910-E910+1)","v":0},"00:00:00","00:00:00",{"$f":"IF(J910-I910=0,0,J910-I910+1)","v":0},0,"00:00:00","00:00:00",{"$f":"IF(N910-M910=0,0,N910-M910+1)","v":0},0,"00:00:00","00:00:00",{"$f":"IF(R910-Q910=0,0,R910-Q910+1)","v":0},0,"00:00:00","00:00:00",{"$f":"IF(V910-U910=0,0,V910-U910+1)","v":0},0,"00:00:00","00:00:00",{"$f":"IF(Z910-Y910=0,0,Z910-Y910+1)","v":0},0,"00:00:00","00:00:00",{"$f":"IF(AD910-AC910=0,0,AD910-AC910+1)","v":0},0,"00:00:00","00:00:00",{"$f":"IF(AH910-AG910=0,0,AH910-AG910+1)","v":0},0,"00:00:00","00:00:00",{"$f":"IF(AL910-AK910=0,0,AL910-AK910+1)","v":0},0,"00:00:00","00:00:00",{"$f":"IF(AP910-AO910=0,0,AP910-AO910+1)","v":0},0,"00:00:00","00:00:00",{"$f":"IF(AT910-AS910=0,0,AT910-AS910+1)","v":0},0]
[null,null,null,null,null,null,null,0,"00:00:00","00:00:00",0,0,"00:00:00","00:00:00",0,0,"00:00:00","00:00:00",0,0,"00:00:00","00:00:00",0,0,"00:00:00","00:00:00",0,0,"00:00:00","00:00:00",0,0,"00:00:00","00:00:00",0,0,"00:00:00","00:00:00",0,0,"00:00:00","00:00:00",0,0,"00:00:00","00:00:00",0,0]
[null,null,null,null,null,null,null,0,"00:00:00","00:00:00",0,0,"00:00:00","00:00:00",0,0,"00:00:00","00:00:00",0,0,"00:00:00","00:00:00",0,0,"00:00:00","00:00:00",0,0,"00:00:00","00:00:00",0,0,"00:00:00","00:00:00",0,0,"00:00:00","00:00:00",0,0,"00:00:00","00:00:00",0,0,"00:00:00","00:00:00",0,0]
[null,null,null,null,null,null,null,0,"00:00:00","00:00:00",0,0,"00:00:00","00:00:00",0,0,"00:00:00","00:00:00",0,0,"00:00:00","00:00:00",0,0,"00:00:00","00:00:00",0,0,"00:00:00","00:00:00",0,0,"00:00:00","00:00:00",0,0,"00:00:00","00:00:00",0,0,"00:00:00","00:00:00",0,0,"00:00:00","00:00:00",0,0]
[null,null,null,null,null,null,null,0,"00:00:00","00:00:00",0,0,"00:00:00","00:00:00",0,0,"00:00:00","00:00:00",0,0,"00:00:00","00:00:00",0,0,"00:00:00","00:00:00",0,0,"00:00:00","00:00:00",0,0,"00:00:00","00:00:00",0,0,"00:00:00","00:00:00",0,0,"00:00:00","00:00:00",0,0,"00:00:00","00:00:00",0,0]
[null,null,null,null,null,null,null,0,"00:00:00","00:00:00",0,0,"00:00:00","00:00:00",0,0,"00:00:00","00:00:00",0,0,"00:00:00","00:00:00",0,0,"00:00:00","00:00:00",0,0,"00:00:00","00:00:00",0,0,"00:00:00","00:00:00",0,0,"00:00:00","00:00:00",0,0,"00:00:00","00:00:00",0,0,"00:00:00","00:00:00",0,0]
[null,null,null,null,null,null,null,0,"00:00:00","00:00:00",0,0,"00:00:00","00:00:00",0,0,"00:00:00","00:00:00",0,0,"00:00:00","00:00:00",0,0,"00:00:00","00:00:00",0,0,"00:00:00","00:00:00",0,0,"00:00:00","00:00:00",0,0,"00:00:00","00:00:00",0,0,"00:00:00","00:00:00",0,0,"00:00:00","00:00:00",0,0]
[null,null,null,null,null,null,null,0,"00:00:00","00:00:00",0,0,"00:00:00","00:00:00",0,0,"00:00:00","00:00:00",0,0,"00:00:00","00:00:00",0,0,"00:00:00","00:00:00",0,0,"00:00:00","00:00:00",0,0,"00:00:00","00:00:00",0,0,"00:00:00","00:00:00",0,0,"00:00:00","00:00:00",0,0,"00:00:00","00:00:00",0,0]
[null,null,null,null,null,null,null,0,"00:00:00","00:00:00",0,0,"00:00:00","00:00:00",0,0,"00:00:00","00:00:00",0,0,"00:00:00","00:00:00",0,0,"00:00:00","00:00:00",0,0,"00:00:00","00:00:00",0,0,"00:00:00","00:00:00",0,0,"00:00:00","00:00:00",0,0,"00:00:00","00:00:00",0,0,"00:00:00","00:00:00",0,0]
[null,null,null,null,null,null,null,0,"00:00:00","00:00:00",0,0,"00:00:00","00:00:00",0,0,"00:00:00","00:00:00",0,0,"00:00:00","00:00:00",0,0,"00:00:00","00:00:00",0,0,"00:00:00","00:00:00",0,0,"00:00:00","00:00:00",0,0,"00:00:00","00:00:00",0,0,"00:00:00","00:00:00",0,0,"00:00:00","00:00:00",0,0]
[null,null,null,null,null,null,null,0,"00:00:00","00:00:00",0,0,"00:00:00","00:00:00",0,0,"00:00:00","00:00:00",0,0,"00:00:00","00:00:00",0,0,"00:00:00","00:00:00",0,0,"00:00:00","00:00:00",0,0,"00:00:00","00:00:00",0,0,"00:00:00","00:00:00",0,0,"00:00:00","00:00:00",0,0,"00:00:00","00:00:00",0,0]
[null,null,null,null,null,null,null,0,"00:00:00","00:00:00",0,0,"00:00:00","00:00:00",0,0,"00:00:00","00:00:00",0,0,"00:00:00","00:00:00",0,0,"00:00:00","00:00:00",0,0,"00:00:00","00:00:00",0,0,"00:00:00","00:00:00",0,0,"00:00:00","00:00:00",0,0,"00:00:00","00:00:00",0,0,"00:00:00","00:00:00",0,0]
[null,null,null,null,null,null,null,0,"00:00:00","00:00:00",0,0,"00:00:00","00:00:00",0,0,"00:00:00","00:00:00",0,0,"00:00:00","00:00:00",0,0,"00:00:00","00:00:00",0,0,"00:00:00","00:00:00",0,0,"00:00:00","00:00:00",0,0,"00:00:00","00:00:00",0,0,"00:00:00","00:00:00",0,0,"00:00:00","00:00:00",0,0]
[null,null,null,null,null,null,null,0,"00:00:00","00:00:00",0,0,"00:00:00","00:00:00",0,0,"00:00:00","00:00:00",0,0,"00:00:00","00:00:00",0,0,"00:00:00","00:00:00",0,0,"00:00:00","00:00:00",0,0,"00:00:00","00:00:00",0,0,"00:00:00","00:00:00",0,0,"00:00:00","00:00:00",0,0,"00:00:00","00:00:00",0,0]
[null,null,null,null,null,null,null,0,"00:00:00","00:00:00",0,0,"00:00:00","00:00:00",0,0,"00:00:00","00:00:00",0,0,"00:00:00","00:00:00",0,0,"00:00:00","00:00:00",0,0,"00:00:00","00:00:00",0,0,"00:00:00","00:00:00",0,0,"00:00:00","00:00:00",0,0,"00:00:00","00:00:00",0,0,"00:00:00","00:00:00",0,0]
[null,null,null,null,null,null,null,0,"00:00:00","00:00:00",0,0,"00:00:00","00:00:00",0,0,"00:00:00","00:00:00",0,0,"00:00:00","00:00:00",0,0,"00:00:00","00:00:00",0,0,"00:00:00","00:00:00",0,0,"00:00:00","00:00:00",0,0,"00:00:00","00:00:00",0,0,"00:00:00","00:00:00",0,0,"00:00:00","00:00:00",0,0]
[null,null,null,null,null,null,null,0,"00:00:00","00:00:00",0,0,"00:00:00","00:00:00",0,0,"00:00:00","00:00:00",0,0,"00:00:00","00:00:00",0,0,"00:00:00","00:00:00",0,0,"00:00:00","00:00:00",0,0,"00:00:00","00:00:00",0,0,"00:00:00","00:00:00",0,0,"00:00:00","00:00:00",0,0,"00:00:00","00:00:00",0,0]
[null,null,null,null,null,null,null,0,"00:00:00","00:00:00",0,0,"00:00:00","00:00:00",0,0,"00:00:00","00:00:00",0,0,"00:00:00","00:00:00",0,0,"00:00:00","00:00:00",0,0,"00:00:00","00:00:00",0,0,"00:00:00","00:00:00",0,0,"00:00:00","00:00:00",0,0,"00:00:00","00:00:00",0,0,"00:00:00","00:00:00",0,0]
[null,null,null,null,null,null,null,0,"00:00:00","00:00:00",0,0,"00:00:00","00:00:00",0,0,"00:00:00","00:00:00",0,0,"00:00:00","00:00:00",0,0,"00:00:00","00:00:00",0,0,"00:00:00","00:00:00",0,0,"00:00:00","00:00:00",0,0,"00:00:00","00:00:00",0,0,"00:00:00","00:00:00",0,0,"00:00:00","00:00:00",0,0]
[null,null,null,null,null,null,null,0,"00:00:00","00:00:00",0,0,"00:00:00","00:00:00",0,0,"00:00:00","00:00:00",0,0,"00:00:00","00:00:00",0,0,"00:00:00","00:00:00",0,0,"00:00:00","00:00:00",0,0,"00:00:00","00:00:00",0,0,"00:00:00","00:00:00",0,0,"00:00:00","00:00:00",0,0,"00:00:00","00:00:00",0,0]
[null,null,null,null,null,null,null,0,"00:00:00","00:00:00",0,0,"00:00:00","00:00:00",0,0,"00:00:00","00:00:00",0,0,"00:00:00","00:00:00",0,0,"00:00:00","00:00:00",0,0,"00:00:00","00:00:00",0,0,"00:00:00","00:00:00",0,0,"00:00:00","00:00:00",0,0,"00:00:00","00:00:00",0,0,"00:00:00","00:00:00",0,0]
[null,null,null,null,null,null,null,0,"00:00:00","00:00:00",0,0,"00:00:00","00:00:00",0,0,"00:00:00","00:00:00",0,0,"00:00:00","00:00:00",0,0,"00:00:00","00:00:00",0,0,"00:00:00","00:00:00",0,0,"00:00:00","00:00:00",0,0,"00:00:00","00:00:00",0,0,"00:00:00","00:00:00",0,0,"00:00:00","00:00:00",0,0]
[null,null,null,null,null,null,null,0,"00:00:00","00:00:00",0,0,"00:00:00","00:00:00",0,0,"00:00:00","00:00:00",0,0,"00:00:00","00:00:00",0,0,"00:00:00","00:00:00",0,0,"00:00:00","00:00:00",0,0,"00:00:00","00:00:00",0,0,"00:00:00","00:00:00",0,0,"00:00:00","00:00:00",0,0,"00:00:00","00:00:00",0,0]
[null,null,null,null,null,null,null,0,"00:00:00","00:00:00",0,0,"00:00:00","00:00:00",0,0,"00:00:00","00:00:00",0,0,"00:00:00","00:00:00",0,0,"00:00:00","00:00:00",0,0,"00:00:00","00:00:00",0,0,"00:00:00","00:00:00",0,0,"00:00:00","00:00:00",0,0,"00:00:00","00:00:00",0,0,"00:00:00","00:00:00",0,0]
[null,null,null,null,null,null,null,0,"00:00:00","00:00:00",0,0,"00:00:00","00:00:00",0,0,"00:00:00","00:00:00",0,0,"00:00:00","00:00:00",0,0,"00:00:00","00:00:00",0,0,"00:00:00","00:00:00",0,0,"00:00:00","00:00:00",0,0,"00:00:00","00:00:00",0,0,"00:00:00","00:00:00",0,0,"00:00:00","00:00:00",0,0]
[null,null,null,null,null,null,null,0,"00:00:00","00:00:00",0,0,"00:00:00","00:00:00",0,0,"00:00:00","00:00:00",0,0,"00:00:00","00:00:00",0,0,"00:00:00","00:00:00",0,0,"00:00:00","00:00:00",0,0,"00:00:00","00:00:00",0,0,"00:00:00","00:00:00",0,0,"00:00:00","00:00:00",0,0,"00:00:00","00:00:00",0,0]
[null,null,null,null,null,null,null,0,"00:00:00","00:00:00",0,0,"00:00:00","00:00:00",0,0,"00:00:00","00:00:00",0,0,"00:00:00","00:00:00",0,0,"00:00:00","00:00:00",0,0,"00:00:00","00:00:00",0,0,"00:00:00","00:00:00",0,0,"00:00:00","00:00:00",0,0,"00:00:00","00:00:00",0,0,"00:00:00","00:00:00",0,0]
[null,null,null,null,null,null,null,0,"00:00:00","00:00:00",0,0,"00:00:00","00:00:00",0,0,"00:00:00","00:00:00",0,0,"00:00:00","00:00:00",0,0,"00:00:00","00:00:00",0,0,"00:00:00","00:00:00",0,0,"00:00:00","00:00:00",0,0,"00:00:00","00:00:00",0,0,"00:00:00","00:00:00",0,0,"00:00:00","00:00:00",0,0]
[null,null,null,null,null,null,null,0,"00:00:00","00:00:00",0,0,"00:00:00","00:00:00",0,0,"00:00:00","00:00:00",0,0,"00:00:00","00:00:00",0,0,"00:00:00","00:00:00",0,0,"00:00:00","00:00:00",0,0,"00:00:00","00:00:00",0,0,"00:00:00","00:00:00",0,0,"00:00:00","00:00:00",0,0,"00:00:00","00:00:00",0,0]
[null,null,null,null,null,null,null,0,"00:00:00","00:00:00",0,0,"00:00:00","00:00:00",0,0,"00:00:00","00:00:00",0,0,"00:00:00","00:00:00",0,0,"00:00:00","00:00:00",0,0,"00:00:00","00:00:00",0,0,"00:00:00","00:00:00",0,0,"00:00:00","00:00:00",0,0,"00:00:00","00:00:00",0,0,"00:00:00","00:00:00",0,0]
[null,null,null,null,null,null,null,0,"00:00:00","00:00:00",0,0,"00:00:00","00:00:00",0,0,"00:00:00","00:00:00",0,0,"00:00:00","00:00:00",0,0,"00:00:00","00:00:00",0,0,"00:00:00","00:00:00",0,0,"00:00:00","00:00:00",0,0,"00:00:00","00:00:00",0,0,"00:00:00","00:00:00",0,0,"00:00:00","00:00:00",0,0]
[null,null,null,null,null,null,null,0,"00:00:00","00:00:00",0,0,"00:00:00","00:00:00",0,0,"00:00:00","00:00:00",0,0,"00:00:00","00:00:00",0,0,"00:00:00","00:00:00",0,0,"00:00:00","00:00:00",0,0,"00:00:00","00:00:00",0,0,"00:00:00","00:00:00",0,0,"00:00:00","00:00:00",0,0,"00:00:00","00:00:00",0,0]
[null,null,null,null,null,null,null,0,"00:00:00","00:00:00",0,0,"00:00:00","00:00:00",0,0,"00:00:00","00:00:00",0,0,"00:00:00","00:00:00",0,0,"00:00:00","00:00:00",0,0,"00:00:00","00:00:00",0,0,"00:00:00","00:00:00",0,0,"00:00:00","00:00:00",0,0,"00:00:00","00:00:00",0,0,"00:00:00","00:00:00",0,0]
[null,null,null,null,null,null,null,0,"00:00:00","00:00:00",0,0,"00:00:00","00:00:00",0,0,"00:00:00","00:00:00",0,0,"00:00:00","00:00:00",0,0,"00:00:00","00:00:00",0,0,"00:00:00","00:00:00",0,0,"00:00:00","00:00:00",0,0,"00:00:00","00:00:00",0,0,"00:00:00","00:00:00",0,0,"00:00:00","00:00:00",0,0]
[null,null,null,null,null,null,null,0,"00:00:00","00:00:00",0,0,"00:00:00","00:00:00",0,0,"00:00:00","00:00:00",0,0,"00:00:00","00:00:00",0,0,"00:00:00","00:00:00",0,0,"00:00:00","00:00:00",0,0,"00:00:00","00:00:00",0,0,"00:00:00","00:00:00",0,0,"00:00:00","00:00:00",0,0,"00:00:00","00:00:00",0,0]
[null,null,null,null,null,null,null,0,"00:00:00","00:00:00",0,0,"00:00:00","00:00:00",0,0,"00:00:00","00:00:00",0,0,"00:00:00","00:00:00",0,0,"00:00:00","00:00:00",0,0,"00:00:00","00:00:00",0,0,"00:00:00","00:00:00",0,0,"00:00:00","00:00:00",0,0,"00:00:00","00:00:00",0,0,"00:00:00","00:00:00",0,0]
[null,null,null,null,null,null,null,0,"00:00:00","00:00:00",0,0,"00:00:00","00:00:00",0,0,"00:00:00","00:00:00",0,0,"00:00:00","00:00:00",0,0,"00:00:00","00:00:00",0,0,"00:00:00","00:00:00",0,0,"00:00:00","00:00:00",0,0,"00:00:00","00:00:00",0,0,"00:00:00","00:00:00",0,0,"00:00:00","00:00:00",0,0]
[null,null,null,null,null,null,null,0,"00:00:00","00:00:00",0,0,"00:00:00","00:00:00",0,0,"00:00:00","00:00:00",0,0,"00:00:00","00:00:00",0,0,"00:00:00","00:00:00",0,0,"00:00:00","00:00:00",0,0,"00:00:00","00:00:00",0,0,"00:00:00","00:00:00",0,0,"00:00:00","00:00:00",0,0,"00:00:00","00:00:00",0,0]
[null,null,null,null,null,null,null,0,"00:00:00","00:00:00",0,0,"00:00:00","00:00:00",0,0,"00:00:00","00:00:00",0,0,"00:00:00","00:00:00",0,0,"00:00:00","00:00:00",0,0,"00:00:00","00:00:00",0,0,"00:00:00","00:00:00",0,0,"00:00:00","00:00:00",0,0,"00:00:00","00:00:00",0,0,"00:00:00","00:00:00",0,0]
[null,null,null,null,null,null,null,0,"00:00:00","00:00:00",0,0,"00:00:00","00:00:00",0,0,"00:00:00","00:00:00",0,0,"00:00:00","00:00:00",0,0,"00:00:00","00:00:00",0,0,"00:00:00","00:00:00",0,0,"00:00:00","00:00:00",0,0,"00:00:00","00:00:00",0,0,"00:00:00","00:00:00",0,0,"00:00:00","00:00:00",0,0]
[null,null,null,null,null,null,null,0,"00:00:00","00:00:00",0,0,"00:00:00","00:00:00",0,0,"00:00:00","00:00:00",0,0,"00:00:00","00:00:00",0,0,"00:00:00","00:00:00",0,0,"00:00:00","00:00:00",0,0,"00:00:00","00:00:00",0,0,"00:00:00","00:00:00",0,0,"00:00:00","00:00:00",0,0,"00:00:00","00:00:00",0,0]
[null,null,null,null,null,null,null,0,"00:00:00","00:00:00",0,0,"00:00:00","00:00:00",0,0,"00:00:00","00:00:00",0,0,"00:00:00","00:00:00",0,0,"00:00:00","00:00:00",0,0,"00:00:00","00:00:00",0,0,"00:00:00","00:00:00",0,0,"00:00:00","00:00:00",0,0,"00:00:00","00:00:00",0,0,"00:00:00","00:00:00",0,0]
[null,null,null,null,null,null,null,0,"00:00:00","00:00:00",0,0,"00:00:00","00:00:00",0,0,"00:00:00","00:00:00",0,0,"00:00:00","00:00:00",0,0,"00:00:00","00:00:00",0,0,"00:00:00","00:00:00",0,0,"00:00:00","00:00:00",0,0,"00:00:00","00:00:00",0,0,"00:00:00","00:00:00",0,0,"00:00:00","00:00:00",0,0]
[null,null,null,null,null,null,null,0,"00:00:00","00:00:00",0,0,"00:00:00","00:00:00",0,0,"00:00:00","00:00:00",0,0,"00:00:00","00:00:00",0,0,"00:00:00","00:00:00",0,0,"00:00:00","00:00:00",0,0,"00:00:00","00:00:00",0,0,"00:00:00","00:00:00",0,0,"00:00:00","00:00:00",0,0,"00:00:00","00:00:00",0,0]
[null,null,null,null,null,null,null,0,"00:00:00","00:00:00",0,0,"00:00:00","00:00:00",0,0,"00:00:00","00:00:00",0,0,"00:00:00","00:00:00",0,0,"00:00:00","00:00:00",0,0,"00:00:00","00:00:00",0,0,"00:00:00","00:00:00",0,0,"00:00:00","00:00:00",0,0,"00:00:00","00:00:00",0,0,"00:00:00","00:00:00",0,0]
[null,null,null,null,null,null,null,0,"00:00:00","00:00:00",0,0,"00:00:00","00:00:00",0,0,"00:00:00","00:00:00",0,0,"00:00:00","00:00:00",0,0,"00:00:00","00:00:00",0,0,"00:00:00","00:00:00",0,0,"00:00:00","00:00:00",0,0,"00:00:00","00:00:00",0,0,"00:00:00","00:00:00",0,0,"00:00:00","00:00:00",0,0]
[null,null,null,null,null,null,null,0,"00:00:00","00:00:00",0,0,"00:00:00","00:00:00",0,0,"00:00:00","00:00:00",0,0,"00:00:00","00:00:00",0,0,"00:00:00","00:00:00",0,0,"00:00:00","00:00:00",0,0,"00:00:00","00:00:00",0,0,"00:00:00","00:00:00",0,0,"00:00:00","00:00:00",0,0,"00:00:00","00:00:00",0,0]
[null,null,null,null,null,null,null,0,"00:00:00","00:00:00",0,0,"00:00:00","00:00:00",0,0,"00:00:00","00:00:00",0,0,"00:00:00","00:00:00",0,0,"00:00:00","00:00:00",0,0,"00:00:00","00:00:00",0,0,"00:00:00","00:00:00",0,0,"00:00:00","00:00:00",0,0,"00:00:00","00:00:00",0,0,"00:00:00","00:00:00",0,0]
[null,null,null,null,null,null,null,0,"00:00:00","00:00:00",0,0,"00:00:00","00:00:00",0,0,"00:00:00","00:00:00",0,0,"00:00:00","00:00:00",0,0,"00:00:00","00:00:00",0,0,"00:00:00","00:00:00",0,0,"00:00:00","00:00:00",0,0,"00:00:00","00:00:00",0,0,"00:00:00","00:00:00",0,0,"00:00:00","00:00:00",0,0]
[null,null,null,null,null,null,null,0,"00:00:00","00:00:00",0,0,"00:00:00","00:00:00",0,0,"00:00:00","00:00:00",0,0,"00:00:00","00:00:00",0,0,"00:00:00","00:00:00",0,0,"00:00:00","00:00:00",0,0,"00:00:00","00:00:00",0,0,"00:00:00","00:00:00",0,0,"00:00:00","00:00:00",0,0,"00:00:00","00:00:00",0,0]
[null,null,null,null,null,null,null,0,"00:00:00","00:00:00",0,0,"00:00:00","00:00:00",0,0,"00:00:00","00:00:00",0,0,"00:00:00","00:00:00",0,0,"00:00:00","00:00:00",0,0,"00:00:00","00:00:00",0,0,"00:00:00","00:00:00",0,0,"00:00:00","00:00:00",0,0,"00:00:00","00:00:00",0,0,"00:00:00","00:00:00",0,0]
[null,null,null,null,null,null,null,0,"00:00:00","00:00:00",0,0,"00:00:00","00:00:00",0,0,"00:00:00","00:00:00",0,0,"00:00:00","00:00:00",0,0,"00:00:00","00:00:00",0,0,"00:00:00","00:00:00",0,0,"00:00:00","00:00:00",0,0,"00:00:00","00:00:00",0,0,"00:00:00","00:00:00",0,0,"00:00:00","00:00:00",0,0]
[null,null,null,null,null,null,null,0,"00:00:00","00:00:00",0,0,"00:00:00","00:00:00",0,0,"00:00:00","00:00:00",0,0,"00:00:00","00:00:00",0,0,"00:00:00","00:00:00",0,0,"00:00:00","00:00:00",0,0,"00:00:00","00:00:00",0,0,"00:00:00","00:00:00",0,0,"00:00:00","00:00:00",0,0,"00:00:00","00:00:00",0,0]
[null,null,null,null,null,null,null,0,"00:00:00","00:00:00",0,0,"00:00:00","00:00:00",0,0,"00:00:00","00:00:00",0,0,"00:00:00","00:00:00",0,0,"00:00:00","00:00:00",0,0,"00:00:00","00:00:00",0,0,"00:00:00","00:00:00",0,0,"00:00:00","00:00:00",0,0,"00:00:00","00:00:00",0,0,"00:00:00","00:00:00",0,0]
[null,null,null,null,null,null,null,0,"00:00:00","00:00:00",0,0,"00:00:00","00:00:00",0,0,"00:00:00","00:00:00",0,0,"00:00:00","00:00:00",0,0,"00:00:00","00:00:00",0,0,"00:00:00","00:00:00",0,0,"00:00:00","00:00:00",0,0,"00:00:00","00:00:00",0,0,"00:00:00","00:00:00",0,0,"00:00:00","00:00:00",0,0]
[null,null,null,null,null,null,null,0,"00:00:00","00:00:00",0,0,"00:00:00","00:00:00",0,0,"00:00:00","00:00:00",0,0,"00:00:00","00:00:00",0,0,"00:00:00","00:00:00",0,0,"00:00:00","00:00:00",0,0,"00:00:00","00:00:00",0,0,"00:00:00","00:00:00",0,0,"00:00:00","00:00:00",0,0,"00:00:00","00:00:00",0,0]
[null,null,null,null,null,null,null,0,"00:00:00","00:00:00",0,0,"00:00:00","00:00:00",0,0,"00:00:00","00:00:00",0,0,"00:00:00","00:00:00",0,0,"00:00:00","00:00:00",0,0,"00:00:00","00:00:00",0,0,"00:00:00","00:00:00",0,0,"00:00:00","00:00:00",0,0,"00:00:00","00:00:00",0,0,"00:00:00","00:00:00",0,0]
[null,null,null,null,null,null,null,0,"00:00:00","00:00:00",0,0,"00:00:00","00:00:00",0,0,"00:00:00","00:00:00",0,0,"00:00:00","00:00:00",0,0,"00:00:00","00:00:00",0,0,"00:00:00","00:00:00",0,0,"00:00:00","00:00:00",0,0,"00:00:00","00:00:00",0,0,"00:00:00","00:00:00",0,0,"00:00:00","00:00:00",0,0]
[null,null,null,null,null,null,null,0,"00:00:00","00:00:00",0,0,"00:00:00","00:00:00",0,0,"00:00:00","00:00:00",0,0,"00:00:00","00:00:00",0,0,"00:00:00","00:00:00",0,0,"00:00:00","00:00:00",0,0,"00:00:00","00:00:00",0,0,"00:00:00","00:00:00",0,0,"00:00:00","00:00:00",0,0,"00:00:00","00:00:00",0,0]
[null,null,null,null,null,null,null,0,"00:00:00","00:00:00",0,0,"00:00:00","00:00:00",0,0,"00:00:00","00:00:00",0,0,"00:00:00","00:00:00",0,0,"00:00:00","00:00:00",0,0,"00:00:00","00:00:00",0,0,"00:00:00","00:00:00",0,0,"00:00:00","00:00:00",0,0,"00:00:00","00:00:00",0,0,"00:00:00","00:00:00",0,0]
[null,null,null,null,null,null,null,0,"00:00:00","00:00:00",0,0,"00:00:00","00:00:00",0,0,"00:00:00","00:00:00",0,0,"00:00:00","00:00:00",0,0,"00:00:00","00:00:00",0,0,"00:00:00","00:00:00",0,0,"00:00:00","00:00:00",0,0,"00:00:00","00:00:00",0,0,"00:00:00","00:00:00",0,0,"00:00:00","00:00:00",0,0]
[null,null,null,null,null,null,null,0,"00:00:00","00:00:00",0,0,"00:00:00","00:00:00",0,0,"00:00:00","00:00:00",0,0,"00:00:00","00:00:00",0,0,"00:00:00","00:00:00",0,0,"00:00:00","00:00:00",0,0,"00:00:00","00:00:00",0,0,"00:00:00","00:00:00",0,0,"00:00:00","00:00:00",0,0,"00:00:00","00:00:00",0,0]
[null,null,null,null,null,null,null,0,"00:00:00","00:00:00",0,0,"00:00:00","00:00:00",0,0,"00:00:00","00:00:00",0,0,"00:00:00","00:00:00",0,0,"00:00:00","00:00:00",0,0,"00:00:00","00:00:00",0,0,"00:00:00","00:00:00",0,0,"00:00:00","00:00:00",0,0,"00:00:00","00:00:00",0,0,"00:00:00","00:00:00",0,0]
[null,null,null,null,null,null,null,0,{"$f":"IF(OR($F973<I$10,$E973>J$10),0,IF(AND($E973>=I$10,$F973<=J$10),$E973,IF(AND($E973<=I$10,$F973<=J$10),I$10,IF(AND($E973<=J$10,$F973>=J$10,$E973>=I$10),$E973,IF(AND($E973<=I$10,$F973>=J$10),I$10,\"chyba\")))))","v":"00:00:00"},{"$f":"IF(OR($F973<I$10,$E973>J$10),0,IF(AND($E973>=I$10,$F973<=J$10),$F973,IF(AND($E973<=I$10,$F973<=J$10),$F973,IF(AND($E973<=J$10,$F973>=J$10),J$10,IF(AND($E973<=I$10,$F973>=J$10),J$10,\"chyba\")))))","v":"00:00:00"},0,{"$f":"IF($H973<=0,0,$G973/$H973*K973)","v":0},{"$f":"IF(OR($F973<M$10,$E973>N$10),0,IF(AND($E973>=M$10,$F973<=N$10),$E973,IF(AND($E973<=M$10,$F973<=N$10),M$10,IF(AND($E973<=N$10,$F973>=N$10,$E973>=M$10),$E973,IF(AND($E973<=M$10,$F973>=N$10),M$10,\"chyba\")))))","v":"00:00:00"},{"$f":"IF(OR($F973<M$10,$E973>N$10),0,IF(AND($E973>=M$10,$F973<=N$10),$F973,IF(AND($E973<=M$10,$F973<=N$10),$F973,IF(AND($E973<=N$10,$F973>=N$10),N$10,IF(AND($E973<=M$10,$F973>=N$10),N$10,\"chyba\")))))","v":"00:00:00"},0,{"$f":"IF($H973<=0,0,$G973/$H973*O973)","v":0},{"$f":"IF(OR($F973<Q$10,$E973>R$10),0,IF(AND($E973>=Q$10,$F973<=R$10),$E973,IF(AND($E973<=Q$10,$F973<=R$10),Q$10,IF(AND($E973<=R$10,$F973>=R$10,$E973>=Q$10),$E973,IF(AND($E973<=Q$10,$F973>=R$10),Q$10,\"chyba\")))))","v":"00:00:00"},{"$f":"IF(OR($F973<Q$10,$E973>R$10),0,IF(AND($E973>=Q$10,$F973<=R$10),$F973,IF(AND($E973<=Q$10,$F973<=R$10),$F973,IF(AND($E973<=R$10,$F973>=R$10),R$10,IF(AND($E973<=Q$10,$F973>=R$10),R$10,\"chyba\")))))","v":"00:00:00"},0,{"$f":"IF($H973<=0,0,$G973/$H973*S973)","v":0},{"$f":"IF(OR($F973<U$10,$E973>V$10),0,IF(AND($E973>=U$10,$F973<=V$10),$E973,IF(AND($E973<=U$10,$F973<=V$10),U$10,IF(AND($E973<=V$10,$F973>=V$10,$E973>=U$10),$E973,IF(AND($E973<=U$10,$F973>=V$10),U$10,\"chyba\")))))","v":"00:00:00"},{"$f":"IF(OR($F973<U$10,$E973>V$10),0,IF(AND($E973>=U$10,$F973<=V$10),$F973,IF(AND($E973<=U$10,$F973<=V$10),$F973,IF(AND($E973<=V$10,$F973>=V$10),V$10,IF(AND($E973<=U$10,$F973>=V$10),V$10,\"chyba\")))))","v":"00:00:00"},0,{"$f":"IF($H973<=0,0,$G973/$H973*W973)","v":0},{"$f":"IF(OR($F973<Y$10,$E973>Z$10),0,IF(AND($E973>=Y$10,$F973<=Z$10),$E973,IF(AND($E973<=Y$10,$F973<=Z$10),Y$10,IF(AND($E973<=Z$10,$F973>=Z$10,$E973>=Y$10),$E973,IF(AND($E973<=Y$10,$F973>=Z$10),Y$10,\"chyba\")))))","v":"00:00:00"},{"$f":"IF(OR($F973<Y$10,$E973>Z$10),0,IF(AND($E973>=Y$10,$F973<=Z$10),$F973,IF(AND($E973<=Y$10,$F973<=Z$10),$F973,IF(AND($E973<=Z$10,$F973>=Z$10),Z$10,IF(AND($E973<=Y$10,$F973>=Z$10),Z$10,\"chyba\")))))","v":"00:00:00"},0,{"$f":"IF($H973<=0,0,$G973/$H973*AA973)","v":0},{"$f":"IF(OR($F973<AC$10,$E973>AD$10),0,IF(AND($E973>=AC$10,$F973<=AD$10),$E973,IF(AND($E973<=AC$10,$F973<=AD$10),AC$10,IF(AND($E973<=AD$10,$F973>=AD$10,$E973>=AC$10),$E973,IF(AND($E973<=AC$10,$F973>=AD$10),AC$10,\"chyba\")))))","v":"00:00:00"},{"$f":"IF(OR($F973<AC$10,$E973>AD$10),0,IF(AND($E973>=AC$10,$F973<=AD$10),$F973,IF(AND($E973<=AC$10,$F973<=AD$10),$F973,IF(AND($E973<=AD$10,$F973>=AD$10),AD$10,IF(AND($E973<=AC$10,$F973>=AD$10),AD$10,\"chyba\")))))","v":"00:00:00"},0,{"$f":"IF($H973<=0,0,$G973/$H973*AE973)","v":0},{"$f":"IF(OR($F973<AG$10,$E973>AH$10),0,IF(AND($E973>=AG$10,$F973<=AH$10),$E973,IF(AND($E973<=AG$10,$F973<=AH$10),AG$10,IF(AND($E973<=AH$10,$F973>=AH$10,$E973>=AG$10),$E973,IF(AND($E973<=AG$10,$F973>=AH$10),AG$10,\"chyba\")))))","v":"00:00:00"},{"$f":"IF(OR($F973<AG$10,$E973>AH$10),0,IF(AND($E973>=AG$10,$F973<=AH$10),$F973,IF(AND($E973<=AG$10,$F973<=AH$10),$F973,IF(AND($E973<=AH$10,$F973>=AH$10),AH$10,IF(AND($E973<=AG$10,$F973>=AH$10),AH$10,\"chyba\")))))","v":"00:00:00"},0,{"$f":"IF($H973<=0,0,$G973/$H973*AI973)","v":0},{"$f":"IF(OR($F973<AK$10,$E973>AL$10),0,IF(AND($E973>=AK$10,$F973<=AL$10),$E973,IF(AND($E973<=AK$10,$F973<=AL$10),AK$10,IF(AND($E973<=AL$10,$F973>=AL$10,$E973>=AK$10),$E973,IF(AND($E973<=AK$10,$F973>=AL$10),AK$10,\"chyba\")))))","v":"00:00:00"},{"$f":"IF(OR($F973<AK$10,$E973>AL$10),0,IF(AND($E973>=AK$10,$F973<=AL$10),$F973,IF(AND($E973<=AK$10,$F973<=AL$10),$F973,IF(AND($E973<=AL$10,$F973>=AL$10),AL$10,IF(AND($E973<=AK$10,$F973>=AL$10),AL$10,\"chyba\")))))","v":"00:00:00"},0,{"$f":"IF($H973<=0,0,$G973/$H973*AM973)","v":0},{"$f":"IF(OR($F973<AO$10,$E973>AP$10),0,IF(AND($E973>=AO$10,$F973<=AP$10),$E973,IF(AND($E973<=AO$10,$F973<=AP$10),AO$10,IF(AND($E973<=AP$10,$F973>=AP$10,$E973>=AO$10),$E973,IF(AND($E973<=AO$10,$F973>=AP$10),AO$10,\"chyba\")))))","v":"00:00:00"},{"$f":"IF(OR($F973<AO$10,$E973>AP$10),0,IF(AND($E973>=AO$10,$F973<=AP$10),$F973,IF(AND($E973<=AO$10,$F973<=AP$10),$F973,IF(AND($E973<=AP$10,$F973>=AP$10),AP$10,IF(AND($E973<=AO$10,$F973>=AP$10),AP$10,\"chyba\")))))","v":"00:00:00"},0,{"$f":"IF($H973<=0,0,$G973/$H973*AQ973)","v":0},{"$f":"IF(OR($F973<AS$10,$E973>AT$10),0,IF(AND($E973>=AS$10,$F973<=AT$10),$E973,IF(AND($E973<=AS$10,$F973<=AT$10),AS$10,IF(AND($E973<=AT$10,$F973>=AT$10,$E973>=AS$10),$E973,IF(AND($E973<=AS$10,$F973>=AT$10),AS$10,\"chyba\")))))","v":"00:00:00"},{"$f":"IF(OR($F973<AS$10,$E973>AT$10),0,IF(AND($E973>=AS$10,$F973<=AT$10),$F973,IF(AND($E973<=AS$10,$F973<=AT$10),$F973,IF(AND($E973<=AT$10,$F973>=AT$10),AT$10,IF(AND($E973<=AS$10,$F973>=AT$10),AT$10,\"chyba\")))))","v":"00:00:00"},0,{"$f":"IF($H973<=0,0,$G973/$H973*AU973)","v":0}]
[null,null,null,null,null,null,null,{"$f":"IF(F974-E974=0,0,F974-E974+1)","v":0},"00:00:00","00:00:00",{"$f":"IF(J974-I974=0,0,J974-I974+1)","v":0},0,"00:00:00","00:00:00",{"$f":"IF(N974-M974=0,0,N974-M974+1)","v":0},0,"00:00:00","00:00:00",{"$f":"IF(R974-Q974=0,0,R974-Q974+1)","v":0},0,"00:00:00","00:00:00",{"$f":"IF(V974-U974=0,0,V974-U974+1)","v":0},0,"00:00:00","00:00:00",{"$f":"IF(Z974-Y974=0,0,Z974-Y974+1)","v":0},0,"00:00:00","00:00:00",{"$f":"IF(AD974-AC974=0,0,AD974-AC974+1)","v":0},0,"00:00:00","00:00:00",{"$f":"IF(AH974-AG974=0,0,AH974-AG974+1)","v":0},0,"00:00:00","00:00:00",{"$f":"IF(AL974-AK974=0,0,AL974-AK974+1)","v":0},0,"00:00:00","00:00:00",{"$f":"IF(AP974-AO974=0,0,AP974-AO974+1)","v":0},0,"00:00:00","00:00:00",{"$f":"IF(AT974-AS974=0,0,AT974-AS974+1)","v":0},0]
[null,null,null,null,null,null,null,0,"00:00:00","00:00:00",0,0,"00:00:00","00:00:00",0,0,"00:00:00","00:00:00",0,0,"00:00:00","00:00:00",0,0,"00:00:00","00:00:00",0,0,"00:00:00","00:00:00",0,0,"00:00:00","00:00:00",0,0,"00:00:00","00:00:00",0,0,"00:00:00","00:00:00",0,0,"00:00:00","00:00:00",0,0]
[null,null,null,null,null,null,null,0,"00:00:00","00:00:00",0,0,"00:00:00","00:00:00",0,0,"00:00:00","00:00:00",0,0,"00:00:00","00:00:00",0,0,"00:00:00","00:00:00",0,0,"00:00:00","00:00:00",0,0,"00:00:00","00:00:00",0,0,"00:00:00","00:00:00",0,0,"00:00:00","00:00:00",0,0,"00:00:00","00:00:00",0,0]
[null,null,null,null,null,null,null,0,"00:00:00","00:00:00",0,0,"00:00:00","00:00:00",0,0,"00:00:00","00:00:00",0,0,"00:00:00","00:00:00",0,0,"00:00:00","00:00:00",0,0,"00:00:00","00:00:00",0,0,"00:00:00","00:00:00",0,0,"00:00:00","00:00:00",0,0,"00:00:00","00:00:00",0,0,"00:00:00","00:00:00",0,0]
[null,null,null,null,null,null,null,0,"00:00:00","00:00:00",0,0,"00:00:00","00:00:00",0,0,"00:00:00","00:00:00",0,0,"00:00:00","00:00:00",0,0,"00:00:00","00:00:00",0,0,"00:00:00","00:00:00",0,0,"00:00:00","00:00:00",0,0,"00:00:00","00:00:00",0,0,"00:00:00","00:00:00",0,0,"00:00:00","00:00:00",0,0]
[null,null,null,null,null,null,null,0,"00:00:00","00:00:00",0,0,"00:00:00","00:00:00",0,0,"00:00:00","00:00:00",0,0,"00:00:00","00:00:00",0,0,"00:00:00","00:00:00",0,0,"00:00:00","00:00:00",0,0,"00:00:00","00:00:00",0,0,"00:00:00","00:00:00",0,0,"00:00:00","00:00:00",0,0,"00:00:00","00:00:00",0,0]
[null,null,null,null,null,null,null,0,"00:00:00","00:00:00",0,0,"00:00:00","00:00:00",0,0,"00:00:00","00:00:00",0,0,"00:00:00","00:00:00",0,0,"00:00:00","00:00:00",0,0,"00:00:00","00:00:00",0,0,"00:00:00","00:00:00",0,0,"00:00:00","00:00:00",0,0,"00:00:00","00:00:00",0,0,"00:00:00","00:00:00",0,0]
[null,null,null,null,null,null,null,0,"00:00:00","00:00:00",0,0,"00:00:00","00:00:00",0,0,"00:00:00","00:00:00",0,0,"00:00:00","00:00:00",0,0,"00:00:00","00:00:00",0,0,"00:00:00","00:00:00",0,0,"00:00:00","00:00:00",0,0,"00:00:00","00:00:00",0,0,"00:00:00","00:00:00",0,0,"00:00:00","00:00:00",0,0]
[null,null,null,null,null,null,null,0,"00:00:00","00:00:00",0,0,"00:00:00","00:00:00",0,0,"00:00:00","00:00:00",0,0,"00:00:00","00:00:00",0,0,"00:00:00","00:00:00",0,0,"00:00:00","00:00:00",0,0,"00:00:00","00:00:00",0,0,"00:00:00","00:00:00",0,0,"00:00:00","00:00:00",0,0,"00:00:00","00:00:00",0,0]
[null,null,null,null,null,null,null,0,"00:00:00","00:00:00",0,0,"00:00:00","00:00:00",0,0,"00:00:00","00:00:00",0,0,"00:00:00","00:00:00",0,0,"00:00:00","00:00:00",0,0,"00:00:00","00:00:00",0,0,"00:00:00","00:00:00",0,0,"00:00:00","00:00:00",0,0,"00:00:00","00:00:00",0,0,"00:00:00","00:00:00",0,0]
[null,null,null,null,null,null,null,0,"00:00:00","00:00:00",0,0,"00:00:00","00:00:00",0,0,"00:00:00","00:00:00",0,0,"00:00:00","00:00:00",0,0,"00:00:00","00:00:00",0,0,"00:00:00","00:00:00",0,0,"00:00:00","00:00:00",0,0,"00:00:00","00:00:00",0,0,"00:00:00","00:00:00",0,0,"00:00:00","00:00:00",0,0]
[null,null,null,null,null,null,null,0,"00:00:00","00:00:00",0,0,"00:00:00","00:00:00",0,0,"00:00:00","00:00:00",0,0,"00:00:00","00:00:00",0,0,"00:00:00","00:00:00",0,0,"00:00:00","00:00:00",0,0,"00:00:00","00:00:00",0,0,"00:00:00","00:00:00",0,0,"00:00:00","00:00:00",0,0,"00:00:00","00:00:00",0,0]
[null,null,null,null,null,null,null,0,"00:00:00","00:00:00",0,0,"00:00:00","00:00:00",0,0,"00:00:00","00:00:00",0,0,"00:00:00","00:00:00",0,0,"00:00:00","00:00:00",0,0,"00:00:00","00:00:00",0,0,"00:00:00","00:00:00",0,0,"00:00:00","00:00:00",0,0,"00:00:00","00:00:00",0,0,"00:00:00","00:00:00",0,0]
[null,null,null,null,null,null,null,0,"00:00:00","00:00:00",0,0,"00:00:00","00:00:00",0,0,"00:00:00","00:00:00",0,0,"00:00:00","00:00:00",0,0,"00:00:00","00:00:00",0,0,"00:00:00","00:00:00",0,0,"00:00:00","00:00:00",0,0,"00:00:00","00:00:00",0,0,"00:00:00","00:00:00",0,0,"00:00:00","00:00:00",0,0]
[null,null,null,null,null,null,null,0,"00:00:00","00:00:00",0,0,"00:00:00","00:00:00",0,0,"00:00:00","00:00:00",0,0,"00:00:00","00:00:00",0,0,"00:00:00","00:00:00",0,0,"00:00:00","00:00:00",0,0,"00:00:00","00:00:00",0,0,"00:00:00","00:00:00",0,0,"00:00:00","00:00:00",0,0,"00:00:00","00:00:00",0,0]
[null,null,null,null,null,null,null,0,"00:00:00","00:00:00",0,0,"00:00:00","00:00:00",0,0,"00:00:00","00:00:00",0,0,"00:00:00","00:00:00",0,0,"00:00:00","00:00:00",0,0,"00:00:00","00:00:00",0,0,"00:00:00","00:00:00",0,0,"00:00:00","00:00:00",0,0,"00:00:00","00:00:00",0,0,"00:00:00","00:00:00",0,0]
[null,null,null,null,null,null,null,0,"00:00:00","00:00:00",0,0,"00:00:00","00:00:00",0,0,"00:00:00","00:00:00",0,0,"00:00:00","00:00:00",0,0,"00:00:00","00:00:00",0,0,"00:00:00","00:00:00",0,0,"00:00:00","00:00:00",0,0,"00:00:00","00:00:00",0,0,"00:00:00","00:00:00",0,0,"00:00:00","00:00:00",0,0]
[null,null,null,null,null,null,null,0,"00:00:00","00:00:00",0,0,"00:00:00","00:00:00",0,0,"00:00:00","00:00:00",0,0,"00:00:00","00:00:00",0,0,"00:00:00","00:00:00",0,0,"00:00:00","00:00:00",0,0,"00:00:00","00:00:00",0,0,"00:00:00","00:00:00",0,0,"00:00:00","00:00:00",0,0,"00:00:00","00:00:00",0,0]
[null,null,null,null,null,null,null,0,"00:00:00","00:00:00",0,0,"00:00:00","00:00:00",0,0,"00:00:00","00:00:00",0,0,"00:00:00","00:00:00",0,0,"00:00:00","00:00:00",0,0,"00:00:00","00:00:00",0,0,"00:00:00","00:00:00",0,0,"00:00:00","00:00:00",0,0,"00:00:00","00:00:00",0,0,"00:00:00","00:00:00",0,0]
[null,null,null,null,null,null,null,0,"00:00:00","00:00:00",0,0,"00:00:00","00:00:00",0,0,"00:00:00","00:00:00",0,0,"00:00:00","00:00:00",0,0,"00:00:00","00:00:00",0,0,"00:00:00","00:00:00",0,0,"00:00:00","00:00:00",0,0,"00:00:00","00:00:00",0,0,"00:00:00","00:00:00",0,0,"00:00:00","00:00:00",0,0]
[null,null,null,null,null,null,null,0,"00:00:00","00:00:00",0,0,"00:00:00","00:00:00",0,0,"00:00:00","00:00:00",0,0,"00:00:00","00:00:00",0,0,"00:00:00","00:00:00",0,0,"00:00:00","00:00:00",0,0,"00:00:00","00:00:00",0,0,"00:00:00","00:00:00",0,0,"00:00:00","00:00:00",0,0,"00:00:00","00:00:00",0,0]
[null,null,null,null,null,null,null,0,"00:00:00","00:00:00",0,0,"00:00:00","00:00:00",0,0,"00:00:00","00:00:00",0,0,"00:00:00","00:00:00",0,0,"00:00:00","00:00:00",0,0,"00:00:00","00:00:00",0,0,"00:00:00","00:00:00",0,0,"00:00:00","00:00:00",0,0,"00:00:00","00:00:00",0,0,"00:00:00","00:00:00",0,0]
[null,null,null,null,null,null,null,0,"00:00:00","00:00:00",0,0,"00:00:00","00:00:00",0,0,"00:00:00","00:00:00",0,0,"00:00:00","00:00:00",0,0,"00:00:00","00:00:00",0,0,"00:00:00","00:00:00",0,0,"00:00:00","00:00:00",0,0,"00:00:00","00:00:00",0,0,"00:00:00","00:00:00",0,0,"00:00:00","00:00:00",0,0]
[null,null,null,null,null,null,null,0,"00:00:00","00:00:00",0,0,"00:00:00","00:00:00",0,0,"00:00:00","00:00:00",0,0,"00:00:00","00:00:00",0,0,"00:00:00","00:00:00",0,0,"00:00:00","00:00:00",0,0,"00:00:00","00:00:00",0,0,"00:00:00","00:00:00",0,0,"00:00:00","00:00:00",0,0,"00:00:00","00:00:00",0,0]
[null,null,null,null,null,null,null,0,"00:00:00","00:00:00",0,0,"00:00:00","00:00:00",0,0,"00:00:00","00:00:00",0,0,"00:00:00","00:00:00",0,0,"00:00:00","00:00:00",0,0,"00:00:00","00:00:00",0,0,"00:00:00","00:00:00",0,0,"00:00:00","00:00:00",0,0,"00:00:00","00:00:00",0,0,"00:00:00","00:00:00",0,0]
[null,null,null,null,null,null,null,0,"00:00:00","00:00:00",0,0,"00:00:00","00:00:00",0,0,"00:00:00","00:00:00",0,0,"00:00:00","00:00:00",0,0,"00:00:00","00:00:00",0,0,"00:00:00","00:00:00",0,0,"00:00:00","00:00:00",0,0,"00:00:00","00:00:00",0,0,"00:00:00","00:00:00",0,0,"00:00:00","00:00:00",0,0]
[null,null,null,null,null,null,null,0,"00:00:00","00:00:00",0,0,"00:00:00","00:00:00",0,0,"00:00:00","00:00:00",0,0,"00:00:00","00:00:00",0,0,"00:00:00","00:00:00",0,0,"00:00:00","00:00:00",0,0,"00:00:00","00:00:00",0,0,"00:00:00","00:00:00",0,0,"00:00:00","00:00:00",0,0,"00:00:00","00:00:00",0,0]
[null,null,null,null,null,null,null,0,"00:00:00","00:00:00",0,0,"00:00:00","00:00:00",0,0,"00:00:00","00:00:00",0,0,"00:00:00","00:00:00",0,0,"00:00:00","00:00:00",0,0,"00:00:00","00:00:00",0,0,"00:00:00","00:00:00",0,0,"00:00:00","00:00:00",0,0,"00:00:00","00:00:00",0,0,"00:00:00","00:00:00",0,0]
[null,null,null,null,null,null,null,0,"00:00:00","00:00:00",0,0,"00:00:00","00:00:00",0,0,"00:00:00","00:00:00",0,0,"00:00:00","00:00:00",0,0,"00:00:00","00:00:00",0,0,"00:00:00","00:00:00",0,0,"00:00:00","00:00:00",0,0,"00:00:00","00:00:00",0,0,"00:00:00","00:00:00",0,0,"00:00:00","00:00:00",0,0]
[null,null,null,null,null,null,null,0,"00:00:00","00:00:00",0,0,"00:00:00","00:00:00",0,0,"00:00:00","00:00:00",0,0,"00:00:00","00:00:00",0,0,"00:00:00","00:00:00",0,0,"00:00:00","00:00:00",0,0,"00:00:00","00:00:00",0,0,"00:00:00","00:00:00",0,0,"00:00:00","00:00:00",0,0,"00:00:00","00:00:00",0,0]
[null,null,null,null,null,null,null,0,"00:00:00","00:00:00",0,0,"00:00:00","00:00:00",0,0,"00:00:00","00:00:00",0,0,"00:00:00","00:00:00",0,0,"00:00:00","00:00:00",0,0,"00:00:00","00:00:00",0,0,"00:00:00","00:00:00",0,0,"00:00:00","00:00:00",0,0,"00:00:00","00:00:00",0,0,"00:00:00","00:00:00",0,0]
[null,null,null,null,null,null,null,0,"00:00:00","00:00:00",0,0,"00:00:00","00:00:00",0,0,"00:00:00","00:00:00",0,0,"00:00:00","00:00:00",0,0,"00:00:00","00:00:00",0,0,"00:00:00","00:00:00",0,0,"00:00:00","00:00:00",0,0,"00:00:00","00:00:00",0,0,"00:00:00","00:00:00",0,0,"00:00:00","00:00:00",0,0]
[null,null,null,null,null,null,null,0,"00:00:00","00:00:00",0,0,"00:00:00","00:00:00",0,0,"00:00:00","00:00:00",0,0,"00:00:00","00:00:00",0,0,"00:00:00","00:00:00",0,0,"00:00:00","00:00:00",0,0,"00:00:00","00:00:00",0,0,"00:00:00","00:00:00",0,0,"00:00:00","00:00:00",0,0,"00:00:00","00:00:00",0,0]
[null,null,null,null,null,null,null,0,"00:00:00","00:00:00",0,0,"00:00:00","00:00:00",0,0,"00:00:00","00:00:00",0,0,"00:00:00","00:00:00",0,0,"00:00:00","00:00:00",0,0,"00:00:00","00:00:00",0,0,"00:00:00","00:00:00",0,0,"00:00:00","00:00:00",0,0,"00:00:00","00:00:00",0,0,"00:00:00","00:00:00",0,0]
[null,null,null,null,null,null,null,0,"00:00:00","00:00:00",0,0,"00:00:00","00:00:00",0,0,"00:00:00","00:00:00",0,0,"00:00:00","00:00:00",0,0,"00:00:00","00:00:00",0,0,"00:00:00","00:00:00",0,0,"00:00:00","00:00:00",0,0,"00:00:00","00:00:00",0,0,"00:00:00","00:00:00",0,0,"00:00:00","00:00:00",0,0]
[null,null,null,null,null,null,null,0,"00:00:00","00:00:00",0,0,"00:00:00","00:00:00",0,0,"00:00:00","00:00:00",0,0,"00:00:00","00:00:00",0,0,"00:00:00","00:00:00",0,0,"00:00:00","00:00:00",0,0,"00:00:00","00:00:00",0,0,"00:00:00","00:00:00",0,0,"00:00:00","00:00:00",0,0,"00:00:00","00:00:00",0,0]
[null,null,null,null,null,null,null,0,"00:00:00","00:00:00",0,0,"00:00:00","00:00:00",0,0,"00:00:00","00:00:00",0,0,"00:00:00","00:00:00",0,0,"00:00:00","00:00:00",0,0,"00:00:00","00:00:00",0,0,"00:00:00","00:00:00",0,0,"00:00:00","00:00:00",0,0,"00:00:00","00:00:00",0,0,"00:00:00","00:00:00",0,0]
[null,null,null,null,null,null,null,0,"00:00:00","00:00:00",0,0,"00:00:00","00:00:00",0,0,"00:00:00","00:00:00",0,0,"00:00:00","00:00:00",0,0,"00:00:00","00:00:00",0,0,"00:00:00","00:00:00",0,0,"00:00:00","00:00:00",0,0,"00:00:00","00:00:00",0,0,"00:00:00","00:00:00",0,0,"00:00:00","00:00:00",0,0]
[null,null,null,null,null,null,null,0,"00:00:00","00:00:00",0,0,"00:00:00","00:00:00",0,0,"00:00:00","00:00:00",0,0,"00:00:00","00:00:00",0,0,"00:00:00","00:00:00",0,0,"00:00:00","00:00:00",0,0,"00:00:00","00:00:00",0,0,"00:00:00","00:00:00",0,0,"00:00:00","00:00:00",0,0,"00:00:00","00:00:00",0,0]
[null,null,null,null,null,null,null,0,"00:00:00","00:00:00",0,0,"00:00:00","00:00:00",0,0,"00:00:00","00:00:00",0,0,"00:00:00","00:00:00",0,0,"00:00:00","00:00:00",0,0,"00:00:00","00:00:00",0,0,"00:00:00","00:00:00",0,0,"00:00:00","00:00:00",0,0,"00:00:00","00:00:00",0,0,"00:00:00","00:00:00",0,0]
[null,null,null,null,null,null,null,0,"00:00:00","00:00:00",0,0,"00:00:00","00:00:00",0,0,"00:00:00","00:00:00",0,0,"00:00:00","00:00:00",0,0,"00:00:00","00:00:00",0,0,"00:00:00","00:00:00",0,0,"00:00:00","00:00:00",0,0,"00:00:00","00:00:00",0,0,"00:00:00","00:00:00",0,0,"00:00:00","00:00:00",0,0]
[null,null,null,null,null,null,null,0,"00:00:00","00:00:00",0,0,"00:00:00","00:00:00",0,0,"00:00:00","00:00:00",0,0,"00:00:00","00:00:00",0,0,"00:00:00","00:00:00",0,0,"00:00:00","00:00:00",0,0,"00:00:00","00:00:00",0,0,"00:00:00","00:00:00",0,0,"00:00:00","00:00:00",0,0,"00:00:00","00:00:00",0,0]
[null,null,null,null,null,null,null,0,"00:00:00","00:00:00",0,0,"00:00:00","00:00:00",0,0,"00:00:00","00:00:00",0,0,"00:00:00","00:00:00",0,0,"00:00:00","00:00:00",0,0,"00:00:00","00:00:00",0,0,"00:00:00","00:00:00",0,0,"00:00:00","00:00:00",0,0,"00:00:00","00:00:00",0,0,"00:00:00","00:00:00",0,0]
[null,null,null,null,null,null,null,0,"00:00:00","00:00:00",0,0,"00:00:00","00:00:00",0,0,"00:00:00","00:00:00",0,0,"00:00:00","00:00:00",0,0,"00:00:00","00:00:00",0,0,"00:00:00","00:00:00",0,0,"00:00:00","00:00:00",0,0,"00:00:00","00:00:00",0,0,"00:00:00","00:00:00",0,0,"00:00:00","00:00:00",0,0]
[null,null,null,null,null,null,null,0,"00:00:00","00:00:00",0,0,"00:00:00","00:00:00",0,0,"00:00:00","00:00:00",0,0,"00:00:00","00:00:00",0,0,"00:00:00","00:00:00",0,0,"00:00:00","00:00:00",0,0,"00:00:00","00:00:00",0,0,"00:00:00","00:00:00",0,0,"00:00:00","00:00:00",0,0,"00:00:00","00:00:00",0,0]
[null,null,null,null,null,null,null,0,"00:00:00","00:00:00",0,0,"00:00:00","00:00:00",0,0,"00:00:00","00:00:00",0,0,"00:00:00","00:00:00",0,0,"00:00:00","00:00:00",0,0,"00:00:00","00:00:00",0,0,"00:00:00","00:00:00",0,0,"00:00:00","00:00:00",0,0,"00:00:00","00:00:00",0,0,"00:00:00","00:00:00",0,0]
[null,null,null,null,null,null,null,0,"00:00:00","00:00:00",0,0,"00:00:00","00:00:00",0,0,"00:00:00","00:00:00",0,0,"00:00:00","00:00:00",0,0,"00:00:00","00:00:00",0,0,"00:00:00","00:00:00",0,0,"00:00:00","00:00:00",0,0,"00:00:00","00:00:00",0,0,"00:00:00","00:00:00",0,0,"00:00:00","00:00:00",0,0]
[null,null,null,null,null,null,null,0,"00:00:00","00:00:00",0,0,"00:00:00","00:00:00",0,0,"00:00:00","00:00:00",0,0,"00:00:00","00:00:00",0,0,"00:00:00","00:00:00",0,0,"00:00:00","00:00:00",0,0,"00:00:00","00:00:00",0,0,"00:00:00","00:00:00",0,0,"00:00:00","00:00:00",0,0,"00:00:00","00:00:00",0,0]
[null,null,null,null,null,null,null,0,"00:00:00","00:00:00",0,0,"00:00:00","00:00:00",0,0,"00:00:00","00:00:00",0,0,"00:00:00","00:00:00",0,0,"00:00:00","00:00:00",0,0,"00:00:00","00:00:00",0,0,"00:00:00","00:00:00",0,0,"00:00:00","00:00:00",0,0,"00:00:00","00:00:00",0,0,"00:00:00","00:00:00",0,0]
[null,null,null,null,null,null,null,0,"00:00:00","00:00:00",0,0,"00:00:00","00:00:00",0,0,"00:00:00","00:00:00",0,0,"00:00:00","00:00:00",0,0,"00:00:00","00:00:00",0,0,"00:00:00","00:00:00",0,0,"00:00:00","00:00:00",0,0,"00:00:00","00:00:00",0,0,"00:00:00","00:00:00",0,0,"00:00:00","00:00:00",0,0]
[null,null,null,null,null,null,null,0,"00:00:00","00:00:00",0,0,"00:00:00","00:00:00",0,0,"00:00:00","00:00:00",0,0,"00:00:00","00:00:00",0,0,"00:00:00","00:00:00",0,0,"00:00:00","00:00:00",0,0,"00:00:00","00:00:00",0,0,"00:00:00","00:00:00",0,0,"00:00:00","00:00:00",0,0,"00:00:00","00:00:00",0,0]
[null,null,null,null,null,null,null,0,"00:00:00","00:00:00",0,0,"00:00:00","00:00:00",0,0,"00:00:00","00:00:00",0,0,"00:00:00","00:00:00",0,0,"00:00:00","00:00:00",0,0,"00:00:00","00:00:00",0,0,"00:00:00","00:00:00",0,0,"00:00:00","00:00:00",0,0,"00:00:00","00:00:00",0,0,"00:00:00","00:00:00",0,0]
[null,null,null,null,null,null,null,0,"00:00:00","00:00:00",0,0,"00:00:00","00:00:00",0,0,"00:00:00","00:00:00",0,0,"00:00:00","00:00:00",0,0,"00:00:00","00:00:00",0,0,"00:00:00","00:00:00",0,0,"00:00:00","00:00:00",0,0,"00:00:00","00:00:00",0,0,"00:00:00","00:00:00",0,0,"00:00:00","00:00:00",0,0]
[null,null,null,null,null,null,null,0,"00:00:00","00:00:00",0,0,"00:00:00","00:00:00",0,0,"00:00:00","00:00:00",0,0,"00:00:00","00:00:00",0,0,"00:00:00","00:00:00",0,0,"00:00:00","00:00:00",0,0,"00:00:00","00:00:00",0,0,"00:00:00","00:00:00",0,0,"00:00:00","00:00:00",0,0,"00:00:00","00:00:00",0,0]
[null,null,null,null,null,null,null,0,"00:00:00","00:00:00",0,0,"00:00:00","00:00:00",0,0,"00:00:00","00:00:00",0,0,"00:00:00","00:00:00",0,0,"00:00:00","00:00:00",0,0,"00:00:00","00:00:00",0,0,"00:00:00","00:00:00",0,0,"00:00:00","00:00:00",0,0,"00:00:00","00:00:00",0,0,"00:00:00","00:00:00",0,0]
[null,null,null,null,null,null,null,0,"00:00:00","00:00:00",0,0,"00:00:00","00:00:00",0,0,"00:00:00","00:00:00",0,0,"00:00:00","00:00:00",0,0,"00:00:00","00:00:00",0,0,"00:00:00","00:00:00",0,0,"00:00:00","00:00:00",0,0,"00:00:00","00:00:00",0,0,"00:00:00","00:00:00",0,0,"00:00:00","00:00:00",0,0]
[null,null,null,null,null,null,null,0,"00:00:00","00:00:00",0,0,"00:00:00","00:00:00",0,0,"00:00:00","00:00:00",0,0,"00:00:00","00:00:00",0,0,"00:00:00","00:00:00",0,0,"00:00:00","00:00:00",0,0,"00:00:00","00:00:00",0,0,"00:00:00","00:00:00",0,0,"00:00:00","00:00:00",0,0,"00:00:00","00:00:00",0,0]
[null,null,null,null,null,null,null,0,"00:00:00","00:00:00",0,0,"00:00:00","00:00:00",0,0,"00:00:00","00:00:00",0,0,"00:00:00","00:00:00",0,0,"00:00:00","00:00:00",0,0,"00:00:00","00:00:00",0,0,"00:00:00","00:00:00",0,0,"00:00:00","00:00:00",0,0,"00:00:00","00:00:00",0,0,"00:00:00","00:00:00",0,0]
[null,null,null,null,null,null,null,0,"00:00:00","00:00:00",0,0,"00:00:00","00:00:00",0,0,"00:00:00","00:00:00",0,0,"00:00:00","00:00:00",0,0,"00:00:00","00:00:00",0,0,"00:00:00","00:00:00",0,0,"00:00:00","00:00:00",0,0,"00:00:00","00:00:00",0,0,"00:00:00","00:00:00",0,0,"00:00:00","00:00:00",0,0]
[null,null,null,null,null,null,null,0,"00:00:00","00:00:00",0,0,"00:00:00","00:00:00",0,0,"00:00:00","00:00:00",0,0,"00:00:00","00:00:00",0,0,"00:00:00","00:00:00",0,0,"00:00:00","00:00:00",0,0,"00:00:00","00:00:00",0,0,"00:00:00","00:00:00",0,0,"00:00:00","00:00:00",0,0,"00:00:00","00:00:00",0,0]
[null,null,null,null,null,null,null,0,"00:00:00","00:00:00",0,0,"00:00:00","00:00:00",0,0,"00:00:00","00:00:00",0,0,"00:00:00","00:00:00",0,0,"00:00:00","00:00:00",0,0,"00:00:00","00:00:00",0,0,"00:00:00","00:00:00",0,0,"00:00:00","00:00:00",0,0,"00:00:00","00:00:00",0,0,"00:00:00","00:00:00",0,0]
[null,null,null,null,null,null,null,0,"00:00:00","00:00:00",0,0,"00:00:00","00:00:00",0,0,"00:00:00","00:00:00",0,0,"00:00:00","00:00:00",0,0,"00:00:00","00:00:00",0,0,"00:00:00","00:00:00",0,0,"00:00:00","00:00:00",0,0,"00:00:00","00:00:00",0,0,"00:00:00","00:00:00",0,0,"00:00:00","00:00:00",0,0]
[null,null,null,null,null,null,null,0,"00:00:00","00:00:00",0,0,"00:00:00","00:00:00",0,0,"00:00:00","00:00:00",0,0,"00:00:00","00:00:00",0,0,"00:00:00","00:00:00",0,0,"00:00:00","00:00:00",0,0,"00:00:00","00:00:00",0,0,"00:00:00","00:00:00",0,0,"00:00:00","00:00:00",0,0,"00:00:00","00:00:00",0,0]
[null,null,null,null,null,null,null,0,{"$f":"IF(OR($F1037<I$10,$E1037>J$10),0,IF(AND($E1037>=I$10,$F1037<=J$10),$E1037,IF(AND($E1037<=I$10,$F1037<=J$10),I$10,IF(AND($E1037<=J$10,$F1037>=J$10,$E1037>=I$10),$E1037,IF(AND($E1037<=I$10,$F1037>=J$10),I$10,\"chyba\")))))","v":"00:00:00"},{"$f":"IF(OR($F1037<I$10,$E1037>J$10),0,IF(AND($E1037>=I$10,$F1037<=J$10),$F1037,IF(AND($E1037<=I$10,$F1037<=J$10),$F1037,IF(AND($E1037<=J$10,$F1037>=J$10),J$10,IF(AND($E1037<=I$10,$F1037>=J$10),J$10,\"chyba\")))))","v":"00:00:00"},0,{"$f":"IF($H1037<=0,0,$G1037/$H1037*K1037)","v":0},{"$f":"IF(OR($F1037<M$10,$E1037>N$10),0,IF(AND($E1037>=M$10,$F1037<=N$10),$E1037,IF(AND($E1037<=M$10,$F1037<=N$10),M$10,IF(AND($E1037<=N$10,$F1037>=N$10,$E1037>=M$10),$E1037,IF(AND($E1037<=M$10,$F1037>=N$10),M$10,\"chyba\")))))","v":"00:00:00"},{"$f":"IF(OR($F1037<M$10,$E1037>N$10),0,IF(AND($E1037>=M$10,$F1037<=N$10),$F1037,IF(AND($E1037<=M$10,$F1037<=N$10),$F1037,IF(AND($E1037<=N$10,$F1037>=N$10),N$10,IF(AND($E1037<=M$10,$F1037>=N$10),N$10,\"chyba\")))))","v":"00:00:00"},0,{"$f":"IF($H1037<=0,0,$G1037/$H1037*O1037)","v":0},{"$f":"IF(OR($F1037<Q$10,$E1037>R$10),0,IF(AND($E1037>=Q$10,$F1037<=R$10),$E1037,IF(AND($E1037<=Q$10,$F1037<=R$10),Q$10,IF(AND($E1037<=R$10,$F1037>=R$10,$E1037>=Q$10),$E1037,IF(AND($E1037<=Q$10,$F1037>=R$10),Q$10,\"chyba\")))))","v":"00:00:00"},{"$f":"IF(OR($F1037<Q$10,$E1037>R$10),0,IF(AND($E1037>=Q$10,$F1037<=R$10),$F1037,IF(AND($E1037<=Q$10,$F1037<=R$10),$F1037,IF(AND($E1037<=R$10,$F1037>=R$10),R$10,IF(AND($E1037<=Q$10,$F1037>=R$10),R$10,\"chyba\")))))","v":"00:00:00"},0,{"$f":"IF($H1037<=0,0,$G1037/$H1037*S1037)","v":0},{"$f":"IF(OR($F1037<U$10,$E1037>V$10),0,IF(AND($E1037>=U$10,$F1037<=V$10),$E1037,IF(AND($E1037<=U$10,$F1037<=V$10),U$10,IF(AND($E1037<=V$10,$F1037>=V$10,$E1037>=U$10),$E1037,IF(AND($E1037<=U$10,$F1037>=V$10),U$10,\"chyba\")))))","v":"00:00:00"},{"$f":"IF(OR($F1037<U$10,$E1037>V$10),0,IF(AND($E1037>=U$10,$F1037<=V$10),$F1037,IF(AND($E1037<=U$10,$F1037<=V$10),$F1037,IF(AND($E1037<=V$10,$F1037>=V$10),V$10,IF(AND($E1037<=U$10,$F1037>=V$10),V$10,\"chyba\")))))","v":"00:00:00"},0,{"$f":"IF($H1037<=0,0,$G1037/$H1037*W1037)","v":0},{"$f":"IF(OR($F1037<Y$10,$E1037>Z$10),0,IF(AND($E1037>=Y$10,$F1037<=Z$10),$E1037,IF(AND($E1037<=Y$10,$F1037<=Z$10),Y$10,IF(AND($E1037<=Z$10,$F1037>=Z$10,$E1037>=Y$10),$E1037,IF(AND($E1037<=Y$10,$F1037>=Z$10),Y$10,\"chyba\")))))","v":"00:00:00"},{"$f":"IF(OR($F1037<Y$10,$E1037>Z$10),0,IF(AND($E1037>=Y$10,$F1037<=Z$10),$F1037,IF(AND($E1037<=Y$10,$F1037<=Z$10),$F1037,IF(AND($E1037<=Z$10,$F1037>=Z$10),Z$10,IF(AND($E1037<=Y$10,$F1037>=Z$10),Z$10,\"chyba\")))))","v":"00:00:00"},0,{"$f":"IF($H1037<=0,0,$G1037/$H1037*AA1037)","v":0},{"$f":"IF(OR($F1037<AC$10,$E1037>AD$10),0,IF(AND($E1037>=AC$10,$F1037<=AD$10),$E1037,IF(AND($E1037<=AC$10,$F1037<=AD$10),AC$10,IF(AND($E1037<=AD$10,$F1037>=AD$10,$E1037>=AC$10),$E1037,IF(AND($E1037<=AC$10,$F1037>=AD$10),AC$10,\"chyba\")))))","v":"00:00:00"},{"$f":"IF(OR($F1037<AC$10,$E1037>AD$10),0,IF(AND($E1037>=AC$10,$F1037<=AD$10),$F1037,IF(AND($E1037<=AC$10,$F1037<=AD$10),$F1037,IF(AND($E1037<=AD$10,$F1037>=AD$10),AD$10,IF(AND($E1037<=AC$10,$F1037>=AD$10),AD$10,\"chyba\")))))","v":"00:00:00"},0,{"$f":"IF($H1037<=0,0,$G1037/$H1037*AE1037)","v":0},{"$f":"IF(OR($F1037<AG$10,$E1037>AH$10),0,IF(AND($E1037>=AG$10,$F1037<=AH$10),$E1037,IF(AND($E1037<=AG$10,$F1037<=AH$10),AG$10,IF(AND($E1037<=AH$10,$F1037>=AH$10,$E1037>=AG$10),$E1037,IF(AND($E1037<=AG$10,$F1037>=AH$10),AG$10,\"chyba\")))))","v":"00:00:00"},{"$f":"IF(OR($F1037<AG$10,$E1037>AH$10),0,IF(AND($E1037>=AG$10,$F1037<=AH$10),$F1037,IF(AND($E1037<=AG$10,$F1037<=AH$10),$F1037,IF(AND($E1037<=AH$10,$F1037>=AH$10),AH$10,IF(AND($E1037<=AG$10,$F1037>=AH$10),AH$10,\"chyba\")))))","v":"00:00:00"},0,{"$f":"IF($H1037<=0,0,$G1037/$H1037*AI1037)","v":0},{"$f":"IF(OR($F1037<AK$10,$E1037>AL$10),0,IF(AND($E1037>=AK$10,$F1037<=AL$10),$E1037,IF(AND($E1037<=AK$10,$F1037<=AL$10),AK$10,IF(AND($E1037<=AL$10,$F1037>=AL$10,$E1037>=AK$10),$E1037,IF(AND($E1037<=AK$10,$F1037>=AL$10),AK$10,\"chyba\")))))","v":"00:00:00"},{"$f":"IF(OR($F1037<AK$10,$E1037>AL$10),0,IF(AND($E1037>=AK$10,$F1037<=AL$10),$F1037,IF(AND($E1037<=AK$10,$F1037<=AL$10),$F1037,IF(AND($E1037<=AL$10,$F1037>=AL$10),AL$10,IF(AND($E1037<=AK$10,$F1037>=AL$10),AL$10,\"chyba\")))))","v":"00:00:00"},0,{"$f":"IF($H1037<=0,0,$G1037/$H1037*AM1037)","v":0},{"$f":"IF(OR($F1037<AO$10,$E1037>AP$10),0,IF(AND($E1037>=AO$10,$F1037<=AP$10),$E1037,IF(AND($E1037<=AO$10,$F1037<=AP$10),AO$10,IF(AND($E1037<=AP$10,$F1037>=AP$10,$E1037>=AO$10),$E1037,IF(AND($E1037<=AO$10,$F1037>=AP$10),AO$10,\"chyba\")))))","v":"00:00:00"},{"$f":"IF(OR($F1037<AO$10,$E1037>AP$10),0,IF(AND($E1037>=AO$10,$F1037<=AP$10),$F1037,IF(AND($E1037<=AO$10,$F1037<=AP$10),$F1037,IF(AND($E1037<=AP$10,$F1037>=AP$10),AP$10,IF(AND($E1037<=AO$10,$F1037>=AP$10),AP$10,\"chyba\")))))","v":"00:00:00"},0,{"$f":"IF($H1037<=0,0,$G1037/$H1037*AQ1037)","v":0},{"$f":"IF(OR($F1037<AS$10,$E1037>AT$10),0,IF(AND($E1037>=AS$10,$F1037<=AT$10),$E1037,IF(AND($E1037<=AS$10,$F1037<=AT$10),AS$10,IF(AND($E1037<=AT$10,$F1037>=AT$10,$E1037>=AS$10),$E1037,IF(AND($E1037<=AS$10,$F1037>=AT$10),AS$10,\"chyba\")))))","v":"00:00:00"},{"$f":"IF(OR($F1037<AS$10,$E1037>AT$10),0,IF(AND($E1037>=AS$10,$F1037<=AT$10),$F1037,IF(AND($E1037<=AS$10,$F1037<=AT$10),$F1037,IF(AND($E1037<=AT$10,$F1037>=AT$10),AT$10,IF(AND($E1037<=AS$10,$F1037>=AT$10),AT$10,\"chyba\")))))","v":"00:00:00"},0,{"$f":"IF($H1037<=0,0,$G1037/$H1037*AU1037)","v":0}]
[null,null,null,null,null,null,null,{"$f":"IF(F1038-E1038=0,0,F1038-E1038+1)","v":0},"00:00:00","00:00:00",{"$f":"IF(J1038-I1038=0,0,J1038-I1038+1)","v":0},0,"00:00:00","00:00:00",{"$f":"IF(N1038-M1038=0,0,N1038-M1038+1)","v":0},0,"00:00:00","00:00:00",{"$f":"IF(R1038-Q1038=0,0,R1038-Q1038+1)","v":0},0,"00:00:00","00:00:00",{"$f":"IF(V1038-U1038=0,0,V1038-U1038+1)","v":0},0,"00:00:00","00:00:00",{"$f":"IF(Z1038-Y1038=0,0,Z1038-Y1038+1)","v":0},0,"00:00:00","00:00:00",{"$f":"IF(AD1038-AC1038=0,0,AD1038-AC1038+1)","v":0},0,"00:00:00","00:00:00",{"$f":"IF(AH1038-AG1038=0,0,AH1038-AG1038+1)","v":0},0,"00:00:00","00:00:00",{"$f":"IF(AL1038-AK1038=0,0,AL1038-AK1038+1)","v":0},0,"00:00:00","00:00:00",{"$f":"IF(AP1038-AO1038=0,0,AP1038-AO1038+1)","v":0},0,"00:00:00","00:00:00",{"$f":"IF(AT1038-AS1038=0,0,AT1038-AS1038+1)","v":0},0]
[null,null,null,null,null,null,null,0,"00:00:00","00:00:00",0,0,"00:00:00","00:00:00",0,0,"00:00:00","00:00:00",0,0,"00:00:00","00:00:00",0,0,"00:00:00","00:00:00",0,0,"00:00:00","00:00:00",0,0,"00:00:00","00:00:00",0,0,"00:00:00","00:00:00",0,0,"00:00:00","00:00:00",0,0,"00:00:00","00:00:00",0,0]
[null,null,null,null,null,null,null,0,"00:00:00","00:00:00",0,0,"00:00:00","00:00:00",0,0,"00:00:00","00:00:00",0,0,"00:00:00","00:00:00",0,0,"00:00:00","00:00:00",0,0,"00:00:00","00:00:00",0,0,"00:00:00","00:00:00",0,0,"00:00:00","00:00:00",0,0,"00:00:00","00:00:00",0,0,"00:00:00","00:00:00",0,0]
[null,null,null,null,null,null,null,0,"00:00:00","00:00:00",0,0,"00:00:00","00:00:00",0,0,"00:00:00","00:00:00",0,0,"00:00:00","00:00:00",0,0,"00:00:00","00:00:00",0,0,"00:00:00","00:00:00",0,0,"00:00:00","00:00:00",0,0,"00:00:00","00:00:00",0,0,"00:00:00","00:00:00",0,0,"00:00:00","00:00:00",0,0]
[null,null,null,null,null,null,null,0,"00:00:00","00:00:00",0,0,"00:00:00","00:00:00",0,0,"00:00:00","00:00:00",0,0,"00:00:00","00:00:00",0,0,"00:00:00","00:00:00",0,0,"00:00:00","00:00:00",0,0,"00:00:00","00:00:00",0,0,"00:00:00","00:00:00",0,0,"00:00:00","00:00:00",0,0,"00:00:00","00:00:00",0,0]
[null,null,null,null,null,null,null,0,"00:00:00","00:00:00",0,0,"00:00:00","00:00:00",0,0,"00:00:00","00:00:00",0,0,"00:00:00","00:00:00",0,0,"00:00:00","00:00:00",0,0,"00:00:00","00:00:00",0,0,"00:00:00","00:00:00",0,0,"00:00:00","00:00:00",0,0,"00:00:00","00:00:00",0,0,"00:00:00","00:00:00",0,0]
[null,null,null,null,null,null,null,0,"00:00:00","00:00:00",0,0,"00:00:00","00:00:00",0,0,"00:00:00","00:00:00",0,0,"00:00:00","00:00:00",0,0,"00:00:00","00:00:00",0,0,"00:00:00","00:00:00",0,0,"00:00:00","00:00:00",0,0,"00:00:00","00:00:00",0,0,"00:00:00","00:00:00",0,0,"00:00:00","00:00:00",0,0]
[null,null,null,null,null,null,null,0,"00:00:00","00:00:00",0,0,"00:00:00","00:00:00",0,0,"00:00:00","00:00:00",0,0,"00:00:00","00:00:00",0,0,"00:00:00","00:00:00",0,0,"00:00:00","00:00:00",0,0,"00:00:00","00:00:00",0,0,"00:00:00","00:00:00",0,0,"00:00:00","00:00:00",0,0,"00:00:00","00:00:00",0,0]
[null,null,null,null,null,null,null,0,"00:00:00","00:00:00",0,0,"00:00:00","00:00:00",0,0,"00:00:00","00:00:00",0,0,"00:00:00","00:00:00",0,0,"00:00:00","00:00:00",0,0,"00:00:00","00:00:00",0,0,"00:00:00","00:00:00",0,0,"00:00:00","00:00:00",0,0,"00:00:00","00:00:00",0,0,"00:00:00","00:00:00",0,0]
[null,null,null,null,null,null,null,0,"00:00:00","00:00:00",0,0,"00:00:00","00:00:00",0,0,"00:00:00","00:00:00",0,0,"00:00:00","00:00:00",0,0,"00:00:00","00:00:00",0,0,"00:00:00","00:00:00",0,0,"00:00:00","00:00:00",0,0,"00:00:00","00:00:00",0,0,"00:00:00","00:00:00",0,0,"00:00:00","00:00:00",0,0]
[null,null,null,null,null,null,null,0,"00:00:00","00:00:00",0,0,"00:00:00","00:00:00",0,0,"00:00:00","00:00:00",0,0,"00:00:00","00:00:00",0,0,"00:00:00","00:00:00",0,0,"00:00:00","00:00:00",0,0,"00:00:00","00:00:00",0,0,"00:00:00","00:00:00",0,0,"00:00:00","00:00:00",0,0,"00:00:00","00:00:00",0,0]
[null,null,null,null,null,null,null,0,"00:00:00","00:00:00",0,0,"00:00:00","00:00:00",0,0,"00:00:00","00:00:00",0,0,"00:00:00","00:00:00",0,0,"00:00:00","00:00:00",0,0,"00:00:00","00:00:00",0,0,"00:00:00","00:00:00",0,0,"00:00:00","00:00:00",0,0,"00:00:00","00:00:00",0,0,"00:00:00","00:00:00",0,0]
[null,null,null,null,null,null,null,0,"00:00:00","00:00:00",0,0,"00:00:00","00:00:00",0,0,"00:00:00","00:00:00",0,0,"00:00:00","00:00:00",0,0,"00:00:00","00:00:00",0,0,"00:00:00","00:00:00",0,0,"00:00:00","00:00:00",0,0,"00:00:00","00:00:00",0,0,"00:00:00","00:00:00",0,0,"00:00:00","00:00:00",0,0]
[null,null,null,null,null,null,null,0,"00:00:00","00:00:00",0,0,"00:00:00","00:00:00",0,0,"00:00:00","00:00:00",0,0,"00:00:00","00:00:00",0,0,"00:00:00","00:00:00",0,0,"00:00:00","00:00:00",0,0,"00:00:00","00:00:00",0,0,"00:00:00","00:00:00",0,0,"00:00:00","00:00:00",0,0,"00:00:00","00:00:00",0,0]
[null,null,null,null,null,null,null,0,"00:00:00","00:00:00",0,0,"00:00:00","00:00:00",0,0,"00:00:00","00:00:00",0,0,"00:00:00","00:00:00",0,0,"00:00:00","00:00:00",0,0,"00:00:00","00:00:00",0,0,"00:00:00","00:00:00",0,0,"00:00:00","00:00:00",0,0,"00:00:00","00:00:00",0,0,"00:00:00","00:00:00",0,0]
[null,null,null,null,null,null,null,0,"00:00:00","00:00:00",0,0,"00:00:00","00:00:00",0,0,"00:00:00","00:00:00",0,0,"00:00:00","00:00:00",0,0,"00:00:00","00:00:00",0,0,"00:00:00","00:00:00",0,0,"00:00:00","00:00:00",0,0,"00:00:00","00:00:00",0,0,"00:00:00","00:00:00",0,0,"00:00:00","00:00:00",0,0]
[null,null,null,null,null,null,null,0,"00:00:00","00:00:00",0,0,"00:00:00","00:00:00",0,0,"00:00:00","00:00:00",0,0,"00:00:00","00:00:00",0,0,"00:00:00","00:00:00",0,0,"00:00:00","00:00:00",0,0,"00:00:00","00:00:00",0,0,"00:00:00","00:00:00",0,0,"00:00:00","00:00:00",0,0,"00:00:00","00:00:00",0,0]
[null,null,null,null,null,null,null,0,"00:00:00","00:00:00",0,0,"00:00:00","00:00:00",0,0,"00:00:00","00:00:00",0,0,"00:00:00","00:00:00",0,0,"00:00:00","00:00:00",0,0,"00:00:00","00:00:00",0,0,"00:00:00","00:00:00",0,0,"00:00:00","00:00:00",0,0,"00:00:00","00:00:00",0,0,"00:00:00","00:00:00",0,0]
[null,null,null,null,null,null,null,0,"00:00:00","00:00:00",0,0,"00:00:00","00:00:00",0,0,"00:00:00","00:00:00",0,0,"00:00:00","00:00:00",0,0,"00:00:00","00:00:00",0,0,"00:00:00","00:00:00",0,0,"00:00:00","00:00:00",0,0,"00:00:00","00:00:00",0,0,"00:00:00","00:00:00",0,0,"00:00:00","00:00:00",0,0]
[null,null,null,null,null,null,null,0,"00:00:00","00:00:00",0,0,"00:00:00","00:00:00",0,0,"00:00:00","00:00:00",0,0,"00:00:00","00:00:00",0,0,"00:00:00","00:00:00",0,0,"00:00:00","00:00:00",0,0,"00:00:00","00:00:00",0,0,"00:00:00","00:00:00",0,0,"00:00:00","00:00:00",0,0,"00:00:00","00:00:00",0,0]
[null,null,null,null,null,null,null,0,"00:00:00","00:00:00",0,0,"00:00:00","00:00:00",0,0,"00:00:00","00:00:00",0,0,"00:00:00","00:00:00",0,0,"00:00:00","00:00:00",0,0,"00:00:00","00:00:00",0,0,"00:00:00","00:00:00",0,0,"00:00:00","00:00:00",0,0,"00:00:00","00:00:00",0,0,"00:00:00","00:00:00",0,0]
[null,null,null,null,null,null,null,0,"00:00:00","00:00:00",0,0,"00:00:00","00:00:00",0,0,"00:00:00","00:00:00",0,0,"00:00:00","00:00:00",0,0,"00:00:00","00:00:00",0,0,"00:00:00","00:00:00",0,0,"00:00:00","00:00:00",0,0,"00:00:00","00:00:00",0,0,"00:00:00","00:00:00",0,0,"00:00:00","00:00:00",0,0]
[null,null,null,null,null,null,null,0,"00:00:00","00:00:00",0,0,"00:00:00","00:00:00",0,0,"00:00:00","00:00:00",0,0,"00:00:00","00:00:00",0,0,"00:00:00","00:00:00",0,0,"00:00:00","00:00:00",0,0,"00:00:00","00:00:00",0,0,"00:00:00","00:00:00",0,0,"00:00:00","00:00:00",0,0,"00:00:00","00:00:00",0,0]
[null,null,null,null,null,null,null,0,"00:00:00","00:00:00",0,0,"00:00:00","00:00:00",0,0,"00:00:00","00:00:00",0,0,"00:00:00","00:00:00",0,0,"00:00:00","00:00:00",0,0,"00:00:00","00:00:00",0,0,"00:00:00","00:00:00",0,0,"00:00:00","00:00:00",0,0,"00:00:00","00:00:00",0,0,"00:00:00","00:00:00",0,0]
[null,null,null,null,null,null,null,0,"00:00:00","00:00:00",0,0,"00:00:00","00:00:00",0,0,"00:00:00","00:00:00",0,0,"00:00:00","00:00:00",0,0,"00:00:00","00:00:00",0,0,"00:00:00","00:00:00",0,0,"00:00:00","00:00:00",0,0,"00:00:00","00:00:00",0,0,"00:00:00","00:00:00",0,0,"00:00:00","00:00:00",0,0]
[null,null,null,null,null,null,null,0,"00:00:00","00:00:00",0,0,"00:00:00","00:00:00",0,0,"00:00:00","00:00:00",0,0,"00:00:00","00:00:00",0,0,"00:00:00","00:00:00",0,0,"00:00:00","00:00:00",0,0,"00:00:00","00:00:00",0,0,"00:00:00","00:00:00",0,0,"00:00:00","00:00:00",0,0,"00:00:00","00:00:00",0,0]
[null,null,null,null,null,null,null,0,"00:00:00","00:00:00",0,0,"00:00:00","00:00:00",0,0,"00:00:00","00:00:00",0,0,"00:00:00","00:00:00",0,0,"00:00:00","00:00:00",0,0,"00:00:00","00:00:00",0,0,"00:00:00","00:00:00",0,0,"00:00:00","00:00:00",0,0,"00:00:00","00:00:00",0,0,"00:00:00","00:00:00",0,0]
[null,null,null,null,null,null,null,0,"00:00:00","00:00:00",0,0,"00:00:00","00:00:00",0,0,"00:00:00","00:00:00",0,0,"00:00:00","00:00:00",0,0,"00:00:00","00:00:00",0,0,"00:00:00","00:00:00",0,0,"00:00:00","00:00:00",0,0,"00:00:00","00:00:00",0,0,"00:00:00","00:00:00",0,0,"00:00:00","00:00:00",0,0]
[null,null,null,null,null,null,null,0,"00:00:00","00:00:00",0,0,"00:00:00","00:00:00",0,0,"00:00:00","00:00:00",0,0,"00:00:00","00:00:00",0,0,"00:00:00","00:00:00",0,0,"00:00:00","00:00:00",0,0,"00:00:00","00:00:00",0,0,"00:00:00","00:00:00",0,0,"00:00:00","00:00:00",0,0,"00:00:00","00:00:00",0,0]
[null,null,null,null,null,null,null,0,"00:00:00","00:00:00",0,0,"00:00:00","00:00:00",0,0,"00:00:00","00:00:00",0,0,"00:00:00","00:00:00",0,0,"00:00:00","00:00:00",0,0,"00:00:00","00:00:00",0,0,"00:00:00","00:00:00",0,0,"00:00:00","00:00:00",0,0,"00:00:00","00:00:00",0,0,"00:00:00","00:00:00",0,0]
[null,null,null,null,null,null,null,0,"00:00:00","00:00:00",0,0,"00:00:00","00:00:00",0,0,"00:00:00","00:00:00",0,0,"00:00:00","00:00:00",0,0,"00:00:00","00:00:00",0,0,"00:00:00","00:00:00",0,0,"00:00:00","00:00:00",0,0,"00:00:00","00:00:00",0,0,"00:00:00","00:00:00",0,0,"00:00:00","00:00:00",0,0]
[null,null,null,null,null,null,null,0,"00:00:00","00:00:00",0,0,"00:00:00","00:00:00",0,0,"00:00:00","00:00:00",0,0,"00:00:00","00:00:00",0,0,"00:00:00","00:00:00",0,0,"00:00:00","00:00:00",0,0,"00:00:00","00:00:00",0,0,"00:00:00","00:00:00",0,0,"00:00:00","00:00:00",0,0,"00:00:00","00:00:00",0,0]
[null,null,null,null,null,null,null,0,"00:00:00","00:00:00",0,0,"00:00:00","00:00:00",0,0,"00:00:00","00:00:00",0,0,"00:00:00","00:00:00",0,0,"00:00:00","00:00:00",0,0,"00:00:00","00:00:00",0,0,"00:00:00","00:00:00",0,0,"00:00:00","00:00:00",0,0,"00:00:00","00:00:00",0,0,"00:00:00","00:00:00",0,0]
[null,null,null,null,null,null,null,0,"00:00:00","00:00:00",0,0,"00:00:00","00:00:00",0,0,"00:00:00","00:00:00",0,0,"00:00:00","00:00:00",0,0,"00:00:00","00:00:00",0,0,"00:00:00","00:00:00",0,0,"00:00:00","00:00:00",0,0,"00:00:00","00:00:00",0,0,"00:00:00","00:00:00",0,0,"00:00:00","00:00:00",0,0]
[null,null,null,null,null,null,null,0,"00:00:00","00:00:00",0,0,"00:00:00","00:00:00",0,0,"00:00:00","00:00:00",0,0,"00:00:00","00:00:00",0,0,"00:00:00","00:00:00",0,0,"00:00:00","00:00:00",0,0,"00:00:00","00:00:00",0,0,"00:00:00","00:00:00",0,0,"00:00:00","00:00:00",0,0,"00:00:00","00:00:00",0,0]
[null,null,null,null,null,null,null,0,"00:00:00","00:00:00",0,0,"00:00:00","00:00:00",0,0,"00:00:00","00:00:00",0,0,"00:00:00","00:00:00",0,0,"00:00:00","00:00:00",0,0,"00:00:00","00:00:00",0,0,"00:00:00","00:00:00",0,0,"00:00:00","00:00:00",0,0,"00:00:00","00:00:00",0,0,"00:00:00","00:00:00",0,0]
[null,null,null,null,null,null,null,0,"00:00:00","00:00:00",0,0,"00:00:00","00:00:00",0,0,"00:00:00","00:00:00",0,0,"00:00:00","00:00:00",0,0,"00:00:00","00:00:00",0,0,"00:00:00","00:00:00",0,0,"00:00:00","00:00:00",0,0,"00:00:00","00:00:00",0,0,"00:00:00","00:00:00",0,0,"00:00:00","00:00:00",0,0]
[null,null,null,null,null,null,null,0,"00:00:00","00:00:00",0,0,"00:00:00","00:00:00",0,0,"00:00:00","00:00:00",0,0,"00:00:00","00:00:00",0,0,"00:00:00","00:00:00",0,0,"00:00:00","00:00:00",0,0,"00:00:00","00:00:00",0,0,"00:00:00","00:00:00",0,0,"00:00:00","00:00:00",0,0,"00:00:00","00:00:00",0,0]
[null,null,null,null,null,null,null,0,"00:00:00","00:00:00",0,0,"00:00:00","00:00:00",0,0,"00:00:00","00:00:00",0,0,"00:00:00","00:00:00",0,0,"00:00:00","00:00:00",0,0,"00:00:00","00:00:00",0,0,"00:00:00","00:00:00",0,0,"00:00:00","00:00:00",0,0,"00:00:00","00:00:00",0,0,"00:00:00","00:00:00",0,0]
[null,null,null,null,null,null,null,0,"00:00:00","00:00:00",0,0,"00:00:00","00:00:00",0,0,"00:00:00","00:00:00",0,0,"00:00:00","00:00:00",0,0,"00:00:00","00:00:00",0,0,"00:00:00","00:00:00",0,0,"00:00:00","00:00:00",0,0,"00:00:00","00:00:00",0,0,"00:00:00","00:00:00",0,0,"00:00:00","00:00:00",0,0]
[null,null,null,null,null,null,null,0,"00:00:00","00:00:00",0,0,"00:00:00","00:00:00",0,0,"00:00:00","00:00:00",0,0,"00:00:00","00:00:00",0,0,"00:00:00","00:00:00",0,0,"00:00:00","00:00:00",0,0,"00:00:00","00:00:00",0,0,"00:00:00","00:00:00",0,0,"00:00:00","00:00:00",0,0,"00:00:00","00:00:00",0,0]
[null,null,null,null,null,null,null,0,"00:00:00","00:00:00",0,0,"00:00:00","00:00:00",0,0,"00:00:00","00:00:00",0,0,"00:00:00","00:00:00",0,0,"00:00:00","00:00:00",0,0,"00:00:00","00:00:00",0,0,"00:00:00","00:00:00",0,0,"00:00:00","00:00:00",0,0,"00:00:00","00:00:00",0,0,"00:00:00","00:00:00",0,0]
[null,null,null,null,null,null,null,0,"00:00:00","00:00:00",0,0,"00:00:00","00:00:00",0,0,"00:00:00","00:00:00",0,0,"00:00:00","00:00:00",0,0,"00:00:00","00:00:00",0,0,"00:00:00","00:00:00",0,0,"00:00:00","00:00:00",0,0,"00:00:00","00:00:00",0,0,"00:00:00","00:00:00",0,0,"00:00:00","00:00:00",0,0]
[null,null,null,null,null,null,null,0,"00:00:00","00:00:00",0,0,"00:00:00","00:00:00",0,0,"00:00:00","00:00:00",0,0,"00:00:00","00:00:00",0,0,"00:00:00","00:00:00",0,0,"00:00:00","00:00:00",0,0,"00:00:00","00:00:00",0,0,"00:00:00","00:00:00",0,0,"00:00:00","00:00:00",0,0,"00:00:00","00:00:00",0,0]
[null,null,null,null,null,null,null,0,"00:00:00","00:00:00",0,0,"00:00:00","00:00:00",0,0,"00:00:00","00:00:00",0,0,"00:00:00","00:00:00",0,0,"00:00:00","00:00:00",0,0,"00:00:00","00:00:00",0,0,"00:00:00","00:00:00",0,0,"00:00:00","00:00:00",0,0,"00:00:00","00:00:00",0,0,"00:00:00","00:00:00",0,0]
[null,null,null,null,null,null,null,0,"00:00:00","00:00:00",0,0,"00:00:00","00:00:00",0,0,"00:00:00","00:00:00",0,0,"00:00:00","00:00:00",0,0,"00:00:00","00:00:00",0,0,"00:00:00","00:00:00",0,0,"00:00:00","00:00:00",0,0,"00:00:00","00:00:00",0,0,"00:00:00","00:00:00",0,0,"00:00:00","00:00:00",0,0]
[null,null,null,null,null,null,null,0,"00:00:00","00:00:00",0,0,"00:00:00","00:00:00",0,0,"00:00:00","00:00:00",0,0,"00:00:00","00:00:00",0,0,"00:00:00","00:00:00",0,0,"00:00:00","00:00:00",0,0,"00:00:00","00:00:00",0,0,"00:00:00","00:00:00",0,0,"00:00:00","00:00:00",0,0,"00:00:00","00:00:00",0,0]
[null,null,null,null,null,null,null,0,"00:00:00","00:00:00",0,0,"00:00:00","00:00:00",0,0,"00:00:00","00:00:00",0,0,"00:00:00","00:00:00",0,0,"00:00:00","00:00:00",0,0,"00:00:00","00:00:00",0,0,"00:00:00","00:00:00",0,0,"00:00:00","00:00:00",0,0,"00:00:00","00:00:00",0,0,"00:00:00","00:00:00",0,0]
[null,null,null,null,null,null,null,0,"00:00:00","00:00:00",0,0,"00:00:00","00:00:00",0,0,"00:00:00","00:00:00",0,0,"00:00:00","00:00:00",0,0,"00:00:00","00:00:00",0,0,"00:00:00","00:00:00",0,0,"00:00:00","00:00:00",0,0,"00:00:00","00:00:00",0,0,"00:00:00","00:00:00",0,0,"00:00:00","00:00:00",0,0]
[null,null,null,null,null,null,null,0,"00:00:00","00:00:00",0,0,"00:00:00","00:00:00",0,0,"00:00:00","00:00:00",0,0,"00:00:00","00:00:00",0,0,"00:00:00","00:00:00",0,0,"00:00:00","00:00:00",0,0,"00:00:00","00:00:00",0,0,"00:00:00","00:00:00",0,0,"00:00:00","00:00:00",0,0,"00:00:00","00:00:00",0,0]
[null,null,null,null,null,null,null,0,"00:00:00","00:00:00",0,0,"00:00:00","00:00:00",0,0,"00:00:00","00:00:00",0,0,"00:00:00","00:00:00",0,0,"00:00:00","00:00:00",0,0,"00:00:00","00:00:00",0,0,"00:00:00","00:00:00",0,0,"00:00:00","00:00:00",0,0,"00:00:00","00:00:00",0,0,"00:00:00","00:00:00",0,0]
[null,null,null,null,null,null,null,0,"00:00:00","00:00:00",0,0,"00:00:00","00:00:00",0,0,"00:00:00","00:00:00",0,0,"00:00:00","00:00:00",0,0,"00:00:00","00:00:00",0,0,"00:00:00","00:00:00",0,0,"00:00:00","00:00:00",0,0,"00:00:00","00:00:00",0,0,"00:00:00","00:00:00",0,0,"00:00:00","00:00:00",0,0]
[null,null,null,null,null,null,null,0,"00:00:00","00:00:00",0,0,"00:00:00","00:00:00",0,0,"00:00:00","00:00:00",0,0,"00:00:00","00:00:00",0,0,"00:00:00","00:00:00",0,0,"00:00:00","00:00:00",0,0,"00:00:00","00:00:00",0,0,"00:00:00","00:00:00",0,0,"00:00:00","00:00:00",0,0,"00:00:00","00:00:00",0,0]
[null,null,null,null,null,null,null,0,"00:00:00","00:00:00",0,0,"00:00:00","00:00:00",0,0,"00:00:00","00:00:00",0,0,"00:00:00","00:00:00",0,0,"00:00:00","00:00:00",0,0,"00:00:00","00:00:00",0,0,"00:00:00","00:00:00",0,0,"00:00:00","00:00:00",0,0,"00:00:00","00:00:00",0,0,"00:00:00","00:00:00",0,0]
[null,null,null,null,null,null,null,0,"00:00:00","00:00:00",0,0,"00:00:00","00:00:00",0,0,"00:00:00","00:00:00",0,0,"00:00:00","00:00:00",0,0,"00:00:00","00:00:00",0,0,"00:00:00","00:00:00",0,0,"00:00:00","00:00:00",0,0,"00:00:00","00:00:00",0,0,"00:00:00","00:00:00",0,0,"00:00:00","00:00:00",0,0]
[null,null,null,null,null,null,null,0,"00:00:00","00:00:00",0,0,"00:00:00","00:00:00",0,0,"00:00:00","00:00:00",0,0,"00:00:00","00:00:00",0,0,"00:00:00","00:00:00",0,0,"00:00:00","00:00:00",0,0,"00:00:00","00:00:00",0,0,"00:00:00","00:00:00",0,0,"00:00:00","00:00:00",0,0,"00:00:00","00:00:00",0,0]
[null,null,null,null,null,null,null,0,"00:00:00","00:00:00",0,0,"00:00:00","00:00:00",0,0,"00:00:00","00:00:00",0,0,"00:00:00","00:00:00",0,0,"00:00:00","00:00:00",0,0,"00:00:00","00:00:00",0,0,"00:00:00","00:00:00",0,0,"00:00:00","00:00:00",0,0,"00:00:00","00:00:00",0,0,"00:00:00","00:00:00",0,0]
[null,null,null,null,null,null,null,0,"00:00:00","00:00:00",0,0,"00:00:00","00:00:00",0,0,"00:00:00","00:00:00",0,0,"00:00:00","00:00:00",0,0,"00:00:00","00:00:00",0,0,"00:00:00","00:00:00",0,0,"00:00:00","00:00:00",0,0,"00:00:00","00:00:00",0,0,"00:00:00","00:00:00",0,0,"00:00:00","00:00:00",0,0]
[null,null,null,null,null,null,null,0,"00:00:00","00:00:00",0,0,"00:00:00","00:00:00",0,0,"00:00:00","00:00:00",0,0,"00:00:00","00:00:00",0,0,"00:00:00","00:00:00",0,0,"00:00:00","00:00:00",0,0,"00:00:00","00:00:00",0,0,"00:00:00","00:00:00",0,0,"00:00:00","00:00:00",0,0,"00:00:00","00:00:00",0,0]
[null,null,null,null,null,null,null,0,"00:00:00","00:00:00",0,0,"00:00:00","00:00:00",0,0,"00:00:00","00:00:00",0,0,"00:00:00","00:00:00",0,0,"00:00:00","00:00:00",0,0,"00:00:00","00:00:00",0,0,"00:00:00","00:00:00",0,0,"00:00:00","00:00:00",0,0,"00:00:00","00:00:00",0,0,"00:00:00","00:00:00",0,0]
[null,null,null,null,null,null,null,0,"00:00:00","00:00:00",0,0,"00:00:00","00:00:00",0,0,"00:00:00","00:00:00",0,0,"00:00:00","00:00:00",0,0,"00:00:00","00:00:00",0,0,"00:00:00","00:00:00",0,0,"00:00:00","00:00:00",0,0,"00:00:00","00:00:00",0,0,"00:00:00","00:00:00",0,0,"00:00:00","00:00:00",0,0]
[null,null,null,null,null,null,null,0,"00:00:00","00:00:00",0,0,"00:00:00","00:00:00",0,0,"00:00:00","00:00:00",0,0,"00:00:00","00:00:00",0,0,"00:00:00","00:00:00",0,0,"00:00:00","00:00:00",0,0,"00:00:00","00:00:00",0,0,"00:00:00","00:00:00",0,0,"00:00:00","00:00:00",0,0,"00:00:00","00:00:00",0,0]
[null,null,null,null,null,null,null,0,"00:00:00","00:00:00",0,0,"00:00:00","00:00:00",0,0,"00:00:00","00:00:00",0,0,"00:00:00","00:00:00",0,0,"00:00:00","00:00:00",0,0,"00:00:00","00:00:00",0,0,"00:00:00","00:00:00",0,0,"00:00:00","00:00:00",0,0,"00:00:00","00:00:00",0,0,"00:00:00","00:00:00",0,0]
[null,null,null,null,null,null,null,0,{"$f":"IF(OR($F1101<I$10,$E1101>J$10),0,IF(AND($E1101>=I$10,$F1101<=J$10),$E1101,IF(AND($E1101<=I$10,$F1101<=J$10),I$10,IF(AND($E1101<=J$10,$F1101>=J$10,$E1101>=I$10),$E1101,IF(AND($E1101<=I$10,$F1101>=J$10),I$10,\"chyba\")))))","v":"00:00:00"},{"$f":"IF(OR($F1101<I$10,$E1101>J$10),0,IF(AND($E1101>=I$10,$F1101<=J$10),$F1101,IF(AND($E1101<=I$10,$F1101<=J$10),$F1101,IF(AND($E1101<=J$10,$F1101>=J$10),J$10,IF(AND($E1101<=I$10,$F1101>=J$10),J$10,\"chyba\")))))","v":"00:00:00"},0,{"$f":"IF($H1101<=0,0,$G1101/$H1101*K1101)","v":0},{"$f":"IF(OR($F1101<M$10,$E1101>N$10),0,IF(AND($E1101>=M$10,$F1101<=N$10),$E1101,IF(AND($E1101<=M$10,$F1101<=N$10),M$10,IF(AND($E1101<=N$10,$F1101>=N$10,$E1101>=M$10),$E1101,IF(AND($E1101<=M$10,$F1101>=N$10),M$10,\"chyba\")))))","v":"00:00:00"},{"$f":"IF(OR($F1101<M$10,$E1101>N$10),0,IF(AND($E1101>=M$10,$F1101<=N$10),$F1101,IF(AND($E1101<=M$10,$F1101<=N$10),$F1101,IF(AND($E1101<=N$10,$F1101>=N$10),N$10,IF(AND($E1101<=M$10,$F1101>=N$10),N$10,\"chyba\")))))","v":"00:00:00"},0,{"$f":"IF($H1101<=0,0,$G1101/$H1101*O1101)","v":0},{"$f":"IF(OR($F1101<Q$10,$E1101>R$10),0,IF(AND($E1101>=Q$10,$F1101<=R$10),$E1101,IF(AND($E1101<=Q$10,$F1101<=R$10),Q$10,IF(AND($E1101<=R$10,$F1101>=R$10,$E1101>=Q$10),$E1101,IF(AND($E1101<=Q$10,$F1101>=R$10),Q$10,\"chyba\")))))","v":"00:00:00"},{"$f":"IF(OR($F1101<Q$10,$E1101>R$10),0,IF(AND($E1101>=Q$10,$F1101<=R$10),$F1101,IF(AND($E1101<=Q$10,$F1101<=R$10),$F1101,IF(AND($E1101<=R$10,$F1101>=R$10),R$10,IF(AND($E1101<=Q$10,$F1101>=R$10),R$10,\"chyba\")))))","v":"00:00:00"},0,{"$f":"IF($H1101<=0,0,$G1101/$H1101*S1101)","v":0},{"$f":"IF(OR($F1101<U$10,$E1101>V$10),0,IF(AND($E1101>=U$10,$F1101<=V$10),$E1101,IF(AND($E1101<=U$10,$F1101<=V$10),U$10,IF(AND($E1101<=V$10,$F1101>=V$10,$E1101>=U$10),$E1101,IF(AND($E1101<=U$10,$F1101>=V$10),U$10,\"chyba\")))))","v":"00:00:00"},{"$f":"IF(OR($F1101<U$10,$E1101>V$10),0,IF(AND($E1101>=U$10,$F1101<=V$10),$F1101,IF(AND($E1101<=U$10,$F1101<=V$10),$F1101,IF(AND($E1101<=V$10,$F1101>=V$10),V$10,IF(AND($E1101<=U$10,$F1101>=V$10),V$10,\"chyba\")))))","v":"00:00:00"},0,{"$f":"IF($H1101<=0,0,$G1101/$H1101*W1101)","v":0},{"$f":"IF(OR($F1101<Y$10,$E1101>Z$10),0,IF(AND($E1101>=Y$10,$F1101<=Z$10),$E1101,IF(AND($E1101<=Y$10,$F1101<=Z$10),Y$10,IF(AND($E1101<=Z$10,$F1101>=Z$10,$E1101>=Y$10),$E1101,IF(AND($E1101<=Y$10,$F1101>=Z$10),Y$10,\"chyba\")))))","v":"00:00:00"},{"$f":"IF(OR($F1101<Y$10,$E1101>Z$10),0,IF(AND($E1101>=Y$10,$F1101<=Z$10),$F1101,IF(AND($E1101<=Y$10,$F1101<=Z$10),$F1101,IF(AND($E1101<=Z$10,$F1101>=Z$10),Z$10,IF(AND($E1101<=Y$10,$F1101>=Z$10),Z$10,\"chyba\")))))","v":"00:00:00"},0,{"$f":"IF($H1101<=0,0,$G1101/$H1101*AA1101)","v":0},{"$f":"IF(OR($F1101<AC$10,$E1101>AD$10),0,IF(AND($E1101>=AC$10,$F1101<=AD$10),$E1101,IF(AND($E1101<=AC$10,$F1101<=AD$10),AC$10,IF(AND($E1101<=AD$10,$F1101>=AD$10,$E1101>=AC$10),$E1101,IF(AND($E1101<=AC$10,$F1101>=AD$10),AC$10,\"chyba\")))))","v":"00:00:00"},{"$f":"IF(OR($F1101<AC$10,$E1101>AD$10),0,IF(AND($E1101>=AC$10,$F1101<=AD$10),$F1101,IF(AND($E1101<=AC$10,$F1101<=AD$10),$F1101,IF(AND($E1101<=AD$10,$F1101>=AD$10),AD$10,IF(AND($E1101<=AC$10,$F1101>=AD$10),AD$10,\"chyba\")))))","v":"00:00:00"},0,{"$f":"IF($H1101<=0,0,$G1101/$H1101*AE1101)","v":0},{"$f":"IF(OR($F1101<AG$10,$E1101>AH$10),0,IF(AND($E1101>=AG$10,$F1101<=AH$10),$E1101,IF(AND($E1101<=AG$10,$F1101<=AH$10),AG$10,IF(AND($E1101<=AH$10,$F1101>=AH$10,$E1101>=AG$10),$E1101,IF(AND($E1101<=AG$10,$F1101>=AH$10),AG$10,\"chyba\")))))","v":"00:00:00"},{"$f":"IF(OR($F1101<AG$10,$E1101>AH$10),0,IF(AND($E1101>=AG$10,$F1101<=AH$10),$F1101,IF(AND($E1101<=AG$10,$F1101<=AH$10),$F1101,IF(AND($E1101<=AH$10,$F1101>=AH$10),AH$10,IF(AND($E1101<=AG$10,$F1101>=AH$10),AH$10,\"chyba\")))))","v":"00:00:00"},0,{"$f":"IF($H1101<=0,0,$G1101/$H1101*AI1101)","v":0},{"$f":"IF(OR($F1101<AK$10,$E1101>AL$10),0,IF(AND($E1101>=AK$10,$F1101<=AL$10),$E1101,IF(AND($E1101<=AK$10,$F1101<=AL$10),AK$10,IF(AND($E1101<=AL$10,$F1101>=AL$10,$E1101>=AK$10),$E1101,IF(AND($E1101<=AK$10,$F1101>=AL$10),AK$10,\"chyba\")))))","v":"00:00:00"},{"$f":"IF(OR($F1101<AK$10,$E1101>AL$10),0,IF(AND($E1101>=AK$10,$F1101<=AL$10),$F1101,IF(AND($E1101<=AK$10,$F1101<=AL$10),$F1101,IF(AND($E1101<=AL$10,$F1101>=AL$10),AL$10,IF(AND($E1101<=AK$10,$F1101>=AL$10),AL$10,\"chyba\")))))","v":"00:00:00"},0,{"$f":"IF($H1101<=0,0,$G1101/$H1101*AM1101)","v":0},{"$f":"IF(OR($F1101<AO$10,$E1101>AP$10),0,IF(AND($E1101>=AO$10,$F1101<=AP$10),$E1101,IF(AND($E1101<=AO$10,$F1101<=AP$10),AO$10,IF(AND($E1101<=AP$10,$F1101>=AP$10,$E1101>=AO$10),$E1101,IF(AND($E1101<=AO$10,$F1101>=AP$10),AO$10,\"chyba\")))))","v":"00:00:00"},{"$f":"IF(OR($F1101<AO$10,$E1101>AP$10),0,IF(AND($E1101>=AO$10,$F1101<=AP$10),$F1101,IF(AND($E1101<=AO$10,$F1101<=AP$10),$F1101,IF(AND($E1101<=AP$10,$F1101>=AP$10),AP$10,IF(AND($E1101<=AO$10,$F1101>=AP$10),AP$10,\"chyba\")))))","v":"00:00:00"},0,{"$f":"IF($H1101<=0,0,$G1101/$H1101*AQ1101)","v":0},{"$f":"IF(OR($F1101<AS$10,$E1101>AT$10),0,IF(AND($E1101>=AS$10,$F1101<=AT$10),$E1101,IF(AND($E1101<=AS$10,$F1101<=AT$10),AS$10,IF(AND($E1101<=AT$10,$F1101>=AT$10,$E1101>=AS$10),$E1101,IF(AND($E1101<=AS$10,$F1101>=AT$10),AS$10,\"chyba\")))))","v":"00:00:00"},{"$f":"IF(OR($F1101<AS$10,$E1101>AT$10),0,IF(AND($E1101>=AS$10,$F1101<=AT$10),$F1101,IF(AND($E1101<=AS$10,$F1101<=AT$10),$F1101,IF(AND($E1101<=AT$10,$F1101>=AT$10),AT$10,IF(AND($E1101<=AS$10,$F1101>=AT$10),AT$10,\"chyba\")))))","v":"00:00:00"},0,{"$f":"IF($H1101<=0,0,$G1101/$H1101*AU1101)","v":0}]
[null,null,null,null,null,null,null,{"$f":"IF(F1102-E1102=0,0,F1102-E1102+1)","v":0},"00:00:00","00:00:00",{"$f":"IF(J1102-I1102=0,0,J1102-I1102+1)","v":0},0,"00:00:00","00:00:00",{"$f":"IF(N1102-M1102=0,0,N1102-M1102+1)","v":0},0,"00:00:00","00:00:00",{"$f":"IF(R1102-Q1102=0,0,R1102-Q1102+1)","v":0},0,"00:00:00","00:00:00",{"$f":"IF(V1102-U1102=0,0,V1102-U1102+1)","v":0},0,"00:00:00","00:00:00",{"$f":"IF(Z1102-Y1102=0,0,Z1102-Y1102+1)","v":0},0,"00:00:00","00:00:00",{"$f":"IF(AD1102-AC1102=0,0,AD1102-AC1102+1)","v":0},0,"00:00:00","00:00:00",{"$f":"IF(AH1102-AG1102=0,0,AH1102-AG1102+1)","v":0},0,"00:00:00","00:00:00",{"$f":"IF(AL1102-AK1102=0,0,AL1102-AK1102+1)","v":0},0,"00:00:00","00:00:00",{"$f":"IF(AP1102-AO1102=0,0,AP1102-AO1102+1)","v":0},0,"00:00:00","00:00:00",{"$f":"IF(AT1102-AS1102=0,0,AT1102-AS1102+1)","v":0},0]
[null,null,null,null,null,null,null,0,"00:00:00","00:00:00",0,0,"00:00:00","00:00:00",0,0,"00:00:00","00:00:00",0,0,"00:00:00","00:00:00",0,0,"00:00:00","00:00:00",0,0,"00:00:00","00:00:00",0,0,"00:00:00","00:00:00",0,0,"00:00:00","00:00:00",0,0,"00:00:00","00:00:00",0,0,"00:00:00","00:00:00",0,0]
[null,null,null,null,null,null,null,0,"00:00:00","00:00:00",0,0,"00:00:00","00:00:00",0,0,"00:00:00","00:00:00",0,0,"00:00:00","00:00:00",0,0,"00:00:00","00:00:00",0,0,"00:00:00","00:00:00",0,0,"00:00:00","00:00:00",0,0,"00:00:00","00:00:00",0,0,"00:00:00","00:00:00",0,0,"00:00:00","00:00:00",0,0]
[null,null,null,null,null,null,null,0,"00:00:00","00:00:00",0,0,"00:00:00","00:00:00",0,0,"00:00:00","00:00:00",0,0,"00:00:00","00:00:00",0,0,"00:00:00","00:00:00",0,0,"00:00:00","00:00:00",0,0,"00:00:00","00:00:00",0,0,"00:00:00","00:00:00",0,0,"00:00:00","00:00:00",0,0,"00:00:00","00:00:00",0,0]
[null,null,null,null,null,null,null,0,"00:00:00","00:00:00",0,0,"00:00:00","00:00:00",0,0,"00:00:00","00:00:00",0,0,"00:00:00","00:00:00",0,0,"00:00:00","00:00:00",0,0,"00:00:00","00:00:00",0,0,"00:00:00","00:00:00",0,0,"00:00:00","00:00:00",0,0,"00:00:00","00:00:00",0,0,"00:00:00","00:00:00",0,0]
[null,null,null,null,null,null,null,0,"00:00:00","00:00:00",0,0,"00:00:00","00:00:00",0,0,"00:00:00","00:00:00",0,0,"00:00:00","00:00:00",0,0,"00:00:00","00:00:00",0,0,"00:00:00","00:00:00",0,0,"00:00:00","00:00:00",0,0,"00:00:00","00:00:00",0,0,"00:00:00","00:00:00",0,0,"00:00:00","00:00:00",0,0]
[null,null,null,null,null,null,null,0,"00:00:00","00:00:00",0,0,"00:00:00","00:00:00",0,0,"00:00:00","00:00:00",0,0,"00:00:00","00:00:00",0,0,"00:00:00","00:00:00",0,0,"00:00:00","00:00:00",0,0,"00:00:00","00:00:00",0,0,"00:00:00","00:00:00",0,0,"00:00:00","00:00:00",0,0,"00:00:00","00:00:00",0,0]
[null,null,null,null,null,null,null,0,"00:00:00","00:00:00",0,0,"00:00:00","00:00:00",0,0,"00:00:00","00:00:00",0,0,"00:00:00","00:00:00",0,0,"00:00:00","00:00:00",0,0,"00:00:00","00:00:00",0,0,"00:00:00","00:00:00",0,0,"00:00:00","00:00:00",0,0,"00:00:00","00:00:00",0,0,"00:00:00","00:00:00",0,0]
[null,null,null,null,null,null,null,0,"00:00:00","00:00:00",0,0,"00:00:00","00:00:00",0,0,"00:00:00","00:00:00",0,0,"00:00:00","00:00:00",0,0,"00:00:00","00:00:00",0,0,"00:00:00","00:00:00",0,0,"00:00:00","00:00:00",0,0,"00:00:00","00:00:00",0,0,"00:00:00","00:00:00",0,0,"00:00:00","00:00:00",0,0]
[null,null,null,null,null,null,null,0,"00:00:00","00:00:00",0,0,"00:00:00","00:00:00",0,0,"00:00:00","00:00:00",0,0,"00:00:00","00:00:00",0,0,"00:00:00","00:00:00",0,0,"00:00:00","00:00:00",0,0,"00:00:00","00:00:00",0,0,"00:00:00","00:00:00",0,0,"00:00:00","00:00:00",0,0,"00:00:00","00:00:00",0,0]
[null,null,null,null,null,null,null,0,"00:00:00","00:00:00",0,0,"00:00:00","00:00:00",0,0,"00:00:00","00:00:00",0,0,"00:00:00","00:00:00",0,0,"00:00:00","00:00:00",0,0,"00:00:00","00:00:00",0,0,"00:00:00","00:00:00",0,0,"00:00:00","00:00:00",0,0,"00:00:00","00:00:00",0,0,"00:00:00","00:00:00",0,0]
[null,null,null,null,null,null,null,0,"00:00:00","00:00:00",0,0,"00:00:00","00:00:00",0,0,"00:00:00","00:00:00",0,0,"00:00:00","00:00:00",0,0,"00:00:00","00:00:00",0,0,"00:00:00","00:00:00",0,0,"00:00:00","00:00:00",0,0,"00:00:00","00:00:00",0,0,"00:00:00","00:00:00",0,0,"00:00:00","00:00:00",0,0]
[null,null,null,null,null,null,null,0,"00:00:00","00:00:00",0,0,"00:00:00","00:00:00",0,0,"00:00:00","00:00:00",0,0,"00:00:00","00:00:00",0,0,"00:00:00","00:00:00",0,0,"00:00:00","00:00:00",0,0,"00:00:00","00:00:00",0,0,"00:00:00","00:00:00",0,0,"00:00:00","00:00:00",0,0,"00:00:00","00:00:00",0,0]
[null,null,null,null,null,null,null,0,"00:00:00","00:00:00",0,0,"00:00:00","00:00:00",0,0,"00:00:00","00:00:00",0,0,"00:00:00","00:00:00",0,0,"00:00:00","00:00:00",0,0,"00:00:00","00:00:00",0,0,"00:00:00","00:00:00",0,0,"00:00:00","00:00:00",0,0,"00:00:00","00:00:00",0,0,"00:00:00","00:00:00",0,0]
[null,null,null,null,null,null,null,0,"00:00:00","00:00:00",0,0,"00:00:00","00:00:00",0,0,"00:00:00","00:00:00",0,0,"00:00:00","00:00:00",0,0,"00:00:00","00:00:00",0,0,"00:00:00","00:00:00",0,0,"00:00:00","00:00:00",0,0,"00:00:00","00:00:00",0,0,"00:00:00","00:00:00",0,0,"00:00:00","00:00:00",0,0]
[null,null,null,null,null,null,null,0,"00:00:00","00:00:00",0,0,"00:00:00","00:00:00",0,0,"00:00:00","00:00:00",0,0,"00:00:00","00:00:00",0,0,"00:00:00","00:00:00",0,0,"00:00:00","00:00:00",0,0,"00:00:00","00:00:00",0,0,"00:00:00","00:00:00",0,0,"00:00:00","00:00:00",0,0,"00:00:00","00:00:00",0,0]
[null,null,null,null,null,null,null,0,"00:00:00","00:00:00",0,0,"00:00:00","00:00:00",0,0,"00:00:00","00:00:00",0,0,"00:00:00","00:00:00",0,0,"00:00:00","00:00:00",0,0,"00:00:00","00:00:00",0,0,"00:00:00","00:00:00",0,0,"00:00:00","00:00:00",0,0,"00:00:00","00:00:00",0,0,"00:00:00","00:00:00",0,0]
[null,null,null,null,null,null,null,0,"00:00:00","00:00:00",0,0,"00:00:00","00:00:00",0,0,"00:00:00","00:00:00",0,0,"00:00:00","00:00:00",0,0,"00:00:00","00:00:00",0,0,"00:00:00","00:00:00",0,0,"00:00:00","00:00:00",0,0,"00:00:00","00:00:00",0,0,"00:00:00","00:00:00",0,0,"00:00:00","00:00:00",0,0]
[null,null,null,null,null,null,null,0,"00:00:00","00:00:00",0,0,"00:00:00","00:00:00",0,0,"00:00:00","00:00:00",0,0,"00:00:00","00:00:00",0,0,"00:00:00","00:00:00",0,0,"00:00:00","00:00:00",0,0,"00:00:00","00:00:00",0,0,"00:00:00","00:00:00",0,0,"00:00:00","00:00:00",0,0,"00:00:00","00:00:00",0,0]
[null,null,null,null,null,null,null,0,"00:00:00","00:00:00",0,0,"00:00:00","00:00:00",0,0,"00:00:00","00:00:00",0,0,"00:00:00","00:00:00",0,0,"00:00:00","00:00:00",0,0,"00:00:00","00:00:00",0,0,"00:00:00","00:00:00",0,0,"00:00:00","00:00:00",0,0,"00:00:00","00:00:00",0,0,"00:00:00","00:00:00",0,0]
[null,null,null,null,null,null,null,0,"00:00:00","00:00:00",0,0,"00:00:00","00:00:00",0,0,"00:00:00","00:00:00",0,0,"00:00:00","00:00:00",0,0,"00:00:00","00:00:00",0,0,"00:00:00","00:00:00",0,0,"00:00:00","00:00:00",0,0,"00:00:00","00:00:00",0,0,"00:00:00","00:00:00",0,0,"00:00:00","00:00:00",0,0]
[null,null,null,null,null,null,null,0,"00:00:00","00:00:00",0,0,"00:00:00","00:00:00",0,0,"00:00:00","00:00:00",0,0,"00:00:00","00:00:00",0,0,"00:00:00","00:00:00",0,0,"00:00:00","00:00:00",0,0,"00:00:00","00:00:00",0,0,"00:00:00","00:00:00",0,0,"00:00:00","00:00:00",0,0,"00:00:00","00:00:00",0,0]
[null,null,null,null,null,null,null,0,"00:00:00","00:00:00",0,0,"00:00:00","00:00:00",0,0,"00:00:00","00:00:00",0,0,"00:00:00","00:00:00",0,0,"00:00:00","00:00:00",0,0,"00:00:00","00:00:00",0,0,"00:00:00","00:00:00",0,0,"00:00:00","00:00:00",0,0,"00:00:00","00:00:00",0,0,"00:00:00","00:00:00",0,0]
[null,null,null,null,null,null,null,0,"00:00:00","00:00:00",0,0,"00:00:00","00:00:00",0,0,"00:00:00","00:00:00",0,0,"00:00:00","00:00:00",0,0,"00:00:00","00:00:00",0,0,"00:00:00","00:00:00",0,0,"00:00:00","00:00:00",0,0,"00:00:00","00:00:00",0,0,"00:00:00","00:00:00",0,0,"00:00:00","00:00:00",0,0]
[null,null,null,null,null,null,null,0,"00:00:00","00:00:00",0,0,"00:00:00","00:00:00",0,0,"00:00:00","00:00:00",0,0,"00:00:00","00:00:00",0,0,"00:00:00","00:00:00",0,0,"00:00:00","00:00:00",0,0,"00:00:00","00:00:00",0,0,"00:00:00","00:00:00",0,0,"00:00:00","00:00:00",0,0,"00:00:00","00:00:00",0,0]
[null,null,null,null,null,null,null,0,"00:00:00","00:00:00",0,0,"00:00:00","00:00:00",0,0,"00:00:00","00:00:00",0,0,"00:00:00","00:00:00",0,0,"00:00:00","00:00:00",0,0,"00:00:00","00:00:00",0,0,"00:00:00","00:00:00",0,0,"00:00:00","00:00:00",0,0,"00:00:00","00:00:00",0,0,"00:00:00","00:00:00",0,0]
[null,null,null,null,null,null,null,0,"00:00:00","00:00:00",0,0,"00:00:00","00:00:00",0,0,"00:00:00","00:00:00",0,0,"00:00:00","00:00:00",0,0,"00:00:00","00:00:00",0,0,"00:00:00","00:00:00",0,0,"00:00:00","00:00:00",0,0,"00:00:00","00:00:00",0,0,"00:00:00","00:00:00",0,0,"00:00:00","00:00:00",0,0]
[null,null,null,null,null,null,null,0,"00:00:00","00:00:00",0,0,"00:00:00","00:00:00",0,0,"00:00:00","00:00:00",0,0,"00:00:00","00:00:00",0,0,"00:00:00","00:00:00",0,0,"00:00:00","00:00:00",0,0,"00:00:00","00:00:00",0,0,"00:00:00","00:00:00",0,0,"00:00:00","00:00:00",0,0,"00:00:00","00:00:00",0,0]
[null,null,null,null,null,null,null,0,"00:00:00","00:00:00",0,0,"00:00:00","00:00:00",0,0,"00:00:00","00:00:00",0,0,"00:00:00","00:00:00",0,0,"00:00:00","00:00:00",0,0,"00:00:00","00:00:00",0,0,"00:00:00","00:00:00",0,0,"00:00:00","00:00:00",0,0,"00:00:00","00:00:00",0,0,"00:00:00","00:00:00",0,0]
[null,null,null,null,null,null,null,0,"00:00:00","00:00:00",0,0,"00:00:00","00:00:00",0,0,"00:00:00","00:00:00",0,0,"00:00:00","00:00:00",0,0,"00:00:00","00:00:00",0,0,"00:00:00","00:00:00",0,0,"00:00:00","00:00:00",0,0,"00:00:00","00:00:00",0,0,"00:00:00","00:00:00",0,0,"00:00:00","00:00:00",0,0]
[null,null,null,null,null,null,null,0,"00:00:00","00:00:00",0,0,"00:00:00","00:00:00",0,0,"00:00:00","00:00:00",0,0,"00:00:00","00:00:00",0,0,"00:00:00","00:00:00",0,0,"00:00:00","00:00:00",0,0,"00:00:00","00:00:00",0,0,"00:00:00","00:00:00",0,0,"00:00:00","00:00:00",0,0,"00:00:00","00:00:00",0,0]
[null,null,null,null,null,null,null,0,"00:00:00","00:00:00",0,0,"00:00:00","00:00:00",0,0,"00:00:00","00:00:00",0,0,"00:00:00","00:00:00",0,0,"00:00:00","00:00:00",0,0,"00:00:00","00:00:00",0,0,"00:00:00","00:00:00",0,0,"00:00:00","00:00:00",0,0,"00:00:00","00:00:00",0,0,"00:00:00","00:00:00",0,0]
[null,null,null,null,null,null,null,0,"00:00:00","00:00:00",0,0,"00:00:00","00:00:00",0,0,"00:00:00","00:00:00",0,0,"00:00:00","00:00:00",0,0,"00:00:00","00:00:00",0,0,"00:00:00","00:00:00",0,0,"00:00:00","00:00:00",0,0,"00:00:00","00:00:00",0,0,"00:00:00","00:00:00",0,0,"00:00:00","00:00:00",0,0]
[null,null,null,null,null,null,null,0,"00:00:00","00:00:00",0,0,"00:00:00","00:00:00",0,0,"00:00:00","00:00:00",0,0,"00:00:00","00:00:00",0,0,"00:00:00","00:00:00",0,0,"00:00:00","00:00:00",0,0,"00:00:00","00:00:00",0,0,"00:00:00","00:00:00",0,0,"00:00:00","00:00:00",0,0,"00:00:00","00:00:00",0,0]
[null,null,null,null,null,null,null,0,"00:00:00","00:00:00",0,0,"00:00:00","00:00:00",0,0,"00:00:00","00:00:00",0,0,"00:00:00","00:00:00",0,0,"00:00:00","00:00:00",0,0,"00:00:00","00:00:00",0,0,"00:00:00","00:00:00",0,0,"00:00:00","00:00:00",0,0,"00:00:00","00:00:00",0,0,"00:00:00","00:00:00",0,0]
[null,null,null,null,null,null,null,0,"00:00:00","00:00:00",0,0,"00:00:00","00:00:00",0,0,"00:00:00","00:00:00",0,0,"00:00:00","00:00:00",0,0,"00:00:00","00:00:00",0,0,"00:00:00","00:00:00",0,0,"00:00:00","00:00:00",0,0,"00:00:00","00:00:00",0,0,"00:00:00","00:00:00",0,0,"00:00:00","00:00:00",0,0]
[null,null,null,null,null,null,null,0,"00:00:00","00:00:00",0,0,"00:00:00","00:00:00",0,0,"00:00:00","00:00:00",0,0,"00:00:00","00:00:00",0,0,"00:00:00","00:00:00",0,0,"00:00:00","00:00:00",0,0,"00:00:00","00:00:00",0,0,"00:00:00","00:00:00",0,0,"00:00:00","00:00:00",0,0,"00:00:00","00:00:00",0,0]
[null,null,null,null,null,null,null,0,"00:00:00","00:00:00",0,0,"00:00:00","00:00:00",0,0,"00:00:00","00:00:00",0,0,"00:00:00","00:00:00",0,0,"00:00:00","00:00:00",0,0,"00:00:00","00:00:00",0,0,"00:00:00","00:00:00",0,0,"00:00:00","00:00:00",0,0,"00:00:00","00:00:00",0,0,"00:00:00","00:00:00",0,0]
[null,null,null,null,null,null,null,0,"00:00:00","00:00:00",0,0,"00:00:00","00:00:00",0,0,"00:00:00","00:00:00",0,0,"00:00:00","00:00:00",0,0,"00:00:00","00:00:00",0,0,"00:00:00","00:00:00",0,0,"00:00:00","00:00:00",0,0,"00:00:00","00:00:00",0,0,"00:00:00","00:00:00",0,0,"00:00:00","00:00:00",0,0]
[null,null,null,null,null,null,null,0,"00:00:00","00:00:00",0,0,"00:00:00","00:00:00",0,0,"00:00:00","00:00:00",0,0,"00:00:00","00:00:00",0,0,"00:00:00","00:00:00",0,0,"00:00:00","00:00:00",0,0,"00:00:00","00:00:00",0,0,"00:00:00","00:00:00",0,0,"00:00:00","00:00:00",0,0,"00:00:00","00:00:00",0,0]
[null,null,null,null,null,null,null,0,"00:00:00","00:00:00",0,0,"00:00:00","00:00:00",0,0,"00:00:00","00:00:00",0,0,"00:00:00","00:00:00",0,0,"00:00:00","00:00:00",0,0,"00:00:00","00:00:00",0,0,"00:00:00","00:00:00",0,0,"00:00:00","00:00:00",0,0,"00:00:00","00:00:00",0,0,"00:00:00","00:00:00",0,0]
[null,null,null,null,null,null,null,0,"00:00:00","00:00:00",0,0,"00:00:00","00:00:00",0,0,"00:00:00","00:00:00",0,0,"00:00:00","00:00:00",0,0,"00:00:00","00:00:00",0,0,"00:00:00","00:00:00",0,0,"00:00:00","00:00:00",0,0,"00:00:00","00:00:00",0,0,"00:00:00","00:00:00",0,0,"00:00:00","00:00:00",0,0]
[null,null,null,null,null,null,null,0,"00:00:00","00:00:00",0,0,"00:00:00","00:00:00",0,0,"00:00:00","00:00:00",0,0,"00:00:00","00:00:00",0,0,"00:00:00","00:00:00",0,0,"00:00:00","00:00:00",0,0,"00:00:00","00:00:00",0,0,"00:00:00","00:00:00",0,0,"00:00:00","00:00:00",0,0,"00:00:00","00:00:00",0,0]
[null,null,null,null,null,null,null,0,"00:00:00","00:00:00",0,0,"00:00:00","00:00:00",0,0,"00:00:00","00:00:00",0,0,"00:00:00","00:00:00",0,0,"00:00:00","00:00:00",0,0,"00:00:00","00:00:00",0,0,"00:00:00","00:00:00",0,0,"00:00:00","00:00:00",0,0,"00:00:00","00:00:00",0,0,"00:00:00","00:00:00",0,0]
[null,null,null,null,null,null,null,0,"00:00:00","00:00:00",0,0,"00:00:00","00:00:00",0,0,"00:00:00","00:00:00",0,0,"00:00:00","00:00:00",0,0,"00:00:00","00:00:00",0,0,"00:00:00","00:00:00",0,0,"00:00:00","00:00:00",0,0,"00:00:00","00:00:00",0,0,"00:00:00","00:00:00",0,0,"00:00:00","00:00:00",0,0]
[null,null,null,null,null,null,null,0,"00:00:00","00:00:00",0,0,"00:00:00","00:00:00",0,0,"00:00:00","00:00:00",0,0,"00:00:00","00:00:00",0,0,"00:00:00","00:00:00",0,0,"00:00:00","00:00:00",0,0,"00:00:00","00:00:00",0,0,"00:00:00","00:00:00",0,0,"00:00:00","00:00:00",0,0,"00:00:00","00:00:00",0,0]
[null,null,null,null,null,null,null,0,"00:00:00","00:00:00",0,0,"00:00:00","00:00:00",0,0,"00:00:00","00:00:00",0,0,"00:00:00","00:00:00",0,0,"00:00:00","00:00:00",0,0,"00:00:00","00:00:00",0,0,"00:00:00","00:00:00",0,0,"00:00:00","00:00:00",0,0,"00:00:00","00:00:00",0,0,"00:00:00","00:00:00",0,0]
[null,null,null,null,null,null,null,0,"00:00:00","00:00:00",0,0,"00:00:00","00:00:00",0,0,"00:00:00","00:00:00",0,0,"00:00:00","00:00:00",0,0,"00:00:00","00:00:00",0,0,"00:00:00","00:00:00",0,0,"00:00:00","00:00:00",0,0,"00:00:00","00:00:00",0,0,"00:00:00","00:00:00",0,0,"00:00:00","00:00:00",0,0]
[null,null,null,null,null,null,null,0,"00:00:00","00:00:00",0,0,"00:00:00","00:00:00",0,0,"00:00:00","00:00:00",0,0,"00:00:00","00:00:00",0,0,"00:00:00","00:00:00",0,0,"00:00:00","00:00:00",0,0,"00:00:00","00:00:00",0,0,"00:00:00","00:00:00",0,0,"00:00:00","00:00:00",0,0,"00:00:00","00:00:00",0,0]
[null,null,null,null,null,null,null,0,"00:00:00","00:00:00",0,0,"00:00:00","00:00:00",0,0,"00:00:00","00:00:00",0,0,"00:00:00","00:00:00",0,0,"00:00:00","00:00:00",0,0,"00:00:00","00:00:00",0,0,"00:00:00","00:00:00",0,0,"00:00:00","00:00:00",0,0,"00:00:00","00:00:00",0,0,"00:00:00","00:00:00",0,0]
[null,null,null,null,null,null,null,0,"00:00:00","00:00:00",0,0,"00:00:00","00:00:00",0,0,"00:00:00","00:00:00",0,0,"00:00:00","00:00:00",0,0,"00:00:00","00:00:00",0,0,"00:00:00","00:00:00",0,0,"00:00:00","00:00:00",0,0,"00:00:00","00:00:00",0,0,"00:00:00","00:00:00",0,0,"00:00:00","00:00:00",0,0]
[null,null,null,null,null,null,null,0,"00:00:00","00:00:00",0,0,"00:00:00","00:00:00",0,0,"00:00:00","00:00:00",0,0,"00:00:00","00:00:00",0,0,"00:00:00","00:00:00",0,0,"00:00:00","00:00:00",0,0,"00:00:00","00:00:00",0,0,"00:00:00","00:00:00",0,0,"00:00:00","00:00:00",0,0,"00:00:00","00:00:00",0,0]
[null,null,null,null,null,null,null,0,"00:00:00","00:00:00",0,0,"00:00:00","00:00:00",0,0,"00:00:00","00:00:00",0,0,"00:00:00","00:00:00",0,0,"00:00:00","00:00:00",0,0,"00:00:00","00:00:00",0,0,"00:00:00","00:00:00",0,0,"00:00:00","00:00:00",0,0,"00:00:00","00:00:00",0,0,"00:00:00","00:00:00",0,0]
[null,null,null,null,null,null,null,0,"00:00:00","00:00:00",0,0,"00:00:00","00:00:00",0,0,"00:00:00","00:00:00",0,0,"00:00:00","00:00:00",0,0,"00:00:00","00:00:00",0,0,"00:00:00","00:00:00",0,0,"00:00:00","00:00:00",0,0,"00:00:00","00:00:00",0,0,"00:00:00","00:00:00",0,0,"00:00:00","00:00:00",0,0]
[null,null,null,null,null,null,null,0,"00:00:00","00:00:00",0,0,"00:00:00","00:00:00",0,0,"00:00:00","00:00:00",0,0,"00:00:00","00:00:00",0,0,"00:00:00","00:00:00",0,0,"00:00:00","00:00:00",0,0,"00:00:00","00:00:00",0,0,"00:00:00","00:00:00",0,0,"00:00:00","00:00:00",0,0,"00:00:00","00:00:00",0,0]
[null,null,null,null,null,null,null,0,"00:00:00","00:00:00",0,0,"00:00:00","00:00:00",0,0,"00:00:00","00:00:00",0,0,"00:00:00","00:00:00",0,0,"00:00:00","00:00:00",0,0,"00:00:00","00:00:00",0,0,"00:00:00","00:00:00",0,0,"00:00:00","00:00:00",0,0,"00:00:00","00:00:00",0,0,"00:00:00","00:00:00",0,0]
[null,null,null,null,null,null,null,0,"00:00:00","00:00:00",0,0,"00:00:00","00:00:00",0,0,"00:00:00","00:00:00",0,0,"00:00:00","00:00:00",0,0,"00:00:00","00:00:00",0,0,"00:00:00","00:00:00",0,0,"00:00:00","00:00:00",0,0,"00:00:00","00:00:00",0,0,"00:00:00","00:00:00",0,0,"00:00:00","00:00:00",0,0]
[null,null,null,null,null,null,null,0,"00:00:00","00:00:00",0,0,"00:00:00","00:00:00",0,0,"00:00:00","00:00:00",0,0,"00:00:00","00:00:00",0,0,"00:00:00","00:00:00",0,0,"00:00:00","00:00:00",0,0,"00:00:00","00:00:00",0,0,"00:00:00","00:00:00",0,0,"00:00:00","00:00:00",0,0,"00:00:00","00:00:00",0,0]
[null,null,null,null,null,null,null,0,"00:00:00","00:00:00",0,0,"00:00:00","00:00:00",0,0,"00:00:00","00:00:00",0,0,"00:00:00","00:00:00",0,0,"00:00:00","00:00:00",0,0,"00:00:00","00:00:00",0,0,"00:00:00","00:00:00",0,0,"00:00:00","00:00:00",0,0,"00:00:00","00:00:00",0,0,"00:00:00","00:00:00",0,0]
[null,null,null,null,null,null,null,0,"00:00:00","00:00:00",0,0,"00:00:00","00:00:00",0,0,"00:00:00","00:00:00",0,0,"00:00:00","00:00:00",0,0,"00:00:00","00:00:00",0,0,"00:00:00","00:00:00",0,0,"00:00:00","00:00:00",0,0,"00:00:00","00:00:00",0,0,"00:00:00","00:00:00",0,0,"00:00:00","00:00:00",0,0]
[null,null,null,null,null,null,null,0,"00:00:00","00:00:00",0,0,"00:00:00","00:00:00",0,0,"00:00:00","00:00:00",0,0,"00:00:00","00:00:00",0,0,"00:00:00","00:00:00",0,0,"00:00:00","00:00:00",0,0,"00:00:00","00:00:00",0,0,"00:00:00","00:00:00",0,0,"00:00:00","00:00:00",0,0,"00:00:00","00:00:00",0,0]
[null,null,null,null,null,null,null,0,"00:00:00","00:00:00",0,0,"00:00:00","00:00:00",0,0,"00:00:00","00:00:00",0,0,"00:00:00","00:00:00",0,0,"00:00:00","00:00:00",0,0,"00:00:00","00:00:00",0,0,"00:00:00","00:00:00",0,0,"00:00:00","00:00:00",0,0,"00:00:00","00:00:00",0,0,"00:00:00","00:00:00",0,0]
[null,null,null,null,null,null,null,0,"00:00:00","00:00:00",0,0,"00:00:00","00:00:00",0,0,"00:00:00","00:00:00",0,0,"00:00:00","00:00:00",0,0,"00:00:00","00:00:00",0,0,"00:00:00","00:00:00",0,0,"00:00:00","00:00:00",0,0,"00:00:00","00:00:00",0,0,"00:00:00","00:00:00",0,0,"00:00:00","00:00:00",0,0]
[null,null,null,null,null,null,null,0,{"$f":"IF(OR($F1165<I$10,$E1165>J$10),0,IF(AND($E1165>=I$10,$F1165<=J$10),$E1165,IF(AND($E1165<=I$10,$F1165<=J$10),I$10,IF(AND($E1165<=J$10,$F1165>=J$10,$E1165>=I$10),$E1165,IF(AND($E1165<=I$10,$F1165>=J$10),I$10,\"chyba\")))))","v":"00:00:00"},{"$f":"IF(OR($F1165<I$10,$E1165>J$10),0,IF(AND($E1165>=I$10,$F1165<=J$10),$F1165,IF(AND($E1165<=I$10,$F1165<=J$10),$F1165,IF(AND($E1165<=J$10,$F1165>=J$10),J$10,IF(AND($E1165<=I$10,$F1165>=J$10),J$10,\"chyba\")))))","v":"00:00:00"},0,{"$f":"IF($H1165<=0,0,$G1165/$H1165*K1165)","v":0},{"$f":"IF(OR($F1165<M$10,$E1165>N$10),0,IF(AND($E1165>=M$10,$F1165<=N$10),$E1165,IF(AND($E1165<=M$10,$F1165<=N$10),M$10,IF(AND($E1165<=N$10,$F1165>=N$10,$E1165>=M$10),$E1165,IF(AND($E1165<=M$10,$F1165>=N$10),M$10,\"chyba\")))))","v":"00:00:00"},{"$f":"IF(OR($F1165<M$10,$E1165>N$10),0,IF(AND($E1165>=M$10,$F1165<=N$10),$F1165,IF(AND($E1165<=M$10,$F1165<=N$10),$F1165,IF(AND($E1165<=N$10,$F1165>=N$10),N$10,IF(AND($E1165<=M$10,$F1165>=N$10),N$10,\"chyba\")))))","v":"00:00:00"},0,{"$f":"IF($H1165<=0,0,$G1165/$H1165*O1165)","v":0},{"$f":"IF(OR($F1165<Q$10,$E1165>R$10),0,IF(AND($E1165>=Q$10,$F1165<=R$10),$E1165,IF(AND($E1165<=Q$10,$F1165<=R$10),Q$10,IF(AND($E1165<=R$10,$F1165>=R$10,$E1165>=Q$10),$E1165,IF(AND($E1165<=Q$10,$F1165>=R$10),Q$10,\"chyba\")))))","v":"00:00:00"},{"$f":"IF(OR($F1165<Q$10,$E1165>R$10),0,IF(AND($E1165>=Q$10,$F1165<=R$10),$F1165,IF(AND($E1165<=Q$10,$F1165<=R$10),$F1165,IF(AND($E1165<=R$10,$F1165>=R$10),R$10,IF(AND($E1165<=Q$10,$F1165>=R$10),R$10,\"chyba\")))))","v":"00:00:00"},0,{"$f":"IF($H1165<=0,0,$G1165/$H1165*S1165)","v":0},{"$f":"IF(OR($F1165<U$10,$E1165>V$10),0,IF(AND($E1165>=U$10,$F1165<=V$10),$E1165,IF(AND($E1165<=U$10,$F1165<=V$10),U$10,IF(AND($E1165<=V$10,$F1165>=V$10,$E1165>=U$10),$E1165,IF(AND($E1165<=U$10,$F1165>=V$10),U$10,\"chyba\")))))","v":"00:00:00"},{"$f":"IF(OR($F1165<U$10,$E1165>V$10),0,IF(AND($E1165>=U$10,$F1165<=V$10),$F1165,IF(AND($E1165<=U$10,$F1165<=V$10),$F1165,IF(AND($E1165<=V$10,$F1165>=V$10),V$10,IF(AND($E1165<=U$10,$F1165>=V$10),V$10,\"chyba\")))))","v":"00:00:00"},0,{"$f":"IF($H1165<=0,0,$G1165/$H1165*W1165)","v":0},{"$f":"IF(OR($F1165<Y$10,$E1165>Z$10),0,IF(AND($E1165>=Y$10,$F1165<=Z$10),$E1165,IF(AND($E1165<=Y$10,$F1165<=Z$10),Y$10,IF(AND($E1165<=Z$10,$F1165>=Z$10,$E1165>=Y$10),$E1165,IF(AND($E1165<=Y$10,$F1165>=Z$10),Y$10,\"chyba\")))))","v":"00:00:00"},{"$f":"IF(OR($F1165<Y$10,$E1165>Z$10),0,IF(AND($E1165>=Y$10,$F1165<=Z$10),$F1165,IF(AND($E1165<=Y$10,$F1165<=Z$10),$F1165,IF(AND($E1165<=Z$10,$F1165>=Z$10),Z$10,IF(AND($E1165<=Y$10,$F1165>=Z$10),Z$10,\"chyba\")))))","v":"00:00:00"},0,{"$f":"IF($H1165<=0,0,$G1165/$H1165*AA1165)","v":0},{"$f":"IF(OR($F1165<AC$10,$E1165>AD$10),0,IF(AND($E1165>=AC$10,$F1165<=AD$10),$E1165,IF(AND($E1165<=AC$10,$F1165<=AD$10),AC$10,IF(AND($E1165<=AD$10,$F1165>=AD$10,$E1165>=AC$10),$E1165,IF(AND($E1165<=AC$10,$F1165>=AD$10),AC$10,\"chyba\")))))","v":"00:00:00"},{"$f":"IF(OR($F1165<AC$10,$E1165>AD$10),0,IF(AND($E1165>=AC$10,$F1165<=AD$10),$F1165,IF(AND($E1165<=AC$10,$F1165<=AD$10),$F1165,IF(AND($E1165<=AD$10,$F1165>=AD$10),AD$10,IF(AND($E1165<=AC$10,$F1165>=AD$10),AD$10,\"chyba\")))))","v":"00:00:00"},0,{"$f":"IF($H1165<=0,0,$G1165/$H1165*AE1165)","v":0},{"$f":"IF(OR($F1165<AG$10,$E1165>AH$10),0,IF(AND($E1165>=AG$10,$F1165<=AH$10),$E1165,IF(AND($E1165<=AG$10,$F1165<=AH$10),AG$10,IF(AND($E1165<=AH$10,$F1165>=AH$10,$E1165>=AG$10),$E1165,IF(AND($E1165<=AG$10,$F1165>=AH$10),AG$10,\"chyba\")))))","v":"00:00:00"},{"$f":"IF(OR($F1165<AG$10,$E1165>AH$10),0,IF(AND($E1165>=AG$10,$F1165<=AH$10),$F1165,IF(AND($E1165<=AG$10,$F1165<=AH$10),$F1165,IF(AND($E1165<=AH$10,$F1165>=AH$10),AH$10,IF(AND($E1165<=AG$10,$F1165>=AH$10),AH$10,\"chyba\")))))","v":"00:00:00"},0,{"$f":"IF($H1165<=0,0,$G1165/$H1165*AI1165)","v":0},{"$f":"IF(OR($F1165<AK$10,$E1165>AL$10),0,IF(AND($E1165>=AK$10,$F1165<=AL$10),$E1165,IF(AND($E1165<=AK$10,$F1165<=AL$10),AK$10,IF(AND($E1165<=AL$10,$F1165>=AL$10,$E1165>=AK$10),$E1165,IF(AND($E1165<=AK$10,$F1165>=AL$10),AK$10,\"chyba\")))))","v":"00:00:00"},{"$f":"IF(OR($F1165<AK$10,$E1165>AL$10),0,IF(AND($E1165>=AK$10,$F1165<=AL$10),$F1165,IF(AND($E1165<=AK$10,$F1165<=AL$10),$F1165,IF(AND($E1165<=AL$10,$F1165>=AL$10),AL$10,IF(AND($E1165<=AK$10,$F1165>=AL$10),AL$10,\"chyba\")))))","v":"00:00:00"},0,{"$f":"IF($H1165<=0,0,$G1165/$H1165*AM1165)","v":0},{"$f":"IF(OR($F1165<AO$10,$E1165>AP$10),0,IF(AND($E1165>=AO$10,$F1165<=AP$10),$E1165,IF(AND($E1165<=AO$10,$F1165<=AP$10),AO$10,IF(AND($E1165<=AP$10,$F1165>=AP$10,$E1165>=AO$10),$E1165,IF(AND($E1165<=AO$10,$F1165>=AP$10),AO$10,\"chyba\")))))","v":"00:00:00"},{"$f":"IF(OR($F1165<AO$10,$E1165>AP$10),0,IF(AND($E1165>=AO$10,$F1165<=AP$10),$F1165,IF(AND($E1165<=AO$10,$F1165<=AP$10),$F1165,IF(AND($E1165<=AP$10,$F1165>=AP$10),AP$10,IF(AND($E1165<=AO$10,$F1165>=AP$10),AP$10,\"chyba\")))))","v":"00:00:00"},0,{"$f":"IF($H1165<=0,0,$G1165/$H1165*AQ1165)","v":0},{"$f":"IF(OR($F1165<AS$10,$E1165>AT$10),0,IF(AND($E1165>=AS$10,$F1165<=AT$10),$E1165,IF(AND($E1165<=AS$10,$F1165<=AT$10),AS$10,IF(AND($E1165<=AT$10,$F1165>=AT$10,$E1165>=AS$10),$E1165,IF(AND($E1165<=AS$10,$F1165>=AT$10),AS$10,\"chyba\")))))","v":"00:00:00"},{"$f":"IF(OR($F1165<AS$10,$E1165>AT$10),0,IF(AND($E1165>=AS$10,$F1165<=AT$10),$F1165,IF(AND($E1165<=AS$10,$F1165<=AT$10),$F1165,IF(AND($E1165<=AT$10,$F1165>=AT$10),AT$10,IF(AND($E1165<=AS$10,$F1165>=AT$10),AT$10,\"chyba\")))))","v":"00:00:00"},0,{"$f":"IF($H1165<=0,0,$G1165/$H1165*AU1165)","v":0}]
[null,null,null,null,null,null,null,{"$f":"IF(F1166-E1166=0,0,F1166-E1166+1)","v":0},"00:00:00","00:00:00",{"$f":"IF(J1166-I1166=0,0,J1166-I1166+1)","v":0},0,"00:00:00","00:00:00",{"$f":"IF(N1166-M1166=0,0,N1166-M1166+1)","v":0},0,"00:00:00","00:00:00",{"$f":"IF(R1166-Q1166=0,0,R1166-Q1166+1)","v":0},0,"00:00:00","00:00:00",{"$f":"IF(V1166-U1166=0,0,V1166-U1166+1)","v":0},0,"00:00:00","00:00:00",{"$f":"IF(Z1166-Y1166=0,0,Z1166-Y1166+1)","v":0},0,"00:00:00","00:00:00",{"$f":"IF(AD1166-AC1166=0,0,AD1166-AC1166+1)","v":0},0,"00:00:00","00:00:00",{"$f":"IF(AH1166-AG1166=0,0,AH1166-AG1166+1)","v":0},0,"00:00:00","00:00:00",{"$f":"IF(AL1166-AK1166=0,0,AL1166-AK1166+1)","v":0},0,"00:00:00","00:00:00",{"$f":"IF(AP1166-AO1166=0,0,AP1166-AO1166+1)","v":0},0,"00:00:00","00:00:00",{"$f":"IF(AT1166-AS1166=0,0,AT1166-AS1166+1)","v":0},0]
[null,null,null,null,null,null,null,0,"00:00:00","00:00:00",0,0,"00:00:00","00:00:00",0,0,"00:00:00","00:00:00",0,0,"00:00:00","00:00:00",0,0,"00:00:00","00:00:00",0,0,"00:00:00","00:00:00",0,0,"00:00:00","00:00:00",0,0,"00:00:00","00:00:00",0,0,"00:00:00","00:00:00",0,0,"00:00:00","00:00:00",0,0]
[null,null,null,null,null,null,null,0,"00:00:00","00:00:00",0,0,"00:00:00","00:00:00",0,0,"00:00:00","00:00:00",0,0,"00:00:00","00:00:00",0,0,"00:00:00","00:00:00",0,0,"00:00:00","00:00:00",0,0,"00:00:00","00:00:00",0,0,"00:00:00","00:00:00",0,0,"00:00:00","00:00:00",0,0,"00:00:00","00:00:00",0,0]
[null,null,null,null,null,null,null,0,"00:00:00","00:00:00",0,0,"00:00:00","00:00:00",0,0,"00:00:00","00:00:00",0,0,"00:00:00","00:00:00",0,0,"00:00:00","00:00:00",0,0,"00:00:00","00:00:00",0,0,"00:00:00","00:00:00",0,0,"00:00:00","00:00:00",0,0,"00:00:00","00:00:00",0,0,"00:00:00","00:00:00",0,0]
[null,null,null,null,null,null,null,0,"00:00:00","00:00:00",0,0,"00:00:00","00:00:00",0,0,"00:00:00","00:00:00",0,0,"00:00:00","00:00:00",0,0,"00:00:00","00:00:00",0,0,"00:00:00","00:00:00",0,0,"00:00:00","00:00:00",0,0,"00:00:00","00:00:00",0,0,"00:00:00","00:00:00",0,0,"00:00:00","00:00:00",0,0]
[null,null,null,null,null,null,null,0,"00:00:00","00:00:00",0,0,"00:00:00","00:00:00",0,0,"00:00:00","00:00:00",0,0,"00:00:00","00:00:00",0,0,"00:00:00","00:00:00",0,0,"00:00:00","00:00:00",0,0,"00:00:00","00:00:00",0,0,"00:00:00","00:00:00",0,0,"00:00:00","00:00:00",0,0,"00:00:00","00:00:00",0,0]
[null,null,null,null,null,null,null,0,"00:00:00","00:00:00",0,0,"00:00:00","00:00:00",0,0,"00:00:00","00:00:00",0,0,"00:00:00","00:00:00",0,0,"00:00:00","00:00:00",0,0,"00:00:00","00:00:00",0,0,"00:00:00","00:00:00",0,0,"00:00:00","00:00:00",0,0,"00:00:00","00:00:00",0,0,"00:00:00","00:00:00",0,0]
[null,null,null,null,null,null,null,0,"00:00:00","00:00:00",0,0,"00:00:00","00:00:00",0,0,"00:00:00","00:00:00",0,0,"00:00:00","00:00:00",0,0,"00:00:00","00:00:00",0,0,"00:00:00","00:00:00",0,0,"00:00:00","00:00:00",0,0,"00:00:00","00:00:00",0,0,"00:00:00","00:00:00",0,0,"00:00:00","00:00:00",0,0]
[null,null,null,null,null,null,null,0,"00:00:00","00:00:00",0,0,"00:00:00","00:00:00",0,0,"00:00:00","00:00:00",0,0,"00:00:00","00:00:00",0,0,"00:00:00","00:00:00",0,0,"00:00:00","00:00:00",0,0,"00:00:00","00:00:00",0,0,"00:00:00","00:00:00",0,0,"00:00:00","00:00:00",0,0,"00:00:00","00:00:00",0,0]
[null,null,null,null,null,null,null,0,"00:00:00","00:00:00",0,0,"00:00:00","00:00:00",0,0,"00:00:00","00:00:00",0,0,"00:00:00","00:00:00",0,0,"00:00:00","00:00:00",0,0,"00:00:00","00:00:00",0,0,"00:00:00","00:00:00",0,0,"00:00:00","00:00:00",0,0,"00:00:00","00:00:00",0,0,"00:00:00","00:00:00",0,0]
[null,null,null,null,null,null,null,0,"00:00:00","00:00:00",0,0,"00:00:00","00:00:00",0,0,"00:00:00","00:00:00",0,0,"00:00:00","00:00:00",0,0,"00:00:00","00:00:00",0,0,"00:00:00","00:00:00",0,0,"00:00:00","00:00:00",0,0,"00:00:00","00:00:00",0,0,"00:00:00","00:00:00",0,0,"00:00:00","00:00:00",0,0]
[null,null,null,null,null,null,null,0,"00:00:00","00:00:00",0,0,"00:00:00","00:00:00",0,0,"00:00:00","00:00:00",0,0,"00:00:00","00:00:00",0,0,"00:00:00","00:00:00",0,0,"00:00:00","00:00:00",0,0,"00:00:00","00:00:00",0,0,"00:00:00","00:00:00",0,0,"00:00:00","00:00:00",0,0,"00:00:00","00:00:00",0,0]
[null,null,null,null,null,null,null,0,"00:00:00","00:00:00",0,0,"00:00:00","00:00:00",0,0,"00:00:00","00:00:00",0,0,"00:00:00","00:00:00",0,0,"00:00:00","00:00:00",0,0,"00:00:00","00:00:00",0,0,"00:00:00","00:00:00",0,0,"00:00:00","00:00:00",0,0,"00:00:00","00:00:00",0,0,"00:00:00","00:00:00",0,0]
[null,null,null,null,null,null,null,0,"00:00:00","00:00:00",0,0,"00:00:00","00:00:00",0,0,"00:00:00","00:00:00",0,0,"00:00:00","00:00:00",0,0,"00:00:00","00:00:00",0,0,"00:00:00","00:00:00",0,0,"00:00:00","00:00:00",0,0,"00:00:00","00:00:00",0,0,"00:00:00","00:00:00",0,0,"00:00:00","00:00:00",0,0]
[null,null,null,null,null,null,null,0,"00:00:00","00:00:00",0,0,"00:00:00","00:00:00",0,0,"00:00:00","00:00:00",0,0,"00:00:00","00:00:00",0,0,"00:00:00","00:00:00",0,0,"00:00:00","00:00:00",0,0,"00:00:00","00:00:00",0,0,"00:00:00","00:00:00",0,0,"00:00:00","00:00:00",0,0,"00:00:00","00:00:00",0,0]
[null,null,null,null,null,null,null,0,"00:00:00","00:00:00",0,0,"00:00:00","00:00:00",0,0,"00:00:00","00:00:00",0,0,"00:00:00","00:00:00",0,0,"00:00:00","00:00:00",0,0,"00:00:00","00:00:00",0,0,"00:00:00","00:00:00",0,0,"00:00:00","00:00:00",0,0,"00:00:00","00:00:00",0,0,"00:00:00","00:00:00",0,0]
[null,null,null,null,null,null,null,0,"00:00:00","00:00:00",0,0,"00:00:00","00:00:00",0,0,"00:00:00","00:00:00",0,0,"00:00:00","00:00:00",0,0,"00:00:00","00:00:00",0,0,"00:00:00","00:00:00",0,0,"00:00:00","00:00:00",0,0,"00:00:00","00:00:00",0,0,"00:00:00","00:00:00",0,0,"00:00:00","00:00:00",0,0]
[null,null,null,null,null,null,null,0,"00:00:00","00:00:00",0,0,"00:00:00","00:00:00",0,0,"00:00:00","00:00:00",0,0,"00:00:00","00:00:00",0,0,"00:00:00","00:00:00",0,0,"00:00:00","00:00:00",0,0,"00:00:00","00:00:00",0,0,"00:00:00","00:00:00",0,0,"00:00:00","00:00:00",0,0,"00:00:00","00:00:00",0,0]
[null,null,null,null,null,null,null,0,"00:00:00","00:00:00",0,0,"00:00:00","00:00:00",0,0,"00:00:00","00:00:00",0,0,"00:00:00","00:00:00",0,0,"00:00:00","00:00:00",0,0,"00:00:00","00:00:00",0,0,"00:00:00","00:00:00",0,0,"00:00:00","00:00:00",0,0,"00:00:00","00:00:00",0,0,"00:00:00","00:00:00",0,0]
[null,null,null,null,null,null,null,0,"00:00:00","00:00:00",0,0,"00:00:00","00:00:00",0,0,"00:00:00","00:00:00",0,0,"00:00:00","00:00:00",0,0,"00:00:00","00:00:00",0,0,"00:00:00","00:00:00",0,0,"00:00:00","00:00:00",0,0,"00:00:00","00:00:00",0,0,"00:00:00","00:00:00",0,0,"00:00:00","00:00:00",0,0]
[null,null,null,null,null,null,null,0,"00:00:00","00:00:00",0,0,"00:00:00","00:00:00",0,0,"00:00:00","00:00:00",0,0,"00:00:00","00:00:00",0,0,"00:00:00","00:00:00",0,0,"00:00:00","00:00:00",0,0,"00:00:00","00:00:00",0,0,"00:00:00","00:00:00",0,0,"00:00:00","00:00:00",0,0,"00:00:00","00:00:00",0,0]
[null,null,null,null,null,null,null,0,"00:00:00","00:00:00",0,0,"00:00:00","00:00:00",0,0,"00:00:00","00:00:00",0,0,"00:00:00","00:00:00",0,0,"00:00:00","00:00:00",0,0,"00:00:00","00:00:00",0,0,"00:00:00","00:00:00",0,0,"00:00:00","00:00:00",0,0,"00:00:00","00:00:00",0,0,"00:00:00","00:00:00",0,0]
[null,null,null,null,null,null,null,0,"00:00:00","00:00:00",0,0,"00:00:00","00:00:00",0,0,"00:00:00","00:00:00",0,0,"00:00:00","00:00:00",0,0,"00:00:00","00:00:00",0,0,"00:00:00","00:00:00",0,0,"00:00:00","00:00:00",0,0,"00:00:00","00:00:00",0,0,"00:00:00","00:00:00",0,0,"00:00:00","00:00:00",0,0]
[null,null,null,null,null,null,null,0,"00:00:00","00:00:00",0,0,"00:00:00","00:00:00",0,0,"00:00:00","00:00:00",0,0,"00:00:00","00:00:00",0,0,"00:00:00","00:00:00",0,0,"00:00:00","00:00:00",0,0,"00:00:00","00:00:00",0,0,"00:00:00","00:00:00",0,0,"00:00:00","00:00:00",0,0,"00:00:00","00:00:00",0,0]
[null,null,null,null,null,null,null,0,"00:00:00","00:00:00",0,0,"00:00:00","00:00:00",0,0,"00:00:00","00:00:00",0,0,"00:00:00","00:00:00",0,0,"00:00:00","00:00:00",0,0,"00:00:00","00:00:00",0,0,"00:00:00","00:00:00",0,0,"00:00:00","00:00:00",0,0,"00:00:00","00:00:00",0,0,"00:00:00","00:00:00",0,0]
[null,null,null,null,null,null,null,0,"00:00:00","00:00:00",0,0,"00:00:00","00:00:00",0,0,"00:00:00","00:00:00",0,0,"00:00:00","00:00:00",0,0,"00:00:00","00:00:00",0,0,"00:00:00","00:00:00",0,0,"00:00:00","00:00:00",0,0,"00:00:00","00:00:00",0,0,"00:00:00","00:00:00",0,0,"00:00:00","00:00:00",0,0]
[null,null,null,null,null,null,null,0,"00:00:00","00:00:00",0,0,"00:00:00","00:00:00",0,0,"00:00:00","00:00:00",0,0,"00:00:00","00:00:00",0,0,"00:00:00","00:00:00",0,0,"00:00:00","00:00:00",0,0,"00:00:00","00:00:00",0,0,"00:00:00","00:00:00",0,0,"00:00:00","00:00:00",0,0,"00:00:00","00:00:00",0,0]
[null,null,null,null,null,null,null,0,"00:00:00","00:00:00",0,0,"00:00:00","00:00:00",0,0,"00:00:00","00:00:00",0,0,"00:00:00","00:00:00",0,0,"00:00:00","00:00:00",0,0,"00:00:00","00:00:00",0,0,"00:00:00","00:00:00",0,0,"00:00:00","00:00:00",0,0,"00:00:00","00:00:00",0,0,"00:00:00","00:00:00",0,0]
[null,null,null,null,null,null,null,0,"00:00:00","00:00:00",0,0,"00:00:00","00:00:00",0,0,"00:00:00","00:00:00",0,0,"00:00:00","00:00:00",0,0,"00:00:00","00:00:00",0,0,"00:00:00","00:00:00",0,0,"00:00:00","00:00:00",0,0,"00:00:00","00:00:00",0,0,"00:00:00","00:00:00",0,0,"00:00:00","00:00:00",0,0]
[null,null,null,null,null,null,null,0,"00:00:00","00:00:00",0,0,"00:00:00","00:00:00",0,0,"00:00:00","00:00:00",0,0,"00:00:00","00:00:00",0,0,"00:00:00","00:00:00",0,0,"00:00:00","00:00:00",0,0,"00:00:00","00:00:00",0,0,"00:00:00","00:00:00",0,0,"00:00:00","00:00:00",0,0,"00:00:00","00:00:00",0,0]
[null,null,null,null,null,null,null,0,"00:00:00","00:00:00",0,0,"00:00:00","00:00:00",0,0,"00:00:00","00:00:00",0,0,"00:00:00","00:00:00",0,0,"00:00:00","00:00:00",0,0,"00:00:00","00:00:00",0,0,"00:00:00","00:00:00",0,0,"00:00:00","00:00:00",0,0,"00:00:00","00:00:00",0,0,"00:00:00","00:00:00",0,0]
[null,null,null,null,null,null,null,0,"00:00:00","00:00:00",0,0,"00:00:00","00:00:00",0,0,"00:00:00","00:00:00",0,0,"00:00:00","00:00:00",0,0,"00:00:00","00:00:00",0,0,"00:00:00","00:00:00",0,0,"00:00:00","00:00:00",0,0,"00:00:00","00:00:00",0,0,"00:00:00","00:00:00",0,0,"00:00:00","00:00:00",0,0]
[null,null,null,null,null,null,null,0,"00:00:00","00:00:00",0,0,"00:00:00","00:00:00",0,0,"00:00:00","00:00:00",0,0,"00:00:00","00:00:00",0,0,"00:00:00","00:00:00",0,0,"00:00:00","00:00:00",0,0,"00:00:00","00:00:00",0,0,"00:00:00","00:00:00",0,0,"00:00:00","00:00:00",0,0,"00:00:00","00:00:00",0,0]
[null,null,null,null,null,null,null,0,"00:00:00","00:00:00",0,0,"00:00:00","00:00:00",0,0,"00:00:00","00:00:00",0,0,"00:00:00","00:00:00",0,0,"00:00:00","00:00:00",0,0,"00:00:00","00:00:00",0,0,"00:00:00","00:00:00",0,0,"00:00:00","00:00:00",0,0,"00:00:00","00:00:00",0,0,"00:00:00","00:00:00",0,0]

{"sheet":"hidePS","index":22,"n_rows":1199,"n_cols":48,"rows_kept":1199,"cut":false,"hidden":true,"merged":[[8,32,8,33],[8,36,8,37],[8,40,8,41],[8,44,8,45],[8,8,8,9],[8,12,8,13],[8,16,8,17],[8,20,8,21],[8,24,8,25],[8,28,8,29]]}
[]
[]
[]
[]
[]
[]
[]
[null,null,null,null,null,null,"SUMA sloupce","suma řádky",null,null,null,{"$f":"CONCATENATE(\"SUMA \",I9)","v":"SUMA 2022"},null,null,null,{"$f":"CONCATENATE(\"SUMA \",M9)","v":"SUMA 2023"},null,null,null,{"$f":"CONCATENATE(\"SUMA \",Q9)","v":"SUMA 2024"},null,null,null,{"$f":"CONCATENATE(\"SUMA \",U9)","v":"SUMA 2025"},null,null,null,{"$f":"CONCATENATE(\"SUMA \",Y9)","v":"SUMA 2026"},null,null,null,{"$f":"CONCATENATE(\"SUMA \",AC9)","v":"SUMA 2027"},null,null,null,{"$f":"CONCATENATE(\"SUMA \",AG9)","v":"SUMA 2028"},null,null,null,{"$f":"CONCATENATE(\"SUMA \",AK9)","v":"SUMA 2029"},null,null,null,{"$f":"CONCATENATE(\"SUMA \",AO9)","v":"SUMA 2030"},null,null,null,{"$f":"CONCATENATE(\"SUMA PO \",AS9)","v":"SUMA PO 2030"}]
[null,null,null,null,null,null,{"$f":"SUM(G12:G1199)","v":0},{"$f":"SUM(L9,P9,T9,X9,AB9,AF9,AJ9,AN9,AR9,AV10,AV9)","v":0},{"$f":"'2A'!J4","v":2022},null,null,{"$f":"SUM(L12:L1199)","v":0},{"$f":"I9+1","v":2023},null,null,{"$f":"SUM(P12:P1199)","v":0},{"$f":"M9+1","v":2024},null,null,{"$f":"SUM(T12:T1199)","v":0},{"$f":"Q9+1","v":2025},null,null,{"$f":"SUM(X12:X1199)","v":0},{"$f":"U9+1","v":2026},null,null,{"$f":"SUM(AB12:AB1199)","v":0},{"$f":"Y9+1","v":2027},null,null,{"$f":"SUM(AF12:AF1199)","v":0},{"$f":"AC9+1","v":2028},null,null,{"$f":"SUM(AJ12:AJ1199)","v":0},{"$f":"AG9+1","v":2029},null,null,{"$f":"SUM(AN12:AN1199)","v":0},{"$f":"AK9+1","v":2030},null,null,{"$f":"SUM(AR12:AR1199)","v":0},{"$f":"AO9","v":2030},null,null,{"$f":"SUM(AV12:AV1199)","v":0}]
[null,null,null,null,null,null,null,null,{"$f":"SUMIF(hide!$A$74:$A$112,$I$9,hide!$B$74:$B$112)","v":44562},{"$f":"SUMIF(hide!$A$74:$A$112,$I$9,hide!$C$74:$C$112)","v":44926},null,null,{"$f":"SUMIF(hide!$A$74:$A$112,$M$9,hide!$B$74:$B$112)","v":44927},{"$f":"SUMIF(hide!$A$74:$A$112,$M$9,hide!$C$74:$C$112)","v":45291},null,null,{"$f":"SUMIF(hide!$A$74:$A$112,$Q$9,hide!$B$74:$B$112)","v":45292},{"$f":"SUMIF(hide!$A$74:$A$112,$Q$9,hide!$C$74:$C$112)","v":45657},null,null,{"$f":"SUMIF(hide!$A$74:$A$112,$U$9,hide!$B$74:$B$112)","v":45658},{"$f":"SUMIF(hide!$A$74:$A$112,$U$9,hide!$C$74:$C$112)","v":46022},null,null,{"$f":"SUMIF(hide!$A$74:$A$112,$Y$9,hide!$B$74:$B$112)","v":46023},{"$f":"SUMIF(hide!$A$74:$A$112,$Y$9,hide!$C$74:$C$112)","v":46387},null,null,{"$f":"SUMIF(hide!$A$74:$A$112,$AC$9,hide!$B$74:$B$112)","v":46388},{"$f":"SUMIF(hide!$A$74:$A$112,$AC$9,hide!$C$74:$C$112)","v":46752},null,null,{"$f":"SUMIF(hide!$A$74:$A$112,$AG$9,hide!$B$74:$B$112)","v":46753},{"$f":"SUMIF(hide!$A$74:$A$112,$AG$9,hide!$C$74:$C$112)","v":47118},null,null,{"$f":"SUMIF(hide!$A$74:$A$112,$AK$9,hide!$B$74:$B$112)","v":47119},{"$f":"SUMIF(hide!$A$74:$A$112,$AK$9,hide!$C$74:$C$112)","v":47483},null,null,{"$f":"SUMIF(hide!$A$74:$A$112,$AO$9,hide!$B$74:$B$112)","v":47484},{"$f":"SUMIF(hide!$A$74:$A$112,$AO$9,hide!$C$74:$C$112)","v":47848},null,null,{"$f":"AP10+1","v":47849},55153]
["Monitoring","Číslo SO","Název stavebního objektu","Rozdělení majetku","realizace od","realizace do","náklady SO (B.1.1.1)","počet dní","min","max","dní","poměrná č.","min","max","dní","poměrná č.","min","max","dní","poměrná č.","min","max","dní","poměrná č.","min","max","dní","poměrná č.","min","max","dní","poměrná č.","min","max","dní","poměrná č.","min","max","dní","poměrná č.","min","max","dní","poměrná č.","min","max","dní","poměrná č."]
[null,null,null,null,null,null,null,{"$f":"IF(F12-E12=0,0,F12-E12+1)","v":0},{"$f":"IF(OR($F12<I$10,$E12>J$10),0,IF(AND($E12>=I$10,$F12<=J$10),$E12,IF(AND($E12<=I$10,$F12<=J$10),I$10,IF(AND($E12<=J$10,$F12>=J$10,$E12>=I$10),$E12,IF(AND($E12<=I$10,$F12>=J$10),I$10,\"chyba\")))))","v":"00:00:00"},{"$f":"IF(OR($F12<I$10,$E12>J$10),0,IF(AND($E12>=I$10,$F12<=J$10),$F12,IF(AND($E12<=I$10,$F12<=J$10),$F12,IF(AND($E12<=J$10,$F12>=J$10),J$10,IF(AND($E12<=I$10,$F12>=J$10),J$10,\"chyba\")))))","v":"00:00:00"},{"$f":"IF(J12-I12=0,0,J12-I12+1)","v":0},{"$f":"IF($H12<=0,0,$G12/$H12*K12)","v":0},{"$f":"IF(OR($F12<M$10,$E12>N$10),0,IF(AND($E12>=M$10,$F12<=N$10),$E12,IF(AND($E12<=M$10,$F12<=N$10),M$10,IF(AND($E12<=N$10,$F12>=N$10,$E12>=M$10),$E12,IF(AND($E12<=M$10,$F12>=N$10),M$10,\"chyba\")))))","v":"00:00:00"},{"$f":"IF(OR($F12<M$10,$E12>N$10),0,IF(AND($E12>=M$10,$F12<=N$10),$F12,IF(AND($E12<=M$10,$F12<=N$10),$F12,IF(AND($E12<=N$10,$F12>=N$10),N$10,IF(AND($E12<=M$10,$F12>=N$10),N$10,\"chyba\")))))","v":"00:00:00"},{"$f":"IF(N12-M12=0,0,N12-M12+1)","v":0},{"$f":"IF($H12<=0,0,$G12/$H12*O12)","v":0},{"$f":"IF(OR($F12<Q$10,$E12>R$10),0,IF(AND($E12>=Q$10,$F12<=R$10),$E12,IF(AND($E12<=Q$10,$F12<=R$10),Q$10,IF(AND($E12<=R$10,$F12>=R$10,$E12>=Q$10),$E12,IF(AND($E12<=Q$10,$F12>=R$10),Q$10,\"chyba\")))))","v":"00:00:00"},{"$f":"IF(OR($F12<Q$10,$E12>R$10),0,IF(AND($E12>=Q$10,$F12<=R$10),$F12,IF(AND($E12<=Q$10,$F12<=R$10),$F12,IF(AND($E12<=R$10,$F12>=R$10),R$10,IF(AND($E12<=Q$10,$F12>=R$10),R$10,\"chyba\")))))","v":"00:00:00"},{"$f":"IF(R12-Q12=0,0,R12-Q12+1)","v":0},{"$f":"IF($H12<=0,0,$G12/$H12*S12)","v":0},{"$f":"IF(OR($F12<U$10,$E12>V$10),0,IF(AND($E12>=U$10,$F12<=V$10),$E12,IF(AND($E12<=U$10,$F12<=V$10),U$10,IF(AND($E12<=V$10,$F12>=V$10,$E12>=U$10),$E12,IF(AND($E12<=U$10,$F12>=V$10),U$10,\"chyba\")))))","v":"00:00:00"},{"$f":"IF(OR($F12<U$10,$E12>V$10),0,IF(AND($E12>=U$10,$F12<=V$10),$F12,IF(AND($E12<=U$10,$F12<=V$10),$F12,IF(AND($E12<=V$10,$F12>=V$10),V$10,IF(AND($E12<=U$10,$F12>=V$10),V$10,\"chyba\")))))","v":"00:00:00"},{"$f":"IF(V12-U12=0,0,V12-U12+1)","v":0},{"$f":"IF($H12<=0,0,$G12/$H12*W12)","v":0},{"$f":"IF(OR($F12<Y$10,$E12>Z$10),0,IF(AND($E12>=Y$10,$F12<=Z$10),$E12,IF(AND($E12<=Y$10,$F12<=Z$10),Y$10,IF(AND($E12<=Z$10,$F12>=Z$10,$E12>=Y$10),$E12,IF(AND($E12<=Y$10,$F12>=Z$10),Y$10,\"chyba\")))))","v":"00:00:00"},{"$f":"IF(OR($F12<Y$10,$E12>Z$10),0,IF(AND($E12>=Y$10,$F12<=Z$10),$F12,IF(AND($E12<=Y$10,$F12<=Z$10),$F12,IF(AND($E12<=Z$10,$F12>=Z$10),Z$10,IF(AND($E12<=Y$10,$F12>=Z$10),Z$10,\"chyba\")))))","v":"00:00:00"},{"$f":"IF(Z12-Y12=0,0,Z12-Y12+1)","v":0},{"$f":"IF($H12<=0,0,$G12/$H12*AA12)","v":0},{"$f":"IF(OR($F12<AC$10,$E12>AD$10),0,IF(AND($E12>=AC$10,$F12<=AD$10),$E12,IF(AND($E12<=AC$10,$F12<=AD$10),AC$10,IF(AND($E12<=AD$10,$F12>=AD$10,$E12>=AC$10),$E12,IF(AND($E12<=AC$10,$F12>=AD$10),AC$10,\"chyba\")))))","v":"00:00:00"},{"$f":"IF(OR($F12<AC$10,$E12>AD$10),0,IF(AND($E12>=AC$10,$F12<=AD$10),$F12,IF(AND($E12<=AC$10,$F12<=AD$10),$F12,IF(AND($E12<=AD$10,$F12>=AD$10),AD$10,IF(AND($E12<=AC$10,$F12>=AD$10),AD$10,\"chyba\")))))","v":"00:00:00"},{"$f":"IF(AD12-AC12=0,0,AD12-AC12+1)","v":0},{"$f":"IF($H12<=0,0,$G12/$H12*AE12)","v":0},{"$f":"IF(OR($F12<AG$10,$E12>AH$10),0,IF(AND($E12>=AG$10,$F12<=AH$10),$E12,IF(AND($E12<=AG$10,$F12<=AH$10),AG$10,IF(AND($E12<=AH$10,$F12>=AH$10,$E12>=AG$10),$E12,IF(AND($E12<=AG$10,$F12>=AH$10),AG$10,\"chyba\")))))","v":"00:00:00"},{"$f":"IF(OR($F12<AG$10,$E12>AH$10),0,IF(AND($E12>=AG$10,$F12<=AH$10),$F12,IF(AND($E12<=AG$10,$F12<=AH$10),$F12,IF(AND($E12<=AH$10,$F12>=AH$10),AH$10,IF(AND($E12<=AG$10,$F12>=AH$10),AH$10,\"chyba\")))))","v":"00:00:00"},{"$f":"IF(AH12-AG12=0,0,AH12-AG12+1)","v":0},{"$f":"IF($H12<=0,0,$G12/$H12*AI12)","v":0},{"$f":"IF(OR($F12<AK$10,$E12>AL$10),0,IF(AND($E12>=AK$10,$F12<=AL$10),$E12,IF(AND($E12<=AK$10,$F12<=AL$10),AK$10,IF(AND($E12<=AL$10,$F12>=AL$10,$E12>=AK$10),$E12,IF(AND($E12<=AK$10,$F12>=AL$10),AK$10,\"chyba\")))))","v":"00:00:00"},{"$f":"IF(OR($F12<AK$10,$E12>AL$10),0,IF(AND($E12>=AK$10,$F12<=AL$10),$F12,IF(AND($E12<=AK$10,$F12<=AL$10),$F12,IF(AND($E12<=AL$10,$F12>=AL$10),AL$10,IF(AND($E12<=AK$10,$F12>=AL$10),AL$10,\"chyba\")))))","v":"00:00:00"},{"$f":"IF(AL12-AK12=0,0,AL12-AK12+1)","v":0},{"$f":"IF($H12<=0,0,$G12/$H12*AM12)","v":0},{"$f":"IF(OR($F12<AO$10,$E12>AP$10),0,IF(AND($E12>=AO$10,$F12<=AP$10),$E12,IF(AND($E12<=AO$10,$F12<=AP$10),AO$10,IF(AND($E12<=AP$10,$F12>=AP$10,$E12>=AO$10),$E12,IF(AND($E12<=AO$10,$F12>=AP$10),AO$10,\"chyba\")))))","v":"00:00:00"},{"$f":"IF(OR($F12<AO$10,$E12>AP$10),0,IF(AND($E12>=AO$10,$F12<=AP$10),$F12,IF(AND($E12<=AO$10,$F12<=AP$10),$F12,IF(AND($E12<=AP$10,$F12>=AP$10),AP$10,IF(AND($E12<=AO$10,$F12>=AP$10),AP$10,\"chyba\")))))","v":"00:00:00"},{"$f":"IF(AP12-AO12=0,0,AP12-AO12+1)","v":0},{"$f":"IF($H12<=0,0,$G12/$H12*AQ12)","v":0},{"$f":"IF(OR($F12<AS$10,$E12>AT$10),0,IF(AND($E12>=AS$10,$F12<=AT$10),$E12,IF(AND($E12<=AS$10,$F12<=AT$10),AS$10,IF(AND($E12<=AT$10,$F12>=AT$10,$E12>=AS$10),$E12,IF(AND($E12<=AS$10,$F12>=AT$10),AS$10,\"chyba\")))))","v":"00:00:00"},{"$f":"IF(OR($F12<AS$10,$E12>AT$10),0,IF(AND($E12>=AS$10,$F12<=AT$10),$F12,IF(AND($E12<=AS$10,$F12<=AT$10),$F12,IF(AND($E12<=AT$10,$F12>=AT$10),AT$10,IF(AND($E12<=AS$10,$F12>=AT$10),AT$10,\"chyba\")))))","v":"00:00:00"},{"$f":"IF(AT12-AS12=0,0,AT12-AS12+1)","v":0},{"$f":"IF($H12<=0,0,$G12/$H12*AU12)","v":0}]
[null,null,null,null,null,null,null,{"$f":"IF(F13-E13=0,0,F13-E13+1)","v":0},{"$f":"IF(OR($F13<I$10,$E13>J$10),0,IF(AND($E13>=I$10,$F13<=J$10),$E13,IF(AND($E13<=I$10,$F13<=J$10),I$10,IF(AND($E13<=J$10,$F13>=J$10,$E13>=I$10),$E13,IF(AND($E13<=I$10,$F13>=J$10),I$10,\"chyba\")))))","v":"00:00:00"},{"$f":"IF(OR($F13<I$10,$E13>J$10),0,IF(AND($E13>=I$10,$F13<=J$10),$F13,IF(AND($E13<=I$10,$F13<=J$10),$F13,IF(AND($E13<=J$10,$F13>=J$10),J$10,IF(AND($E13<=I$10,$F13>=J$10),J$10,\"chyba\")))))","v":"00:00:00"},{"$f":"IF(J13-I13=0,0,J13-I13+1)","v":0},{"$f":"IF($H13<=0,0,$G13/$H13*K13)","v":0},{"$f":"IF(OR($F13<M$10,$E13>N$10),0,IF(AND($E13>=M$10,$F13<=N$10),$E13,IF(AND($E13<=M$10,$F13<=N$10),M$10,IF(AND($E13<=N$10,$F13>=N$10,$E13>=M$10),$E13,IF(AND($E13<=M$10,$F13>=N$10),M$10,\"chyba\")))))","v":"00:00:00"},{"$f":"IF(OR($F13<M$10,$E13>N$10),0,IF(AND($E13>=M$10,$F13<=N$10),$F13,IF(AND($E13<=M$10,$F13<=N$10),$F13,IF(AND($E13<=N$10,$F13>=N$10),N$10,IF(AND($E13<=M$10,$F13>=N$10),N$10,\"chyba\")))))","v":"00:00:00"},{"$f":"IF(N13-M13=0,0,N13-M13+1)","v":0},{"$f":"IF($H13<=0,0,$G13/$H13*O13)","v":0},{"$f":"IF(OR($F13<Q$10,$E13>R$10),0,IF(AND($E13>=Q$10,$F13<=R$10),$E13,IF(AND($E13<=Q$10,$F13<=R$10),Q$10,IF(AND($E13<=R$10,$F13>=R$10,$E13>=Q$10),$E13,IF(AND($E13<=Q$10,$F13>=R$10),Q$10,\"chyba\")))))","v":"00:00:00"},{"$f":"IF(OR($F13<Q$10,$E13>R$10),0,IF(AND($E13>=Q$10,$F13<=R$10),$F13,IF(AND($E13<=Q$10,$F13<=R$10),$F13,IF(AND($E13<=R$10,$F13>=R$10),R$10,IF(AND($E13<=Q$10,$F13>=R$10),R$10,\"chyba\")))))","v":"00:00:00"},{"$f":"IF(R13-Q13=0,0,R13-Q13+1)","v":0},{"$f":"IF($H13<=0,0,$G13/$H13*S13)","v":0},{"$f":"IF(OR($F13<U$10,$E13>V$10),0,IF(AND($E13>=U$10,$F13<=V$10),$E13,IF(AND($E13<=U$10,$F13<=V$10),U$10,IF(AND($E13<=V$10,$F13>=V$10,$E13>=U$10),$E13,IF(AND($E13<=U$10,$F13>=V$10),U$10,\"chyba\")))))","v":"00:00:00"},{"$f":"IF(OR($F13<U$10,$E13>V$10),0,IF(AND($E13>=U$10,$F13<=V$10),$F13,IF(AND($E13<=U$10,$F13<=V$10),$F13,IF(AND($E13<=V$10,$F13>=V$10),V$10,IF(AND($E13<=U$10,$F13>=V$10),V$10,\"chyba\")))))","v":"00:00:00"},{"$f":"IF(V13-U13=0,0,V13-U13+1)","v":0},{"$f":"IF($H13<=0,0,$G13/$H13*W13)","v":0},{"$f":"IF(OR($F13<Y$10,$E13>Z$10),0,IF(AND($E13>=Y$10,$F13<=Z$10),$E13,IF(AND($E13<=Y$10,$F13<=Z$10),Y$10,IF(AND($E13<=Z$10,$F13>=Z$10,$E13>=Y$10),$E13,IF(AND($E13<=Y$10,$F13>=Z$10),Y$10,\"chyba\")))))","v":"00:00:00"},{"$f":"IF(OR($F13<Y$10,$E13>Z$10),0,IF(AND($E13>=Y$10,$F13<=Z$10),$F13,IF(AND($E13<=Y$10,$F13<=Z$10),$F13,IF(AND($E13<=Z$10,$F13>=Z$10),Z$10,IF(AND($E13<=Y$10,$F13>=Z$10),Z$10,\"chyba\")))))","v":"00:00:00"},{"$f":"IF(Z13-Y13=0,0,Z13-Y13+1)","v":0},{"$f":"IF($H13<=0,0,$G13/$H13*AA13)","v":0},{"$f":"IF(OR($F13<AC$10,$E13>AD$10),0,IF(AND($E13>=AC$10,$F13<=AD$10),$E13,IF(AND($E13<=AC$10,$F13<=AD$10),AC$10,IF(AND($E13<=AD$10,$F13>=AD$10,$E13>=AC$10),$E13,IF(AND($E13<=AC$10,$F13>=AD$10),AC$10,\"chyba\")))))","v":"00:00:00"},{"$f":"IF(OR($F13<AC$10,$E13>AD$10),0,IF(AND($E13>=AC$10,$F13<=AD$10),$F13,IF(AND($E13<=AC$10,$F13<=AD$10),$F13,IF(AND($E13<=AD$10,$F13>=AD$10),AD$10,IF(AND($E13<=AC$10,$F13>=AD$10),AD$10,\"chyba\")))))","v":"00:00:00"},{"$f":"IF(AD13-AC13=0,0,AD13-AC13+1)","v":0},{"$f":"IF($H13<=0,0,$G13/$H13*AE13)","v":0},{"$f":"IF(OR($F13<AG$10,$E13>AH$10),0,IF(AND($E13>=AG$10,$F13<=AH$10),$E13,IF(AND($E13<=AG$10,$F13<=AH$10),AG$10,IF(AND($E13<=AH$10,$F13>=AH$10,$E13>=AG$10),$E13,IF(AND($E13<=AG$10,$F13>=AH$10),AG$10,\"chyba\")))))","v":"00:00:00"},{"$f":"IF(OR($F13<AG$10,$E13>AH$10),0,IF(AND($E13>=AG$10,$F13<=AH$10),$F13,IF(AND($E13<=AG$10,$F13<=AH$10),$F13,IF(AND($E13<=AH$10,$F13>=AH$10),AH$10,IF(AND($E13<=AG$10,$F13>=AH$10),AH$10,\"chyba\")))))","v":"00:00:00"},{"$f":"IF(AH13-AG13=0,0,AH13-AG13+1)","v":0},{"$f":"IF($H13<=0,0,$G13/$H13*AI13)","v":0},{"$f":"IF(OR($F13<AK$10,$E13>AL$10),0,IF(AND($E13>=AK$10,$F13<=AL$10),$E13,IF(AND($E13<=AK$10,$F13<=AL$10),AK$10,IF(AND($E13<=AL$10,$F13>=AL$10,$E13>=AK$10),$E13,IF(AND($E13<=AK$10,$F13>=AL$10),AK$10,\"chyba\")))))","v":"00:00:00"},{"$f":"IF(OR($F13<AK$10,$E13>AL$10),0,IF(AND($E13>=AK$10,$F13<=AL$10),$F13,IF(AND($E13<=AK$10,$F13<=AL$10),$F13,IF(AND($E13<=AL$10,$F13>=AL$10),AL$10,IF(AND($E13<=AK$10,$F13>=AL$10),AL$10,\"chyba\")))))","v":"00:00:00"},{"$f":"IF(AL13-AK13=0,0,AL13-AK13+1)","v":0},{"$f":"IF($H13<=0,0,$G13/$H13*AM13)","v":0},{"$f":"IF(OR($F13<AO$10,$E13>AP$10),0,IF(AND($E13>=AO$10,$F13<=AP$10),$E13,IF(AND($E13<=AO$10,$F13<=AP$10),AO$10,IF(AND($E13<=AP$10,$F13>=AP$10,$E13>=AO$10),$E13,IF(AND($E13<=AO$10,$F13>=AP$10),AO$10,\"chyba\")))))","v":"00:00:00"},{"$f":"IF(OR($F13<AO$10,$E13>AP$10),0,IF(AND($E13>=AO$10,$F13<=AP$10),$F13,IF(AND($E13<=AO$10,$F13<=AP$10),$F13,IF(AND($E13<=AP$10,$F13>=AP$10),AP$10,IF(AND($E13<=AO$10,$F13>=AP$10),AP$10,\"chyba\")))))","v":"00:00:00"},{"$f":"IF(AP13-AO13=0,0,AP13-AO13+1)","v":0},{"$f":"IF($H13<=0,0,$G13/$H13*AQ13)","v":0},{"$f":"IF(OR($F13<AS$10,$E13>AT$10),0,IF(AND($E13>=AS$10,$F13<=AT$10),$E13,IF(AND($E13<=AS$10,$F13<=AT$10),AS$10,IF(AND($E13<=AT$10,$F13>=AT$10,$E13>=AS$10),$E13,IF(AND($E13<=AS$10,$F13>=AT$10),AS$10,\"chyba\")))))","v":"00:00:00"},{"$f":"IF(OR($F13<AS$10,$E13>AT$10),0,IF(AND($E13>=AS$10,$F13<=AT$10),$F13,IF(AND($E13<=AS$10,$F13<=AT$10),$F13,IF(AND($E13<=AT$10,$F13>=AT$10),AT$10,IF(AND($E13<=AS$10,$F13>=AT$10),AT$10,\"chyba\")))))","v":"00:00:00"},{"$f":"IF(AT13-AS13=0,0,AT13-AS13+1)","v":0},{"$f":"IF($H13<=0,0,$G13/$H13*AU13)","v":0}]
[null,null,null,null,null,null,null,0,"00:00:00","00:00:00",0,0,"00:00:00","00:00:00",0,0,"00:00:00","00:00:00",0,0,"00:00:00","00:00:00",0,0,"00:00:00","00:00:00",0,0,"00:00:00","00:00:00",0,0,"00:00:00","00:00:00",0,0,"00:00:00","00:00:00",0,0,"00:00:00","00:00:00",0,0,"00:00:00","00:00:00",0,0]
[null,null,null,null,null,null,null,0,"00:00:00","00:00:00",0,0,"00:00:00","00:00:00",0,0,"00:00:00","00:00:00",0,0,"00:00:00","00:00:00",0,0,"00:00:00","00:00:00",0,0,"00:00:00","00:00:00",0,0,"00:00:00","00:00:00",0,0,"00:00:00","00:00:00",0,0,"00:00:00","00:00:00",0,0,"00:00:00","00:00:00",0,0]
[null,null,null,null,null,null,null,0,"00:00:00","00:00:00",0,0,"00:00:00","00:00:00",0,0,"00:00:00","00:00:00",0,0,"00:00:00","00:00:00",0,0,"00:00:00","00:00:00",0,0,"00:00:00","00:00:00",0,0,"00:00:00","00:00:00",0,0,"00:00:00","00:00:00",0,0,"00:00:00","00:00:00",0,0,"00:00:00","00:00:00",0,0]
[null,null,null,null,null,null,null,0,"00:00:00","00:00:00",0,0,"00:00:00","00:00:00",0,0,"00:00:00","00:00:00",0,0,"00:00:00","00:00:00",0,0,"00:00:00","00:00:00",0,0,"00:00:00","00:00:00",0,0,"00:00:00","00:00:00",0,0,"00:00:00","00:00:00",0,0,"00:00:00","00:00:00",0,0,"00:00:00","00:00:00",0,0]
[null,null,null,null,null,null,null,0,"00:00:00","00:00:00",0,0,"00:00:00","00:00:00",0,0,"00:00:00","00:00:00",0,0,"00:00:00","00:00:00",0,0,"00:00:00","00:00:00",0,0,"00:00:00","00:00:00",0,0,"00:00:00","00:00:00",0,0,"00:00:00","00:00:00",0,0,"00:00:00","00:00:00",0,0,"00:00:00","00:00:00",0,0]
[null,null,null,null,null,null,null,0,"00:00:00","00:00:00",0,0,"00:00:00","00:00:00",0,0,"00:00:00","00:00:00",0,0,"00:00:00","00:00:00",0,0,"00:00:00","00:00:00",0,0,"00:00:00","00:00:00",0,0,"00:00:00","00:00:00",0,0,"00:00:00","00:00:00",0,0,"00:00:00","00:00:00",0,0,"00:00:00","00:00:00",0,0]
[null,null,null,null,null,null,null,0,"00:00:00","00:00:00",0,0,"00:00:00","00:00:00",0,0,"00:00:00","00:00:00",0,0,"00:00:00","00:00:00",0,0,"00:00:00","00:00:00",0,0,"00:00:00","00:00:00",0,0,"00:00:00","00:00:00",0,0,"00:00:00","00:00:00",0,0,"00:00:00","00:00:00",0,0,"00:00:00","00:00:00",0,0]
[null,null,null,null,null,null,null,0,"00:00:00","00:00:00",0,0,"00:00:00","00:00:00",0,0,"00:00:00","00:00:00",0,0,"00:00:00","00:00:00",0,0,"00:00:00","00:00:00",0,0,"00:00:00","00:00:00",0,0,"00:00:00","00:00:00",0,0,"00:00:00","00:00:00",0,0,"00:00:00","00:00:00",0,0,"00:00:00","00:00:00",0,0]
[null,null,null,null,null,null,null,0,"00:00:00","00:00:00",0,0,"00:00:00","00:00:00",0,0,"00:00:00","00:00:00",0,0,"00:00:00","00:00:00",0,0,"00:00:00","00:00:00",0,0,"00:00:00","00:00:00",0,0,"00:00:00","00:00:00",0,0,"00:00:00","00:00:00",0,0,"00:00:00","00:00:00",0,0,"00:00:00","00:00:00",0,0]
[null,null,null,null,null,null,null,0,"00:00:00","00:00:00",0,0,"00:00:00","00:00:00",0,0,"00:00:00","00:00:00",0,0,"00:00:00","00:00:00",0,0,"00:00:00","00:00:00",0,0,"00:00:00","00:00:00",0,0,"00:00:00","00:00:00",0,0,"00:00:00","00:00:00",0,0,"00:00:00","00:00:00",0,0,"00:00:00","00:00:00",0,0]
[null,null,null,null,null,null,null,0,"00:00:00","00:00:00",0,0,"00:00:00","00:00:00",0,0,"00:00:00","00:00:00",0,0,"00:00:00","00:00:00",0,0,"00:00:00","00:00:00",0,0,"00:00:00","00:00:00",0,0,"00:00:00","00:00:00",0,0,"00:00:00","00:00:00",0,0,"00:00:00","00:00:00",0,0,"00:00:00","00:00:00",0,0]
[null,null,null,null,null,null,null,0,"00:00:00","00:00:00",0,0,"00:00:00","00:00:00",0,0,"00:00:00","00:00:00",0,0,"00:00:00","00:00:00",0,0,"00:00:00","00:00:00",0,0,"00:00:00","00:00:00",0,0,"00:00:00","00:00:00",0,0,"00:00:00","00:00:00",0,0,"00:00:00","00:00:00",0,0,"00:00:00","00:00:00",0,0]
[null,null,null,null,null,null,null,0,"00:00:00","00:00:00",0,0,"00:00:00","00:00:00",0,0,"00:00:00","00:00:00",0,0,"00:00:00","00:00:00",0,0,"00:00:00","00:00:00",0,0,"00:00:00","00:00:00",0,0,"00:00:00","00:00:00",0,0,"00:00:00","00:00:00",0,0,"00:00:00","00:00:00",0,0,"00:00:00","00:00:00",0,0]
[null,null,null,null,null,null,null,0,"00:00:00","00:00:00",0,0,"00:00:00","00:00:00",0,0,"00:00:00","00:00:00",0,0,"00:00:00","00:00:00",0,0,"00:00:00","00:00:00",0,0,"00:00:00","00:00:00",0,0,"00:00:00","00:00:00",0,0,"00:00:00","00:00:00",0,0,"00:00:00","00:00:00",0,0,"00:00:00","00:00:00",0,0]
[null,null,null,null,null,null,null,0,"00:00:00","00:00:00",0,0,"00:00:00","00:00:00",0,0,"00:00:00","00:00:00",0,0,"00:00:00","00:00:00",0,0,"00:00:00","00:00:00",0,0,"00:00:00","00:00:00",0,0,"00:00:00","00:00:00",0,0,"00:00:00","00:00:00",0,0,"00:00:00","00:00:00",0,0,"00:00:00","00:00:00",0,0]
[null,null,null,null,null,null,null,0,"00:00:00","00:00:00",0,0,"00:00:00","00:00:00",0,0,"00:00:00","00:00:00",0,0,"00:00:00","00:00:00",0,0,"00:00:00","00:00:00",0,0,"00:00:00","00:00:00",0,0,"00:00:00","00:00:00",0,0,"00:00:00","00:00:00",0,0,"00:00:00","00:00:00",0,0,"00:00:00","00:00:00",0,0]
[null,null,null,null,null,null,null,0,"00:00:00","00:00:00",0,0,"00:00:00","00:00:00",0,0,"00:00:00","00:00:00",0,0,"00:00:00","00:00:00",0,0,"00:00:00","00:00:00",0,0,"00:00:00","00:00:00",0,0,"00:00:00","00:00:00",0,0,"00:00:00","00:00:00",0,0,"00:00:00","00:00:00",0,0,"00:00:00","00:00:00",0,0]
[null,null,null,null,null,null,null,0,"00:00:00","00:00:00",0,0,"00:00:00","00:00:00",0,0,"00:00:00","00:00:00",0,0,"00:00:00","00:00:00",0,0,"00:00:00","00:00:00",0,0,"00:00:00","00:00:00",0,0,"00:00:00","00:00:00",0,0,"00:00:00","00:00:00",0,0,"00:00:00","00:00:00",0,0,"00:00:00","00:00:00",0,0]
[null,null,null,null,null,null,null,0,"00:00:00","00:00:00",0,0,"00:00:00","00:00:00",0,0,"00:00:00","00:00:00",0,0,"00:00:00","00:00:00",0,0,"00:00:00","00:00:00",0,0,"00:00:00","00:00:00",0,0,"00:00:00","00:00:00",0,0,"00:00:00","00:00:00",0,0,"00:00:00","00:00:00",0,0,"00:00:00","00:00:00",0,0]
[null,null,null,null,null,null,null,0,"00:00:00","00:00:00",0,0,"00:00:00","00:00:00",0,0,"00:00:00","00:00:00",0,0,"00:00:00","00:00:00",0,0,"00:00:00","00:00:00",0,0,"00:00:00","00:00:00",0,0,"00:00:00","00:00:00",0,0,"00:00:00","00:00:00",0,0,"00:00:00","00:00:00",0,0,"00:00:00","00:00:00",0,0]
[null,null,null,null,null,null,null,0,"00:00:00","00:00:00",0,0,"00:00:00","00:00:00",0,0,"00:00:00","00:00:00",0,0,"00:00:00","00:00:00",0,0,"00:00:00","00:00:00",0,0,"00:00:00","00:00:00",0,0,"00:00:00","00:00:00",0,0,"00:00:00","00:00:00",0,0,"00:00:00","00:00:00",0,0,"00:00:00","00:00:00",0,0]
[null,null,null,null,null,null,null,0,"00:00:00","00:00:00",0,0,"00:00:00","00:00:00",0,0,"00:00:00","00:00:00",0,0,"00:00:00","00:00:00",0,0,"00:00:00","00:00:00",0,0,"00:00:00","00:00:00",0,0,"00:00:00","00:00:00",0,0,"00:00:00","00:00:00",0,0,"00:00:00","00:00:00",0,0,"00:00:00","00:00:00",0,0]
[null,null,null,null,null,null,null,0,"00:00:00","00:00:00",0,0,"00:00:00","00:00:00",0,0,"00:00:00","00:00:00",0,0,"00:00:00","00:00:00",0,0,"00:00:00","00:00:00",0,0,"00:00:00","00:00:00",0,0,"00:00:00","00:00:00",0,0,"00:00:00","00:00:00",0,0,"00:00:00","00:00:00",0,0,"00:00:00","00:00:00",0,0]
[null,null,null,null,null,null,null,0,"00:00:00","00:00:00",0,0,"00:00:00","00:00:00",0,0,"00:00:00","00:00:00",0,0,"00:00:00","00:00:00",0,0,"00:00:00","00:00:00",0,0,"00:00:00","00:00:00",0,0,"00:00:00","00:00:00",0,0,"00:00:00","00:00:00",0,0,"00:00:00","00:00:00",0,0,"00:00:00","00:00:00",0,0]
[null,null,null,null,null,null,null,0,"00:00:00","00:00:00",0,0,"00:00:00","00:00:00",0,0,"00:00:00","00:00:00",0,0,"00:00:00","00:00:00",0,0,"00:00:00","00:00:00",0,0,"00:00:00","00:00:00",0,0,"00:00:00","00:00:00",0,0,"00:00:00","00:00:00",0,0,"00:00:00","00:00:00",0,0,"00:00:00","00:00:00",0,0]
[null,null,null,null,null,null,null,0,"00:00:00","00:00:00",0,0,"00:00:00","00:00:00",0,0,"00:00:00","00:00:00",0,0,"00:00:00","00:00:00",0,0,"00:00:00","00:00:00",0,0,"00:00:00","00:00:00",0,0,"00:00:00","00:00:00",0,0,"00:00:00","00:00:00",0,0,"00:00:00","00:00:00",0,0,"00:00:00","00:00:00",0,0]
[null,null,null,null,null,null,null,0,"00:00:00","00:00:00",0,0,"00:00:00","00:00:00",0,0,"00:00:00","00:00:00",0,0,"00:00:00","00:00:00",0,0,"00:00:00","00:00:00",0,0,"00:00:00","00:00:00",0,0,"00:00:00","00:00:00",0,0,"00:00:00","00:00:00",0,0,"00:00:00","00:00:00",0,0,"00:00:00","00:00:00",0,0]
[null,null,null,null,null,null,null,0,"00:00:00","00:00:00",0,0,"00:00:00","00:00:00",0,0,"00:00:00","00:00:00",0,0,"00:00:00","00:00:00",0,0,"00:00:00","00:00:00",0,0,"00:00:00","00:00:00",0,0,"00:00:00","00:00:00",0,0,"00:00:00","00:00:00",0,0,"00:00:00","00:00:00",0,0,"00:00:00","00:00:00",0,0]
[null,null,null,null,null,null,null,0,"00:00:00","00:00:00",0,0,"00:00:00","00:00:00",0,0,"00:00:00","00:00:00",0,0,"00:00:00","00:00:00",0,0,"00:00:00","00:00:00",0,0,"00:00:00","00:00:00",0,0,"00:00:00","00:00:00",0,0,"00:00:00","00:00:00",0,0,"00:00:00","00:00:00",0,0,"00:00:00","00:00:00",0,0]
[null,null,null,null,null,null,null,0,"00:00:00","00:00:00",0,0,"00:00:00","00:00:00",0,0,"00:00:00","00:00:00",0,0,"00:00:00","00:00:00",0,0,"00:00:00","00:00:00",0,0,"00:00:00","00:00:00",0,0,"00:00:00","00:00:00",0,0,"00:00:00","00:00:00",0,0,"00:00:00","00:00:00",0,0,"00:00:00","00:00:00",0,0]
[null,null,null,null,null,null,null,0,"00:00:00","00:00:00",0,0,"00:00:00","00:00:00",0,0,"00:00:00","00:00:00",0,0,"00:00:00","00:00:00",0,0,"00:00:00","00:00:00",0,0,"00:00:00","00:00:00",0,0,"00:00:00","00:00:00",0,0,"00:00:00","00:00:00",0,0,"00:00:00","00:00:00",0,0,"00:00:00","00:00:00",0,0]
[null,null,null,null,null,null,null,0,"00:00:00","00:00:00",0,0,"00:00:00","00:00:00",0,0,"00:00:00","00:00:00",0,0,"00:00:00","00:00:00",0,0,"00:00:00","00:00:00",0,0,"00:00:00","00:00:00",0,0,"00:00:00","00:00:00",0,0,"00:00:00","00:00:00",0,0,"00:00:00","00:00:00",0,0,"00:00:00","00:00:00",0,0]
[null,null,null,null,null,null,null,0,"00:00:00","00:00:00",0,0,"00:00:00","00:00:00",0,0,"00:00:00","00:00:00",0,0,"00:00:00","00:00:00",0,0,"00:00:00","00:00:00",0,0,"00:00:00","00:00:00",0,0,"00:00:00","00:00:00",0,0,"00:00:00","00:00:00",0,0,"00:00:00","00:00:00",0,0,"00:00:00","00:00:00",0,0]
[null,null,null,null,null,null,null,0,"00:00:00","00:00:00",0,0,"00:00:00","00:00:00",0,0,"00:00:00","00:00:00",0,0,"00:00:00","00:00:00",0,0,"00:00:00","00:00:00",0,0,"00:00:00","00:00:00",0,0,"00:00:00","00:00:00",0,0,"00:00:00","00:00:00",0,0,"00:00:00","00:00:00",0,0,"00:00:00","00:00:00",0,0]
[null,null,null,null,null,null,null,0,"00:00:00","00:00:00",0,0,"00:00:00","00:00:00",0,0,"00:00:00","00:00:00",0,0,"00:00:00","00:00:00",0,0,"00:00:00","00:00:00",0,0,"00:00:00","00:00:00",0,0,"00:00:00","00:00:00",0,0,"00:00:00","00:00:00",0,0,"00:00:00","00:00:00",0,0,"00:00:00","00:00:00",0,0]
[null,null,null,null,null,null,null,0,"00:00:00","00:00:00",0,0,"00:00:00","00:00:00",0,0,"00:00:00","00:00:00",0,0,"00:00:00","00:00:00",0,0,"00:00:00","00:00:00",0,0,"00:00:00","00:00:00",0,0,"00:00:00","00:00:00",0,0,"00:00:00","00:00:00",0,0,"00:00:00","00:00:00",0,0,"00:00:00","00:00:00",0,0]
[null,null,null,null,null,null,null,0,"00:00:00","00:00:00",0,0,"00:00:00","00:00:00",0,0,"00:00:00","00:00:00",0,0,"00:00:00","00:00:00",0,0,"00:00:00","00:00:00",0,0,"00:00:00","00:00:00",0,0,"00:00:00","00:00:00",0,0,"00:00:00","00:00:00",0,0,"00:00:00","00:00:00",0,0,"00:00:00","00:00:00",0,0]
[null,null,null,null,null,null,null,0,"00:00:00","00:00:00",0,0,"00:00:00","00:00:00",0,0,"00:00:00","00:00:00",0,0,"00:00:00","00:00:00",0,0,"00:00:00","00:00:00",0,0,"00:00:00","00:00:00",0,0,"00:00:00","00:00:00",0,0,"00:00:00","00:00:00",0,0,"00:00:00","00:00:00",0,0,"00:00:00","00:00:00",0,0]
[null,null,null,null,null,null,null,0,"00:00:00","00:00:00",0,0,"00:00:00","00:00:00",0,0,"00:00:00","00:00:00",0,0,"00:00:00","00:00:00",0,0,"00:00:00","00:00:00",0,0,"00:00:00","00:00:00",0,0,"00:00:00","00:00:00",0,0,"00:00:00","00:00:00",0,0,"00:00:00","00:00:00",0,0,"00:00:00","00:00:00",0,0]
[null,null,null,null,null,null,null,0,"00:00:00","00:00:00",0,0,"00:00:00","00:00:00",0,0,"00:00:00","00:00:00",0,0,"00:00:00","00:00:00",0,0,"00:00:00","00:00:00",0,0,"00:00:00","00:00:00",0,0,"00:00:00","00:00:00",0,0,"00:00:00","00:00:00",0,0,"00:00:00","00:00:00",0,0,"00:00:00","00:00:00",0,0]
[null,null,null,null,null,null,null,0,"00:00:00","00:00:00",0,0,"00:00:00","00:00:00",0,0,"00:00:00","00:00:00",0,0,"00:00:00","00:00:00",0,0,"00:00:00","00:00:00",0,0,"00:00:00","00:00:00",0,0,"00:00:00","00:00:00",0,0,"00:00:00","00:00:00",0,0,"00:00:00","00:00:00",0,0,"00:00:00","00:00:00",0,0]
[null,null,null,null,null,null,null,0,"00:00:00","00:00:00",0,0,"00:00:00","00:00:00",0,0,"00:00:00","00:00:00",0,0,"00:00:00","00:00:00",0,0,"00:00:00","00:00:00",0,0,"00:00:00","00:00:00",0,0,"00:00:00","00:00:00",0,0,"00:00:00","00:00:00",0,0,"00:00:00","00:00:00",0,0,"00:00:00","00:00:00",0,0]
[null,null,null,null,null,null,null,0,"00:00:00","00:00:00",0,0,"00:00:00","00:00:00",0,0,"00:00:00","00:00:00",0,0,"00:00:00","00:00:00",0,0,"00:00:00","00:00:00",0,0,"00:00:00","00:00:00",0,0,"00:00:00","00:00:00",0,0,"00:00:00","00:00:00",0,0,"00:00:00","00:00:00",0,0,"00:00:00","00:00:00",0,0]
[null,null,null,null,null,null,null,0,"00:00:00","00:00:00",0,0,"00:00:00","00:00:00",0,0,"00:00:00","00:00:00",0,0,"00:00:00","00:00:00",0,0,"00:00:00","00:00:00",0,0,"00:00:00","00:00:00",0,0,"00:00:00","00:00:00",0,0,"00:00:00","00:00:00",0,0,"00:00:00","00:00:00",0,0,"00:00:00","00:00:00",0,0]
[null,null,null,null,null,null,null,0,"00:00:00","00:00:00",0,0,"00:00:00","00:00:00",0,0,"00:00:00","00:00:00",0,0,"00:00:00","00:00:00",0,0,"00:00:00","00:00:00",0,0,"00:00:00","00:00:00",0,0,"00:00:00","00:00:00",0,0,"00:00:00","00:00:00",0,0,"00:00:00","00:00:00",0,0,"00:00:00","00:00:00",0,0]
[null,null,null,null,null,null,null,0,"00:00:00","00:00:00",0,0,"00:00:00","00:00:00",0,0,"00:00:00","00:00:00",0,0,"00:00:00","00:00:00",0,0,"00:00:00","00:00:00",0,0,"00:00:00","00:00:00",0,0,"00:00:00","00:00:00",0,0,"00:00:00","00:00:00",0,0,"00:00:00","00:00:00",0,0,"00:00:00","00:00:00",0,0]
[null,null,null,null,null,null,null,0,"00:00:00","00:00:00",0,0,"00:00:00","00:00:00",0,0,"00:00:00","00:00:00",0,0,"00:00:00","00:00:00",0,0,"00:00:00","00:00:00",0,0,"00:00:00","00:00:00",0,0,"00:00:00","00:00:00",0,0,"00:00:00","00:00:00",0,0,"00:00:00","00:00:00",0,0,"00:00:00","00:00:00",0,0]
[null,null,null,null,null,null,null,0,"00:00:00","00:00:00",0,0,"00:00:00","00:00:00",0,0,"00:00:00","00:00:00",0,0,"00:00:00","00:00:00",0,0,"00:00:00","00:00:00",0,0,"00:00:00","00:00:00",0,0,"00:00:00","00:00:00",0,0,"00:00:00","00:00:00",0,0,"00:00:00","00:00:00",0,0,"00:00:00","00:00:00",0,0]
[null,null,null,null,null,null,null,0,"00:00:00","00:00:00",0,0,"00:00:00","00:00:00",0,0,"00:00:00","00:00:00",0,0,"00:00:00","00:00:00",0,0,"00:00:00","00:00:00",0,0,"00:00:00","00:00:00",0,0,"00:00:00","00:00:00",0,0,"00:00:00","00:00:00",0,0,"00:00:00","00:00:00",0,0,"00:00:00","00:00:00",0,0]
[null,null,null,null,null,null,null,0,"00:00:00","00:00:00",0,0,"00:00:00","00:00:00",0,0,"00:00:00","00:00:00",0,0,"00:00:00","00:00:00",0,0,"00:00:00","00:00:00",0,0,"00:00:00","00:00:00",0,0,"00:00:00","00:00:00",0,0,"00:00:00","00:00:00",0,0,"00:00:00","00:00:00",0,0,"00:00:00","00:00:00",0,0]
[null,null,null,null,null,null,null,0,"00:00:00","00:00:00",0,0,"00:00:00","00:00:00",0,0,"00:00:00","00:00:00",0,0,"00:00:00","00:00:00",0,0,"00:00:00","00:00:00",0,0,"00:00:00","00:00:00",0,0,"00:00:00","00:00:00",0,0,"00:00:00","00:00:00",0,0,"00:00:00","00:00:00",0,0,"00:00:00","00:00:00",0,0]
[null,null,null,null,null,null,null,0,"00:00:00","00:00:00",0,0,"00:00:00","00:00:00",0,0,"00:00:00","00:00:00",0,0,"00:00:00","00:00:00",0,0,"00:00:00","00:00:00",0,0,"00:00:00","00:00:00",0,0,"00:00:00","00:00:00",0,0,"00:00:00","00:00:00",0,0,"00:00:00","00:00:00",0,0,"00:00:00","00:00:00",0,0]
[null,null,null,null,null,null,null,0,"00:00:00","00:00:00",0,0,"00:00:00","00:00:00",0,0,"00:00:00","00:00:00",0,0,"00:00:00","00:00:00",0,0,"00:00:00","00:00:00",0,0,"00:00:00","00:00:00",0,0,"00:00:00","00:00:00",0,0,"00:00:00","00:00:00",0,0,"00:00:00","00:00:00",0,0,"00:00:00","00:00:00",0,0]
[null,null,null,null,null,null,null,0,"00:00:00","00:00:00",0,0,"00:00:00","00:00:00",0,0,"00:00:00","00:00:00",0,0,"00:00:00","00:00:00",0,0,"00:00:00","00:00:00",0,0,"00:00:00","00:00:00",0,0,"00:00:00","00:00:00",0,0,"00:00:00","00:00:00",0,0,"00:00:00","00:00:00",0,0,"00:00:00","00:00:00",0,0]
[null,null,null,null,null,null,null,0,"00:00:00","00:00:00",0,0,"00:00:00","00:00:00",0,0,"00:00:00","00:00:00",0,0,"00:00:00","00:00:00",0,0,"00:00:00","00:00:00",0,0,"00:00:00","00:00:00",0,0,"00:00:00","00:00:00",0,0,"00:00:00","00:00:00",0,0,"00:00:00","00:00:00",0,0,"00:00:00","00:00:00",0,0]
[null,null,null,null,null,null,null,0,"00:00:00","00:00:00",0,0,"00:00:00","00:00:00",0,0,"00:00:00","00:00:00",0,0,"00:00:00","00:00:00",0,0,"00:00:00","00:00:00",0,0,"00:00:00","00:00:00",0,0,"00:00:00","00:00:00",0,0,"00:00:00","00:00:00",0,0,"00:00:00","00:00:00",0,0,"00:00:00","00:00:00",0,0]
[null,null,null,null,null,null,null,0,"00:00:00","00:00:00",0,0,"00:00:00","00:00:00",0,0,"00:00:00","00:00:00",0,0,"00:00:00","00:00:00",0,0,"00:00:00","00:00:00",0,0,"00:00:00","00:00:00",0,0,"00:00:00","00:00:00",0,0,"00:00:00","00:00:00",0,0,"00:00:00","00:00:00",0,0,"00:00:00","00:00:00",0,0]
[null,null,null,null,null,null,null,0,"00:00:00","00:00:00",0,0,"00:00:00","00:00:00",0,0,"00:00:00","00:00:00",0,0,"00:00:00","00:00:00",0,0,"00:00:00","00:00:00",0,0,"00:00:00","00:00:00",0,0,"00:00:00","00:00:00",0,0,"00:00:00","00:00:00",0,0,"00:00:00","00:00:00",0,0,"00:00:00","00:00:00",0,0]
[null,null,null,null,null,null,null,0,"00:00:00","00:00:00",0,0,"00:00:00","00:00:00",0,0,"00:00:00","00:00:00",0,0,"00:00:00","00:00:00",0,0,"00:00:00","00:00:00",0,0,"00:00:00","00:00:00",0,0,"00:00:00","00:00:00",0,0,"00:00:00","00:00:00",0,0,"00:00:00","00:00:00",0,0,"00:00:00","00:00:00",0,0]
[null,null,null,null,null,null,null,0,"00:00:00","00:00:00",0,0,"00:00:00","00:00:00",0,0,"00:00:00","00:00:00",0,0,"00:00:00","00:00:00",0,0,"00:00:00","00:00:00",0,0,"00:00:00","00:00:00",0,0,"00:00:00","00:00:00",0,0,"00:00:00","00:00:00",0,0,"00:00:00","00:00:00",0,0,"00:00:00","00:00:00",0,0]
[null,null,null,null,null,null,null,0,"00:00:00","00:00:00",0,0,"00:00:00","00:00:00",0,0,"00:00:00","00:00:00",0,0,"00:00:00","00:00:00",0,0,"00:00:00","00:00:00",0,0,"00:00:00","00:00:00",0,0,"00:00:00","00:00:00",0,0,"00:00:00","00:00:00",0,0,"00:00:00","00:00:00",0,0,"00:00:00","00:00:00",0,0]
[null,null,null,null,null,null,null,0,"00:00:00","00:00:00",0,0,"00:00:00","00:00:00",0,0,"00:00:00","00:00:00",0,0,"00:00:00","00:00:00",0,0,"00:00:00","00:00:00",0,0,"00:00:00","00:00:00",0,0,"00:00:00","00:00:00",0,0,"00:00:00","00:00:00",0,0,"00:00:00","00:00:00",0,0,"00:00:00","00:00:00",0,0]
[null,null,null,null,null,null,null,0,"00:00:00","00:00:00",0,0,"00:00:00","00:00:00",0,0,"00:00:00","00:00:00",0,0,"00:00:00","00:00:00",0,0,"00:00:00","00:00:00",0,0,"00:00:00","00:00:00",0,0,"00:00:00","00:00:00",0,0,"00:00:00","00:00:00",0,0,"00:00:00","00:00:00",0,0,"00:00:00","00:00:00",0,0]
[null,null,null,null,null,null,null,{"$f":"IF(F77-E77=0,0,F77-E77+1)","v":0},{"$f":"IF(OR($F77<I$10,$E77>J$10),0,IF(AND($E77>=I$10,$F77<=J$10),$E77,IF(AND($E77<=I$10,$F77<=J$10),I$10,IF(AND($E77<=J$10,$F77>=J$10,$E77>=I$10),$E77,IF(AND($E77<=I$10,$F77>=J$10),I$10,\"chyba\")))))","v":"00:00:00"},{"$f":"IF(OR($F77<I$10,$E77>J$10),0,IF(AND($E77>=I$10,$F77<=J$10),$F77,IF(AND($E77<=I$10,$F77<=J$10),$F77,IF(AND($E77<=J$10,$F77>=J$10),J$10,IF(AND($E77<=I$10,$F77>=J$10),J$10,\"chyba\")))))","v":"00:00:00"},{"$f":"IF(J77-I77=0,0,J77-I77+1)","v":0},{"$f":"IF($H77<=0,0,$G77/$H77*K77)","v":0},{"$f":"IF(OR($F77<M$10,$E77>N$10),0,IF(AND($E77>=M$10,$F77<=N$10),$E77,IF(AND($E77<=M$10,$F77<=N$10),M$10,IF(AND($E77<=N$10,$F77>=N$10,$E77>=M$10),$E77,IF(AND($E77<=M$10,$F77>=N$10),M$10,\"chyba\")))))","v":"00:00:00"},{"$f":"IF(OR($F77<M$10,$E77>N$10),0,IF(AND($E77>=M$10,$F77<=N$10),$F77,IF(AND($E77<=M$10,$F77<=N$10),$F77,IF(AND($E77<=N$10,$F77>=N$10),N$10,IF(AND($E77<=M$10,$F77>=N$10),N$10,\"chyba\")))))","v":"00:00:00"},{"$f":"IF(N77-M77=0,0,N77-M77+1)","v":0},{"$f":"IF($H77<=0,0,$G77/$H77*O77)","v":0},{"$f":"IF(OR($F77<Q$10,$E77>R$10),0,IF(AND($E77>=Q$10,$F77<=R$10),$E77,IF(AND($E77<=Q$10,$F77<=R$10),Q$10,IF(AND($E77<=R$10,$F77>=R$10,$E77>=Q$10),$E77,IF(AND($E77<=Q$10,$F77>=R$10),Q$10,\"chyba\")))))","v":"00:00:00"},{"$f":"IF(OR($F77<Q$10,$E77>R$10),0,IF(AND($E77>=Q$10,$F77<=R$10),$F77,IF(AND($E77<=Q$10,$F77<=R$10),$F77,IF(AND($E77<=R$10,$F77>=R$10),R$10,IF(AND($E77<=Q$10,$F77>=R$10),R$10,\"chyba\")))))","v":"00:00:00"},{"$f":"IF(R77-Q77=0,0,R77-Q77+1)","v":0},{"$f":"IF($H77<=0,0,$G77/$H77*S77)","v":0},{"$f":"IF(OR($F77<U$10,$E77>V$10),0,IF(AND($E77>=U$10,$F77<=V$10),$E77,IF(AND($E77<=U$10,$F77<=V$10),U$10,IF(AND($E77<=V$10,$F77>=V$10,$E77>=U$10),$E77,IF(AND($E77<=U$10,$F77>=V$10),U$10,\"chyba\")))))","v":"00:00:00"},{"$f":"IF(OR($F77<U$10,$E77>V$10),0,IF(AND($E77>=U$10,$F77<=V$10),$F77,IF(AND($E77<=U$10,$F77<=V$10),$F77,IF(AND($E77<=V$10,$F77>=V$10),V$10,IF(AND($E77<=U$10,$F77>=V$10),V$10,\"chyba\")))))","v":"00:00:00"},{"$f":"IF(V77-U77=0,0,V77-U77+1)","v":0},{"$f":"IF($H77<=0,0,$G77/$H77*W77)","v":0},{"$f":"IF(OR($F77<Y$10,$E77>Z$10),0,IF(AND($E77>=Y$10,$F77<=Z$10),$E77,IF(AND($E77<=Y$10,$F77<=Z$10),Y$10,IF(AND($E77<=Z$10,$F77>=Z$10,$E77>=Y$10),$E77,IF(AND($E77<=Y$10,$F77>=Z$10),Y$10,\"chyba\")))))","v":"00:00:00"},{"$f":"IF(OR($F77<Y$10,$E77>Z$10),0,IF(AND($E77>=Y$10,$F77<=Z$10),$F77,IF(AND($E77<=Y$10,$F77<=Z$10),$F77,IF(AND($E77<=Z$10,$F77>=Z$10),Z$10,IF(AND($E77<=Y$10,$F77>=Z$10),Z$10,\"chyba\")))))","v":"00:00:00"},{"$f":"IF(Z77-Y77=0,0,Z77-Y77+1)","v":0},{"$f":"IF($H77<=0,0,$G77/$H77*AA77)","v":0},{"$f":"IF(OR($F77<AC$10,$E77>AD$10),0,IF(AND($E77>=AC$10,$F77<=AD$10),$E77,IF(AND($E77<=AC$10,$F77<=AD$10),AC$10,IF(AND($E77<=AD$10,$F77>=AD$10,$E77>=AC$10),$E77,IF(AND($E77<=AC$10,$F77>=AD$10),AC$10,\"chyba\")))))","v":"00:00:00"},{"$f":"IF(OR($F77<AC$10,$E77>AD$10),0,IF(AND($E77>=AC$10,$F77<=AD$10),$F77,IF(AND($E77<=AC$10,$F77<=AD$10),$F77,IF(AND($E77<=AD$10,$F77>=AD$10),AD$10,IF(AND($E77<=AC$10,$F77>=AD$10),AD$10,\"chyba\")))))","v":"00:00:00"},{"$f":"IF(AD77-AC77=0,0,AD77-AC77+1)","v":0},{"$f":"IF($H77<=0,0,$G77/$H77*AE77)","v":0},{"$f":"IF(OR($F77<AG$10,$E77>AH$10),0,IF(AND($E77>=AG$10,$F77<=AH$10),$E77,IF(AND($E77<=AG$10,$F77<=AH$10),AG$10,IF(AND($E77<=AH$10,$F77>=AH$10,$E77>=AG$10),$E77,IF(AND($E77<=AG$10,$F77>=AH$10),AG$10,\"chyba\")))))","v":"00:00:00"},{"$f":"IF(OR($F77<AG$10,$E77>AH$10),0,IF(AND($E77>=AG$10,$F77<=AH$10),$F77,IF(AND($E77<=AG$10,$F77<=AH$10),$F77,IF(AND($E77<=AH$10,$F77>=AH$10),AH$10,IF(AND($E77<=AG$10,$F77>=AH$10),AH$10,\"chyba\")))))","v":"00:00:00"},{"$f":"IF(AH77-AG77=0,0,AH77-AG77+1)","v":0},{"$f":"IF($H77<=0,0,$G77/$H77*AI77)","v":0},{"$f":"IF(OR($F77<AK$10,$E77>AL$10),0,IF(AND($E77>=AK$10,$F77<=AL$10),$E77,IF(AND($E77<=AK$10,$F77<=AL$10),AK$10,IF(AND($E77<=AL$10,$F77>=AL$10,$E77>=AK$10),$E77,IF(AND($E77<=AK$10,$F77>=AL$10),AK$10,\"chyba\")))))","v":"00:00:00"},{"$f":"IF(OR($F77<AK$10,$E77>AL$10),0,IF(AND($E77>=AK$10,$F77<=AL$10),$F77,IF(AND($E77<=AK$10,$F77<=AL$10),$F77,IF(AND($E77<=AL$10,$F77>=AL$10),AL$10,IF(AND($E77<=AK$10,$F77>=AL$10),AL$10,\"chyba\")))))","v":"00:00:00"},{"$f":"IF(AL77-AK77=0,0,AL77-AK77+1)","v":0},{"$f":"IF($H77<=0,0,$G77/$H77*AM77)","v":0},{"$f":"IF(OR($F77<AO$10,$E77>AP$10),0,IF(AND($E77>=AO$10,$F77<=AP$10),$E77,IF(AND($E77<=AO$10,$F77<=AP$10),AO$10,IF(AND($E77<=AP$10,$F77>=AP$10,$E77>=AO$10),$E77,IF(AND($E77<=AO$10,$F77>=AP$10),AO$10,\"chyba\")))))","v":"00:00:00"},{"$f":"IF(OR($F77<AO$10,$E77>AP$10),0,IF(AND($E77>=AO$10,$F77<=AP$10),$F77,IF(AND($E77<=AO$10,$F77<=AP$10),$F77,IF(AND($E77<=AP$10,$F77>=AP$10),AP$10,IF(AND($E77<=AO$10,$F77>=AP$10),AP$10,\"chyba\")))))","v":"00:00:00"},{"$f":"IF(AP77-AO77=0,0,AP77-AO77+1)","v":0},{"$f":"IF($H77<=0,0,$G77/$H77*AQ77)","v":0},{"$f":"IF(OR($F77<AS$10,$E77>AT$10),0,IF(AND($E77>=AS$10,$F77<=AT$10),$E77,IF(AND($E77<=AS$10,$F77<=AT$10),AS$10,IF(AND($E77<=AT$10,$F77>=AT$10,$E77>=AS$10),$E77,IF(AND($E77<=AS$10,$F77>=AT$10),AS$10,\"chyba\")))))","v":"00:00:00"},{"$f":"IF(OR($F77<AS$10,$E77>AT$10),0,IF(AND($E77>=AS$10,$F77<=AT$10),$F77,IF(AND($E77<=AS$10,$F77<=AT$10),$F77,IF(AND($E77<=AT$10,$F77>=AT$10),AT$10,IF(AND($E77<=AS$10,$F77>=AT$10),AT$10,\"chyba\")))))","v":"00:00:00"},{"$f":"IF(AT77-AS77=0,0,AT77-AS77+1)","v":0},{"$f":"IF($H77<=0,0,$G77/$H77*AU77)","v":0}]
[null,null,null,null,null,null,null,0,"00:00:00","00:00:00",0,0,"00:00:00","00:00:00",0,0,"00:00:00","00:00:00",0,0,"00:00:00","00:00:00",0,0,"00:00:00","00:00:00",0,0,"00:00:00","00:00:00",0,0,"00:00:00","00:00:00",0,0,"00:00:00","00:00:00",0,0,"00:00:00","00:00:00",0,0,"00:00:00","00:00:00",0,0]
[null,null,null,null,null,null,null,0,"00:00:00","00:00:00",0,0,"00:00:00","00:00:00",0,0,"00:00:00","00:00:00",0,0,"00:00:00","00:00:00",0,0,"00:00:00","00:00:00",0,0,"00:00:00","00:00:00",0,0,"00:00:00","00:00:00",0,0,"00:00:00","00:00:00",0,0,"00:00:00","00:00:00",0,0,"00:00:00","00:00:00",0,0]
[null,null,null,null,null,null,null,0,"00:00:00","00:00:00",0,0,"00:00:00","00:00:00",0,0,"00:00:00","00:00:00",0,0,"00:00:00","00:00:00",0,0,"00:00:00","00:00:00",0,0,"00:00:00","00:00:00",0,0,"00:00:00","00:00:00",0,0,"00:00:00","00:00:00",0,0,"00:00:00","00:00:00",0,0,"00:00:00","00:00:00",0,0]
[null,null,null,null,null,null,null,0,"00:00:00","00:00:00",0,0,"00:00:00","00:00:00",0,0,"00:00:00","00:00:00",0,0,"00:00:00","00:00:00",0,0,"00:00:00","00:00:00",0,0,"00:00:00","00:00:00",0,0,"00:00:00","00:00:00",0,0,"00:00:00","00:00:00",0,0,"00:00:00","00:00:00",0,0,"00:00:00","00:00:00",0,0]
[null,null,null,null,null,null,null,0,"00:00:00","00:00:00",0,0,"00:00:00","00:00:00",0,0,"00:00:00","00:00:00",0,0,"00:00:00","00:00:00",0,0,"00:00:00","00:00:00",0,0,"00:00:00","00:00:00",0,0,"00:00:00","00:00:00",0,0,"00:00:00","00:00:00",0,0,"00:00:00","00:00:00",0,0,"00:00:00","00:00:00",0,0]
[null,null,null,null,null,null,null,0,"00:00:00","00:00:00",0,0,"00:00:00","00:00:00",0,0,"00:00:00","00:00:00",0,0,"00:00:00","00:00:00",0,0,"00:00:00","00:00:00",0,0,"00:00:00","00:00:00",0,0,"00:00:00","00:00:00",0,0,"00:00:00","00:00:00",0,0,"00:00:00","00:00:00",0,0,"00:00:00","00:00:00",0,0]
[null,null,null,null,null,null,null,0,"00:00:00","00:00:00",0,0,"00:00:00","00:00:00",0,0,"00:00:00","00:00:00",0,0,"00:00:00","00:00:00",0,0,"00:00:00","00:00:00",0,0,"00:00:00","00:00:00",0,0,"00:00:00","00:00:00",0,0,"00:00:00","00:00:00",0,0,"00:00:00","00:00:00",0,0,"00:00:00","00:00:00",0,0]
[null,null,null,null,null,null,null,0,"00:00:00","00:00:00",0,0,"00:00:00","00:00:00",0,0,"00:00:00","00:00:00",0,0,"00:00:00","00:00:00",0,0,"00:00:00","00:00:00",0,0,"00:00:00","00:00:00",0,0,"00:00:00","00:00:00",0,0,"00:00:00","00:00:00",0,0,"00:00:00","00:00:00",0,0,"00:00:00","00:00:00",0,0]
[null,null,null,null,null,null,null,0,"00:00:00","00:00:00",0,0,"00:00:00","00:00:00",0,0,"00:00:00","00:00:00",0,0,"00:00:00","00:00:00",0,0,"00:00:00","00:00:00",0,0,"00:00:00","00:00:00",0,0,"00:00:00","00:00:00",0,0,"00:00:00","00:00:00",0,0,"00:00:00","00:00:00",0,0,"00:00:00","00:00:00",0,0]
[null,null,null,null,null,null,null,0,"00:00:00","00:00:00",0,0,"00:00:00","00:00:00",0,0,"00:00:00","00:00:00",0,0,"00:00:00","00:00:00",0,0,"00:00:00","00:00:00",0,0,"00:00:00","00:00:00",0,0,"00:00:00","00:00:00",0,0,"00:00:00","00:00:00",0,0,"00:00:00","00:00:00",0,0,"00:00:00","00:00:00",0,0]
[null,null,null,null,null,null,null,0,"00:00:00","00:00:00",0,0,"00:00:00","00:00:00",0,0,"00:00:00","00:00:00",0,0,"00:00:00","00:00:00",0,0,"00:00:00","00:00:00",0,0,"00:00:00","00:00:00",0,0,"00:00:00","00:00:00",0,0,"00:00:00","00:00:00",0,0,"00:00:00","00:00:00",0,0,"00:00:00","00:00:00",0,0]
[null,null,null,null,null,null,null,0,"00:00:00","00:00:00",0,0,"00:00:00","00:00:00",0,0,"00:00:00","00:00:00",0,0,"00:00:00","00:00:00",0,0,"00:00:00","00:00:00",0,0,"00:00:00","00:00:00",0,0,"00:00:00","00:00:00",0,0,"00:00:00","00:00:00",0,0,"00:00:00","00:00:00",0,0,"00:00:00","00:00:00",0,0]
[null,null,null,null,null,null,null,0,"00:00:00","00:00:00",0,0,"00:00:00","00:00:00",0,0,"00:00:00","00:00:00",0,0,"00:00:00","00:00:00",0,0,"00:00:00","00:00:00",0,0,"00:00:00","00:00:00",0,0,"00:00:00","00:00:00",0,0,"00:00:00","00:00:00",0,0,"00:00:00","00:00:00",0,0,"00:00:00","00:00:00",0,0]
[null,null,null,null,null,null,null,0,"00:00:00","00:00:00",0,0,"00:00:00","00:00:00",0,0,"00:00:00","00:00:00",0,0,"00:00:00","00:00:00",0,0,"00:00:00","00:00:00",0,0,"00:00:00","00:00:00",0,0,"00:00:00","00:00:00",0,0,"00:00:00","00:00:00",0,0,"00:00:00","00:00:00",0,0,"00:00:00","00:00:00",0,0]
[null,null,null,null,null,null,null,0,"00:00:00","00:00:00",0,0,"00:00:00","00:00:00",0,0,"00:00:00","00:00:00",0,0,"00:00:00","00:00:00",0,0,"00:00:00","00:00:00",0,0,"00:00:00","00:00:00",0,0,"00:00:00","00:00:00",0,0,"00:00:00","00:00:00",0,0,"00:00:00","00:00:00",0,0,"00:00:00","00:00:00",0,0]
[null,null,null,null,null,null,null,0,"00:00:00","00:00:00",0,0,"00:00:00","00:00:00",0,0,"00:00:00","00:00:00",0,0,"00:00:00","00:00:00",0,0,"00:00:00","00:00:00",0,0,"00:00:00","00:00:00",0,0,"00:00:00","00:00:00",0,0,"00:00:00","00:00:00",0,0,"00:00:00","00:00:00",0,0,"00:00:00","00:00:00",0,0]
[null,null,null,null,null,null,null,0,"00:00:00","00:00:00",0,0,"00:00:00","00:00:00",0,0,"00:00:00","00:00:00",0,0,"00:00:00","00:00:00",0,0,"00:00:00","00:00:00",0,0,"00:00:00","00:00:00",0,0,"00:00:00","00:00:00",0,0,"00:00:00","00:00:00",0,0,"00:00:00","00:00:00",0,0,"00:00:00","00:00:00",0,0]
[null,null,null,null,null,null,null,0,"00:00:00","00:00:00",0,0,"00:00:00","00:00:00",0,0,"00:00:00","00:00:00",0,0,"00:00:00","00:00:00",0,0,"00:00:00","00:00:00",0,0,"00:00:00","00:00:00",0,0,"00:00:00","00:00:00",0,0,"00:00:00","00:00:00",0,0,"00:00:00","00:00:00",0,0,"00:00:00","00:00:00",0,0]
[null,null,null,null,null,null,null,0,"00:00:00","00:00:00",0,0,"00:00:00","00:00:00",0,0,"00:00:00","00:00:00",0,0,"00:00:00","00:00:00",0,0,"00:00:00","00:00:00",0,0,"00:00:00","00:00:00",0,0,"00:00:00","00:00:00",0,0,"00:00:00","00:00:00",0,0,"00:00:00","00:00:00",0,0,"00:00:00","00:00:00",0,0]
[null,null,null,null,null,null,null,0,"00:00:00","00:00:00",0,0,"00:00:00","00:00:00",0,0,"00:00:00","00:00:00",0,0,"00:00:00","00:00:00",0,0,"00:00:00","00:00:00",0,0,"00:00:00","00:00:00",0,0,"00:00:00","00:00:00",0,0,"00:00:00","00:00:00",0,0,"00:00:00","00:00:00",0,0,"00:00:00","00:00:00",0,0]
[null,null,null,null,null,null,null,0,"00:00:00","00:00:00",0,0,"00:00:00","00:00:00",0,0,"00:00:00","00:00:00",0,0,"00:00:00","00:00:00",0,0,"00:00:00","00:00:00",0,0,"00:00:00","00:00:00",0,0,"00:00:00","00:00:00",0,0,"00:00:00","00:00:00",0,0,"00:00:00","00:00:00",0,0,"00:00:00","00:00:00",0,0]
[null,null,null,null,null,null,null,0,"00:00:00","00:00:00",0,0,"00:00:00","00:00:00",0,0,"00:00:00","00:00:00",0,0,"00:00:00","00:00:00",0,0,"00:00:00","00:00:00",0,0,"00:00:00","00:00:00",0,0,"00:00:00","00:00:00",0,0,"00:00:00","00:00:00",0,0,"00:00:00","00:00:00",0,0,"00:00:00","00:00:00",0,0]
[null,null,null,null,null,null,null,0,"00:00:00","00:00:00",0,0,"00:00:00","00:00:00",0,0,"00:00:00","00:00:00",0,0,"00:00:00","00:00:00",0,0,"00:00:00","00:00:00",0,0,"00:00:00","00:00:00",0,0,"00:00:00","00:00:00",0,0,"00:00:00","00:00:00",0,0,"00:00:00","00:00:00",0,0,"00:00:00","00:00:00",0,0]
[null,null,null,null,null,null,null,0,"00:00:00","00:00:00",0,0,"00:00:00","00:00:00",0,0,"00:00:00","00:00:00",0,0,"00:00:00","00:00:00",0,0,"00:00:00","00:00:00",0,0,"00:00:00","00:00:00",0,0,"00:00:00","00:00:00",0,0,"00:00:00","00:00:00",0,0,"00:00:00","00:00:00",0,0,"00:00:00","00:00:00",0,0]
[null,null,null,null,null,null,null,0,"00:00:00","00:00:00",0,0,"00:00:00","00:00:00",0,0,"00:00:00","00:00:00",0,0,"00:00:00","00:00:00",0,0,"00:00:00","00:00:00",0,0,"00:00:00","00:00:00",0,0,"00:00:00","00:00:00",0,0,"00:00:00","00:00:00",0,0,"00:00:00","00:00:00",0,0,"00:00:00","00:00:00",0,0]
[null,null,null,null,null,null,null,0,"00:00:00","00:00:00",0,0,"00:00:00","00:00:00",0,0,"00:00:00","00:00:00",0,0,"00:00:00","00:00:00",0,0,"00:00:00","00:00:00",0,0,"00:00:00","00:00:00",0,0,"00:00:00","00:00:00",0,0,"00:00:00","00:00:00",0,0,"00:00:00","00:00:00",0,0,"00:00:00","00:00:00",0,0]
[null,null,null,null,null,null,null,0,"00:00:00","00:00:00",0,0,"00:00:00","00:00:00",0,0,"00:00:00","00:00:00",0,0,"00:00:00","00:00:00",0,0,"00:00:00","00:00:00",0,0,"00:00:00","00:00:00",0,0,"00:00:00","00:00:00",0,0,"00:00:00","00:00:00",0,0,"00:00:00","00:00:00",0,0,"00:00:00","00:00:00",0,0]
[null,null,null,null,null,null,null,0,"00:00:00","00:00:00",0,0,"00:00:00","00:00:00",0,0,"00:00:00","00:00:00",0,0,"00:00:00","00:00:00",0,0,"00:00:00","00:00:00",0,0,"00:00:00","00:00:00",0,0,"00:00:00","00:00:00",0,0,"00:00:00","00:00:00",0,0,"00:00:00","00:00:00",0,0,"00:00:00","00:00:00",0,0]
[null,null,null,null,null,null,null,0,"00:00:00","00:00:00",0,0,"00:00:00","00:00:00",0,0,"00:00:00","00:00:00",0,0,"00:00:00","00:00:00",0,0,"00:00:00","00:00:00",0,0,"00:00:00","00:00:00",0,0,"00:00:00","00:00:00",0,0,"00:00:00","00:00:00",0,0,"00:00:00","00:00:00",0,0,"00:00:00","00:00:00",0,0]
[null,null,null,null,null,null,null,0,"00:00:00","00:00:00",0,0,"00:00:00","00:00:00",0,0,"00:00:00","00:00:00",0,0,"00:00:00","00:00:00",0,0,"00:00:00","00:00:00",0,0,"00:00:00","00:00:00",0,0,"00:00:00","00:00:00",0,0,"00:00:00","00:00:00",0,0,"00:00:00","00:00:00",0,0,"00:00:00","00:00:00",0,0]
[null,null,null,null,null,null,null,0,"00:00:00","00:00:00",0,0,"00:00:00","00:00:00",0,0,"00:00:00","00:00:00",0,0,"00:00:00","00:00:00",0,0,"00:00:00","00:00:00",0,0,"00:00:00","00:00:00",0,0,"00:00:00","00:00:00",0,0,"00:00:00","00:00:00",0,0,"00:00:00","00:00:00",0,0,"00:00:00","00:00:00",0,0]
[null,null,null,null,null,null,null,0,"00:00:00","00:00:00",0,0,"00:00:00","00:00:00",0,0,"00:00:00","00:00:00",0,0,"00:00:00","00:00:00",0,0,"00:00:00","00:00:00",0,0,"00:00:00","00:00:00",0,0,"00:00:00","00:00:00",0,0,"00:00:00","00:00:00",0,0,"00:00:00","00:00:00",0,0,"00:00:00","00:00:00",0,0]
[null,null,null,null,null,null,null,0,"00:00:00","00:00:00",0,0,"00:00:00","00:00:00",0,0,"00:00:00","00:00:00",0,0,"00:00:00","00:00:00",0,0,"00:00:00","00:00:00",0,0,"00:00:00","00:00:00",0,0,"00:00:00","00:00:00",0,0,"00:00:00","00:00:00",0,0,"00:00:00","00:00:00",0,0,"00:00:00","00:00:00",0,0]
[null,null,null,null,null,null,null,0,"00:00:00","00:00:00",0,0,"00:00:00","00:00:00",0,0,"00:00:00","00:00:00",0,0,"00:00:00","00:00:00",0,0,"00:00:00","00:00:00",0,0,"00:00:00","00:00:00",0,0,"00:00:00","00:00:00",0,0,"00:00:00","00:00:00",0,0,"00:00:00","00:00:00",0,0,"00:00:00","00:00:00",0,0]
[null,null,null,null,null,null,null,0,"00:00:00","00:00:00",0,0,"00:00:00","00:00:00",0,0,"00:00:00","00:00:00",0,0,"00:00:00","00:00:00",0,0,"00:00:00","00:00:00",0,0,"00:00:00","00:00:00",0,0,"00:00:00","00:00:00",0,0,"00:00:00","00:00:00",0,0,"00:00:00","00:00:00",0,0,"00:00:00","00:00:00",0,0]
[null,null,null,null,null,null,null,0,"00:00:00","00:00:00",0,0,"00:00:00","00:00:00",0,0,"00:00:00","00:00:00",0,0,"00:00:00","00:00:00",0,0,"00:00:00","00:00:00",0,0,"00:00:00","00:00:00",0,0,"00:00:00","00:00:00",0,0,"00:00:00","00:00:00",0,0,"00:00:00","00:00:00",0,0,"00:00:00","00:00:00",0,0]
[null,null,null,null,null,null,null,0,"00:00:00","00:00:00",0,0,"00:00:00","00:00:00",0,0,"00:00:00","00:00:00",0,0,"00:00:00","00:00:00",0,0,"00:00:00","00:00:00",0,0,"00:00:00","00:00:00",0,0,"00:00:00","00:00:00",0,0,"00:00:00","00:00:00",0,0,"00:00:00","00:00:00",0,0,"00:00:00","00:00:00",0,0]
[null,null,null,null,null,null,null,0,"00:00:00","00:00:00",0,0,"00:00:00","00:00:00",0,0,"00:00:00","00:00:00",0,0,"00:00:00","00:00:00",0,0,"00:00:00","00:00:00",0,0,"00:00:00","00:00:00",0,0,"00:00:00","00:00:00",0,0,"00:00:00","00:00:00",0,0,"00:00:00","00:00:00",0,0,"00:00:00","00:00:00",0,0]
[null,null,null,null,null,null,null,0,"00:00:00","00:00:00",0,0,"00:00:00","00:00:00",0,0,"00:00:00","00:00:00",0,0,"00:00:00","00:00:00",0,0,"00:00:00","00:00:00",0,0,"00:00:00","00:00:00",0,0,"00:00:00","00:00:00",0,0,"00:00:00","00:00:00",0,0,"00:00:00","00:00:00",0,0,"00:00:00","00:00:00",0,0]
[null,null,null,null,null,null,null,0,"00:00:00","00:00:00",0,0,"00:00:00","00:00:00",0,0,"00:00:00","00:00:00",0,0,"00:00:00","00:00:00",0,0,"00:00:00","00:00:00",0,0,"00:00:00","00:00:00",0,0,"00:00:00","00:00:00",0,0,"00:00:00","00:00:00",0,0,"00:00:00","00:00:00",0,0,"00:00:00","00:00:00",0,0]
[null,null,null,null,null,null,null,0,"00:00:00","00:00:00",0,0,"00:00:00","00:00:00",0,0,"00:00:00","00:00:00",0,0,"00:00:00","00:00:00",0,0,"00:00:00","00:00:00",0,0,"00:00:00","00:00:00",0,0,"00:00:00","00:00:00",0,0,"00:00:00","00:00:00",0,0,"00:00:00","00:00:00",0,0,"00:00:00","00:00:00",0,0]
[null,null,null,null,null,null,null,0,"00:00:00","00:00:00",0,0,"00:00:00","00:00:00",0,0,"00:00:00","00:00:00",0,0,"00:00:00","00:00:00",0,0,"00:00:00","00:00:00",0,0,"00:00:00","00:00:00",0,0,"00:00:00","00:00:00",0,0,"00:00:00","00:00:00",0,0,"00:00:00","00:00:00",0,0,"00:00:00","00:00:00",0,0]
[null,null,null,null,null,null,null,0,"00:00:00","00:00:00",0,0,"00:00:00","00:00:00",0,0,"00:00:00","00:00:00",0,0,"00:00:00","00:00:00",0,0,"00:00:00","00:00:00",0,0,"00:00:00","00:00:00",0,0,"00:00:00","00:00:00",0,0,"00:00:00","00:00:00",0,0,"00:00:00","00:00:00",0,0,"00:00:00","00:00:00",0,0]
[null,null,null,null,null,null,null,0,"00:00:00","00:00:00",0,0,"00:00:00","00:00:00",0,0,"00:00:00","00:00:00",0,0,"00:00:00","00:00:00",0,0,"00:00:00","00:00:00",0,0,"00:00:00","00:00:00",0,0,"00:00:00","00:00:00",0,0,"00:00:00","00:00:00",0,0,"00:00:00","00:00:00",0,0,"00:00:00","00:00:00",0,0]
[null,null,null,null,null,null,null,0,"00:00:00","00:00:00",0,0,"00:00:00","00:00:00",0,0,"00:00:00","00:00:00",0,0,"00:00:00","00:00:00",0,0,"00:00:00","00:00:00",0,0,"00:00:00","00:00:00",0,0,"00:00:00","00:00:00",0,0,"00:00:00","00:00:00",0,0,"00:00:00","00:00:00",0,0,"00:00:00","00:00:00",0,0]
[null,null,null,null,null,null,null,0,"00:00:00","00:00:00",0,0,"00:00:00","00:00:00",0,0,"00:00:00","00:00:00",0,0,"00:00:00","00:00:00",0,0,"00:00:00","00:00:00",0,0,"00:00:00","00:00:00",0,0,"00:00:00","00:00:00",0,0,"00:00:00","00:00:00",0,0,"00:00:00","00:00:00",0,0,"00:00:00","00:00:00",0,0]
[null,null,null,null,null,null,null,0,"00:00:00","00:00:00",0,0,"00:00:00","00:00:00",0,0,"00:00:00","00:00:00",0,0,"00:00:00","00:00:00",0,0,"00:00:00","00:00:00",0,0,"00:00:00","00:00:00",0,0,"00:00:00","00:00:00",0,0,"00:00:00","00:00:00",0,0,"00:00:00","00:00:00",0,0,"00:00:00","00:00:00",0,0]
[null,null,null,null,null,null,null,0,"00:00:00","00:00:00",0,0,"00:00:00","00:00:00",0,0,"00:00:00","00:00:00",0,0,"00:00:00","00:00:00",0,0,"00:00:00","00:00:00",0,0,"00:00:00","00:00:00",0,0,"00:00:00","00:00:00",0,0,"00:00:00","00:00:00",0,0,"00:00:00","00:00:00",0,0,"00:00:00","00:00:00",0,0]
[null,null,null,null,null,null,null,0,"00:00:00","00:00:00",0,0,"00:00:00","00:00:00",0,0,"00:00:00","00:00:00",0,0,"00:00:00","00:00:00",0,0,"00:00:00","00:00:00",0,0,"00:00:00","00:00:00",0,0,"00:00:00","00:00:00",0,0,"00:00:00","00:00:00",0,0,"00:00:00","00:00:00",0,0,"00:00:00","00:00:00",0,0]
[null,null,null,null,null,null,null,0,"00:00:00","00:00:00",0,0,"00:00:00","00:00:00",0,0,"00:00:00","00:00:00",0,0,"00:00:00","00:00:00",0,0,"00:00:00","00:00:00",0,0,"00:00:00","00:00:00",0,0,"00:00:00","00:00:00",0,0,"00:00:00","00:00:00",0,0,"00:00:00","00:00:00",0,0,"00:00:00","00:00:00",0,0]
[null,null,null,null,null,null,null,0,"00:00:00","00:00:00",0,0,"00:00:00","00:00:00",0,0,"00:00:00","00:00:00",0,0,"00:00:00","00:00:00",0,0,"00:00:00","00:00:00",0,0,"00:00:00","00:00:00",0,0,"00:00:00","00:00:00",0,0,"00:00:00","00:00:00",0,0,"00:00:00","00:00:00",0,0,"00:00:00","00:00:00",0,0]
[null,null,null,null,null,null,null,0,"00:00:00","00:00:00",0,0,"00:00:00","00:00:00",0,0,"00:00:00","00:00:00",0,0,"00:00:00","00:00:00",0,0,"00:00:00","00:00:00",0,0,"00:00:00","00:00:00",0,0,"00:00:00","00:00:00",0,0,"00:00:00","00:00:00",0,0,"00:00:00","00:00:00",0,0,"00:00:00","00:00:00",0,0]
[null,null,null,null,null,null,null,0,"00:00:00","00:00:00",0,0,"00:00:00","00:00:00",0,0,"00:00:00","00:00:00",0,0,"00:00:00","00:00:00",0,0,"00:00:00","00:00:00",0,0,"00:00:00","00:00:00",0,0,"00:00:00","00:00:00",0,0,"00:00:00","00:00:00",0,0,"00:00:00","00:00:00",0,0,"00:00:00","00:00:00",0,0]
[null,null,null,null,null,null,null,0,"00:00:00","00:00:00",0,0,"00:00:00","00:00:00",0,0,"00:00:00","00:00:00",0,0,"00:00:00","00:00:00",0,0,"00:00:00","00:00:00",0,0,"00:00:00","00:00:00",0,0,"00:00:00","00:00:00",0,0,"00:00:00","00:00:00",0,0,"00:00:00","00:00:00",0,0,"00:00:00","00:00:00",0,0]
[null,null,null,null,null,null,null,0,"00:00:00","00:00:00",0,0,"00:00:00","00:00:00",0,0,"00:00:00","00:00:00",0,0,"00:00:00","00:00:00",0,0,"00:00:00","00:00:00",0,0,"00:00:00","00:00:00",0,0,"00:00:00","00:00:00",0,0,"00:00:00","00:00:00",0,0,"00:00:00","00:00:00",0,0,"00:00:00","00:00:00",0,0]
[null,null,null,null,null,null,null,0,"00:00:00","00:00:00",0,0,"00:00:00","00:00:00",0,0,"00:00:00","00:00:00",0,0,"00:00:00","00:00:00",0,0,"00:00:00","00:00:00",0,0,"00:00:00","00:00:00",0,0,"00:00:00","00:00:00",0,0,"00:00:00","00:00:00",0,0,"00:00:00","00:00:00",0,0,"00:00:00","00:00:00",0,0]
[null,null,null,null,null,null,null,0,"00:00:00","00:00:00",0,0,"00:00:00","00:00:00",0,0,"00:00:00","00:00:00",0,0,"00:00:00","00:00:00",0,0,"00:00:00","00:00:00",0,0,"00:00:00","00:00:00",0,0,"00:00:00","00:00:00",0,0,"00:00:00","00:00:00",0,0,"00:00:00","00:00:00",0,0,"00:00:00","00:00:00",0,0]
[null,null,null,null,null,null,null,0,"00:00:00","00:00:00",0,0,"00:00:00","00:00:00",0,0,"00:00:00","00:00:00",0,0,"00:00:00","00:00:00",0,0,"00:00:00","00:00:00",0,0,"00:00:00","00:00:00",0,0,"00:00:00","00:00:00",0,0,"00:00:00","00:00:00",0,0,"00:00:00","00:00:00",0,0,"00:00:00","00:00:00",0,0]
[null,null,null,null,null,null,null,0,"00:00:00","00:00:00",0,0,"00:00:00","00:00:00",0,0,"00:00:00","00:00:00",0,0,"00:00:00","00:00:00",0,0,"00:00:00","00:00:00",0,0,"00:00:00","00:00:00",0,0,"00:00:00","00:00:00",0,0,"00:00:00","00:00:00",0,0,"00:00:00","00:00:00",0,0,"00:00:00","00:00:00",0,0]
[null,null,null,null,null,null,null,0,"00:00:00","00:00:00",0,0,"00:00:00","00:00:00",0,0,"00:00:00","00:00:00",0,0,"00:00:00","00:00:00",0,0,"00:00:00","00:00:00",0,0,"00:00:00","00:00:00",0,0,"00:00:00","00:00:00",0,0,"00:00:00","00:00:00",0,0,"00:00:00","00:00:00",0,0,"00:00:00","00:00:00",0,0]
[null,null,null,null,null,null,null,0,"00:00:00","00:00:00",0,0,"00:00:00","00:00:00",0,0,"00:00:00","00:00:00",0,0,"00:00:00","00:00:00",0,0,"00:00:00","00:00:00",0,0,"00:00:00","00:00:00",0,0,"00:00:00","00:00:00",0,0,"00:00:00","00:00:00",0,0,"00:00:00","00:00:00",0,0,"00:00:00","00:00:00",0,0]
[null,null,null,null,null,null,null,0,"00:00:00","00:00:00",0,0,"00:00:00","00:00:00",0,0,"00:00:00","00:00:00",0,0,"00:00:00","00:00:00",0,0,"00:00:00","00:00:00",0,0,"00:00:00","00:00:00",0,0,"00:00:00","00:00:00",0,0,"00:00:00","00:00:00",0,0,"00:00:00","00:00:00",0,0,"00:00:00","00:00:00",0,0]
[null,null,null,null,null,null,null,0,"00:00:00","00:00:00",0,0,"00:00:00","00:00:00",0,0,"00:00:00","00:00:00",0,0,"00:00:00","00:00:00",0,0,"00:00:00","00:00:00",0,0,"00:00:00","00:00:00",0,0,"00:00:00","00:00:00",0,0,"00:00:00","00:00:00",0,0,"00:00:00","00:00:00",0,0,"00:00:00","00:00:00",0,0]
[null,null,null,null,null,null,null,{"$f":"IF(F141-E141=0,0,F141-E141+1)","v":0},{"$f":"IF(OR($F141<I$10,$E141>J$10),0,IF(AND($E141>=I$10,$F141<=J$10),$E141,IF(AND($E141<=I$10,$F141<=J$10),I$10,IF(AND($E141<=J$10,$F141>=J$10,$E141>=I$10),$E141,IF(AND($E141<=I$10,$F141>=J$10),I$10,\"chyba\")))))","v":"00:00:00"},{"$f":"IF(OR($F141<I$10,$E141>J$10),0,IF(AND($E141>=I$10,$F141<=J$10),$F141,IF(AND($E141<=I$10,$F141<=J$10),$F141,IF(AND($E141<=J$10,$F141>=J$10),J$10,IF(AND($E141<=I$10,$F141>=J$10),J$10,\"chyba\")))))","v":"00:00:00"},{"$f":"IF(J141-I141=0,0,J141-I141+1)","v":0},{"$f":"IF($H141<=0,0,$G141/$H141*K141)","v":0},{"$f":"IF(OR($F141<M$10,$E141>N$10),0,IF(AND($E141>=M$10,$F141<=N$10),$E141,IF(AND($E141<=M$10,$F141<=N$10),M$10,IF(AND($E141<=N$10,$F141>=N$10,$E141>=M$10),$E141,IF(AND($E141<=M$10,$F141>=N$10),M$10,\"chyba\")))))","v":"00:00:00"},{"$f":"IF(OR($F141<M$10,$E141>N$10),0,IF(AND($E141>=M$10,$F141<=N$10),$F141,IF(AND($E141<=M$10,$F141<=N$10),$F141,IF(AND($E141<=N$10,$F141>=N$10),N$10,IF(AND($E141<=M$10,$F141>=N$10),N$10,\"chyba\")))))","v":"00:00:00"},{"$f":"IF(N141-M141=0,0,N141-M141+1)","v":0},{"$f":"IF($H141<=0,0,$G141/$H141*O141)","v":0},{"$f":"IF(OR($F141<Q$10,$E141>R$10),0,IF(AND($E141>=Q$10,$F141<=R$10),$E141,IF(AND($E141<=Q$10,$F141<=R$10),Q$10,IF(AND($E141<=R$10,$F141>=R$10,$E141>=Q$10),$E141,IF(AND($E141<=Q$10,$F141>=R$10),Q$10,\"chyba\")))))","v":"00:00:00"},{"$f":"IF(OR($F141<Q$10,$E141>R$10),0,IF(AND($E141>=Q$10,$F141<=R$10),$F141,IF(AND($E141<=Q$10,$F141<=R$10),$F141,IF(AND($E141<=R$10,$F141>=R$10),R$10,IF(AND($E141<=Q$10,$F141>=R$10),R$10,\"chyba\")))))","v":"00:00:00"},{"$f":"IF(R141-Q141=0,0,R141-Q141+1)","v":0},{"$f":"IF($H141<=0,0,$G141/$H141*S141)","v":0},{"$f":"IF(OR($F141<U$10,$E141>V$10),0,IF(AND($E141>=U$10,$F141<=V$10),$E141,IF(AND($E141<=U$10,$F141<=V$10),U$10,IF(AND($E141<=V$10,$F141>=V$10,$E141>=U$10),$E141,IF(AND($E141<=U$10,$F141>=V$10),U$10,\"chyba\")))))","v":"00:00:00"},{"$f":"IF(OR($F141<U$10,$E141>V$10),0,IF(AND($E141>=U$10,$F141<=V$10),$F141,IF(AND($E141<=U$10,$F141<=V$10),$F141,IF(AND($E141<=V$10,$F141>=V$10),V$10,IF(AND($E141<=U$10,$F141>=V$10),V$10,\"chyba\")))))","v":"00:00:00"},{"$f":"IF(V141-U141=0,0,V141-U141+1)","v":0},{"$f":"IF($H141<=0,0,$G141/$H141*W141)","v":0},{"$f":"IF(OR($F141<Y$10,$E141>Z$10),0,IF(AND($E141>=Y$10,$F141<=Z$10),$E141,IF(AND($E141<=Y$10,$F141<=Z$10),Y$10,IF(AND($E141<=Z$10,$F141>=Z$10,$E141>=Y$10),$E141,IF(AND($E141<=Y$10,$F141>=Z$10),Y$10,\"chyba\")))))","v":"00:00:00"},{"$f":"IF(OR($F141<Y$10,$E141>Z$10),0,IF(AND($E141>=Y$10,$F141<=Z$10),$F141,IF(AND($E141<=Y$10,$F141<=Z$10),$F141,IF(AND($E141<=Z$10,$F141>=Z$10),Z$10,IF(AND($E141<=Y$10,$F141>=Z$10),Z$10,\"chyba\")))))","v":"00:00:00"},{"$f":"IF(Z141-Y141=0,0,Z141-Y141+1)","v":0},{"$f":"IF($H141<=0,0,$G141/$H141*AA141)","v":0},{"$f":"IF(OR($F141<AC$10,$E141>AD$10),0,IF(AND($E141>=AC$10,$F141<=AD$10),$E141,IF(AND($E141<=AC$10,$F141<=AD$10),AC$10,IF(AND($E141<=AD$10,$F141>=AD$10,$E141>=AC$10),$E141,IF(AND($E141<=AC$10,$F141>=AD$10),AC$10,\"chyba\")))))","v":"00:00:00"},{"$f":"IF(OR($F141<AC$10,$E141>AD$10),0,IF(AND($E141>=AC$10,$F141<=AD$10),$F141,IF(AND($E141<=AC$10,$F141<=AD$10),$F141,IF(AND($E141<=AD$10,$F141>=AD$10),AD$10,IF(AND($E141<=AC$10,$F141>=AD$10),AD$10,\"chyba\")))))","v":"00:00:00"},{"$f":"IF(AD141-AC141=0,0,AD141-AC141+1)","v":0},{"$f":"IF($H141<=0,0,$G141/$H141*AE141)","v":0},{"$f":"IF(OR($F141<AG$10,$E141>AH$10),0,IF(AND($E141>=AG$10,$F141<=AH$10),$E141,IF(AND($E141<=AG$10,$F141<=AH$10),AG$10,IF(AND($E141<=AH$10,$F141>=AH$10,$E141>=AG$10),$E141,IF(AND($E141<=AG$10,$F141>=AH$10),AG$10,\"chyba\")))))","v":"00:00:00"},{"$f":"IF(OR($F141<AG$10,$E141>AH$10),0,IF(AND($E141>=AG$10,$F141<=AH$10),$F141,IF(AND($E141<=AG$10,$F141<=AH$10),$F141,IF(AND($E141<=AH$10,$F141>=AH$10),AH$10,IF(AND($E141<=AG$10,$F141>=AH$10),AH$10,\"chyba\")))))","v":"00:00:00"},{"$f":"IF(AH141-AG141=0,0,AH141-AG141+1)","v":0},{"$f":"IF($H141<=0,0,$G141/$H141*AI141)","v":0},{"$f":"IF(OR($F141<AK$10,$E141>AL$10),0,IF(AND($E141>=AK$10,$F141<=AL$10),$E141,IF(AND($E141<=AK$10,$F141<=AL$10),AK$10,IF(AND($E141<=AL$10,$F141>=AL$10,$E141>=AK$10),$E141,IF(AND($E141<=AK$10,$F141>=AL$10),AK$10,\"chyba\")))))","v":"00:00:00"},{"$f":"IF(OR($F141<AK$10,$E141>AL$10),0,IF(AND($E141>=AK$10,$F141<=AL$10),$F141,IF(AND($E141<=AK$10,$F141<=AL$10),$F141,IF(AND($E141<=AL$10,$F141>=AL$10),AL$10,IF(AND($E141<=AK$10,$F141>=AL$10),AL$10,\"chyba\")))))","v":"00:00:00"},{"$f":"IF(AL141-AK141=0,0,AL141-AK141+1)","v":0},{"$f":"IF($H141<=0,0,$G141/$H141*AM141)","v":0},{"$f":"IF(OR($F141<AO$10,$E141>AP$10),0,IF(AND($E141>=AO$10,$F141<=AP$10),$E141,IF(AND($E141<=AO$10,$F141<=AP$10),AO$10,IF(AND($E141<=AP$10,$F141>=AP$10,$E141>=AO$10),$E141,IF(AND($E141<=AO$10,$F141>=AP$10),AO$10,\"chyba\")))))","v":"00:00:00"},{"$f":"IF(OR($F141<AO$10,$E141>AP$10),0,IF(AND($E141>=AO$10,$F141<=AP$10),$F141,IF(AND($E141<=AO$10,$F141<=AP$10),$F141,IF(AND($E141<=AP$10,$F141>=AP$10),AP$10,IF(AND($E141<=AO$10,$F141>=AP$10),AP$10,\"chyba\")))))","v":"00:00:00"},{"$f":"IF(AP141-AO141=0,0,AP141-AO141+1)","v":0},{"$f":"IF($H141<=0,0,$G141/$H141*AQ141)","v":0},{"$f":"IF(OR($F141<AS$10,$E141>AT$10),0,IF(AND($E141>=AS$10,$F141<=AT$10),$E141,IF(AND($E141<=AS$10,$F141<=AT$10),AS$10,IF(AND($E141<=AT$10,$F141>=AT$10,$E141>=AS$10),$E141,IF(AND($E141<=AS$10,$F141>=AT$10),AS$10,\"chyba\")))))","v":"00:00:00"},{"$f":"IF(OR($F141<AS$10,$E141>AT$10),0,IF(AND($E141>=AS$10,$F141<=AT$10),$F141,IF(AND($E141<=AS$10,$F141<=AT$10),$F141,IF(AND($E141<=AT$10,$F141>=AT$10),AT$10,IF(AND($E141<=AS$10,$F141>=AT$10),AT$10,\"chyba\")))))","v":"00:00:00"},{"$f":"IF(AT141-AS141=0,0,AT141-AS141+1)","v":0},{"$f":"IF($H141<=0,0,$G141/$H141*AU141)","v":0}]
[null,null,null,null,null,null,null,0,"00:00:00","00:00:00",0,0,"00:00:00","00:00:00",0,0,"00:00:00","00:00:00",0,0,"00:00:00","00:00:00",0,0,"00:00:00","00:00:00",0,0,"00:00:00","00:00:00",0,0,"00:00:00","00:00:00",0,0,"00:00:00","00:00:00",0,0,"00:00:00","00:00:00",0,0,"00:00:00","00:00:00",0,0]
[null,null,null,null,null,null,null,0,"00:00:00","00:00:00",0,0,"00:00:00","00:00:00",0,0,"00:00:00","00:00:00",0,0,"00:00:00","00:00:00",0,0,"00:00:00","00:00:00",0,0,"00:00:00","00:00:00",0,0,"00:00:00","00:00:00",0,0,"00:00:00","00:00:00",0,0,"00:00:00","00:00:00",0,0,"00:00:00","00:00:00",0,0]
[null,null,null,null,null,null,null,0,"00:00:00","00:00:00",0,0,"00:00:00","00:00:00",0,0,"00:00:00","00:00:00",0,0,"00:00:00","00:00:00",0,0,"00:00:00","00:00:00",0,0,"00:00:00","00:00:00",0,0,"00:00:00","00:00:00",0,0,"00:00:00","00:00:00",0,0,"00:00:00","00:00:00",0,0,"00:00:00","00:00:00",0,0]
[null,null,null,null,null,null,null,0,"00:00:00","00:00:00",0,0,"00:00:00","00:00:00",0,0,"00:00:00","00:00:00",0,0,"00:00:00","00:00:00",0,0,"00:00:00","00:00:00",0,0,"00:00:00","00:00:00",0,0,"00:00:00","00:00:00",0,0,"00:00:00","00:00:00",0,0,"00:00:00","00:00:00",0,0,"00:00:00","00:00:00",0,0]
[null,null,null,null,null,null,null,0,"00:00:00","00:00:00",0,0,"00:00:00","00:00:00",0,0,"00:00:00","00:00:00",0,0,"00:00:00","00:00:00",0,0,"00:00:00","00:00:00",0,0,"00:00:00","00:00:00",0,0,"00:00:00","00:00:00",0,0,"00:00:00","00:00:00",0,0,"00:00:00","00:00:00",0,0,"00:00:00","00:00:00",0,0]
[null,null,null,null,null,null,null,0,"00:00:00","00:00:00",0,0,"00:00:00","00:00:00",0,0,"00:00:00","00:00:00",0,0,"00:00:00","00:00:00",0,0,"00:00:00","00:00:00",0,0,"00:00:00","00:00:00",0,0,"00:00:00","00:00:00",0,0,"00:00:00","00:00:00",0,0,"00:00:00","00:00:00",0,0,"00:00:00","00:00:00",0,0]
[null,null,null,null,null,null,null,0,"00:00:00","00:00:00",0,0,"00:00:00","00:00:00",0,0,"00:00:00","00:00:00",0,0,"00:00:00","00:00:00",0,0,"00:00:00","00:00:00",0,0,"00:00:00","00:00:00",0,0,"00:00:00","00:00:00",0,0,"00:00:00","00:00:00",0,0,"00:00:00","00:00:00",0,0,"00:00:00","00:00:00",0,0]
[null,null,null,null,null,null,null,0,"00:00:00","00:00:00",0,0,"00:00:00","00:00:00",0,0,"00:00:00","00:00:00",0,0,"00:00:00","00:00:00",0,0,"00:00:00","00:00:00",0,0,"00:00:00","00:00:00",0,0,"00:00:00","00:00:00",0,0,"00:00:00","00:00:00",0,0,"00:00:00","00:00:00",0,0,"00:00:00","00:00:00",0,0]
[null,null,null,null,null,null,null,0,"00:00:00","00:00:00",0,0,"00:00:00","00:00:00",0,0,"00:00:00","00:00:00",0,0,"00:00:00","00:00:00",0,0,"00:00:00","00:00:00",0,0,"00:00:00","00:00:00",0,0,"00:00:00","00:00:00",0,0,"00:00:00","00:00:00",0,0,"00:00:00","00:00:00",0,0,"00:00:00","00:00:00",0,0]
[null,null,null,null,null,null,null,0,"00:00:00","00:00:00",0,0,"00:00:00","00:00:00",0,0,"00:00:00","00:00:00",0,0,"00:00:00","00:00:00",0,0,"00:00:00","00:00:00",0,0,"00:00:00","00:00:00",0,0,"00:00:00","00:00:00",0,0,"00:00:00","00:00:00",0,0,"00:00:00","00:00:00",0,0,"00:00:00","00:00:00",0,0]
[null,null,null,null,null,null,null,0,"00:00:00","00:00:00",0,0,"00:00:00","00:00:00",0,0,"00:00:00","00:00:00",0,0,"00:00:00","00:00:00",0,0,"00:00:00","00:00:00",0,0,"00:00:00","00:00:00",0,0,"00:00:00","00:00:00",0,0,"00:00:00","00:00:00",0,0,"00:00:00","00:00:00",0,0,"00:00:00","00:00:00",0,0]
[null,null,null,null,null,null,null,0,"00:00:00","00:00:00",0,0,"00:00:00","00:00:00",0,0,"00:00:00","00:00:00",0,0,"00:00:00","00:00:00",0,0,"00:00:00","00:00:00",0,0,"00:00:00","00:00:00",0,0,"00:00:00","00:00:00",0,0,"00:00:00","00:00:00",0,0,"00:00:00","00:00:00",0,0,"00:00:00","00:00:00",0,0]
[null,null,null,null,null,null,null,0,"00:00:00","00:00:00",0,0,"00:00:00","00:00:00",0,0,"00:00:00","00:00:00",0,0,"00:00:00","00:00:00",0,0,"00:00:00","00:00:00",0,0,"00:00:00","00:00:00",0,0,"00:00:00","00:00:00",0,0,"00:00:00","00:00:00",0,0,"00:00:00","00:00:00",0,0,"00:00:00","00:00:00",0,0]
[null,null,null,null,null,null,null,0,"00:00:00","00:00:00",0,0,"00:00:00","00:00:00",0,0,"00:00:00","00:00:00",0,0,"00:00:00","00:00:00",0,0,"00:00:00","00:00:00",0,0,"00:00:00","00:00:00",0,0,"00:00:00","00:00:00",0,0,"00:00:00","00:00:00",0,0,"00:00:00","00:00:00",0,0,"00:00:00","00:00:00",0,0]
[null,null,null,null,null,null,null,0,"00:00:00","00:00:00",0,0,"00:00:00","00:00:00",0,0,"00:00:00","00:00:00",0,0,"00:00:00","00:00:00",0,0,"00:00:00","00:00:00",0,0,"00:00:00","00:00:00",0,0,"00:00:00","00:00:00",0,0,"00:00:00","00:00:00",0,0,"00:00:00","00:00:00",0,0,"00:00:00","00:00:00",0,0]
[null,null,null,null,null,null,null,0,"00:00:00","00:00:00",0,0,"00:00:00","00:00:00",0,0,"00:00:00","00:00:00",0,0,"00:00:00","00:00:00",0,0,"00:00:00","00:00:00",0,0,"00:00:00","00:00:00",0,0,"00:00:00","00:00:00",0,0,"00:00:00","00:00:00",0,0,"00:00:00","00:00:00",0,0,"00:00:00","00:00:00",0,0]
[null,null,null,null,null,null,null,0,"00:00:00","00:00:00",0,0,"00:00:00","00:00:00",0,0,"00:00:00","00:00:00",0,0,"00:00:00","00:00:00",0,0,"00:00:00","00:00:00",0,0,"00:00:00","00:00:00",0,0,"00:00:00","00:00:00",0,0,"00:00:00","00:00:00",0,0,"00:00:00","00:00:00",0,0,"00:00:00","00:00:00",0,0]
[null,null,null,null,null,null,null,0,"00:00:00","00:00:00",0,0,"00:00:00","00:00:00",0,0,"00:00:00","00:00:00",0,0,"00:00:00","00:00:00",0,0,"00:00:00","00:00:00",0,0,"00:00:00","00:00:00",0,0,"00:00:00","00:00:00",0,0,"00:00:00","00:00:00",0,0,"00:00:00","00:00:00",0,0,"00:00:00","00:00:00",0,0]
[null,null,null,null,null,null,null,0,"00:00:00","00:00:00",0,0,"00:00:00","00:00:00",0,0,"00:00:00","00:00:00",0,0,"00:00:00","00:00:00",0,0,"00:00:00","00:00:00",0,0,"00:00:00","00:00:00",0,0,"00:00:00","00:00:00",0,0,"00:00:00","00:00:00",0,0,"00:00:00","00:00:00",0,0,"00:00:00","00:00:00",0,0]
[null,null,null,null,null,null,null,0,"00:00:00","00:00:00",0,0,"00:00:00","00:00:00",0,0,"00:00:00","00:00:00",0,0,"00:00:00","00:00:00",0,0,"00:00:00","00:00:00",0,0,"00:00:00","00:00:00",0,0,"00:00:00","00:00:00",0,0,"00:00:00","00:00:00",0,0,"00:00:00","00:00:00",0,0,"00:00:00","00:00:00",0,0]
[null,null,null,null,null,null,null,0,"00:00:00","00:00:00",0,0,"00:00:00","00:00:00",0,0,"00:00:00","00:00:00",0,0,"00:00:00","00:00:00",0,0,"00:00:00","00:00:00",0,0,"00:00:00","00:00:00",0,0,"00:00:00","00:00:00",0,0,"00:00:00","00:00:00",0,0,"00:00:00","00:00:00",0,0,"00:00:00","00:00:00",0,0]
[null,null,null,null,null,null,null,0,"00:00:00","00:00:00",0,0,"00:00:00","00:00:00",0,0,"00:00:00","00:00:00",0,0,"00:00:00","00:00:00",0,0,"00:00:00","00:00:00",0,0,"00:00:00","00:00:00",0,0,"00:00:00","00:00:00",0,0,"00:00:00","00:00:00",0,0,"00:00:00","00:00:00",0,0,"00:00:00","00:00:00",0,0]
[null,null,null,null,null,null,null,0,"00:00:00","00:00:00",0,0,"00:00:00","00:00:00",0,0,"00:00:00","00:00:00",0,0,"00:00:00","00:00:00",0,0,"00:00:00","00:00:00",0,0,"00:00:00","00:00:00",0,0,"00:00:00","00:00:00",0,0,"00:00:00","00:00:00",0,0,"00:00:00","00:00:00",0,0,"00:00:00","00:00:00",0,0]
[null,null,null,null,null,null,null,0,"00:00:00","00:00:00",0,0,"00:00:00","00:00:00",0,0,"00:00:00","00:00:00",0,0,"00:00:00","00:00:00",0,0,"00:00:00","00:00:00",0,0,"00:00:00","00:00:00",0,0,"00:00:00","00:00:00",0,0,"00:00:00","00:00:00",0,0,"00:00:00","00:00:00",0,0,"00:00:00","00:00:00",0,0]
[null,null,null,null,null,null,null,0,"00:00:00","00:00:00",0,0,"00:00:00","00:00:00",0,0,"00:00:00","00:00:00",0,0,"00:00:00","00:00:00",0,0,"00:00:00","00:00:00",0,0,"00:00:00","00:00:00",0,0,"00:00:00","00:00:00",0,0,"00:00:00","00:00:00",0,0,"00:00:00","00:00:00",0,0,"00:00:00","00:00:00",0,0]
[null,null,null,null,null,null,null,0,"00:00:00","00:00:00",0,0,"00:00:00","00:00:00",0,0,"00:00:00","00:00:00",0,0,"00:00:00","00:00:00",0,0,"00:00:00","00:00:00",0,0,"00:00:00","00:00:00",0,0,"00:00:00","00:00:00",0,0,"00:00:00","00:00:00",0,0,"00:00:00","00:00:00",0,0,"00:00:00","00:00:00",0,0]
[null,null,null,null,null,null,null,0,"00:00:00","00:00:00",0,0,"00:00:00","00:00:00",0,0,"00:00:00","00:00:00",0,0,"00:00:00","00:00:00",0,0,"00:00:00","00:00:00",0,0,"00:00:00","00:00:00",0,0,"00:00:00","00:00:00",0,0,"00:00:00","00:00:00",0,0,"00:00:00","00:00:00",0,0,"00:00:00","00:00:00",0,0]
[null,null,null,null,null,null,null,0,"00:00:00","00:00:00",0,0,"00:00:00","00:00:00",0,0,"00:00:00","00:00:00",0,0,"00:00:00","00:00:00",0,0,"00:00:00","00:00:00",0,0,"00:00:00","00:00:00",0,0,"00:00:00","00:00:00",0,0,"00:00:00","00:00:00",0,0,"00:00:00","00:00:00",0,0,"00:00:00","00:00:00",0,0]
[null,null,null,null,null,null,null,0,"00:00:00","00:00:00",0,0,"00:00:00","00:00:00",0,0,"00:00:00","00:00:00",0,0,"00:00:00","00:00:00",0,0,"00:00:00","00:00:00",0,0,"00:00:00","00:00:00",0,0,"00:00:00","00:00:00",0,0,"00:00:00","00:00:00",0,0,"00:00:00","00:00:00",0,0,"00:00:00","00:00:00",0,0]
[null,null,null,null,null,null,null,0,"00:00:00","00:00:00",0,0,"00:00:00","00:00:00",0,0,"00:00:00","00:00:00",0,0,"00:00:00","00:00:00",0,0,"00:00:00","00:00:00",0,0,"00:00:00","00:00:00",0,0,"00:00:00","00:00:00",0,0,"00:00:00","00:00:00",0,0,"00:00:00","00:00:00",0,0,"00:00:00","00:00:00",0,0]
[null,null,null,null,null,null,null,0,"00:00:00","00:00:00",0,0,"00:00:00","00:00:00",0,0,"00:00:00","00:00:00",0,0,"00:00:00","00:00:00",0,0,"00:00:00","00:00:00",0,0,"00:00:00","00:00:00",0,0,"00:00:00","00:00:00",0,0,"00:00:00","00:00:00",0,0,"00:00:00","00:00:00",0,0,"00:00:00","00:00:00",0,0]
[null,null,null,null,null,null,null,0,"00:00:00","00:00:00",0,0,"00:00:00","00:00:00",0,0,"00:00:00","00:00:00",0,0,"00:00:00","00:00:00",0,0,"00:00:00","00:00:00",0,0,"00:00:00","00:00:00",0,0,"00:00:00","00:00:00",0,0,"00:00:00","00:00:00",0,0,"00:00:00","00:00:00",0,0,"00:00:00","00:00:00",0,0]
[null,null,null,null,null,null,null,0,"00:00:00","00:00:00",0,0,"00:00:00","00:00:00",0,0,"00:00:00","00:00:00",0,0,"00:00:00","00:00:00",0,0,"00:00:00","00:00:00",0,0,"00:00:00","00:00:00",0,0,"00:00:00","00:00:00",0,0,"00:00:00","00:00:00",0,0,"00:00:00","00:00:00",0,0,"00:00:00","00:00:00",0,0]
[null,null,null,null,null,null,null,0,"00:00:00","00:00:00",0,0,"00:00:00","00:00:00",0,0,"00:00:00","00:00:00",0,0,"00:00:00","00:00:00",0,0,"00:00:00","00:00:00",0,0,"00:00:00","00:00:00",0,0,"00:00:00","00:00:00",0,0,"00:00:00","00:00:00",0,0,"00:00:00","00:00:00",0,0,"00:00:00","00:00:00",0,0]
[null,null,null,null,null,null,null,0,"00:00:00","00:00:00",0,0,"00:00:00","00:00:00",0,0,"00:00:00","00:00:00",0,0,"00:00:00","00:00:00",0,0,"00:00:00","00:00:00",0,0,"00:00:00","00:00:00",0,0,"00:00:00","00:00:00",0,0,"00:00:00","00:00:00",0,0,"00:00:00","00:00:00",0,0,"00:00:00","00:00:00",0,0]
[null,null,null,null,null,null,null,0,"00:00:00","00:00:00",0,0,"00:00:00","00:00:00",0,0,"00:00:00","00:00:00",0,0,"00:00:00","00:00:00",0,0,"00:00:00","00:00:00",0,0,"00:00:00","00:00:00",0,0,"00:00:00","00:00:00",0,0,"00:00:00","00:00:00",0,0,"00:00:00","00:00:00",0,0,"00:00:00","00:00:00",0,0]
[null,null,null,null,null,null,null,0,"00:00:00","00:00:00",0,0,"00:00:00","00:00:00",0,0,"00:00:00","00:00:00",0,0,"00:00:00","00:00:00",0,0,"00:00:00","00:00:00",0,0,"00:00:00","00:00:00",0,0,"00:00:00","00:00:00",0,0,"00:00:00","00:00:00",0,0,"00:00:00","00:00:00",0,0,"00:00:00","00:00:00",0,0]
[null,null,null,null,null,null,null,0,"00:00:00","00:00:00",0,0,"00:00:00","00:00:00",0,0,"00:00:00","00:00:00",0,0,"00:00:00","00:00:00",0,0,"00:00:00","00:00:00",0,0,"00:00:00","00:00:00",0,0,"00:00:00","00:00:00",0,0,"00:00:00","00:00:00",0,0,"00:00:00","00:00:00",0,0,"00:00:00","00:00:00",0,0]
[null,null,null,null,null,null,null,0,"00:00:00","00:00:00",0,0,"00:00:00","00:00:00",0,0,"00:00:00","00:00:00",0,0,"00:00:00","00:00:00",0,0,"00:00:00","00:00:00",0,0,"00:00:00","00:00:00",0,0,"00:00:00","00:00:00",0,0,"00:00:00","00:00:00",0,0,"00:00:00","00:00:00",0,0,"00:00:00","00:00:00",0,0]
[null,null,null,null,null,null,null,0,"00:00:00","00:00:00",0,0,"00:00:00","00:00:00",0,0,"00:00:00","00:00:00",0,0,"00:00:00","00:00:00",0,0,"00:00:00","00:00:00",0,0,"00:00:00","00:00:00",0,0,"00:00:00","00:00:00",0,0,"00:00:00","00:00:00",0,0,"00:00:00","00:00:00",0,0,"00:00:00","00:00:00",0,0]
[null,null,null,null,null,null,null,0,"00:00:00","00:00:00",0,0,"00:00:00","00:00:00",0,0,"00:00:00","00:00:00",0,0,"00:00:00","00:00:00",0,0,"00:00:00","00:00:00",0,0,"00:00:00","00:00:00",0,0,"00:00:00","00:00:00",0,0,"00:00:00","00:00:00",0,0,"00:00:00","00:00:00",0,0,"00:00:00","00:00:00",0,0]
[null,null,null,null,null,null,null,0,"00:00:00","00:00:00",0,0,"00:00:00","00:00:00",0,0,"00:00:00","00:00:00",0,0,"00:00:00","00:00:00",0,0,"00:00:00","00:00:00",0,0,"00:00:00","00:00:00",0,0,"00:00:00","00:00:00",0,0,"00:00:00","00:00:00",0,0,"00:00:00","00:00:00",0,0,"00:00:00","00:00:00",0,0]
[null,null,null,null,null,null,null,0,"00:00:00","00:00:00",0,0,"00:00:00","00:00:00",0,0,"00:00:00","00:00:00",0,0,"00:00:00","00:00:00",0,0,"00:00:00","00:00:00",0,0,"00:00:00","00:00:00",0,0,"00:00:00","00:00:00",0,0,"00:00:00","00:00:00",0,0,"00:00:00","00:00:00",0,0,"00:00:00","00:00:00",0,0]
[null,null,null,null,null,null,null,0,"00:00:00","00:00:00",0,0,"00:00:00","00:00:00",0,0,"00:00:00","00:00:00",0,0,"00:00:00","00:00:00",0,0,"00:00:00","00:00:00",0,0,"00:00:00","00:00:00",0,0,"00:00:00","00:00:00",0,0,"00:00:00","00:00:00",0,0,"00:00:00","00:00:00",0,0,"00:00:00","00:00:00",0,0]
[null,null,null,null,null,null,null,0,"00:00:00","00:00:00",0,0,"00:00:00","00:00:00",0,0,"00:00:00","00:00:00",0,0,"00:00:00","00:00:00",0,0,"00:00:00","00:00:00",0,0,"00:00:00","00:00:00",0,0,"00:00:00","00:00:00",0,0,"00:00:00","00:00:00",0,0,"00:00:00","00:00:00",0,0,"00:00:00","00:00:00",0,0]
[null,null,null,null,null,null,null,0,"00:00:00","00:00:00",0,0,"00:00:00","00:00:00",0,0,"00:00:00","00:00:00",0,0,"00:00:00","00:00:00",0,0,"00:00:00","00:00:00",0,0,"00:00:00","00:00:00",0,0,"00:00:00","00:00:00",0,0,"00:00:00","00:00:00",0,0,"00:00:00","00:00:00",0,0,"00:00:00","00:00:00",0,0]
[null,null,null,null,null,null,null,0,"00:00:00","00:00:00",0,0,"00:00:00","00:00:00",0,0,"00:00:00","00:00:00",0,0,"00:00:00","00:00:00",0,0,"00:00:00","00:00:00",0,0,"00:00:00","00:00:00",0,0,"00:00:00","00:00:00",0,0,"00:00:00","00:00:00",0,0,"00:00:00","00:00:00",0,0,"00:00:00","00:00:00",0,0]
[null,null,null,null,null,null,null,0,"00:00:00","00:00:00",0,0,"00:00:00","00:00:00",0,0,"00:00:00","00:00:00",0,0,"00:00:00","00:00:00",0,0,"00:00:00","00:00:00",0,0,"00:00:00","00:00:00",0,0,"00:00:00","00:00:00",0,0,"00:00:00","00:00:00",0,0,"00:00:00","00:00:00",0,0,"00:00:00","00:00:00",0,0]
[null,null,null,null,null,null,null,0,"00:00:00","00:00:00",0,0,"00:00:00","00:00:00",0,0,"00:00:00","00:00:00",0,0,"00:00:00","00:00:00",0,0,"00:00:00","00:00:00",0,0,"00:00:00","00:00:00",0,0,"00:00:00","00:00:00",0,0,"00:00:00","00:00:00",0,0,"00:00:00","00:00:00",0,0,"00:00:00","00:00:00",0,0]
[null,null,null,null,null,null,null,0,"00:00:00","00:00:00",0,0,"00:00:00","00:00:00",0,0,"00:00:00","00:00:00",0,0,"00:00:00","00:00:00",0,0,"00:00:00","00:00:00",0,0,"00:00:00","00:00:00",0,0,"00:00:00","00:00:00",0,0,"00:00:00","00:00:00",0,0,"00:00:00","00:00:00",0,0,"00:00:00","00:00:00",0,0]
[null,null,null,null,null,null,null,0,"00:00:00","00:00:00",0,0,"00:00:00","00:00:00",0,0,"00:00:00","00:00:00",0,0,"00:00:00","00:00:00",0,0,"00:00:00","00:00:00",0,0,"00:00:00","00:00:00",0,0,"00:00:00","00:00:00",0,0,"00:00:00","00:00:00",0,0,"00:00:00","00:00:00",0,0,"00:00:00","00:00:00",0,0]
[null,null,null,null,null,null,null,0,"00:00:00","00:00:00",0,0,"00:00:00","00:00:00",0,0,"00:00:00","00:00:00",0,0,"00:00:00","00:00:00",0,0,"00:00:00","00:00:00",0,0,"00:00:00","00:00:00",0,0,"00:00:00","00:00:00",0,0,"00:00:00","00:00:00",0,0,"00:00:00","00:00:00",0,0,"00:00:00","00:00:00",0,0]
[null,null,null,null,null,null,null,0,"00:00:00","00:00:00",0,0,"00:00:00","00:00:00",0,0,"00:00:00","00:00:00",0,0,"00:00:00","00:00:00",0,0,"00:00:00","00:00:00",0,0,"00:00:00","00:00:00",0,0,"00:00:00","00:00:00",0,0,"00:00:00","00:00:00",0,0,"00:00:00","00:00:00",0,0,"00:00:00","00:00:00",0,0]
[null,null,null,null,null,null,null,0,"00:00:00","00:00:00",0,0,"00:00:00","00:00:00",0,0,"00:00:00","00:00:00",0,0,"00:00:00","00:00:00",0,0,"00:00:00","00:00:00",0,0,"00:00:00","00:00:00",0,0,"00:00:00","00:00:00",0,0,"00:00:00","00:00:00",0,0,"00:00:00","00:00:00",0,0,"00:00:00","00:00:00",0,0]
[null,null,null,null,null,null,null,0,"00:00:00","00:00:00",0,0,"00:00:00","00:00:00",0,0,"00:00:00","00:00:00",0,0,"00:00:00","00:00:00",0,0,"00:00:00","00:00:00",0,0,"00:00:00","00:00:00",0,0,"00:00:00","00:00:00",0,0,"00:00:00","00:00:00",0,0,"00:00:00","00:00:00",0,0,"00:00:00","00:00:00",0,0]
[null,null,null,null,null,null,null,0,"00:00:00","00:00:00",0,0,"00:00:00","00:00:00",0,0,"00:00:00","00:00:00",0,0,"00:00:00","00:00:00",0,0,"00:00:00","00:00:00",0,0,"00:00:00","00:00:00",0,0,"00:00:00","00:00:00",0,0,"00:00:00","00:00:00",0,0,"00:00:00","00:00:00",0,0,"00:00:00","00:00:00",0,0]
[null,null,null,null,null,null,null,0,"00:00:00","00:00:00",0,0,"00:00:00","00:00:00",0,0,"00:00:00","00:00:00",0,0,"00:00:00","00:00:00",0,0,"00:00:00","00:00:00",0,0,"00:00:00","00:00:00",0,0,"00:00:00","00:00:00",0,0,"00:00:00","00:00:00",0,0,"00:00:00","00:00:00",0,0,"00:00:00","00:00:00",0,0]
[null,null,null,null,null,null,null,0,"00:00:00","00:00:00",0,0,"00:00:00","00:00:00",0,0,"00:00:00","00:00:00",0,0,"00:00:00","00:00:00",0,0,"00:00:00","00:00:00",0,0,"00:00:00","00:00:00",0,0,"00:00:00","00:00:00",0,0,"00:00:00","00:00:00",0,0,"00:00:00","00:00:00",0,0,"00:00:00","00:00:00",0,0]
[null,null,null,null,null,null,null,0,"00:00:00","00:00:00",0,0,"00:00:00","00:00:00",0,0,"00:00:00","00:00:00",0,0,"00:00:00","00:00:00",0,0,"00:00:00","00:00:00",0,0,"00:00:00","00:00:00",0,0,"00:00:00","00:00:00",0,0,"00:00:00","00:00:00",0,0,"00:00:00","00:00:00",0,0,"00:00:00","00:00:00",0,0]
[null,null,null,null,null,null,null,0,"00:00:00","00:00:00",0,0,"00:00:00","00:00:00",0,0,"00:00:00","00:00:00",0,0,"00:00:00","00:00:00",0,0,"00:00:00","00:00:00",0,0,"00:00:00","00:00:00",0,0,"00:00:00","00:00:00",0,0,"00:00:00","00:00:00",0,0,"00:00:00","00:00:00",0,0,"00:00:00","00:00:00",0,0]
[null,null,null,null,null,null,null,0,"00:00:00","00:00:00",0,0,"00:00:00","00:00:00",0,0,"00:00:00","00:00:00",0,0,"00:00:00","00:00:00",0,0,"00:00:00","00:00:00",0,0,"00:00:00","00:00:00",0,0,"00:00:00","00:00:00",0,0,"00:00:00","00:00:00",0,0,"00:00:00","00:00:00",0,0,"00:00:00","00:00:00",0,0]
[null,null,null,null,null,null,null,0,"00:00:00","00:00:00",0,0,"00:00:00","00:00:00",0,0,"00:00:00","00:00:00",0,0,"00:00:00","00:00:00",0,0,"00:00:00","00:00:00",0,0,"00:00:00","00:00:00",0,0,"00:00:00","00:00:00",0,0,"00:00:00","00:00:00",0,0,"00:00:00","00:00:00",0,0,"00:00:00","00:00:00",0,0]
[null,null,null,null,null,null,null,0,"00:00:00","00:00:00",0,0,"00:00:00","00:00:00",0,0,"00:00:00","00:00:00",0,0,"00:00:00","00:00:00",0,0,"00:00:00","00:00:00",0,0,"00:00:00","00:00:00",0,0,"00:00:00","00:00:00",0,0,"00:00:00","00:00:00",0,0,"00:00:00","00:00:00",0,0,"00:00:00","00:00:00",0,0]
[null,null,null,null,null,null,null,{"$f":"IF(F205-E205=0,0,F205-E205+1)","v":0},{"$f":"IF(OR($F205<I$10,$E205>J$10),0,IF(AND($E205>=I$10,$F205<=J$10),$E205,IF(AND($E205<=I$10,$F205<=J$10),I$10,IF(AND($E205<=J$10,$F205>=J$10,$E205>=I$10),$E205,IF(AND($E205<=I$10,$F205>=J$10),I$10,\"chyba\")))))","v":"00:00:00"},{"$f":"IF(OR($F205<I$10,$E205>J$10),0,IF(AND($E205>=I$10,$F205<=J$10),$F205,IF(AND($E205<=I$10,$F205<=J$10),$F205,IF(AND($E205<=J$10,$F205>=J$10),J$10,IF(AND($E205<=I$10,$F205>=J$10),J$10,\"chyba\")))))","v":"00:00:00"},{"$f":"IF(J205-I205=0,0,J205-I205+1)","v":0},{"$f":"IF($H205<=0,0,$G205/$H205*K205)","v":0},{"$f":"IF(OR($F205<M$10,$E205>N$10),0,IF(AND($E205>=M$10,$F205<=N$10),$E205,IF(AND($E205<=M$10,$F205<=N$10),M$10,IF(AND($E205<=N$10,$F205>=N$10,$E205>=M$10),$E205,IF(AND($E205<=M$10,$F205>=N$10),M$10,\"chyba\")))))","v":"00:00:00"},{"$f":"IF(OR($F205<M$10,$E205>N$10),0,IF(AND($E205>=M$10,$F205<=N$10),$F205,IF(AND($E205<=M$10,$F205<=N$10),$F205,IF(AND($E205<=N$10,$F205>=N$10),N$10,IF(AND($E205<=M$10,$F205>=N$10),N$10,\"chyba\")))))","v":"00:00:00"},{"$f":"IF(N205-M205=0,0,N205-M205+1)","v":0},{"$f":"IF($H205<=0,0,$G205/$H205*O205)","v":0},{"$f":"IF(OR($F205<Q$10,$E205>R$10),0,IF(AND($E205>=Q$10,$F205<=R$10),$E205,IF(AND($E205<=Q$10,$F205<=R$10),Q$10,IF(AND($E205<=R$10,$F205>=R$10,$E205>=Q$10),$E205,IF(AND($E205<=Q$10,$F205>=R$10),Q$10,\"chyba\")))))","v":"00:00:00"},{"$f":"IF(OR($F205<Q$10,$E205>R$10),0,IF(AND($E205>=Q$10,$F205<=R$10),$F205,IF(AND($E205<=Q$10,$F205<=R$10),$F205,IF(AND($E205<=R$10,$F205>=R$10),R$10,IF(AND($E205<=Q$10,$F205>=R$10),R$10,\"chyba\")))))","v":"00:00:00"},{"$f":"IF(R205-Q205=0,0,R205-Q205+1)","v":0},{"$f":"IF($H205<=0,0,$G205/$H205*S205)","v":0},{"$f":"IF(OR($F205<U$10,$E205>V$10),0,IF(AND($E205>=U$10,$F205<=V$10),$E205,IF(AND($E205<=U$10,$F205<=V$10),U$10,IF(AND($E205<=V$10,$F205>=V$10,$E205>=U$10),$E205,IF(AND($E205<=U$10,$F205>=V$10),U$10,\"chyba\")))))","v":"00:00:00"},{"$f":"IF(OR($F205<U$10,$E205>V$10),0,IF(AND($E205>=U$10,$F205<=V$10),$F205,IF(AND($E205<=U$10,$F205<=V$10),$F205,IF(AND($E205<=V$10,$F205>=V$10),V$10,IF(AND($E205<=U$10,$F205>=V$10),V$10,\"chyba\")))))","v":"00:00:00"},{"$f":"IF(V205-U205=0,0,V205-U205+1)","v":0},{"$f":"IF($H205<=0,0,$G205/$H205*W205)","v":0},{"$f":"IF(OR($F205<Y$10,$E205>Z$10),0,IF(AND($E205>=Y$10,$F205<=Z$10),$E205,IF(AND($E205<=Y$10,$F205<=Z$10),Y$10,IF(AND($E205<=Z$10,$F205>=Z$10,$E205>=Y$10),$E205,IF(AND($E205<=Y$10,$F205>=Z$10),Y$10,\"chyba\")))))","v":"00:00:00"},{"$f":"IF(OR($F205<Y$10,$E205>Z$10),0,IF(AND($E205>=Y$10,$F205<=Z$10),$F205,IF(AND($E205<=Y$10,$F205<=Z$10),$F205,IF(AND($E205<=Z$10,$F205>=Z$10),Z$10,IF(AND($E205<=Y$10,$F205>=Z$10),Z$10,\"chyba\")))))","v":"00:00:00"},{"$f":"IF(Z205-Y205=0,0,Z205-Y205+1)","v":0},{"$f":"IF($H205<=0,0,$G205/$H205*AA205)","v":0},{"$f":"IF(OR($F205<AC$10,$E205>AD$10),0,IF(AND($E205>=AC$10,$F205<=AD$10),$E205,IF(AND($E205<=AC$10,$F205<=AD$10),AC$10,IF(AND($E205<=AD$10,$F205>=AD$10,$E205>=AC$10),$E205,IF(AND($E205<=AC$10,$F205>=AD$10),AC$10,\"chyba\")))))","v":"00:00:00"},{"$f":"IF(OR($F205<AC$10,$E205>AD$10),0,IF(AND($E205>=AC$10,$F205<=AD$10),$F205,IF(AND($E205<=AC$10,$F205<=AD$10),$F205,IF(AND($E205<=AD$10,$F205>=AD$10),AD$10,IF(AND($E205<=AC$10,$F205>=AD$10),AD$10,\"chyba\")))))","v":"00:00:00"},{"$f":"IF(AD205-AC205=0,0,AD205-AC205+1)","v":0},{"$f":"IF($H205<=0,0,$G205/$H205*AE205)","v":0},{"$f":"IF(OR($F205<AG$10,$E205>AH$10),0,IF(AND($E205>=AG$10,$F205<=AH$10),$E205,IF(AND($E205<=AG$10,$F205<=AH$10),AG$10,IF(AND($E205<=AH$10,$F205>=AH$10,$E205>=AG$10),$E205,IF(AND($E205<=AG$10,$F205>=AH$10),AG$10,\"chyba\")))))","v":"00:00:00"},{"$f":"IF(OR($F205<AG$10,$E205>AH$10),0,IF(AND($E205>=AG$10,$F205<=AH$10),$F205,IF(AND($E205<=AG$10,$F205<=AH$10),$F205,IF(AND($E205<=AH$10,$F205>=AH$10),AH$10,IF(AND($E205<=AG$10,$F205>=AH$10),AH$10,\"chyba\")))))","v":"00:00:00"},{"$f":"IF(AH205-AG205=0,0,AH205-AG205+1)","v":0},{"$f":"IF($H205<=0,0,$G205/$H205*AI205)","v":0},{"$f":"IF(OR($F205<AK$10,$E205>AL$10),0,IF(AND($E205>=AK$10,$F205<=AL$10),$E205,IF(AND($E205<=AK$10,$F205<=AL$10),AK$10,IF(AND($E205<=AL$10,$F205>=AL$10,$E205>=AK$10),$E205,IF(AND($E205<=AK$10,$F205>=AL$10),AK$10,\"chyba\")))))","v":"00:00:00"},{"$f":"IF(OR($F205<AK$10,$E205>AL$10),0,IF(AND($E205>=AK$10,$F205<=AL$10),$F205,IF(AND($E205<=AK$10,$F205<=AL$10),$F205,IF(AND($E205<=AL$10,$F205>=AL$10),AL$10,IF(AND($E205<=AK$10,$F205>=AL$10),AL$10,\"chyba\")))))","v":"00:00:00"},{"$f":"IF(AL205-AK205=0,0,AL205-AK205+1)","v":0},{"$f":"IF($H205<=0,0,$G205/$H205*AM205)","v":0},{"$f":"IF(OR($F205<AO$10,$E205>AP$10),0,IF(AND($E205>=AO$10,$F205<=AP$10),$E205,IF(AND($E205<=AO$10,$F205<=AP$10),AO$10,IF(AND($E205<=AP$10,$F205>=AP$10,$E205>=AO$10),$E205,IF(AND($E205<=AO$10,$F205>=AP$10),AO$10,\"chyba\")))))","v":"00:00:00"},{"$f":"IF(OR($F205<AO$10,$E205>AP$10),0,IF(AND($E205>=AO$10,$F205<=AP$10),$F205,IF(AND($E205<=AO$10,$F205<=AP$10),$F205,IF(AND($E205<=AP$10,$F205>=AP$10),AP$10,IF(AND($E205<=AO$10,$F205>=AP$10),AP$10,\"chyba\")))))","v":"00:00:00"},{"$f":"IF(AP205-AO205=0,0,AP205-AO205+1)","v":0},{"$f":"IF($H205<=0,0,$G205/$H205*AQ205)","v":0},{"$f":"IF(OR($F205<AS$10,$E205>AT$10),0,IF(AND($E205>=AS$10,$F205<=AT$10),$E205,IF(AND($E205<=AS$10,$F205<=AT$10),AS$10,IF(AND($E205<=AT$10,$F205>=AT$10,$E205>=AS$10),$E205,IF(AND($E205<=AS$10,$F205>=AT$10),AS$10,\"chyba\")))))","v":"00:00:00"},{"$f":"IF(OR($F205<AS$10,$E205>AT$10),0,IF(AND($E205>=AS$10,$F205<=AT$10),$F205,IF(AND($E205<=AS$10,$F205<=AT$10),$F205,IF(AND($E205<=AT$10,$F205>=AT$10),AT$10,IF(AND($E205<=AS$10,$F205>=AT$10),AT$10,\"chyba\")))))","v":"00:00:00"},{"$f":"IF(AT205-AS205=0,0,AT205-AS205+1)","v":0},{"$f":"IF($H205<=0,0,$G205/$H205*AU205)","v":0}]
[null,null,null,null,null,null,null,0,"00:00:00","00:00:00",0,0,"00:00:00","00:00:00",0,0,"00:00:00","00:00:00",0,0,"00:00:00","00:00:00",0,0,"00:00:00","00:00:00",0,0,"00:00:00","00:00:00",0,0,"00:00:00","00:00:00",0,0,"00:00:00","00:00:00",0,0,"00:00:00","00:00:00",0,0,"00:00:00","00:00:00",0,0]
[null,null,null,null,null,null,null,0,"00:00:00","00:00:00",0,0,"00:00:00","00:00:00",0,0,"00:00:00","00:00:00",0,0,"00:00:00","00:00:00",0,0,"00:00:00","00:00:00",0,0,"00:00:00","00:00:00",0,0,"00:00:00","00:00:00",0,0,"00:00:00","00:00:00",0,0,"00:00:00","00:00:00",0,0,"00:00:00","00:00:00",0,0]
[null,null,null,null,null,null,null,0,"00:00:00","00:00:00",0,0,"00:00:00","00:00:00",0,0,"00:00:00","00:00:00",0,0,"00:00:00","00:00:00",0,0,"00:00:00","00:00:00",0,0,"00:00:00","00:00:00",0,0,"00:00:00","00:00:00",0,0,"00:00:00","00:00:00",0,0,"00:00:00","00:00:00",0,0,"00:00:00","00:00:00",0,0]
[null,null,null,null,null,null,null,0,"00:00:00","00:00:00",0,0,"00:00:00","00:00:00",0,0,"00:00:00","00:00:00",0,0,"00:00:00","00:00:00",0,0,"00:00:00","00:00:00",0,0,"00:00:00","00:00:00",0,0,"00:00:00","00:00:00",0,0,"00:00:00","00:00:00",0,0,"00:00:00","00:00:00",0,0,"00:00:00","00:00:00",0,0]
[null,null,null,null,null,null,null,0,"00:00:00","00:00:00",0,0,"00:00:00","00:00:00",0,0,"00:00:00","00:00:00",0,0,"00:00:00","00:00:00",0,0,"00:00:00","00:00:00",0,0,"00:00:00","00:00:00",0,0,"00:00:00","00:00:00",0,0,"00:00:00","00:00:00",0,0,"00:00:00","00:00:00",0,0,"00:00:00","00:00:00",0,0]
[null,null,null,null,null,null,null,0,"00:00:00","00:00:00",0,0,"00:00:00","00:00:00",0,0,"00:00:00","00:00:00",0,0,"00:00:00","00:00:00",0,0,"00:00:00","00:00:00",0,0,"00:00:00","00:00:00",0,0,"00:00:00","00:00:00",0,0,"00:00:00","00:00:00",0,0,"00:00:00","00:00:00",0,0,"00:00:00","00:00:00",0,0]
[null,null,null,null,null,null,null,0,"00:00:00","00:00:00",0,0,"00:00:00","00:00:00",0,0,"00:00:00","00:00:00",0,0,"00:00:00","00:00:00",0,0,"00:00:00","00:00:00",0,0,"00:00:00","00:00:00",0,0,"00:00:00","00:00:00",0,0,"00:00:00","00:00:00",0,0,"00:00:00","00:00:00",0,0,"00:00:00","00:00:00",0,0]
[null,null,null,null,null,null,null,0,"00:00:00","00:00:00",0,0,"00:00:00","00:00:00",0,0,"00:00:00","00:00:00",0,0,"00:00:00","00:00:00",0,0,"00:00:00","00:00:00",0,0,"00:00:00","00:00:00",0,0,"00:00:00","00:00:00",0,0,"00:00:00","00:00:00",0,0,"00:00:00","00:00:00",0,0,"00:00:00","00:00:00",0,0]
[null,null,null,null,null,null,null,0,"00:00:00","00:00:00",0,0,"00:00:00","00:00:00",0,0,"00:00:00","00:00:00",0,0,"00:00:00","00:00:00",0,0,"00:00:00","00:00:00",0,0,"00:00:00","00:00:00",0,0,"00:00:00","00:00:00",0,0,"00:00:00","00:00:00",0,0,"00:00:00","00:00:00",0,0,"00:00:00","00:00:00",0,0]
[null,null,null,null,null,null,null,0,"00:00:00","00:00:00",0,0,"00:00:00","00:00:00",0,0,"00:00:00","00:00:00",0,0,"00:00:00","00:00:00",0,0,"00:00:00","00:00:00",0,0,"00:00:00","00:00:00",0,0,"00:00:00","00:00:00",0,0,"00:00:00","00:00:00",0,0,"00:00:00","00:00:00",0,0,"00:00:00","00:00:00",0,0]
[null,null,null,null,null,null,null,0,"00:00:00","00:00:00",0,0,"00:00:00","00:00:00",0,0,"00:00:00","00:00:00",0,0,"00:00:00","00:00:00",0,0,"00:00:00","00:00:00",0,0,"00:00:00","00:00:00",0,0,"00:00:00","00:00:00",0,0,"00:00:00","00:00:00",0,0,"00:00:00","00:00:00",0,0,"00:00:00","00:00:00",0,0]
[null,null,null,null,null,null,null,0,"00:00:00","00:00:00",0,0,"00:00:00","00:00:00",0,0,"00:00:00","00:00:00",0,0,"00:00:00","00:00:00",0,0,"00:00:00","00:00:00",0,0,"00:00:00","00:00:00",0,0,"00:00:00","00:00:00",0,0,"00:00:00","00:00:00",0,0,"00:00:00","00:00:00",0,0,"00:00:00","00:00:00",0,0]
[null,null,null,null,null,null,null,0,"00:00:00","00:00:00",0,0,"00:00:00","00:00:00",0,0,"00:00:00","00:00:00",0,0,"00:00:00","00:00:00",0,0,"00:00:00","00:00:00",0,0,"00:00:00","00:00:00",0,0,"00:00:00","00:00:00",0,0,"00:00:00","00:00:00",0,0,"00:00:00","00:00:00",0,0,"00:00:00","00:00:00",0,0]
[null,null,null,null,null,null,null,0,"00:00:00","00:00:00",0,0,"00:00:00","00:00:00",0,0,"00:00:00","00:00:00",0,0,"00:00:00","00:00:00",0,0,"00:00:00","00:00:00",0,0,"00:00:00","00:00:00",0,0,"00:00:00","00:00:00",0,0,"00:00:00","00:00:00",0,0,"00:00:00","00:00:00",0,0,"00:00:00","00:00:00",0,0]
[null,null,null,null,null,null,null,0,"00:00:00","00:00:00",0,0,"00:00:00","00:00:00",0,0,"00:00:00","00:00:00",0,0,"00:00:00","00:00:00",0,0,"00:00:00","00:00:00",0,0,"00:00:00","00:00:00",0,0,"00:00:00","00:00:00",0,0,"00:00:00","00:00:00",0,0,"00:00:00","00:00:00",0,0,"00:00:00","00:00:00",0,0]
[null,null,null,null,null,null,null,0,"00:00:00","00:00:00",0,0,"00:00:00","00:00:00",0,0,"00:00:00","00:00:00",0,0,"00:00:00","00:00:00",0,0,"00:00:00","00:00:00",0,0,"00:00:00","00:00:00",0,0,"00:00:00","00:00:00",0,0,"00:00:00","00:00:00",0,0,"00:00:00","00:00:00",0,0,"00:00:00","00:00:00",0,0]
[null,null,null,null,null,null,null,0,"00:00:00","00:00:00",0,0,"00:00:00","00:00:00",0,0,"00:00:00","00:00:00",0,0,"00:00:00","00:00:00",0,0,"00:00:00","00:00:00",0,0,"00:00:00","00:00:00",0,0,"00:00:00","00:00:00",0,0,"00:00:00","00:00:00",0,0,"00:00:00","00:00:00",0,0,"00:00:00","00:00:00",0,0]
[null,null,null,null,null,null,null,0,"00:00:00","00:00:00",0,0,"00:00:00","00:00:00",0,0,"00:00:00","00:00:00",0,0,"00:00:00","00:00:00",0,0,"00:00:00","00:00:00",0,0,"00:00:00","00:00:00",0,0,"00:00:00","00:00:00",0,0,"00:00:00","00:00:00",0,0,"00:00:00","00:00:00",0,0,"00:00:00","00:00:00",0,0]
[null,null,null,null,null,null,null,0,"00:00:00","00:00:00",0,0,"00:00:00","00:00:00",0,0,"00:00:00","00:00:00",0,0,"00:00:00","00:00:00",0,0,"00:00:00","00:00:00",0,0,"00:00:00","00:00:00",0,0,"00:00:00","00:00:00",0,0,"00:00:00","00:00:00",0,0,"00:00:00","00:00:00",0,0,"00:00:00","00:00:00",0,0]
[null,null,null,null,null,null,null,0,"00:00:00","00:00:00",0,0,"00:00:00","00:00:00",0,0,"00:00:00","00:00:00",0,0,"00:00:00","00:00:00",0,0,"00:00:00","00:00:00",0,0,"00:00:00","00:00:00",0,0,"00:00:00","00:00:00",0,0,"00:00:00","00:00:00",0,0,"00:00:00","00:00:00",0,0,"00:00:00","00:00:00",0,0]
[null,null,null,null,null,null,null,0,"00:00:00","00:00:00",0,0,"00:00:00","00:00:00",0,0,"00:00:00","00:00:00",0,0,"00:00:00","00:00:00",0,0,"00:00:00","00:00:00",0,0,"00:00:00","00:00:00",0,0,"00:00:00","00:00:00",0,0,"00:00:00","00:00:00",0,0,"00:00:00","00:00:00",0,0,"00:00:00","00:00:00",0,0]
[null,null,null,null,null,null,null,0,"00:00:00","00:00:00",0,0,"00:00:00","00:00:00",0,0,"00:00:00","00:00:00",0,0,"00:00:00","00:00:00",0,0,"00:00:00","00:00:00",0,0,"00:00:00","00:00:00",0,0,"00:00:00","00:00:00",0,0,"00:00:00","00:00:00",0,0,"00:00:00","00:00:00",0,0,"00:00:00","00:00:00",0,0]
[null,null,null,null,null,null,null,0,"00:00:00","00:00:00",0,0,"00:00:00","00:00:00",0,0,"00:00:00","00:00:00",0,0,"00:00:00","00:00:00",0,0,"00:00:00","00:00:00",0,0,"00:00:00","00:00:00",0,0,"00:00:00","00:00:00",0,0,"00:00:00","00:00:00",0,0,"00:00:00","00:00:00",0,0,"00:00:00","00:00:00",0,0]
[null,null,null,null,null,null,null,0,"00:00:00","00:00:00",0,0,"00:00:00","00:00:00",0,0,"00:00:00","00:00:00",0,0,"00:00:00","00:00:00",0,0,"00:00:00","00:00:00",0,0,"00:00:00","00:00:00",0,0,"00:00:00","00:00:00",0,0,"00:00:00","00:00:00",0,0,"00:00:00","00:00:00",0,0,"00:00:00","00:00:00",0,0]
[null,null,null,null,null,null,null,0,"00:00:00","00:00:00",0,0,"00:00:00","00:00:00",0,0,"00:00:00","00:00:00",0,0,"00:00:00","00:00:00",0,0,"00:00:00","00:00:00",0,0,"00:00:00","00:00:00",0,0,"00:00:00","00:00:00",0,0,"00:00:00","00:00:00",0,0,"00:00:00","00:00:00",0,0,"00:00:00","00:00:00",0,0]
[null,null,null,null,null,null,null,0,"00:00:00","00:00:00",0,0,"00:00:00","00:00:00",0,0,"00:00:00","00:00:00",0,0,"00:00:00","00:00:00",0,0,"00:00:00","00:00:00",0,0,"00:00:00","00:00:00",0,0,"00:00:00","00:00:00",0,0,"00:00:00","00:00:00",0,0,"00:00:00","00:00:00",0,0,"00:00:00","00:00:00",0,0]
[null,null,null,null,null,null,null,0,"00:00:00","00:00:00",0,0,"00:00:00","00:00:00",0,0,"00:00:00","00:00:00",0,0,"00:00:00","00:00:00",0,0,"00:00:00","00:00:00",0,0,"00:00:00","00:00:00",0,0,"00:00:00","00:00:00",0,0,"00:00:00","00:00:00",0,0,"00:00:00","00:00:00",0,0,"00:00:00","00:00:00",0,0]
[null,null,null,null,null,null,null,0,"00:00:00","00:00:00",0,0,"00:00:00","00:00:00",0,0,"00:00:00","00:00:00",0,0,"00:00:00","00:00:00",0,0,"00:00:00","00:00:00",0,0,"00:00:00","00:00:00",0,0,"00:00:00","00:00:00",0,0,"00:00:00","00:00:00",0,0,"00:00:00","00:00:00",0,0,"00:00:00","00:00:00",0,0]
[null,null,null,null,null,null,null,0,"00:00:00","00:00:00",0,0,"00:00:00","00:00:00",0,0,"00:00:00","00:00:00",0,0,"00:00:00","00:00:00",0,0,"00:00:00","00:00:00",0,0,"00:00:00","00:00:00",0,0,"00:00:00","00:00:00",0,0,"00:00:00","00:00:00",0,0,"00:00:00","00:00:00",0,0,"00:00:00","00:00:00",0,0]
[null,null,null,null,null,null,null,0,"00:00:00","00:00:00",0,0,"00:00:00","00:00:00",0,0,"00:00:00","00:00:00",0,0,"00:00:00","00:00:00",0,0,"00:00:00","00:00:00",0,0,"00:00:00","00:00:00",0,0,"00:00:00","00:00:00",0,0,"00:00:00","00:00:00",0,0,"00:00:00","00:00:00",0,0,"00:00:00","00:00:00",0,0]
[null,null,null,null,null,null,null,0,"00:00:00","00:00:00",0,0,"00:00:00","00:00:00",0,0,"00:00:00","00:00:00",0,0,"00:00:00","00:00:00",0,0,"00:00:00","00:00:00",0,0,"00:00:00","00:00:00",0,0,"00:00:00","00:00:00",0,0,"00:00:00","00:00:00",0,0,"00:00:00","00:00:00",0,0,"00:00:00","00:00:00",0,0]
[null,null,null,null,null,null,null,0,"00:00:00","00:00:00",0,0,"00:00:00","00:00:00",0,0,"00:00:00","00:00:00",0,0,"00:00:00","00:00:00",0,0,"00:00:00","00:00:00",0,0,"00:00:00","00:00:00",0,0,"00:00:00","00:00:00",0,0,"00:00:00","00:00:00",0,0,"00:00:00","00:00:00",0,0,"00:00:00","00:00:00",0,0]
[null,null,null,null,null,null,null,0,"00:00:00","00:00:00",0,0,"00:00:00","00:00:00",0,0,"00:00:00","00:00:00",0,0,"00:00:00","00:00:00",0,0,"00:00:00","00:00:00",0,0,"00:00:00","00:00:00",0,0,"00:00:00","00:00:00",0,0,"00:00:00","00:00:00",0,0,"00:00:00","00:00:00",0,0,"00:00:00","00:00:00",0,0]
[null,null,null,null,null,null,null,0,"00:00:00","00:00:00",0,0,"00:00:00","00:00:00",0,0,"00:00:00","00:00:00",0,0,"00:00:00","00:00:00",0,0,"00:00:00","00:00:00",0,0,"00:00:00","00:00:00",0,0,"00:00:00","00:00:00",0,0,"00:00:00","00:00:00",0,0,"00:00:00","00:00:00",0,0,"00:00:00","00:00:00",0,0]
[null,null,null,null,null,null,null,0,"00:00:00","00:00:00",0,0,"00:00:00","00:00:00",0,0,"00:00:00","00:00:00",0,0,"00:00:00","00:00:00",0,0,"00:00:00","00:00:00",0,0,"00:00:00","00:00:00",0,0,"00:00:00","00:00:00",0,0,"00:00:00","00:00:00",0,0,"00:00:00","00:00:00",0,0,"00:00:00","00:00:00",0,0]
[null,null,null,null,null,null,null,0,"00:00:00","00:00:00",0,0,"00:00:00","00:00:00",0,0,"00:00:00","00:00:00",0,0,"00:00:00","00:00:00",0,0,"00:00:00","00:00:00",0,0,"00:00:00","00:00:00",0,0,"00:00:00","00:00:00",0,0,"00:00:00","00:00:00",0,0,"00:00:00","00:00:00",0,0,"00:00:00","00:00:00",0,0]
[null,null,null,null,null,null,null,0,"00:00:00","00:00:00",0,0,"00:00:00","00:00:00",0,0,"00:00:00","00:00:00",0,0,"00:00:00","00:00:00",0,0,"00:00:00","00:00:00",0,0,"00:00:00","00:00:00",0,0,"00:00:00","00:00:00",0,0,"00:00:00","00:00:00",0,0,"00:00:00","00:00:00",0,0,"00:00:00","00:00:00",0,0]
[null,null,null,null,null,null,null,0,"00:00:00","00:00:00",0,0,"00:00:00","00:00:00",0,0,"00:00:00","00:00:00",0,0,"00:00:00","00:00:00",0,0,"00:00:00","00:00:00",0,0,"00:00:00","00:00:00",0,0,"00:00:00","00:00:00",0,0,"00:00:00","00:00:00",0,0,"00:00:00","00:00:00",0,0,"00:00:00","00:00:00",0,0]
[null,null,null,null,null,null,null,0,"00:00:00","00:00:00",0,0,"00:00:00","00:00:00",0,0,"00:00:00","00:00:00",0,0,"00:00:00","00:00:00",0,0,"00:00:00","00:00:00",0,0,"00:00:00","00:00:00",0,0,"00:00:00","00:00:00",0,0,"00:00:00","00:00:00",0,0,"00:00:00","00:00:00",0,0,"00:00:00","00:00:00",0,0]
[null,null,null,null,null,null,null,0,"00:00:00","00:00:00",0,0,"00:00:00","00:00:00",0,0,"00:00:00","00:00:00",0,0,"00:00:00","00:00:00",0,0,"00:00:00","00:00:00",0,0,"00:00:00","00:00:00",0,0,"00:00:00","00:00:00",0,0,"00:00:00","00:00:00",0,0,"00:00:00","00:00:00",0,0,"00:00:00","00:00:00",0,0]
[null,null,null,null,null,null,null,0,"00:00:00","00:00:00",0,0,"00:00:00","00:00:00",0,0,"00:00:00","00:00:00",0,0,"00:00:00","00:00:00",0,0,"00:00:00","00:00:00",0,0,"00:00:00","00:00:00",0,0,"00:00:00","00:00:00",0,0,"00:00:00","00:00:00",0,0,"00:00:00","00:00:00",0,0,"00:00:00","00:00:00",0,0]
[null,null,null,null,null,null,null,0,"00:00:00","00:00:00",0,0,"00:00:00","00:00:00",0,0,"00:00:00","00:00:00",0,0,"00:00:00","00:00:00",0,0,"00:00:00","00:00:00",0,0,"00:00:00","00:00:00",0,0,"00:00:00","00:00:00",0,0,"00:00:00","00:00:00",0,0,"00:00:00","00:00:00",0,0,"00:00:00","00:00:00",0,0]
[null,null,null,null,null,null,null,0,"00:00:00","00:00:00",0,0,"00:00:00","00:00:00",0,0,"00:00:00","00:00:00",0,0,"00:00:00","00:00:00",0,0,"00:00:00","00:00:00",0,0,"00:00:00","00:00:00",0,0,"00:00:00","00:00:00",0,0,"00:00:00","00:00:00",0,0,"00:00:00","00:00:00",0,0,"00:00:00","00:00:00",0,0]
[null,null,null,null,null,null,null,0,"00:00:00","00:00:00",0,0,"00:00:00","00:00:00",0,0,"00:00:00","00:00:00",0,0,"00:00:00","00:00:00",0,0,"00:00:00","00:00:00",0,0,"00:00:00","00:00:00",0,0,"00:00:00","00:00:00",0,0,"00:00:00","00:00:00",0,0,"00:00:00","00:00:00",0,0,"00:00:00","00:00:00",0,0]
[null,null,null,null,null,null,null,0,"00:00:00","00:00:00",0,0,"00:00:00","00:00:00",0,0,"00:00:00","00:00:00",0,0,"00:00:00","00:00:00",0,0,"00:00:00","00:00:00",0,0,"00:00:00","00:00:00",0,0,"00:00:00","00:00:00",0,0,"00:00:00","00:00:00",0,0,"00:00:00","00:00:00",0,0,"00:00:00","00:00:00",0,0]
[null,null,null,null,null,null,null,0,"00:00:00","00:00:00",0,0,"00:00:00","00:00:00",0,0,"00:00:00","00:00:00",0,0,"00:00:00","00:00:00",0,0,"00:00:00","00:00:00",0,0,"00:00:00","00:00:00",0,0,"00:00:00","00:00:00",0,0,"00:00:00","00:00:00",0,0,"00:00:00","00:00:00",0,0,"00:00:00","00:00:00",0,0]
[null,null,null,null,null,null,null,0,"00:00:00","00:00:00",0,0,"00:00:00","00:00:00",0,0,"00:00:00","00:00:00",0,0,"00:00:00","00:00:00",0,0,"00:00:00","00:00:00",0,0,"00:00:00","00:00:00",0,0,"00:00:00","00:00:00",0,0,"00:00:00","00:00:00",0,0,"00:00:00","00:00:00",0,0,"00:00:00","00:00:00",0,0]
[null,null,null,null,null,null,null,0,"00:00:00","00:00:00",0,0,"00:00:00","00:00:00",0,0,"00:00:00","00:00:00",0,0,"00:00:00","00:00:00",0,0,"00:00:00","00:00:00",0,0,"00:00:00","00:00:00",0,0,"00:00:00","00:00:00",0,0,"00:00:00","00:00:00",0,0,"00:00:00","00:00:00",0,0,"00:00:00","00:00:00",0,0]
[null,null,null,null,null,null,null,0,"00:00:00","00:00:00",0,0,"00:00:00","00:00:00",0,0,"00:00:00","00:00:00",0,0,"00:00:00","00:00:00",0,0,"00:00:00","00:00:00",0,0,"00:00:00","00:00:00",0,0,"00:00:00","00:00:00",0,0,"00:00:00","00:00:00",0,0,"00:00:00","00:00:00",0,0,"00:00:00","00:00:00",0,0]
[null,null,null,null,null,null,null,0,"00:00:00","00:00:00",0,0,"00:00:00","00:00:00",0,0,"00:00:00","00:00:00",0,0,"00:00:00","00:00:00",0,0,"00:00:00","00:00:00",0,0,"00:00:00","00:00:00",0,0,"00:00:00","00:00:00",0,0,"00:00:00","00:00:00",0,0,"00:00:00","00:00:00",0,0,"00:00:00","00:00:00",0,0]
[null,null,null,null,null,null,null,0,"00:00:00","00:00:00",0,0,"00:00:00","00:00:00",0,0,"00:00:00","00:00:00",0,0,"00:00:00","00:00:00",0,0,"00:00:00","00:00:00",0,0,"00:00:00","00:00:00",0,0,"00:00:00","00:00:00",0,0,"00:00:00","00:00:00",0,0,"00:00:00","00:00:00",0,0,"00:00:00","00:00:00",0,0]
[null,null,null,null,null,null,null,0,"00:00:00","00:00:00",0,0,"00:00:00","00:00:00",0,0,"00:00:00","00:00:00",0,0,"00:00:00","00:00:00",0,0,"00:00:00","00:00:00",0,0,"00:00:00","00:00:00",0,0,"00:00:00","00:00:00",0,0,"00:00:00","00:00:00",0,0,"00:00:00","00:00:00",0,0,"00:00:00","00:00:00",0,0]
[null,null,null,null,null,null,null,0,"00:00:00","00:00:00",0,0,"00:00:00","00:00:00",0,0,"00:00:00","00:00:00",0,0,"00:00:00","00:00:00",0,0,"00:00:00","00:00:00",0,0,"00:00:00","00:00:00",0,0,"00:00:00","00:00:00",0,0,"00:00:00","00:00:00",0,0,"00:00:00","00:00:00",0,0,"00:00:00","00:00:00",0,0]
[null,null,null,null,null,null,null,0,"00:00:00","00:00:00",0,0,"00:00:00","00:00:00",0,0,"00:00:00","00:00:00",0,0,"00:00:00","00:00:00",0,0,"00:00:00","00:00:00",0,0,"00:00:00","00:00:00",0,0,"00:00:00","00:00:00",0,0,"00:00:00","00:00:00",0,0,"00:00:00","00:00:00",0,0,"00:00:00","00:00:00",0,0]
[null,null,null,null,null,null,null,0,"00:00:00","00:00:00",0,0,"00:00:00","00:00:00",0,0,"00:00:00","00:00:00",0,0,"00:00:00","00:00:00",0,0,"00:00:00","00:00:00",0,0,"00:00:00","00:00:00",0,0,"00:00:00","00:00:00",0,0,"00:00:00","00:00:00",0,0,"00:00:00","00:00:00",0,0,"00:00:00","00:00:00",0,0]
[null,null,null,null,null,null,null,0,"00:00:00","00:00:00",0,0,"00:00:00","00:00:00",0,0,"00:00:00","00:00:00",0,0,"00:00:00","00:00:00",0,0,"00:00:00","00:00:00",0,0,"00:00:00","00:00:00",0,0,"00:00:00","00:00:00",0,0,"00:00:00","00:00:00",0,0,"00:00:00","00:00:00",0,0,"00:00:00","00:00:00",0,0]
[null,null,null,null,null,null,null,0,"00:00:00","00:00:00",0,0,"00:00:00","00:00:00",0,0,"00:00:00","00:00:00",0,0,"00:00:00","00:00:00",0,0,"00:00:00","00:00:00",0,0,"00:00:00","00:00:00",0,0,"00:00:00","00:00:00",0,0,"00:00:00","00:00:00",0,0,"00:00:00","00:00:00",0,0,"00:00:00","00:00:00",0,0]
[null,null,null,null,null,null,null,0,"00:00:00","00:00:00",0,0,"00:00:00","00:00:00",0,0,"00:00:00","00:00:00",0,0,"00:00:00","00:00:00",0,0,"00:00:00","00:00:00",0,0,"00:00:00","00:00:00",0,0,"00:00:00","00:00:00",0,0,"00:00:00","00:00:00",0,0,"00:00:00","00:00:00",0,0,"00:00:00","00:00:00",0,0]
[null,null,null,null,null,null,null,0,"00:00:00","00:00:00",0,0,"00:00:00","00:00:00",0,0,"00:00:00","00:00:00",0,0,"00:00:00","00:00:00",0,0,"00:00:00","00:00:00",0,0,"00:00:00","00:00:00",0,0,"00:00:00","00:00:00",0,0,"00:00:00","00:00:00",0,0,"00:00:00","00:00:00",0,0,"00:00:00","00:00:00",0,0]
[null,null,null,null,null,null,null,0,"00:00:00","00:00:00",0,0,"00:00:00","00:00:00",0,0,"00:00:00","00:00:00",0,0,"00:00:00","00:00:00",0,0,"00:00:00","00:00:00",0,0,"00:00:00","00:00:00",0,0,"00:00:00","00:00:00",0,0,"00:00:00","00:00:00",0,0,"00:00:00","00:00:00",0,0,"00:00:00","00:00:00",0,0]
[null,null,null,null,null,null,null,0,"00:00:00","00:00:00",0,0,"00:00:00","00:00:00",0,0,"00:00:00","00:00:00",0,0,"00:00:00","00:00:00",0,0,"00:00:00","00:00:00",0,0,"00:00:00","00:00:00",0,0,"00:00:00","00:00:00",0,0,"00:00:00","00:00:00",0,0,"00:00:00","00:00:00",0,0,"00:00:00","00:00:00",0,0]
[null,null,null,null,null,null,null,0,"00:00:00","00:00:00",0,0,"00:00:00","00:00:00",0,0,"00:00:00","00:00:00",0,0,"00:00:00","00:00:00",0,0,"00:00:00","00:00:00",0,0,"00:00:00","00:00:00",0,0,"00:00:00","00:00:00",0,0,"00:00:00","00:00:00",0,0,"00:00:00","00:00:00",0,0,"00:00:00","00:00:00",0,0]
[null,null,null,null,null,null,null,0,"00:00:00","00:00:00",0,0,"00:00:00","00:00:00",0,0,"00:00:00","00:00:00",0,0,"00:00:00","00:00:00",0,0,"00:00:00","00:00:00",0,0,"00:00:00","00:00:00",0,0,"00:00:00","00:00:00",0,0,"00:00:00","00:00:00",0,0,"00:00:00","00:00:00",0,0,"00:00:00","00:00:00",0,0]
[null,null,null,null,null,null,null,{"$f":"IF(F269-E269=0,0,F269-E269+1)","v":0},{"$f":"IF(OR($F269<I$10,$E269>J$10),0,IF(AND($E269>=I$10,$F269<=J$10),$E269,IF(AND($E269<=I$10,$F269<=J$10),I$10,IF(AND($E269<=J$10,$F269>=J$10,$E269>=I$10),$E269,IF(AND($E269<=I$10,$F269>=J$10),I$10,\"chyba\")))))","v":"00:00:00"},{"$f":"IF(OR($F269<I$10,$E269>J$10),0,IF(AND($E269>=I$10,$F269<=J$10),$F269,IF(AND($E269<=I$10,$F269<=J$10),$F269,IF(AND($E269<=J$10,$F269>=J$10),J$10,IF(AND($E269<=I$10,$F269>=J$10),J$10,\"chyba\")))))","v":"00:00:00"},{"$f":"IF(J269-I269=0,0,J269-I269+1)","v":0},{"$f":"IF($H269<=0,0,$G269/$H269*K269)","v":0},{"$f":"IF(OR($F269<M$10,$E269>N$10),0,IF(AND($E269>=M$10,$F269<=N$10),$E269,IF(AND($E269<=M$10,$F269<=N$10),M$10,IF(AND($E269<=N$10,$F269>=N$10,$E269>=M$10),$E269,IF(AND($E269<=M$10,$F269>=N$10),M$10,\"chyba\")))))","v":"00:00:00"},{"$f":"IF(OR($F269<M$10,$E269>N$10),0,IF(AND($E269>=M$10,$F269<=N$10),$F269,IF(AND($E269<=M$10,$F269<=N$10),$F269,IF(AND($E269<=N$10,$F269>=N$10),N$10,IF(AND($E269<=M$10,$F269>=N$10),N$10,\"chyba\")))))","v":"00:00:00"},{"$f":"IF(N269-M269=0,0,N269-M269+1)","v":0},{"$f":"IF($H269<=0,0,$G269/$H269*O269)","v":0},{"$f":"IF(OR($F269<Q$10,$E269>R$10),0,IF(AND($E269>=Q$10,$F269<=R$10),$E269,IF(AND($E269<=Q$10,$F269<=R$10),Q$10,IF(AND($E269<=R$10,$F269>=R$10,$E269>=Q$10),$E269,IF(AND($E269<=Q$10,$F269>=R$10),Q$10,\"chyba\")))))","v":"00:00:00"},{"$f":"IF(OR($F269<Q$10,$E269>R$10),0,IF(AND($E269>=Q$10,$F269<=R$10),$F269,IF(AND($E269<=Q$10,$F269<=R$10),$F269,IF(AND($E269<=R$10,$F269>=R$10),R$10,IF(AND($E269<=Q$10,$F269>=R$10),R$10,\"chyba\")))))","v":"00:00:00"},{"$f":"IF(R269-Q269=0,0,R269-Q269+1)","v":0},{"$f":"IF($H269<=0,0,$G269/$H269*S269)","v":0},{"$f":"IF(OR($F269<U$10,$E269>V$10),0,IF(AND($E269>=U$10,$F269<=V$10),$E269,IF(AND($E269<=U$10,$F269<=V$10),U$10,IF(AND($E269<=V$10,$F269>=V$10,$E269>=U$10),$E269,IF(AND($E269<=U$10,$F269>=V$10),U$10,\"chyba\")))))","v":"00:00:00"},{"$f":"IF(OR($F269<U$10,$E269>V$10),0,IF(AND($E269>=U$10,$F269<=V$10),$F269,IF(AND($E269<=U$10,$F269<=V$10),$F269,IF(AND($E269<=V$10,$F269>=V$10),V$10,IF(AND($E269<=U$10,$F269>=V$10),V$10,\"chyba\")))))","v":"00:00:00"},{"$f":"IF(V269-U269=0,0,V269-U269+1)","v":0},{"$f":"IF($H269<=0,0,$G269/$H269*W269)","v":0},{"$f":"IF(OR($F269<Y$10,$E269>Z$10),0,IF(AND($E269>=Y$10,$F269<=Z$10),$E269,IF(AND($E269<=Y$10,$F269<=Z$10),Y$10,IF(AND($E269<=Z$10,$F269>=Z$10,$E269>=Y$10),$E269,IF(AND($E269<=Y$10,$F269>=Z$10),Y$10,\"chyba\")))))","v":"00:00:00"},{"$f":"IF(OR($F269<Y$10,$E269>Z$10),0,IF(AND($E269>=Y$10,$F269<=Z$10),$F269,IF(AND($E269<=Y$10,$F269<=Z$10),$F269,IF(AND($E269<=Z$10,$F269>=Z$10),Z$10,IF(AND($E269<=Y$10,$F269>=Z$10),Z$10,\"chyba\")))))","v":"00:00:00"},{"$f":"IF(Z269-Y269=0,0,Z269-Y269+1)","v":0},{"$f":"IF($H269<=0,0,$G269/$H269*AA269)","v":0},{"$f":"IF(OR($F269<AC$10,$E269>AD$10),0,IF(AND($E269>=AC$10,$F269<=AD$10),$E269,IF(AND($E269<=AC$10,$F269<=AD$10),AC$10,IF(AND($E269<=AD$10,$F269>=AD$10,$E269>=AC$10),$E269,IF(AND($E269<=AC$10,$F269>=AD$10),AC$10,\"chyba\")))))","v":"00:00:00"},{"$f":"IF(OR($F269<AC$10,$E269>AD$10),0,IF(AND($E269>=AC$10,$F269<=AD$10),$F269,IF(AND($E269<=AC$10,$F269<=AD$10),$F269,IF(AND($E269<=AD$10,$F269>=AD$10),AD$10,IF(AND($E269<=AC$10,$F269>=AD$10),AD$10,\"chyba\")))))","v":"00:00:00"},{"$f":"IF(AD269-AC269=0,0,AD269-AC269+1)","v":0},{"$f":"IF($H269<=0,0,$G269/$H269*AE269)","v":0},{"$f":"IF(OR($F269<AG$10,$E269>AH$10),0,IF(AND($E269>=AG$10,$F269<=AH$10),$E269,IF(AND($E269<=AG$10,$F269<=AH$10),AG$10,IF(AND($E269<=AH$10,$F269>=AH$10,$E269>=AG$10),$E269,IF(AND($E269<=AG$10,$F269>=AH$10),AG$10,\"chyba\")))))","v":"00:00:00"},{"$f":"IF(OR($F269<AG$10,$E269>AH$10),0,IF(AND($E269>=AG$10,$F269<=AH$10),$F269,IF(AND($E269<=AG$10,$F269<=AH$10),$F269,IF(AND($E269<=AH$10,$F269>=AH$10),AH$10,IF(AND($E269<=AG$10,$F269>=AH$10),AH$10,\"chyba\")))))","v":"00:00:00"},{"$f":"IF(AH269-AG269=0,0,AH269-AG269+1)","v":0},{"$f":"IF($H269<=0,0,$G269/$H269*AI269)","v":0},{"$f":"IF(OR($F269<AK$10,$E269>AL$10),0,IF(AND($E269>=AK$10,$F269<=AL$10),$E269,IF(AND($E269<=AK$10,$F269<=AL$10),AK$10,IF(AND($E269<=AL$10,$F269>=AL$10,$E269>=AK$10),$E269,IF(AND($E269<=AK$10,$F269>=AL$10),AK$10,\"chyba\")))))","v":"00:00:00"},{"$f":"IF(OR($F269<AK$10,$E269>AL$10),0,IF(AND($E269>=AK$10,$F269<=AL$10),$F269,IF(AND($E269<=AK$10,$F269<=AL$10),$F269,IF(AND($E269<=AL$10,$F269>=AL$10),AL$10,IF(AND($E269<=AK$10,$F269>=AL$10),AL$10,\"chyba\")))))","v":"00:00:00"},{"$f":"IF(AL269-AK269=0,0,AL269-AK269+1)","v":0},{"$f":"IF($H269<=0,0,$G269/$H269*AM269)","v":0},{"$f":"IF(OR($F269<AO$10,$E269>AP$10),0,IF(AND($E269>=AO$10,$F269<=AP$10),$E269,IF(AND($E269<=AO$10,$F269<=AP$10),AO$10,IF(AND($E269<=AP$10,$F269>=AP$10,$E269>=AO$10),$E269,IF(AND($E269<=AO$10,$F269>=AP$10),AO$10,\"chyba\")))))","v":"00:00:00"},{"$f":"IF(OR($F269<AO$10,$E269>AP$10),0,IF(AND($E269>=AO$10,$F269<=AP$10),$F269,IF(AND($E269<=AO$10,$F269<=AP$10),$F269,IF(AND($E269<=AP$10,$F269>=AP$10),AP$10,IF(AND($E269<=AO$10,$F269>=AP$10),AP$10,\"chyba\")))))","v":"00:00:00"},{"$f":"IF(AP269-AO269=0,0,AP269-AO269+1)","v":0},{"$f":"IF($H269<=0,0,$G269/$H269*AQ269)","v":0},{"$f":"IF(OR($F269<AS$10,$E269>AT$10),0,IF(AND($E269>=AS$10,$F269<=AT$10),$E269,IF(AND($E269<=AS$10,$F269<=AT$10),AS$10,IF(AND($E269<=AT$10,$F269>=AT$10,$E269>=AS$10),$E269,IF(AND($E269<=AS$10,$F269>=AT$10),AS$10,\"chyba\")))))","v":"00:00:00"},{"$f":"IF(OR($F269<AS$10,$E269>AT$10),0,IF(AND($E269>=AS$10,$F269<=AT$10),$F269,IF(AND($E269<=AS$10,$F269<=AT$10),$F269,IF(AND($E269<=AT$10,$F269>=AT$10),AT$10,IF(AND($E269<=AS$10,$F269>=AT$10),AT$10,\"chyba\")))))","v":"00:00:00"},{"$f":"IF(AT269-AS269=0,0,AT269-AS269+1)","v":0},{"$f":"IF($H269<=0,0,$G269/$H269*AU269)","v":0}]
[null,null,null,null,null,null,null,0,"00:00:00","00:00:00",0,0,"00:00:00","00:00:00",0,0,"00:00:00","00:00:00",0,0,"00:00:00","00:00:00",0,0,"00:00:00","00:00:00",0,0,"00:00:00","00:00:00",0,0,"00:00:00","00:00:00",0,0,"00:00:00","00:00:00",0,0,"00:00:00","00:00:00",0,0,"00:00:00","00:00:00",0,0]
[null,null,null,null,null,null,null,0,"00:00:00","00:00:00",0,0,"00:00:00","00:00:00",0,0,"00:00:00","00:00:00",0,0,"00:00:00","00:00:00",0,0,"00:00:00","00:00:00",0,0,"00:00:00","00:00:00",0,0,"00:00:00","00:00:00",0,0,"00:00:00","00:00:00",0,0,"00:00:00","00:00:00",0,0,"00:00:00","00:00:00",0,0]
[null,null,null,null,null,null,null,0,"00:00:00","00:00:00",0,0,"00:00:00","00:00:00",0,0,"00:00:00","00:00:00",0,0,"00:00:00","00:00:00",0,0,"00:00:00","00:00:00",0,0,"00:00:00","00:00:00",0,0,"00:00:00","00:00:00",0,0,"00:00:00","00:00:00",0,0,"00:00:00","00:00:00",0,0,"00:00:00","00:00:00",0,0]
[null,null,null,null,null,null,null,0,"00:00:00","00:00:00",0,0,"00:00:00","00:00:00",0,0,"00:00:00","00:00:00",0,0,"00:00:00","00:00:00",0,0,"00:00:00","00:00:00",0,0,"00:00:00","00:00:00",0,0,"00:00:00","00:00:00",0,0,"00:00:00","00:00:00",0,0,"00:00:00","00:00:00",0,0,"00:00:00","00:00:00",0,0]
[null,null,null,null,null,null,null,0,"00:00:00","00:00:00",0,0,"00:00:00","00:00:00",0,0,"00:00:00","00:00:00",0,0,"00:00:00","00:00:00",0,0,"00:00:00","00:00:00",0,0,"00:00:00","00:00:00",0,0,"00:00:00","00:00:00",0,0,"00:00:00","00:00:00",0,0,"00:00:00","00:00:00",0,0,"00:00:00","00:00:00",0,0]
[null,null,null,null,null,null,null,0,"00:00:00","00:00:00",0,0,"00:00:00","00:00:00",0,0,"00:00:00","00:00:00",0,0,"00:00:00","00:00:00",0,0,"00:00:00","00:00:00",0,0,"00:00:00","00:00:00",0,0,"00:00:00","00:00:00",0,0,"00:00:00","00:00:00",0,0,"00:00:00","00:00:00",0,0,"00:00:00","00:00:00",0,0]
[null,null,null,null,null,null,null,0,"00:00:00","00:00:00",0,0,"00:00:00","00:00:00",0,0,"00:00:00","00:00:00",0,0,"00:00:00","00:00:00",0,0,"00:00:00","00:00:00",0,0,"00:00:00","00:00:00",0,0,"00:00:00","00:00:00",0,0,"00:00:00","00:00:00",0,0,"00:00:00","00:00:00",0,0,"00:00:00","00:00:00",0,0]
[null,null,null,null,null,null,null,0,"00:00:00","00:00:00",0,0,"00:00:00","00:00:00",0,0,"00:00:00","00:00:00",0,0,"00:00:00","00:00:00",0,0,"00:00:00","00:00:00",0,0,"00:00:00","00:00:00",0,0,"00:00:00","00:00:00",0,0,"00:00:00","00:00:00",0,0,"00:00:00","00:00:00",0,0,"00:00:00","00:00:00",0,0]
[null,null,null,null,null,null,null,0,"00:00:00","00:00:00",0,0,"00:00:00","00:00:00",0,0,"00:00:00","00:00:00",0,0,"00:00:00","00:00:00",0,0,"00:00:00","00:00:00",0,0,"00:00:00","00:00:00",0,0,"00:00:00","00:00:00",0,0,"00:00:00","00:00:00",0,0,"00:00:00","00:00:00",0,0,"00:00:00","00:00:00",0,0]
[null,null,null,null,null,null,null,0,"00:00:00","00:00:00",0,0,"00:00:00","00:00:00",0,0,"00:00:00","00:00:00",0,0,"00:00:00","00:00:00",0,0,"00:00:00","00:00:00",0,0,"00:00:00","00:00:00",0,0,"00:00:00","00:00:00",0,0,"00:00:00","00:00:00",0,0,"00:00:00","00:00:00",0,0,"00:00:00","00:00:00",0,0]
[null,null,null,null,null,null,null,0,"00:00:00","00:00:00",0,0,"00:00:00","00:00:00",0,0,"00:00:00","00:00:00",0,0,"00:00:00","00:00:00",0,0,"00:00:00","00:00:00",0,0,"00:00:00","00:00:00",0,0,"00:00:00","00:00:00",0,0,"00:00:00","00:00:00",0,0,"00:00:00","00:00:00",0,0,"00:00:00","00:00:00",0,0]
[null,null,null,null,null,null,null,0,"00:00:00","00:00:00",0,0,"00:00:00","00:00:00",0,0,"00:00:00","00:00:00",0,0,"00:00:00","00:00:00",0,0,"00:00:00","00:00:00",0,0,"00:00:00","00:00:00",0,0,"00:00:00","00:00:00",0,0,"00:00:00","00:00:00",0,0,"00:00:00","00:00:00",0,0,"00:00:00","00:00:00",0,0]
[null,null,null,null,null,null,null,0,"00:00:00","00:00:00",0,0,"00:00:00","00:00:00",0,0,"00:00:00","00:00:00",0,0,"00:00:00","00:00:00",0,0,"00:00:00","00:00:00",0,0,"00:00:00","00:00:00",0,0,"00:00:00","00:00:00",0,0,"00:00:00","00:00:00",0,0,"00:00:00","00:00:00",0,0,"00:00:00","00:00:00",0,0]
[null,null,null,null,null,null,null,0,"00:00:00","00:00:00",0,0,"00:00:00","00:00:00",0,0,"00:00:00","00:00:00",0,0,"00:00:00","00:00:00",0,0,"00:00:00","00:00:00",0,0,"00:00:00","00:00:00",0,0,"00:00:00","00:00:00",0,0,"00:00:00","00:00:00",0,0,"00:00:00","00:00:00",0,0,"00:00:00","00:00:00",0,0]
[null,null,null,null,null,null,null,0,"00:00:00","00:00:00",0,0,"00:00:00","00:00:00",0,0,"00:00:00","00:00:00",0,0,"00:00:00","00:00:00",0,0,"00:00:00","00:00:00",0,0,"00:00:00","00:00:00",0,0,"00:00:00","00:00:00",0,0,"00:00:00","00:00:00",0,0,"00:00:00","00:00:00",0,0,"00:00:00","00:00:00",0,0]
[null,null,null,null,null,null,null,0,"00:00:00","00:00:00",0,0,"00:00:00","00:00:00",0,0,"00:00:00","00:00:00",0,0,"00:00:00","00:00:00",0,0,"00:00:00","00:00:00",0,0,"00:00:00","00:00:00",0,0,"00:00:00","00:00:00",0,0,"00:00:00","00:00:00",0,0,"00:00:00","00:00:00",0,0,"00:00:00","00:00:00",0,0]
[null,null,null,null,null,null,null,0,"00:00:00","00:00:00",0,0,"00:00:00","00:00:00",0,0,"00:00:00","00:00:00",0,0,"00:00:00","00:00:00",0,0,"00:00:00","00:00:00",0,0,"00:00:00","00:00:00",0,0,"00:00:00","00:00:00",0,0,"00:00:00","00:00:00",0,0,"00:00:00","00:00:00",0,0,"00:00:00","00:00:00",0,0]
[null,null,null,null,null,null,null,0,"00:00:00","00:00:00",0,0,"00:00:00","00:00:00",0,0,"00:00:00","00:00:00",0,0,"00:00:00","00:00:00",0,0,"00:00:00","00:00:00",0,0,"00:00:00","00:00:00",0,0,"00:00:00","00:00:00",0,0,"00:00:00","00:00:00",0,0,"00:00:00","00:00:00",0,0,"00:00:00","00:00:00",0,0]
[null,null,null,null,null,null,null,0,"00:00:00","00:00:00",0,0,"00:00:00","00:00:00",0,0,"00:00:00","00:00:00",0,0,"00:00:00","00:00:00",0,0,"00:00:00","00:00:00",0,0,"00:00:00","00:00:00",0,0,"00:00:00","00:00:00",0,0,"00:00:00","00:00:00",0,0,"00:00:00","00:00:00",0,0,"00:00:00","00:00:00",0,0]
[null,null,null,null,null,null,null,0,"00:00:00","00:00:00",0,0,"00:00:00","00:00:00",0,0,"00:00:00","00:00:00",0,0,"00:00:00","00:00:00",0,0,"00:00:00","00:00:00",0,0,"00:00:00","00:00:00",0,0,"00:00:00","00:00:00",0,0,"00:00:00","00:00:00",0,0,"00:00:00","00:00:00",0,0,"00:00:00","00:00:00",0,0]
[null,null,null,null,null,null,null,0,"00:00:00","00:00:00",0,0,"00:00:00","00:00:00",0,0,"00:00:00","00:00:00",0,0,"00:00:00","00:00:00",0,0,"00:00:00","00:00:00",0,0,"00:00:00","00:00:00",0,0,"00:00:00","00:00:00",0,0,"00:00:00","00:00:00",0,0,"00:00:00","00:00:00",0,0,"00:00:00","00:00:00",0,0]
[null,null,null,null,null,null,null,0,"00:00:00","00:00:00",0,0,"00:00:00","00:00:00",0,0,"00:00:00","00:00:00",0,0,"00:00:00","00:00:00",0,0,"00:00:00","00:00:00",0,0,"00:00:00","00:00:00",0,0,"00:00:00","00:00:00",0,0,"00:00:00","00:00:00",0,0,"00:00:00","00:00:00",0,0,"00:00:00","00:00:00",0,0]
[null,null,null,null,null,null,null,0,"00:00:00","00:00:00",0,0,"00:00:00","00:00:00",0,0,"00:00:00","00:00:00",0,0,"00:00:00","00:00:00",0,0,"00:00:00","00:00:00",0,0,"00:00:00","00:00:00",0,0,"00:00:00","00:00:00",0,0,"00:00:00","00:00:00",0,0,"00:00:00","00:00:00",0,0,"00:00:00","00:00:00",0,0]
[null,null,null,null,null,null,null,0,"00:00:00","00:00:00",0,0,"00:00:00","00:00:00",0,0,"00:00:00","00:00:00",0,0,"00:00:00","00:00:00",0,0,"00:00:00","00:00:00",0,0,"00:00:00","00:00:00",0,0,"00:00:00","00:00:00",0,0,"00:00:00","00:00:00",0,0,"00:00:00","00:00:00",0,0,"00:00:00","00:00:00",0,0]
[null,null,null,null,null,null,null,0,"00:00:00","00:00:00",0,0,"00:00:00","00:00:00",0,0,"00:00:00","00:00:00",0,0,"00:00:00","00:00:00",0,0,"00:00:00","00:00:00",0,0,"00:00:00","00:00:00",0,0,"00:00:00","00:00:00",0,0,"00:00:00","00:00:00",0,0,"00:00:00","00:00:00",0,0,"00:00:00","00:00:00",0,0]
[null,null,null,null,null,null,null,0,"00:00:00","00:00:00",0,0,"00:00:00","00:00:00",0,0,"00:00:00","00:00:00",0,0,"00:00:00","00:00:00",0,0,"00:00:00","00:00:00",0,0,"00:00:00","00:00:00",0,0,"00:00:00","00:00:00",0,0,"00:00:00","00:00:00",0,0,"00:00:00","00:00:00",0,0,"00:00:00","00:00:00",0,0]
[null,null,null,null,null,null,null,0,"00:00:00","00:00:00",0,0,"00:00:00","00:00:00",0,0,"00:00:00","00:00:00",0,0,"00:00:00","00:00:00",0,0,"00:00:00","00:00:00",0,0,"00:00:00","00:00:00",0,0,"00:00:00","00:00:00",0,0,"00:00:00","00:00:00",0,0,"00:00:00","00:00:00",0,0,"00:00:00","00:00:00",0,0]
[null,null,null,null,null,null,null,0,"00:00:00","00:00:00",0,0,"00:00:00","00:00:00",0,0,"00:00:00","00:00:00",0,0,"00:00:00","00:00:00",0,0,"00:00:00","00:00:00",0,0,"00:00:00","00:00:00",0,0,"00:00:00","00:00:00",0,0,"00:00:00","00:00:00",0,0,"00:00:00","00:00:00",0,0,"00:00:00","00:00:00",0,0]
[null,null,null,null,null,null,null,0,"00:00:00","00:00:00",0,0,"00:00:00","00:00:00",0,0,"00:00:00","00:00:00",0,0,"00:00:00","00:00:00",0,0,"00:00:00","00:00:00",0,0,"00:00:00","00:00:00",0,0,"00:00:00","00:00:00",0,0,"00:00:00","00:00:00",0,0,"00:00:00","00:00:00",0,0,"00:00:00","00:00:00",0,0]
[null,null,null,null,null,null,null,0,"00:00:00","00:00:00",0,0,"00:00:00","00:00:00",0,0,"00:00:00","00:00:00",0,0,"00:00:00","00:00:00",0,0,"00:00:00","00:00:00",0,0,"00:00:00","00:00:00",0,0,"00:00:00","00:00:00",0,0,"00:00:00","00:00:00",0,0,"00:00:00","00:00:00",0,0,"00:00:00","00:00:00",0,0]
[null,null,null,null,null,null,null,0,"00:00:00","00:00:00",0,0,"00:00:00","00:00:00",0,0,"00:00:00","00:00:00",0,0,"00:00:00","00:00:00",0,0,"00:00:00","00:00:00",0,0,"00:00:00","00:00:00",0,0,"00:00:00","00:00:00",0,0,"00:00:00","00:00:00",0,0,"00:00:00","00:00:00",0,0,"00:00:00","00:00:00",0,0]
[null,null,null,null,null,null,null,0,"00:00:00","00:00:00",0,0,"00:00:00","00:00:00",0,0,"00:00:00","00:00:00",0,0,"00:00:00","00:00:00",0,0,"00:00:00","00:00:00",0,0,"00:00:00","00:00:00",0,0,"00:00:00","00:00:00",0,0,"00:00:00","00:00:00",0,0,"00:00:00","00:00:00",0,0,"00:00:00","00:00:00",0,0]
[null,null,null,null,null,null,null,0,"00:00:00","00:00:00",0,0,"00:00:00","00:00:00",0,0,"00:00:00","00:00:00",0,0,"00:00:00","00:00:00",0,0,"00:00:00","00:00:00",0,0,"00:00:00","00:00:00",0,0,"00:00:00","00:00:00",0,0,"00:00:00","00:00:00",0,0,"00:00:00","00:00:00",0,0,"00:00:00","00:00:00",0,0]
[null,null,null,null,null,null,null,0,"00:00:00","00:00:00",0,0,"00:00:00","00:00:00",0,0,"00:00:00","00:00:00",0,0,"00:00:00","00:00:00",0,0,"00:00:00","00:00:00",0,0,"00:00:00","00:00:00",0,0,"00:00:00","00:00:00",0,0,"00:00:00","00:00:00",0,0,"00:00:00","00:00:00",0,0,"00:00:00","00:00:00",0,0]
[null,null,null,null,null,null,null,0,"00:00:00","00:00:00",0,0,"00:00:00","00:00:00",0,0,"00:00:00","00:00:00",0,0,"00:00:00","00:00:00",0,0,"00:00:00","00:00:00",0,0,"00:00:00","00:00:00",0,0,"00:00:00","00:00:00",0,0,"00:00:00","00:00:00",0,0,"00:00:00","00:00:00",0,0,"00:00:00","00:00:00",0,0]
[null,null,null,null,null,null,null,0,"00:00:00","00:00:00",0,0,"00:00:00","00:00:00",0,0,"00:00:00","00:00:00",0,0,"00:00:00","00:00:00",0,0,"00:00:00","00:00:00",0,0,"00:00:00","00:00:00",0,0,"00:00:00","00:00:00",0,0,"00:00:00","00:00:00",0,0,"00:00:00","00:00:00",0,0,"00:00:00","00:00:00",0,0]
[null,null,null,null,null,null,null,0,"00:00:00","00:00:00",0,0,"00:00:00","00:00:00",0,0,"00:00:00","00:00:00",0,0,"00:00:00","00:00:00",0,0,"00:00:00","00:00:00",0,0,"00:00:00","00:00:00",0,0,"00:00:00","00:00:00",0,0,"00:00:00","00:00:00",0,0,"00:00:00","00:00:00",0,0,"00:00:00","00:00:00",0,0]
[null,null,null,null,null,null,null,0,"00:00:00","00:00:00",0,0,"00:00:00","00:00:00",0,0,"00:00:00","00:00:00",0,0,"00:00:00","00:00:00",0,0,"00:00:00","00:00:00",0,0,"00:00:00","00:00:00",0,0,"00:00:00","00:00:00",0,0,"00:00:00","00:00:00",0,0,"00:00:00","00:00:00",0,0,"00:00:00","00:00:00",0,0]
[null,null,null,null,null,null,null,0,"00:00:00","00:00:00",0,0,"00:00:00","00:00:00",0,0,"00:00:00","00:00:00",0,0,"00:00:00","00:00:00",0,0,"00:00:00","00:00:00",0,0,"00:00:00","00:00:00",0,0,"00:00:00","00:00:00",0,0,"00:00:00","00:00:00",0,0,"00:00:00","00:00:00",0,0,"00:00:00","00:00:00",0,0]
[null,null,null,null,null,null,null,0,"00:00:00","00:00:00",0,0,"00:00:00","00:00:00",0,0,"00:00:00","00:00:00",0,0,"00:00:00","00:00:00",0,0,"00:00:00","00:00:00",0,0,"00:00:00","00:00:00",0,0,"00:00:00","00:00:00",0,0,"00:00:00","00:00:00",0,0,"00:00:00","00:00:00",0,0,"00:00:00","00:00:00",0,0]
[null,null,null,null,null,null,null,0,"00:00:00","00:00:00",0,0,"00:00:00","00:00:00",0,0,"00:00:00","00:00:00",0,0,"00:00:00","00:00:00",0,0,"00:00:00","00:00:00",0,0,"00:00:00","00:00:00",0,0,"00:00:00","00:00:00",0,0,"00:00:00","00:00:00",0,0,"00:00:00","00:00:00",0,0,"00:00:00","00:00:00",0,0]
[null,null,null,null,null,null,null,0,"00:00:00","00:00:00",0,0,"00:00:00","00:00:00",0,0,"00:00:00","00:00:00",0,0,"00:00:00","00:00:00",0,0,"00:00:00","00:00:00",0,0,"00:00:00","00:00:00",0,0,"00:00:00","00:00:00",0,0,"00:00:00","00:00:00",0,0,"00:00:00","00:00:00",0,0,"00:00:00","00:00:00",0,0]
[null,null,null,null,null,null,null,0,"00:00:00","00:00:00",0,0,"00:00:00","00:00:00",0,0,"00:00:00","00:00:00",0,0,"00:00:00","00:00:00",0,0,"00:00:00","00:00:00",0,0,"00:00:00","00:00:00",0,0,"00:00:00","00:00:00",0,0,"00:00:00","00:00:00",0,0,"00:00:00","00:00:00",0,0,"00:00:00","00:00:00",0,0]
[null,null,null,null,null,null,null,0,"00:00:00","00:00:00",0,0,"00:00:00","00:00:00",0,0,"00:00:00","00:00:00",0,0,"00:00:00","00:00:00",0,0,"00:00:00","00:00:00",0,0,"00:00:00","00:00:00",0,0,"00:00:00","00:00:00",0,0,"00:00:00","00:00:00",0,0,"00:00:00","00:00:00",0,0,"00:00:00","00:00:00",0,0]
[null,null,null,null,null,null,null,0,"00:00:00","00:00:00",0,0,"00:00:00","00:00:00",0,0,"00:00:00","00:00:00",0,0,"00:00:00","00:00:00",0,0,"00:00:00","00:00:00",0,0,"00:00:00","00:00:00",0,0,"00:00:00","00:00:00",0,0,"00:00:00","00:00:00",0,0,"00:00:00","00:00:00",0,0,"00:00:00","00:00:00",0,0]
[null,null,null,null,null,null,null,0,"00:00:00","00:00:00",0,0,"00:00:00","00:00:00",0,0,"00:00:00","00:00:00",0,0,"00:00:00","00:00:00",0,0,"00:00:00","00:00:00",0,0,"00:00:00","00:00:00",0,0,"00:00:00","00:00:00",0,0,"00:00:00","00:00:00",0,0,"00:00:00","00:00:00",0,0,"00:00:00","00:00:00",0,0]
[null,null,null,null,null,null,null,0,"00:00:00","00:00:00",0,0,"00:00:00","00:00:00",0,0,"00:00:00","00:00:00",0,0,"00:00:00","00:00:00",0,0,"00:00:00","00:00:00",0,0,"00:00:00","00:00:00",0,0,"00:00:00","00:00:00",0,0,"00:00:00","00:00:00",0,0,"00:00:00","00:00:00",0,0,"00:00:00","00:00:00",0,0]
[null,null,null,null,null,null,null,0,"00:00:00","00:00:00",0,0,"00:00:00","00:00:00",0,0,"00:00:00","00:00:00",0,0,"00:00:00","00:00:00",0,0,"00:00:00","00:00:00",0,0,"00:00:00","00:00:00",0,0,"00:00:00","00:00:00",0,0,"00:00:00","00:00:00",0,0,"00:00:00","00:00:00",0,0,"00:00:00","00:00:00",0,0]
[null,null,null,null,null,null,null,0,"00:00:00","00:00:00",0,0,"00:00:00","00:00:00",0,0,"00:00:00","00:00:00",0,0,"00:00:00","00:00:00",0,0,"00:00:00","00:00:00",0,0,"00:00:00","00:00:00",0,0,"00:00:00","00:00:00",0,0,"00:00:00","00:00:00",0,0,"00:00:00","00:00:00",0,0,"00:00:00","00:00:00",0,0]
[null,null,null,null,null,null,null,0,"00:00:00","00:00:00",0,0,"00:00:00","00:00:00",0,0,"00:00:00","00:00:00",0,0,"00:00:00","00:00:00",0,0,"00:00:00","00:00:00",0,0,"00:00:00","00:00:00",0,0,"00:00:00","00:00:00",0,0,"00:00:00","00:00:00",0,0,"00:00:00","00:00:00",0,0,"00:00:00","00:00:00",0,0]
[null,null,null,null,null,null,null,0,"00:00:00","00:00:00",0,0,"00:00:00","00:00:00",0,0,"00:00:00","00:00:00",0,0,"00:00:00","00:00:00",0,0,"00:00:00","00:00:00",0,0,"00:00:00","00:00:00",0,0,"00:00:00","00:00:00",0,0,"00:00:00","00:00:00",0,0,"00:00:00","00:00:00",0,0,"00:00:00","00:00:00",0,0]
[null,null,null,null,null,null,null,0,"00:00:00","00:00:00",0,0,"00:00:00","00:00:00",0,0,"00:00:00","00:00:00",0,0,"00:00:00","00:00:00",0,0,"00:00:00","00:00:00",0,0,"00:00:00","00:00:00",0,0,"00:00:00","00:00:00",0,0,"00:00:00","00:00:00",0,0,"00:00:00","00:00:00",0,0,"00:00:00","00:00:00",0,0]
[null,null,null,null,null,null,null,0,"00:00:00","00:00:00",0,0,"00:00:00","00:00:00",0,0,"00:00:00","00:00:00",0,0,"00:00:00","00:00:00",0,0,"00:00:00","00:00:00",0,0,"00:00:00","00:00:00",0,0,"00:00:00","00:00:00",0,0,"00:00:00","00:00:00",0,0,"00:00:00","00:00:00",0,0,"00:00:00","00:00:00",0,0]
[null,null,null,null,null,null,null,0,"00:00:00","00:00:00",0,0,"00:00:00","00:00:00",0,0,"00:00:00","00:00:00",0,0,"00:00:00","00:00:00",0,0,"00:00:00","00:00:00",0,0,"00:00:00","00:00:00",0,0,"00:00:00","00:00:00",0,0,"00:00:00","00:00:00",0,0,"00:00:00","00:00:00",0,0,"00:00:00","00:00:00",0,0]
[null,null,null,null,null,null,null,0,"00:00:00","00:00:00",0,0,"00:00:00","00:00:00",0,0,"00:00:00","00:00:00",0,0,"00:00:00","00:00:00",0,0,"00:00:00","00:00:00",0,0,"00:00:00","00:00:00",0,0,"00:00:00","00:00:00",0,0,"00:00:00","00:00:00",0,0,"00:00:00","00:00:00",0,0,"00:00:00","00:00:00",0,0]
[null,null,null,null,null,null,null,0,"00:00:00","00:00:00",0,0,"00:00:00","00:00:00",0,0,"00:00:00","00:00:00",0,0,"00:00:00","00:00:00",0,0,"00:00:00","00:00:00",0,0,"00:00:00","00:00:00",0,0,"00:00:00","00:00:00",0,0,"00:00:00","00:00:00",0,0,"00:00:00","00:00:00",0,0,"00:00:00","00:00:00",0,0]
[null,null,null,null,null,null,null,0,"00:00:00","00:00:00",0,0,"00:00:00","00:00:00",0,0,"00:00:00","00:00:00",0,0,"00:00:00","00:00:00",0,0,"00:00:00","00:00:00",0,0,"00:00:00","00:00:00",0,0,"00:00:00","00:00:00",0,0,"00:00:00","00:00:00",0,0,"00:00:00","00:00:00",0,0,"00:00:00","00:00:00",0,0]
[null,null,null,null,null,null,null,0,"00:00:00","00:00:00",0,0,"00:00:00","00:00:00",0,0,"00:00:00","00:00:00",0,0,"00:00:00","00:00:00",0,0,"00:00:00","00:00:00",0,0,"00:00:00","00:00:00",0,0,"00:00:00","00:00:00",0,0,"00:00:00","00:00:00",0,0,"00:00:00","00:00:00",0,0,"00:00:00","00:00:00",0,0]
[null,null,null,null,null,null,null,0,"00:00:00","00:00:00",0,0,"00:00:00","00:00:00",0,0,"00:00:00","00:00:00",0,0,"00:00:00","00:00:00",0,0,"00:00:00","00:00:00",0,0,"00:00:00","00:00:00",0,0,"00:00:00","00:00:00",0,0,"00:00:00","00:00:00",0,0,"00:00:00","00:00:00",0,0,"00:00:00","00:00:00",0,0]
[null,null,null,null,null,null,null,0,"00:00:00","00:00:00",0,0,"00:00:00","00:00:00",0,0,"00:00:00","00:00:00",0,0,"00:00:00","00:00:00",0,0,"00:00:00","00:00:00",0,0,"00:00:00","00:00:00",0,0,"00:00:00","00:00:00",0,0,"00:00:00","00:00:00",0,0,"00:00:00","00:00:00",0,0,"00:00:00","00:00:00",0,0]
[null,null,null,null,null,null,null,0,"00:00:00","00:00:00",0,0,"00:00:00","00:00:00",0,0,"00:00:00","00:00:00",0,0,"00:00:00","00:00:00",0,0,"00:00:00","00:00:00",0,0,"00:00:00","00:00:00",0,0,"00:00:00","00:00:00",0,0,"00:00:00","00:00:00",0,0,"00:00:00","00:00:00",0,0,"00:00:00","00:00:00",0,0]
[null,null,null,null,null,null,null,0,"00:00:00","00:00:00",0,0,"00:00:00","00:00:00",0,0,"00:00:00","00:00:00",0,0,"00:00:00","00:00:00",0,0,"00:00:00","00:00:00",0,0,"00:00:00","00:00:00",0,0,"00:00:00","00:00:00",0,0,"00:00:00","00:00:00",0,0,"00:00:00","00:00:00",0,0,"00:00:00","00:00:00",0,0]
[null,null,null,null,null,null,null,0,"00:00:00","00:00:00",0,0,"00:00:00","00:00:00",0,0,"00:00:00","00:00:00",0,0,"00:00:00","00:00:00",0,0,"00:00:00","00:00:00",0,0,"00:00:00","00:00:00",0,0,"00:00:00","00:00:00",0,0,"00:00:00","00:00:00",0,0,"00:00:00","00:00:00",0,0,"00:00:00","00:00:00",0,0]
[null,null,null,null,null,null,null,{"$f":"IF(F333-E333=0,0,F333-E333+1)","v":0},{"$f":"IF(OR($F333<I$10,$E333>J$10),0,IF(AND($E333>=I$10,$F333<=J$10),$E333,IF(AND($E333<=I$10,$F333<=J$10),I$10,IF(AND($E333<=J$10,$F333>=J$10,$E333>=I$10),$E333,IF(AND($E333<=I$10,$F333>=J$10),I$10,\"chyba\")))))","v":"00:00:00"},{"$f":"IF(OR($F333<I$10,$E333>J$10),0,IF(AND($E333>=I$10,$F333<=J$10),$F333,IF(AND($E333<=I$10,$F333<=J$10),$F333,IF(AND($E333<=J$10,$F333>=J$10),J$10,IF(AND($E333<=I$10,$F333>=J$10),J$10,\"chyba\")))))","v":"00:00:00"},{"$f":"IF(J333-I333=0,0,J333-I333+1)","v":0},{"$f":"IF($H333<=0,0,$G333/$H333*K333)","v":0},{"$f":"IF(OR($F333<M$10,$E333>N$10),0,IF(AND($E333>=M$10,$F333<=N$10),$E333,IF(AND($E333<=M$10,$F333<=N$10),M$10,IF(AND($E333<=N$10,$F333>=N$10,$E333>=M$10),$E333,IF(AND($E333<=M$10,$F333>=N$10),M$10,\"chyba\")))))","v":"00:00:00"},{"$f":"IF(OR($F333<M$10,$E333>N$10),0,IF(AND($E333>=M$10,$F333<=N$10),$F333,IF(AND($E333<=M$10,$F333<=N$10),$F333,IF(AND($E333<=N$10,$F333>=N$10),N$10,IF(AND($E333<=M$10,$F333>=N$10),N$10,\"chyba\")))))","v":"00:00:00"},{"$f":"IF(N333-M333=0,0,N333-M333+1)","v":0},{"$f":"IF($H333<=0,0,$G333/$H333*O333)","v":0},{"$f":"IF(OR($F333<Q$10,$E333>R$10),0,IF(AND($E333>=Q$10,$F333<=R$10),$E333,IF(AND($E333<=Q$10,$F333<=R$10),Q$10,IF(AND($E333<=R$10,$F333>=R$10,$E333>=Q$10),$E333,IF(AND($E333<=Q$10,$F333>=R$10),Q$10,\"chyba\")))))","v":"00:00:00"},{"$f":"IF(OR($F333<Q$10,$E333>R$10),0,IF(AND($E333>=Q$10,$F333<=R$10),$F333,IF(AND($E333<=Q$10,$F333<=R$10),$F333,IF(AND($E333<=R$10,$F333>=R$10),R$10,IF(AND($E333<=Q$10,$F333>=R$10),R$10,\"chyba\")))))","v":"00:00:00"},{"$f":"IF(R333-Q333=0,0,R333-Q333+1)","v":0},{"$f":"IF($H333<=0,0,$G333/$H333*S333)","v":0},{"$f":"IF(OR($F333<U$10,$E333>V$10),0,IF(AND($E333>=U$10,$F333<=V$10),$E333,IF(AND($E333<=U$10,$F333<=V$10),U$10,IF(AND($E333<=V$10,$F333>=V$10,$E333>=U$10),$E333,IF(AND($E333<=U$10,$F333>=V$10),U$10,\"chyba\")))))","v":"00:00:00"},{"$f":"IF(OR($F333<U$10,$E333>V$10),0,IF(AND($E333>=U$10,$F333<=V$10),$F333,IF(AND($E333<=U$10,$F333<=V$10),$F333,IF(AND($E333<=V$10,$F333>=V$10),V$10,IF(AND($E333<=U$10,$F333>=V$10),V$10,\"chyba\")))))","v":"00:00:00"},{"$f":"IF(V333-U333=0,0,V333-U333+1)","v":0},{"$f":"IF($H333<=0,0,$G333/$H333*W333)","v":0},{"$f":"IF(OR($F333<Y$10,$E333>Z$10),0,IF(AND($E333>=Y$10,$F333<=Z$10),$E333,IF(AND($E333<=Y$10,$F333<=Z$10),Y$10,IF(AND($E333<=Z$10,$F333>=Z$10,$E333>=Y$10),$E333,IF(AND($E333<=Y$10,$F333>=Z$10),Y$10,\"chyba\")))))","v":"00:00:00"},{"$f":"IF(OR($F333<Y$10,$E333>Z$10),0,IF(AND($E333>=Y$10,$F333<=Z$10),$F333,IF(AND($E333<=Y$10,$F333<=Z$10),$F333,IF(AND($E333<=Z$10,$F333>=Z$10),Z$10,IF(AND($E333<=Y$10,$F333>=Z$10),Z$10,\"chyba\")))))","v":"00:00:00"},{"$f":"IF(Z333-Y333=0,0,Z333-Y333+1)","v":0},{"$f":"IF($H333<=0,0,$G333/$H333*AA333)","v":0},{"$f":"IF(OR($F333<AC$10,$E333>AD$10),0,IF(AND($E333>=AC$10,$F333<=AD$10),$E333,IF(AND($E333<=AC$10,$F333<=AD$10),AC$10,IF(AND($E333<=AD$10,$F333>=AD$10,$E333>=AC$10),$E333,IF(AND($E333<=AC$10,$F333>=AD$10),AC$10,\"chyba\")))))","v":"00:00:00"},{"$f":"IF(OR($F333<AC$10,$E333>AD$10),0,IF(AND($E333>=AC$10,$F333<=AD$10),$F333,IF(AND($E333<=AC$10,$F333<=AD$10),$F333,IF(AND($E333<=AD$10,$F333>=AD$10),AD$10,IF(AND($E333<=AC$10,$F333>=AD$10),AD$10,\"chyba\")))))","v":"00:00:00"},{"$f":"IF(AD333-AC333=0,0,AD333-AC333+1)","v":0},{"$f":"IF($H333<=0,0,$G333/$H333*AE333)","v":0},{"$f":"IF(OR($F333<AG$10,$E333>AH$10),0,IF(AND($E333>=AG$10,$F333<=AH$10),$E333,IF(AND($E333<=AG$10,$F333<=AH$10),AG$10,IF(AND($E333<=AH$10,$F333>=AH$10,$E333>=AG$10),$E333,IF(AND($E333<=AG$10,$F333>=AH$10),AG$10,\"chyba\")))))","v":"00:00:00"},{"$f":"IF(OR($F333<AG$10,$E333>AH$10),0,IF(AND($E333>=AG$10,$F333<=AH$10),$F333,IF(AND($E333<=AG$10,$F333<=AH$10),$F333,IF(AND($E333<=AH$10,$F333>=AH$10),AH$10,IF(AND($E333<=AG$10,$F333>=AH$10),AH$10,\"chyba\")))))","v":"00:00:00"},{"$f":"IF(AH333-AG333=0,0,AH333-AG333+1)","v":0},{"$f":"IF($H333<=0,0,$G333/$H333*AI333)","v":0},{"$f":"IF(OR($F333<AK$10,$E333>AL$10),0,IF(AND($E333>=AK$10,$F333<=AL$10),$E333,IF(AND($E333<=AK$10,$F333<=AL$10),AK$10,IF(AND($E333<=AL$10,$F333>=AL$10,$E333>=AK$10),$E333,IF(AND($E333<=AK$10,$F333>=AL$10),AK$10,\"chyba\")))))","v":"00:00:00"},{"$f":"IF(OR($F333<AK$10,$E333>AL$10),0,IF(AND($E333>=AK$10,$F333<=AL$10),$F333,IF(AND($E333<=AK$10,$F333<=AL$10),$F333,IF(AND($E333<=AL$10,$F333>=AL$10),AL$10,IF(AND($E333<=AK$10,$F333>=AL$10),AL$10,\"chyba\")))))","v":"00:00:00"},{"$f":"IF(AL333-AK333=0,0,AL333-AK333+1)","v":0},{"$f":"IF($H333<=0,0,$G333/$H333*AM333)","v":0},{"$f":"IF(OR($F333<AO$10,$E333>AP$10),0,IF(AND($E333>=AO$10,$F333<=AP$10),$E333,IF(AND($E333<=AO$10,$F333<=AP$10),AO$10,IF(AND($E333<=AP$10,$F333>=AP$10,$E333>=AO$10),$E333,IF(AND($E333<=AO$10,$F333>=AP$10),AO$10,\"chyba\")))))","v":"00:00:00"},{"$f":"IF(OR($F333<AO$10,$E333>AP$10),0,IF(AND($E333>=AO$10,$F333<=AP$10),$F333,IF(AND($E333<=AO$10,$F333<=AP$10),$F333,IF(AND($E333<=AP$10,$F333>=AP$10),AP$10,IF(AND($E333<=AO$10,$F333>=AP$10),AP$10,\"chyba\")))))","v":"00:00:00"},{"$f":"IF(AP333-AO333=0,0,AP333-AO333+1)","v":0},{"$f":"IF($H333<=0,0,$G333/$H333*AQ333)","v":0},{"$f":"IF(OR($F333<AS$10,$E333>AT$10),0,IF(AND($E333>=AS$10,$F333<=AT$10),$E333,IF(AND($E333<=AS$10,$F333<=AT$10),AS$10,IF(AND($E333<=AT$10,$F333>=AT$10,$E333>=AS$10),$E333,IF(AND($E333<=AS$10,$F333>=AT$10),AS$10,\"chyba\")))))","v":"00:00:00"},{"$f":"IF(OR($F333<AS$10,$E333>AT$10),0,IF(AND($E333>=AS$10,$F333<=AT$10),$F333,IF(AND($E333<=AS$10,$F333<=AT$10),$F333,IF(AND($E333<=AT$10,$F333>=AT$10),AT$10,IF(AND($E333<=AS$10,$F333>=AT$10),AT$10,\"chyba\")))))","v":"00:00:00"},{"$f":"IF(AT333-AS333=0,0,AT333-AS333+1)","v":0},{"$f":"IF($H333<=0,0,$G333/$H333*AU333)","v":0}]
[null,null,null,null,null,null,null,0,"00:00:00","00:00:00",0,0,"00:00:00","00:00:00",0,0,"00:00:00","00:00:00",0,0,"00:00:00","00:00:00",0,0,"00:00:00","00:00:00",0,0,"00:00:00","00:00:00",0,0,"00:00:00","00:00:00",0,0,"00:00:00","00:00:00",0,0,"00:00:00","00:00:00",0,0,"00:00:00","00:00:00",0,0]
[null,null,null,null,null,null,null,0,"00:00:00","00:00:00",0,0,"00:00:00","00:00:00",0,0,"00:00:00","00:00:00",0,0,"00:00:00","00:00:00",0,0,"00:00:00","00:00:00",0,0,"00:00:00","00:00:00",0,0,"00:00:00","00:00:00",0,0,"00:00:00","00:00:00",0,0,"00:00:00","00:00:00",0,0,"00:00:00","00:00:00",0,0]
[null,null,null,null,null,null,null,0,"00:00:00","00:00:00",0,0,"00:00:00","00:00:00",0,0,"00:00:00","00:00:00",0,0,"00:00:00","00:00:00",0,0,"00:00:00","00:00:00",0,0,"00:00:00","00:00:00",0,0,"00:00:00","00:00:00",0,0,"00:00:00","00:00:00",0,0,"00:00:00","00:00:00",0,0,"00:00:00","00:00:00",0,0]
[null,null,null,null,null,null,null,0,"00:00:00","00:00:00",0,0,"00:00:00","00:00:00",0,0,"00:00:00","00:00:00",0,0,"00:00:00","00:00:00",0,0,"00:00:00","00:00:00",0,0,"00:00:00","00:00:00",0,0,"00:00:00","00:00:00",0,0,"00:00:00","00:00:00",0,0,"00:00:00","00:00:00",0,0,"00:00:00","00:00:00",0,0]
[null,null,null,null,null,null,null,0,"00:00:00","00:00:00",0,0,"00:00:00","00:00:00",0,0,"00:00:00","00:00:00",0,0,"00:00:00","00:00:00",0,0,"00:00:00","00:00:00",0,0,"00:00:00","00:00:00",0,0,"00:00:00","00:00:00",0,0,"00:00:00","00:00:00",0,0,"00:00:00","00:00:00",0,0,"00:00:00","00:00:00",0,0]
[null,null,null,null,null,null,null,0,"00:00:00","00:00:00",0,0,"00:00:00","00:00:00",0,0,"00:00:00","00:00:00",0,0,"00:00:00","00:00:00",0,0,"00:00:00","00:00:00",0,0,"00:00:00","00:00:00",0,0,"00:00:00","00:00:00",0,0,"00:00:00","00:00:00",0,0,"00:00:00","00:00:00",0,0,"00:00:00","00:00:00",0,0]
[null,null,null,null,null,null,null,0,"00:00:00","00:00:00",0,0,"00:00:00","00:00:00",0,0,"00:00:00","00:00:00",0,0,"00:00:00","00:00:00",0,0,"00:00:00","00:00:00",0,0,"00:00:00","00:00:00",0,0,"00:00:00","00:00:00",0,0,"00:00:00","00:00:00",0,0,"00:00:00","00:00:00",0,0,"00:00:00","00:00:00",0,0]
[null,null,null,null,null,null,null,0,"00:00:00","00:00:00",0,0,"00:00:00","00:00:00",0,0,"00:00:00","00:00:00",0,0,"00:00:00","00:00:00",0,0,"00:00:00","00:00:00",0,0,"00:00:00","00:00:00",0,0,"00:00:00","00:00:00",0,0,"00:00:00","00:00:00",0,0,"00:00:00","00:00:00",0,0,"00:00:00","00:00:00",0,0]
[null,null,null,null,null,null,null,0,"00:00:00","00:00:00",0,0,"00:00:00","00:00:00",0,0,"00:00:00","00:00:00",0,0,"00:00:00","00:00:00",0,0,"00:00:00","00:00:00",0,0,"00:00:00","00:00:00",0,0,"00:00:00","00:00:00",0,0,"00:00:00","00:00:00",0,0,"00:00:00","00:00:00",0,0,"00:00:00","00:00:00",0,0]
[null,null,null,null,null,null,null,0,"00:00:00","00:00:00",0,0,"00:00:00","00:00:00",0,0,"00:00:00","00:00:00",0,0,"00:00:00","00:00:00",0,0,"00:00:00","00:00:00",0,0,"00:00:00","00:00:00",0,0,"00:00:00","00:00:00",0,0,"00:00:00","00:00:00",0,0,"00:00:00","00:00:00",0,0,"00:00:00","00:00:00",0,0]
[null,null,null,null,null,null,null,0,"00:00:00","00:00:00",0,0,"00:00:00","00:00:00",0,0,"00:00:00","00:00:00",0,0,"00:00:00","00:00:00",0,0,"00:00:00","00:00:00",0,0,"00:00:00","00:00:00",0,0,"00:00:00","00:00:00",0,0,"00:00:00","00:00:00",0,0,"00:00:00","00:00:00",0,0,"00:00:00","00:00:00",0,0]
[null,null,null,null,null,null,null,0,"00:00:00","00:00:00",0,0,"00:00:00","00:00:00",0,0,"00:00:00","00:00:00",0,0,"00:00:00","00:00:00",0,0,"00:00:00","00:00:00",0,0,"00:00:00","00:00:00",0,0,"00:00:00","00:00:00",0,0,"00:00:00","00:00:00",0,0,"00:00:00","00:00:00",0,0,"00:00:00","00:00:00",0,0]
[null,null,null,null,null,null,null,0,"00:00:00","00:00:00",0,0,"00:00:00","00:00:00",0,0,"00:00:00","00:00:00",0,0,"00:00:00","00:00:00",0,0,"00:00:00","00:00:00",0,0,"00:00:00","00:00:00",0,0,"00:00:00","00:00:00",0,0,"00:00:00","00:00:00",0,0,"00:00:00","00:00:00",0,0,"00:00:00","00:00:00",0,0]
[null,null,null,null,null,null,null,0,"00:00:00","00:00:00",0,0,"00:00:00","00:00:00",0,0,"00:00:00","00:00:00",0,0,"00:00:00","00:00:00",0,0,"00:00:00","00:00:00",0,0,"00:00:00","00:00:00",0,0,"00:00:00","00:00:00",0,0,"00:00:00","00:00:00",0,0,"00:00:00","00:00:00",0,0,"00:00:00","00:00:00",0,0]
[null,null,null,null,null,null,null,0,"00:00:00","00:00:00",0,0,"00:00:00","00:00:00",0,0,"00:00:00","00:00:00",0,0,"00:00:00","00:00:00",0,0,"00:00:00","00:00:00",0,0,"00:00:00","00:00:00",0,0,"00:00:00","00:00:00",0,0,"00:00:00","00:00:00",0,0,"00:00:00","00:00:00",0,0,"00:00:00","00:00:00",0,0]
[null,null,null,null,null,null,null,0,"00:00:00","00:00:00",0,0,"00:00:00","00:00:00",0,0,"00:00:00","00:00:00",0,0,"00:00:00","00:00:00",0,0,"00:00:00","00:00:00",0,0,"00:00:00","00:00:00",0,0,"00:00:00","00:00:00",0,0,"00:00:00","00:00:00",0,0,"00:00:00","00:00:00",0,0,"00:00:00","00:00:00",0,0]
[null,null,null,null,null,null,null,0,"00:00:00","00:00:00",0,0,"00:00:00","00:00:00",0,0,"00:00:00","00:00:00",0,0,"00:00:00","00:00:00",0,0,"00:00:00","00:00:00",0,0,"00:00:00","00:00:00",0,0,"00:00:00","00:00:00",0,0,"00:00:00","00:00:00",0,0,"00:00:00","00:00:00",0,0,"00:00:00","00:00:00",0,0]
[null,null,null,null,null,null,null,0,"00:00:00","00:00:00",0,0,"00:00:00","00:00:00",0,0,"00:00:00","00:00:00",0,0,"00:00:00","00:00:00",0,0,"00:00:00","00:00:00",0,0,"00:00:00","00:00:00",0,0,"00:00:00","00:00:00",0,0,"00:00:00","00:00:00",0,0,"00:00:00","00:00:00",0,0,"00:00:00","00:00:00",0,0]
[null,null,null,null,null,null,null,0,"00:00:00","00:00:00",0,0,"00:00:00","00:00:00",0,0,"00:00:00","00:00:00",0,0,"00:00:00","00:00:00",0,0,"00:00:00","00:00:00",0,0,"00:00:00","00:00:00",0,0,"00:00:00","00:00:00",0,0,"00:00:00","00:00:00",0,0,"00:00:00","00:00:00",0,0,"00:00:00","00:00:00",0,0]
[null,null,null,null,null,null,null,0,"00:00:00","00:00:00",0,0,"00:00:00","00:00:00",0,0,"00:00:00","00:00:00",0,0,"00:00:00","00:00:00",0,0,"00:00:00","00:00:00",0,0,"00:00:00","00:00:00",0,0,"00:00:00","00:00:00",0,0,"00:00:00","00:00:00",0,0,"00:00:00","00:00:00",0,0,"00:00:00","00:00:00",0,0]
[null,null,null,null,null,null,null,0,"00:00:00","00:00:00",0,0,"00:00:00","00:00:00",0,0,"00:00:00","00:00:00",0,0,"00:00:00","00:00:00",0,0,"00:00:00","00:00:00",0,0,"00:00:00","00:00:00",0,0,"00:00:00","00:00:00",0,0,"00:00:00","00:00:00",0,0,"00:00:00","00:00:00",0,0,"00:00:00","00:00:00",0,0]
[null,null,null,null,null,null,null,0,"00:00:00","00:00:00",0,0,"00:00:00","00:00:00",0,0,"00:00:00","00:00:00",0,0,"00:00:00","00:00:00",0,0,"00:00:00","00:00:00",0,0,"00:00:00","00:00:00",0,0,"00:00:00","00:00:00",0,0,"00:00:00","00:00:00",0,0,"00:00:00","00:00:00",0,0,"00:00:00","00:00:00",0,0]
[null,null,null,null,null,null,null,0,"00:00:00","00:00:00",0,0,"00:00:00","00:00:00",0,0,"00:00:00","00:00:00",0,0,"00:00:00","00:00:00",0,0,"00:00:00","00:00:00",0,0,"00:00:00","00:00:00",0,0,"00:00:00","00:00:00",0,0,"00:00:00","00:00:00",0,0,"00:00:00","00:00:00",0,0,"00:00:00","00:00:00",0,0]
[null,null,null,null,null,null,null,0,"00:00:00","00:00:00",0,0,"00:00:00","00:00:00",0,0,"00:00:00","00:00:00",0,0,"00:00:00","00:00:00",0,0,"00:00:00","00:00:00",0,0,"00:00:00","00:00:00",0,0,"00:00:00","00:00:00",0,0,"00:00:00","00:00:00",0,0,"00:00:00","00:00:00",0,0,"00:00:00","00:00:00",0,0]
[null,null,null,null,null,null,null,0,"00:00:00","00:00:00",0,0,"00:00:00","00:00:00",0,0,"00:00:00","00:00:00",0,0,"00:00:00","00:00:00",0,0,"00:00:00","00:00:00",0,0,"00:00:00","00:00:00",0,0,"00:00:00","00:00:00",0,0,"00:00:00","00:00:00",0,0,"00:00:00","00:00:00",0,0,"00:00:00","00:00:00",0,0]
[null,null,null,null,null,null,null,0,"00:00:00","00:00:00",0,0,"00:00:00","00:00:00",0,0,"00:00:00","00:00:00",0,0,"00:00:00","00:00:00",0,0,"00:00:00","00:00:00",0,0,"00:00:00","00:00:00",0,0,"00:00:00","00:00:00",0,0,"00:00:00","00:00:00",0,0,"00:00:00","00:00:00",0,0,"00:00:00","00:00:00",0,0]
[null,null,null,null,null,null,null,0,"00:00:00","00:00:00",0,0,"00:00:00","00:00:00",0,0,"00:00:00","00:00:00",0,0,"00:00:00","00:00:00",0,0,"00:00:00","00:00:00",0,0,"00:00:00","00:00:00",0,0,"00:00:00","00:00:00",0,0,"00:00:00","00:00:00",0,0,"00:00:00","00:00:00",0,0,"00:00:00","00:00:00",0,0]
[null,null,null,null,null,null,null,0,"00:00:00","00:00:00",0,0,"00:00:00","00:00:00",0,0,"00:00:00","00:00:00",0,0,"00:00:00","00:00:00",0,0,"00:00:00","00:00:00",0,0,"00:00:00","00:00:00",0,0,"00:00:00","00:00:00",0,0,"00:00:00","00:00:00",0,0,"00:00:00","00:00:00",0,0,"00:00:00","00:00:00",0,0]
[null,null,null,null,null,null,null,0,"00:00:00","00:00:00",0,0,"00:00:00","00:00:00",0,0,"00:00:00","00:00:00",0,0,"00:00:00","00:00:00",0,0,"00:00:00","00:00:00",0,0,"00:00:00","00:00:00",0,0,"00:00:00","00:00:00",0,0,"00:00:00","00:00:00",0,0,"00:00:00","00:00:00",0,0,"00:00:00","00:00:00",0,0]
[null,null,null,null,null,null,null,0,"00:00:00","00:00:00",0,0,"00:00:00","00:00:00",0,0,"00:00:00","00:00:00",0,0,"00:00:00","00:00:00",0,0,"00:00:00","00:00:00",0,0,"00:00:00","00:00:00",0,0,"00:00:00","00:00:00",0,0,"00:00:00","00:00:00",0,0,"00:00:00","00:00:00",0,0,"00:00:00","00:00:00",0,0]
[null,null,null,null,null,null,null,0,"00:00:00","00:00:00",0,0,"00:00:00","00:00:00",0,0,"00:00:00","00:00:00",0,0,"00:00:00","00:00:00",0,0,"00:00:00","00:00:00",0,0,"00:00:00","00:00:00",0,0,"00:00:00","00:00:00",0,0,"00:00:00","00:00:00",0,0,"00:00:00","00:00:00",0,0,"00:00:00","00:00:00",0,0]
[null,null,null,null,null,null,null,0,"00:00:00","00:00:00",0,0,"00:00:00","00:00:00",0,0,"00:00:00","00:00:00",0,0,"00:00:00","00:00:00",0,0,"00:00:00","00:00:00",0,0,"00:00:00","00:00:00",0,0,"00:00:00","00:00:00",0,0,"00:00:00","00:00:00",0,0,"00:00:00","00:00:00",0,0,"00:00:00","00:00:00",0,0]
[null,null,null,null,null,null,null,0,"00:00:00","00:00:00",0,0,"00:00:00","00:00:00",0,0,"00:00:00","00:00:00",0,0,"00:00:00","00:00:00",0,0,"00:00:00","00:00:00",0,0,"00:00:00","00:00:00",0,0,"00:00:00","00:00:00",0,0,"00:00:00","00:00:00",0,0,"00:00:00","00:00:00",0,0,"00:00:00","00:00:00",0,0]
[null,null,null,null,null,null,null,0,"00:00:00","00:00:00",0,0,"00:00:00","00:00:00",0,0,"00:00:00","00:00:00",0,0,"00:00:00","00:00:00",0,0,"00:00:00","00:00:00",0,0,"00:00:00","00:00:00",0,0,"00:00:00","00:00:00",0,0,"00:00:00","00:00:00",0,0,"00:00:00","00:00:00",0,0,"00:00:00","00:00:00",0,0]
[null,null,null,null,null,null,null,0,"00:00:00","00:00:00",0,0,"00:00:00","00:00:00",0,0,"00:00:00","00:00:00",0,0,"00:00:00","00:00:00",0,0,"00:00:00","00:00:00",0,0,"00:00:00","00:00:00",0,0,"00:00:00","00:00:00",0,0,"00:00:00","00:00:00",0,0,"00:00:00","00:00:00",0,0,"00:00:00","00:00:00",0,0]
[null,null,null,null,null,null,null,0,"00:00:00","00:00:00",0,0,"00:00:00","00:00:00",0,0,"00:00:00","00:00:00",0,0,"00:00:00","00:00:00",0,0,"00:00:00","00:00:00",0,0,"00:00:00","00:00:00",0,0,"00:00:00","00:00:00",0,0,"00:00:00","00:00:00",0,0,"00:00:00","00:00:00",0,0,"00:00:00","00:00:00",0,0]
[null,null,null,null,null,null,null,0,"00:00:00","00:00:00",0,0,"00:00:00","00:00:00",0,0,"00:00:00","00:00:00",0,0,"00:00:00","00:00:00",0,0,"00:00:00","00:00:00",0,0,"00:00:00","00:00:00",0,0,"00:00:00","00:00:00",0,0,"00:00:00","00:00:00",0,0,"00:00:00","00:00:00",0,0,"00:00:00","00:00:00",0,0]
[null,null,null,null,null,null,null,0,"00:00:00","00:00:00",0,0,"00:00:00","00:00:00",0,0,"00:00:00","00:00:00",0,0,"00:00:00","00:00:00",0,0,"00:00:00","00:00:00",0,0,"00:00:00","00:00:00",0,0,"00:00:00","00:00:00",0,0,"00:00:00","00:00:00",0,0,"00:00:00","00:00:00",0,0,"00:00:00","00:00:00",0,0]
[null,null,null,null,null,null,null,0,"00:00:00","00:00:00",0,0,"00:00:00","00:00:00",0,0,"00:00:00","00:00:00",0,0,"00:00:00","00:00:00",0,0,"00:00:00","00:00:00",0,0,"00:00:00","00:00:00",0,0,"00:00:00","00:00:00",0,0,"00:00:00","00:00:00",0,0,"00:00:00","00:00:00",0,0,"00:00:00","00:00:00",0,0]
[null,null,null,null,null,null,null,0,"00:00:00","00:00:00",0,0,"00:00:00","00:00:00",0,0,"00:00:00","00:00:00",0,0,"00:00:00","00:00:00",0,0,"00:00:00","00:00:00",0,0,"00:00:00","00:00:00",0,0,"00:00:00","00:00:00",0,0,"00:00:00","00:00:00",0,0,"00:00:00","00:00:00",0,0,"00:00:00","00:00:00",0,0]
[null,null,null,null,null,null,null,0,"00:00:00","00:00:00",0,0,"00:00:00","00:00:00",0,0,"00:00:00","00:00:00",0,0,"00:00:00","00:00:00",0,0,"00:00:00","00:00:00",0,0,"00:00:00","00:00:00",0,0,"00:00:00","00:00:00",0,0,"00:00:00","00:00:00",0,0,"00:00:00","00:00:00",0,0,"00:00:00","00:00:00",0,0]
[null,null,null,null,null,null,null,0,"00:00:00","00:00:00",0,0,"00:00:00","00:00:00",0,0,"00:00:00","00:00:00",0,0,"00:00:00","00:00:00",0,0,"00:00:00","00:00:00",0,0,"00:00:00","00:00:00",0,0,"00:00:00","00:00:00",0,0,"00:00:00","00:00:00",0,0,"00:00:00","00:00:00",0,0,"00:00:00","00:00:00",0,0]
[null,null,null,null,null,null,null,0,"00:00:00","00:00:00",0,0,"00:00:00","00:00:00",0,0,"00:00:00","00:00:00",0,0,"00:00:00","00:00:00",0,0,"00:00:00","00:00:00",0,0,"00:00:00","00:00:00",0,0,"00:00:00","00:00:00",0,0,"00:00:00","00:00:00",0,0,"00:00:00","00:00:00",0,0,"00:00:00","00:00:00",0,0]
[null,null,null,null,null,null,null,0,"00:00:00","00:00:00",0,0,"00:00:00","00:00:00",0,0,"00:00:00","00:00:00",0,0,"00:00:00","00:00:00",0,0,"00:00:00","00:00:00",0,0,"00:00:00","00:00:00",0,0,"00:00:00","00:00:00",0,0,"00:00:00","00:00:00",0,0,"00:00:00","00:00:00",0,0,"00:00:00","00:00:00",0,0]
[null,null,null,null,null,null,null,0,"00:00:00","00:00:00",0,0,"00:00:00","00:00:00",0,0,"00:00:00","00:00:00",0,0,"00:00:00","00:00:00",0,0,"00:00:00","00:00:00",0,0,"00:00:00","00:00:00",0,0,"00:00:00","00:00:00",0,0,"00:00:00","00:00:00",0,0,"00:00:00","00:00:00",0,0,"00:00:00","00:00:00",0,0]
[null,null,null,null,null,null,null,0,"00:00:00","00:00:00",0,0,"00:00:00","00:00:00",0,0,"00:00:00","00:00:00",0,0,"00:00:00","00:00:00",0,0,"00:00:00","00:00:00",0,0,"00:00:00","00:00:00",0,0,"00:00:00","00:00:00",0,0,"00:00:00","00:00:00",0,0,"00:00:00","00:00:00",0,0,"00:00:00","00:00:00",0,0]
[null,null,null,null,null,null,null,0,"00:00:00","00:00:00",0,0,"00:00:00","00:00:00",0,0,"00:00:00","00:00:00",0,0,"00:00:00","00:00:00",0,0,"00:00:00","00:00:00",0,0,"00:00:00","00:00:00",0,0,"00:00:00","00:00:00",0,0,"00:00:00","00:00:00",0,0,"00:00:00","00:00:00",0,0,"00:00:00","00:00:00",0,0]
[null,null,null,null,null,null,null,0,"00:00:00","00:00:00",0,0,"00:00:00","00:00:00",0,0,"00:00:00","00:00:00",0,0,"00:00:00","00:00:00",0,0,"00:00:00","00:00:00",0,0,"00:00:00","00:00:00",0,0,"00:00:00","00:00:00",0,0,"00:00:00","00:00:00",0,0,"00:00:00","00:00:00",0,0,"00:00:00","00:00:00",0,0]
[null,null,null,null,null,null,null,0,"00:00:00","00:00:00",0,0,"00:00:00","00:00:00",0,0,"00:00:00","00:00:00",0,0,"00:00:00","00:00:00",0,0,"00:00:00","00:00:00",0,0,"00:00:00","00:00:00",0,0,"00:00:00","00:00:00",0,0,"00:00:00","00:00:00",0,0,"00:00:00","00:00:00",0,0,"00:00:00","00:00:00",0,0]
[null,null,null,null,null,null,null,0,"00:00:00","00:00:00",0,0,"00:00:00","00:00:00",0,0,"00:00:00","00:00:00",0,0,"00:00:00","00:00:00",0,0,"00:00:00","00:00:00",0,0,"00:00:00","00:00:00",0,0,"00:00:00","00:00:00",0,0,"00:00:00","00:00:00",0,0,"00:00:00","00:00:00",0,0,"00:00:00","00:00:00",0,0]
[null,null,null,null,null,null,null,0,"00:00:00","00:00:00",0,0,"00:00:00","00:00:00",0,0,"00:00:00","00:00:00",0,0,"00:00:00","00:00:00",0,0,"00:00:00","00:00:00",0,0,"00:00:00","00:00:00",0,0,"00:00:00","00:00:00",0,0,"00:00:00","00:00:00",0,0,"00:00:00","00:00:00",0,0,"00:00:00","00:00:00",0,0]
[null,null,null,null,null,null,null,0,"00:00:00","00:00:00",0,0,"00:00:00","00:00:00",0,0,"00:00:00","00:00:00",0,0,"00:00:00","00:00:00",0,0,"00:00:00","00:00:00",0,0,"00:00:00","00:00:00",0,0,"00:00:00","00:00:00",0,0,"00:00:00","00:00:00",0,0,"00:00:00","00:00:00",0,0,"00:00:00","00:00:00",0,0]
[null,null,null,null,null,null,null,0,"00:00:00","00:00:00",0,0,"00:00:00","00:00:00",0,0,"00:00:00","00:00:00",0,0,"00:00:00","00:00:00",0,0,"00:00:00","00:00:00",0,0,"00:00:00","00:00:00",0,0,"00:00:00","00:00:00",0,0,"00:00:00","00:00:00",0,0,"00:00:00","00:00:00",0,0,"00:00:00","00:00:00",0,0]
[null,null,null,null,null,null,null,0,"00:00:00","00:00:00",0,0,"00:00:00","00:00:00",0,0,"00:00:00","00:00:00",0,0,"00:00:00","00:00:00",0,0,"00:00:00","00:00:00",0,0,"00:00:00","00:00:00",0,0,"00:00:00","00:00:00",0,0,"00:00:00","00:00:00",0,0,"00:00:00","00:00:00",0,0,"00:00:00","00:00:00",0,0]
[null,null,null,null,null,null,null,0,"00:00:00","00:00:00",0,0,"00:00:00","00:00:00",0,0,"00:00:00","00:00:00",0,0,"00:00:00","00:00:00",0,0,"00:00:00","00:00:00",0,0,"00:00:00","00:00:00",0,0,"00:00:00","00:00:00",0,0,"00:00:00","00:00:00",0,0,"00:00:00","00:00:00",0,0,"00:00:00","00:00:00",0,0]
[null,null,null,null,null,null,null,0,"00:00:00","00:00:00",0,0,"00:00:00","00:00:00",0,0,"00:00:00","00:00:00",0,0,"00:00:00","00:00:00",0,0,"00:00:00","00:00:00",0,0,"00:00:00","00:00:00",0,0,"00:00:00","00:00:00",0,0,"00:00:00","00:00:00",0,0,"00:00:00","00:00:00",0,0,"00:00:00","00:00:00",0,0]
[null,null,null,null,null,null,null,0,"00:00:00","00:00:00",0,0,"00:00:00","00:00:00",0,0,"00:00:00","00:00:00",0,0,"00:00:00","00:00:00",0,0,"00:00:00","00:00:00",0,0,"00:00:00","00:00:00",0,0,"00:00:00","00:00:00",0,0,"00:00:00","00:00:00",0,0,"00:00:00","00:00:00",0,0,"00:00:00","00:00:00",0,0]
[null,null,null,null,null,null,null,0,"00:00:00","00:00:00",0,0,"00:00:00","00:00:00",0,0,"00:00:00","00:00:00",0,0,"00:00:00","00:00:00",0,0,"00:00:00","00:00:00",0,0,"00:00:00","00:00:00",0,0,"00:00:00","00:00:00",0,0,"00:00:00","00:00:00",0,0,"00:00:00","00:00:00",0,0,"00:00:00","00:00:00",0,0]
[null,null,null,null,null,null,null,0,"00:00:00","00:00:00",0,0,"00:00:00","00:00:00",0,0,"00:00:00","00:00:00",0,0,"00:00:00","00:00:00",0,0,"00:00:00","00:00:00",0,0,"00:00:00","00:00:00",0,0,"00:00:00","00:00:00",0,0,"00:00:00","00:00:00",0,0,"00:00:00","00:00:00",0,0,"00:00:00","00:00:00",0,0]
[null,null,null,null,null,null,null,0,"00:00:00","00:00:00",0,0,"00:00:00","00:00:00",0,0,"00:00:00","00:00:00",0,0,"00:00:00","00:00:00",0,0,"00:00:00","00:00:00",0,0,"00:00:00","00:00:00",0,0,"00:00:00","00:00:00",0,0,"00:00:00","00:00:00",0,0,"00:00:00","00:00:00",0,0,"00:00:00","00:00:00",0,0]
[null,null,null,null,null,null,null,0,"00:00:00","00:00:00",0,0,"00:00:00","00:00:00",0,0,"00:00:00","00:00:00",0,0,"00:00:00","00:00:00",0,0,"00:00:00","00:00:00",0,0,"00:00:00","00:00:00",0,0,"00:00:00","00:00:00",0,0,"00:00:00","00:00:00",0,0,"00:00:00","00:00:00",0,0,"00:00:00","00:00:00",0,0]
[null,null,null,null,null,null,null,0,"00:00:00","00:00:00",0,0,"00:00:00","00:00:00",0,0,"00:00:00","00:00:00",0,0,"00:00:00","00:00:00",0,0,"00:00:00","00:00:00",0,0,"00:00:00","00:00:00",0,0,"00:00:00","00:00:00",0,0,"00:00:00","00:00:00",0,0,"00:00:00","00:00:00",0,0,"00:00:00","00:00:00",0,0]
[null,null,null,null,null,null,null,0,"00:00:00","00:00:00",0,0,"00:00:00","00:00:00",0,0,"00:00:00","00:00:00",0,0,"00:00:00","00:00:00",0,0,"00:00:00","00:00:00",0,0,"00:00:00","00:00:00",0,0,"00:00:00","00:00:00",0,0,"00:00:00","00:00:00",0,0,"00:00:00","00:00:00",0,0,"00:00:00","00:00:00",0,0]
[null,null,null,null,null,null,null,{"$f":"IF(F397-E397=0,0,F397-E397+1)","v":0},{"$f":"IF(OR($F397<I$10,$E397>J$10),0,IF(AND($E397>=I$10,$F397<=J$10),$E397,IF(AND($E397<=I$10,$F397<=J$10),I$10,IF(AND($E397<=J$10,$F397>=J$10,$E397>=I$10),$E397,IF(AND($E397<=I$10,$F397>=J$10),I$10,\"chyba\")))))","v":"00:00:00"},{"$f":"IF(OR($F397<I$10,$E397>J$10),0,IF(AND($E397>=I$10,$F397<=J$10),$F397,IF(AND($E397<=I$10,$F397<=J$10),$F397,IF(AND($E397<=J$10,$F397>=J$10),J$10,IF(AND($E397<=I$10,$F397>=J$10),J$10,\"chyba\")))))","v":"00:00:00"},{"$f":"IF(J397-I397=0,0,J397-I397+1)","v":0},{"$f":"IF($H397<=0,0,$G397/$H397*K397)","v":0},{"$f":"IF(OR($F397<M$10,$E397>N$10),0,IF(AND($E397>=M$10,$F397<=N$10),$E397,IF(AND($E397<=M$10,$F397<=N$10),M$10,IF(AND($E397<=N$10,$F397>=N$10,$E397>=M$10),$E397,IF(AND($E397<=M$10,$F397>=N$10),M$10,\"chyba\")))))","v":"00:00:00"},{"$f":"IF(OR($F397<M$10,$E397>N$10),0,IF(AND($E397>=M$10,$F397<=N$10),$F397,IF(AND($E397<=M$10,$F397<=N$10),$F397,IF(AND($E397<=N$10,$F397>=N$10),N$10,IF(AND($E397<=M$10,$F397>=N$10),N$10,\"chyba\")))))","v":"00:00:00"},{"$f":"IF(N397-M397=0,0,N397-M397+1)","v":0},{"$f":"IF($H397<=0,0,$G397/$H397*O397)","v":0},{"$f":"IF(OR($F397<Q$10,$E397>R$10),0,IF(AND($E397>=Q$10,$F397<=R$10),$E397,IF(AND($E397<=Q$10,$F397<=R$10),Q$10,IF(AND($E397<=R$10,$F397>=R$10,$E397>=Q$10),$E397,IF(AND($E397<=Q$10,$F397>=R$10),Q$10,\"chyba\")))))","v":"00:00:00"},{"$f":"IF(OR($F397<Q$10,$E397>R$10),0,IF(AND($E397>=Q$10,$F397<=R$10),$F397,IF(AND($E397<=Q$10,$F397<=R$10),$F397,IF(AND($E397<=R$10,$F397>=R$10),R$10,IF(AND($E397<=Q$10,$F397>=R$10),R$10,\"chyba\")))))","v":"00:00:00"},{"$f":"IF(R397-Q397=0,0,R397-Q397+1)","v":0},{"$f":"IF($H397<=0,0,$G397/$H397*S397)","v":0},{"$f":"IF(OR($F397<U$10,$E397>V$10),0,IF(AND($E397>=U$10,$F397<=V$10),$E397,IF(AND($E397<=U$10,$F397<=V$10),U$10,IF(AND($E397<=V$10,$F397>=V$10,$E397>=U$10),$E397,IF(AND($E397<=U$10,$F397>=V$10),U$10,\"chyba\")))))","v":"00:00:00"},{"$f":"IF(OR($F397<U$10,$E397>V$10),0,IF(AND($E397>=U$10,$F397<=V$10),$F397,IF(AND($E397<=U$10,$F397<=V$10),$F397,IF(AND($E397<=V$10,$F397>=V$10),V$10,IF(AND($E397<=U$10,$F397>=V$10),V$10,\"chyba\")))))","v":"00:00:00"},{"$f":"IF(V397-U397=0,0,V397-U397+1)","v":0},{"$f":"IF($H397<=0,0,$G397/$H397*W397)","v":0},{"$f":"IF(OR($F397<Y$10,$E397>Z$10),0,IF(AND($E397>=Y$10,$F397<=Z$10),$E397,IF(AND($E397<=Y$10,$F397<=Z$10),Y$10,IF(AND($E397<=Z$10,$F397>=Z$10,$E397>=Y$10),$E397,IF(AND($E397<=Y$10,$F397>=Z$10),Y$10,\"chyba\")))))","v":"00:00:00"},{"$f":"IF(OR($F397<Y$10,$E397>Z$10),0,IF(AND($E397>=Y$10,$F397<=Z$10),$F397,IF(AND($E397<=Y$10,$F397<=Z$10),$F397,IF(AND($E397<=Z$10,$F397>=Z$10),Z$10,IF(AND($E397<=Y$10,$F397>=Z$10),Z$10,\"chyba\")))))","v":"00:00:00"},{"$f":"IF(Z397-Y397=0,0,Z397-Y397+1)","v":0},{"$f":"IF($H397<=0,0,$G397/$H397*AA397)","v":0},{"$f":"IF(OR($F397<AC$10,$E397>AD$10),0,IF(AND($E397>=AC$10,$F397<=AD$10),$E397,IF(AND($E397<=AC$10,$F397<=AD$10),AC$10,IF(AND($E397<=AD$10,$F397>=AD$10,$E397>=AC$10),$E397,IF(AND($E397<=AC$10,$F397>=AD$10),AC$10,\"chyba\")))))","v":"00:00:00"},{"$f":"IF(OR($F397<AC$10,$E397>AD$10),0,IF(AND($E397>=AC$10,$F397<=AD$10),$F397,IF(AND($E397<=AC$10,$F397<=AD$10),$F397,IF(AND($E397<=AD$10,$F397>=AD$10),AD$10,IF(AND($E397<=AC$10,$F397>=AD$10),AD$10,\"chyba\")))))","v":"00:00:00"},{"$f":"IF(AD397-AC397=0,0,AD397-AC397+1)","v":0},{"$f":"IF($H397<=0,0,$G397/$H397*AE397)","v":0},{"$f":"IF(OR($F397<AG$10,$E397>AH$10),0,IF(AND($E397>=AG$10,$F397<=AH$10),$E397,IF(AND($E397<=AG$10,$F397<=AH$10),AG$10,IF(AND($E397<=AH$10,$F397>=AH$10,$E397>=AG$10),$E397,IF(AND($E397<=AG$10,$F397>=AH$10),AG$10,\"chyba\")))))","v":"00:00:00"},{"$f":"IF(OR($F397<AG$10,$E397>AH$10),0,IF(AND($E397>=AG$10,$F397<=AH$10),$F397,IF(AND($E397<=AG$10,$F397<=AH$10),$F397,IF(AND($E397<=AH$10,$F397>=AH$10),AH$10,IF(AND($E397<=AG$10,$F397>=AH$10),AH$10,\"chyba\")))))","v":"00:00:00"},{"$f":"IF(AH397-AG397=0,0,AH397-AG397+1)","v":0},{"$f":"IF($H397<=0,0,$G397/$H397*AI397)","v":0},{"$f":"IF(OR($F397<AK$10,$E397>AL$10),0,IF(AND($E397>=AK$10,$F397<=AL$10),$E397,IF(AND($E397<=AK$10,$F397<=AL$10),AK$10,IF(AND($E397<=AL$10,$F397>=AL$10,$E397>=AK$10),$E397,IF(AND($E397<=AK$10,$F397>=AL$10),AK$10,\"chyba\")))))","v":"00:00:00"},{"$f":"IF(OR($F397<AK$10,$E397>AL$10),0,IF(AND($E397>=AK$10,$F397<=AL$10),$F397,IF(AND($E397<=AK$10,$F397<=AL$10),$F397,IF(AND($E397<=AL$10,$F397>=AL$10),AL$10,IF(AND($E397<=AK$10,$F397>=AL$10),AL$10,\"chyba\")))))","v":"00:00:00"},{"$f":"IF(AL397-AK397=0,0,AL397-AK397+1)","v":0},{"$f":"IF($H397<=0,0,$G397/$H397*AM397)","v":0},{"$f":"IF(OR($F397<AO$10,$E397>AP$10),0,IF(AND($E397>=AO$10,$F397<=AP$10),$E397,IF(AND($E397<=AO$10,$F397<=AP$10),AO$10,IF(AND($E397<=AP$10,$F397>=AP$10,$E397>=AO$10),$E397,IF(AND($E397<=AO$10,$F397>=AP$10),AO$10,\"chyba\")))))","v":"00:00:00"},{"$f":"IF(OR($F397<AO$10,$E397>AP$10),0,IF(AND($E397>=AO$10,$F397<=AP$10),$F397,IF(AND($E397<=AO$10,$F397<=AP$10),$F397,IF(AND($E397<=AP$10,$F397>=AP$10),AP$10,IF(AND($E397<=AO$10,$F397>=AP$10),AP$10,\"chyba\")))))","v":"00:00:00"},{"$f":"IF(AP397-AO397=0,0,AP397-AO397+1)","v":0},{"$f":"IF($H397<=0,0,$G397/$H397*AQ397)","v":0},{"$f":"IF(OR($F397<AS$10,$E397>AT$10),0,IF(AND($E397>=AS$10,$F397<=AT$10),$E397,IF(AND($E397<=AS$10,$F397<=AT$10),AS$10,IF(AND($E397<=AT$10,$F397>=AT$10,$E397>=AS$10),$E397,IF(AND($E397<=AS$10,$F397>=AT$10),AS$10,\"chyba\")))))","v":"00:00:00"},{"$f":"IF(OR($F397<AS$10,$E397>AT$10),0,IF(AND($E397>=AS$10,$F397<=AT$10),$F397,IF(AND($E397<=AS$10,$F397<=AT$10),$F397,IF(AND($E397<=AT$10,$F397>=AT$10),AT$10,IF(AND($E397<=AS$10,$F397>=AT$10),AT$10,\"chyba\")))))","v":"00:00:00"},{"$f":"IF(AT397-AS397=0,0,AT397-AS397+1)","v":0},{"$f":"IF($H397<=0,0,$G397/$H397*AU397)","v":0}]
[null,null,null,null,null,null,null,0,"00:00:00","00:00:00",0,0,"00:00:00","00:00:00",0,0,"00:00:00","00:00:00",0,0,"00:00:00","00:00:00",0,0,"00:00:00","00:00:00",0,0,"00:00:00","00:00:00",0,0,"00:00:00","00:00:00",0,0,"00:00:00","00:00:00",0,0,"00:00:00","00:00:00",0,0,"00:00:00","00:00:00",0,0]
[null,null,null,null,null,null,null,0,"00:00:00","00:00:00",0,0,"00:00:00","00:00:00",0,0,"00:00:00","00:00:00",0,0,"00:00:00","00:00:00",0,0,"00:00:00","00:00:00",0,0,"00:00:00","00:00:00",0,0,"00:00:00","00:00:00",0,0,"00:00:00","00:00:00",0,0,"00:00:00","00:00:00",0,0,"00:00:00","00:00:00",0,0]
[null,null,null,null,null,null,null,0,"00:00:00","00:00:00",0,0,"00:00:00","00:00:00",0,0,"00:00:00","00:00:00",0,0,"00:00:00","00:00:00",0,0,"00:00:00","00:00:00",0,0,"00:00:00","00:00:00",0,0,"00:00:00","00:00:00",0,0,"00:00:00","00:00:00",0,0,"00:00:00","00:00:00",0,0,"00:00:00","00:00:00",0,0]
[null,null,null,null,null,null,null,0,"00:00:00","00:00:00",0,0,"00:00:00","00:00:00",0,0,"00:00:00","00:00:00",0,0,"00:00:00","00:00:00",0,0,"00:00:00","00:00:00",0,0,"00:00:00","00:00:00",0,0,"00:00:00","00:00:00",0,0,"00:00:00","00:00:00",0,0,"00:00:00","00:00:00",0,0,"00:00:00","00:00:00",0,0]
[null,null,null,null,null,null,null,0,"00:00:00","00:00:00",0,0,"00:00:00","00:00:00",0,0,"00:00:00","00:00:00",0,0,"00:00:00","00:00:00",0,0,"00:00:00","00:00:00",0,0,"00:00:00","00:00:00",0,0,"00:00:00","00:00:00",0,0,"00:00:00","00:00:00",0,0,"00:00:00","00:00:00",0,0,"00:00:00","00:00:00",0,0]
[null,null,null,null,null,null,null,0,"00:00:00","00:00:00",0,0,"00:00:00","00:00:00",0,0,"00:00:00","00:00:00",0,0,"00:00:00","00:00:00",0,0,"00:00:00","00:00:00",0,0,"00:00:00","00:00:00",0,0,"00:00:00","00:00:00",0,0,"00:00:00","00:00:00",0,0,"00:00:00","00:00:00",0,0,"00:00:00","00:00:00",0,0]
[null,null,null,null,null,null,null,0,"00:00:00","00:00:00",0,0,"00:00:00","00:00:00",0,0,"00:00:00","00:00:00",0,0,"00:00:00","00:00:00",0,0,"00:00:00","00:00:00",0,0,"00:00:00","00:00:00",0,0,"00:00:00","00:00:00",0,0,"00:00:00","00:00:00",0,0,"00:00:00","00:00:00",0,0,"00:00:00","00:00:00",0,0]
[null,null,null,null,null,null,null,0,"00:00:00","00:00:00",0,0,"00:00:00","00:00:00",0,0,"00:00:00","00:00:00",0,0,"00:00:00","00:00:00",0,0,"00:00:00","00:00:00",0,0,"00:00:00","00:00:00",0,0,"00:00:00","00:00:00",0,0,"00:00:00","00:00:00",0,0,"00:00:00","00:00:00",0,0,"00:00:00","00:00:00",0,0]
[null,null,null,null,null,null,null,0,"00:00:00","00:00:00",0,0,"00:00:00","00:00:00",0,0,"00:00:00","00:00:00",0,0,"00:00:00","00:00:00",0,0,"00:00:00","00:00:00",0,0,"00:00:00","00:00:00",0,0,"00:00:00","00:00:00",0,0,"00:00:00","00:00:00",0,0,"00:00:00","00:00:00",0,0,"00:00:00","00:00:00",0,0]
[null,null,null,null,null,null,null,0,"00:00:00","00:00:00",0,0,"00:00:00","00:00:00",0,0,"00:00:00","00:00:00",0,0,"00:00:00","00:00:00",0,0,"00:00:00","00:00:00",0,0,"00:00:00","00:00:00",0,0,"00:00:00","00:00:00",0,0,"00:00:00","00:00:00",0,0,"00:00:00","00:00:00",0,0,"00:00:00","00:00:00",0,0]
[null,null,null,null,null,null,null,0,"00:00:00","00:00:00",0,0,"00:00:00","00:00:00",0,0,"00:00:00","00:00:00",0,0,"00:00:00","00:00:00",0,0,"00:00:00","00:00:00",0,0,"00:00:00","00:00:00",0,0,"00:00:00","00:00:00",0,0,"00:00:00","00:00:00",0,0,"00:00:00","00:00:00",0,0,"00:00:00","00:00:00",0,0]
[null,null,null,null,null,null,null,0,"00:00:00","00:00:00",0,0,"00:00:00","00:00:00",0,0,"00:00:00","00:00:00",0,0,"00:00:00","00:00:00",0,0,"00:00:00","00:00:00",0,0,"00:00:00","00:00:00",0,0,"00:00:00","00:00:00",0,0,"00:00:00","00:00:00",0,0,"00:00:00","00:00:00",0,0,"00:00:00","00:00:00",0,0]
[null,null,null,null,null,null,null,0,"00:00:00","00:00:00",0,0,"00:00:00","00:00:00",0,0,"00:00:00","00:00:00",0,0,"00:00:00","00:00:00",0,0,"00:00:00","00:00:00",0,0,"00:00:00","00:00:00",0,0,"00:00:00","00:00:00",0,0,"00:00:00","00:00:00",0,0,"00:00:00","00:00:00",0,0,"00:00:00","00:00:00",0,0]
[null,null,null,null,null,null,null,0,"00:00:00","00:00:00",0,0,"00:00:00","00:00:00",0,0,"00:00:00","00:00:00",0,0,"00:00:00","00:00:00",0,0,"00:00:00","00:00:00",0,0,"00:00:00","00:00:00",0,0,"00:00:00","00:00:00",0,0,"00:00:00","00:00:00",0,0,"00:00:00","00:00:00",0,0,"00:00:00","00:00:00",0,0]
[null,null,null,null,null,null,null,0,"00:00:00","00:00:00",0,0,"00:00:00","00:00:00",0,0,"00:00:00","00:00:00",0,0,"00:00:00","00:00:00",0,0,"00:00:00","00:00:00",0,0,"00:00:00","00:00:00",0,0,"00:00:00","00:00:00",0,0,"00:00:00","00:00:00",0,0,"00:00:00","00:00:00",0,0,"00:00:00","00:00:00",0,0]
[null,null,null,null,null,null,null,0,"00:00:00","00:00:00",0,0,"00:00:00","00:00:00",0,0,"00:00:00","00:00:00",0,0,"00:00:00","00:00:00",0,0,"00:00:00","00:00:00",0,0,"00:00:00","00:00:00",0,0,"00:00:00","00:00:00",0,0,"00:00:00","00:00:00",0,0,"00:00:00","00:00:00",0,0,"00:00:00","00:00:00",0,0]
[null,null,null,null,null,null,null,0,"00:00:00","00:00:00",0,0,"00:00:00","00:00:00",0,0,"00:00:00","00:00:00",0,0,"00:00:00","00:00:00",0,0,"00:00:00","00:00:00",0,0,"00:00:00","00:00:00",0,0,"00:00:00","00:00:00",0,0,"00:00:00","00:00:00",0,0,"00:00:00","00:00:00",0,0,"00:00:00","00:00:00",0,0]
[null,null,null,null,null,null,null,0,"00:00:00","00:00:00",0,0,"00:00:00","00:00:00",0,0,"00:00:00","00:00:00",0,0,"00:00:00","00:00:00",0,0,"00:00:00","00:00:00",0,0,"00:00:00","00:00:00",0,0,"00:00:00","00:00:00",0,0,"00:00:00","00:00:00",0,0,"00:00:00","00:00:00",0,0,"00:00:00","00:00:00",0,0]
[null,null,null,null,null,null,null,0,"00:00:00","00:00:00",0,0,"00:00:00","00:00:00",0,0,"00:00:00","00:00:00",0,0,"00:00:00","00:00:00",0,0,"00:00:00","00:00:00",0,0,"00:00:00","00:00:00",0,0,"00:00:00","00:00:00",0,0,"00:00:00","00:00:00",0,0,"00:00:00","00:00:00",0,0,"00:00:00","00:00:00",0,0]
[null,null,null,null,null,null,null,0,"00:00:00","00:00:00",0,0,"00:00:00","00:00:00",0,0,"00:00:00","00:00:00",0,0,"00:00:00","00:00:00",0,0,"00:00:00","00:00:00",0,0,"00:00:00","00:00:00",0,0,"00:00:00","00:00:00",0,0,"00:00:00","00:00:00",0,0,"00:00:00","00:00:00",0,0,"00:00:00","00:00:00",0,0]
[null,null,null,null,null,null,null,0,"00:00:00","00:00:00",0,0,"00:00:00","00:00:00",0,0,"00:00:00","00:00:00",0,0,"00:00:00","00:00:00",0,0,"00:00:00","00:00:00",0,0,"00:00:00","00:00:00",0,0,"00:00:00","00:00:00",0,0,"00:00:00","00:00:00",0,0,"00:00:00","00:00:00",0,0,"00:00:00","00:00:00",0,0]
[null,null,null,null,null,null,null,0,"00:00:00","00:00:00",0,0,"00:00:00","00:00:00",0,0,"00:00:00","00:00:00",0,0,"00:00:00","00:00:00",0,0,"00:00:00","00:00:00",0,0,"00:00:00","00:00:00",0,0,"00:00:00","00:00:00",0,0,"00:00:00","00:00:00",0,0,"00:00:00","00:00:00",0,0,"00:00:00","00:00:00",0,0]
[null,null,null,null,null,null,null,0,"00:00:00","00:00:00",0,0,"00:00:00","00:00:00",0,0,"00:00:00","00:00:00",0,0,"00:00:00","00:00:00",0,0,"00:00:00","00:00:00",0,0,"00:00:00","00:00:00",0,0,"00:00:00","00:00:00",0,0,"00:00:00","00:00:00",0,0,"00:00:00","00:00:00",0,0,"00:00:00","00:00:00",0,0]
[null,null,null,null,null,null,null,0,"00:00:00","00:00:00",0,0,"00:00:00","00:00:00",0,0,"00:00:00","00:00:00",0,0,"00:00:00","00:00:00",0,0,"00:00:00","00:00:00",0,0,"00:00:00","00:00:00",0,0,"00:00:00","00:00:00",0,0,"00:00:00","00:00:00",0,0,"00:00:00","00:00:00",0,0,"00:00:00","00:00:00",0,0]
[null,null,null,null,null,null,null,0,"00:00:00","00:00:00",0,0,"00:00:00","00:00:00",0,0,"00:00:00","00:00:00",0,0,"00:00:00","00:00:00",0,0,"00:00:00","00:00:00",0,0,"00:00:00","00:00:00",0,0,"00:00:00","00:00:00",0,0,"00:00:00","00:00:00",0,0,"00:00:00","00:00:00",0,0,"00:00:00","00:00:00",0,0]
[null,null,null,null,null,null,null,0,"00:00:00","00:00:00",0,0,"00:00:00","00:00:00",0,0,"00:00:00","00:00:00",0,0,"00:00:00","00:00:00",0,0,"00:00:00","00:00:00",0,0,"00:00:00","00:00:00",0,0,"00:00:00","00:00:00",0,0,"00:00:00","00:00:00",0,0,"00:00:00","00:00:00",0,0,"00:00:00","00:00:00",0,0]
[null,null,null,null,null,null,null,0,"00:00:00","00:00:00",0,0,"00:00:00","00:00:00",0,0,"00:00:00","00:00:00",0,0,"00:00:00","00:00:00",0,0,"00:00:00","00:00:00",0,0,"00:00:00","00:00:00",0,0,"00:00:00","00:00:00",0,0,"00:00:00","00:00:00",0,0,"00:00:00","00:00:00",0,0,"00:00:00","00:00:00",0,0]
[null,null,null,null,null,null,null,0,"00:00:00","00:00:00",0,0,"00:00:00","00:00:00",0,0,"00:00:00","00:00:00",0,0,"00:00:00","00:00:00",0,0,"00:00:00","00:00:00",0,0,"00:00:00","00:00:00",0,0,"00:00:00","00:00:00",0,0,"00:00:00","00:00:00",0,0,"00:00:00","00:00:00",0,0,"00:00:00","00:00:00",0,0]
[null,null,null,null,null,null,null,0,"00:00:00","00:00:00",0,0,"00:00:00","00:00:00",0,0,"00:00:00","00:00:00",0,0,"00:00:00","00:00:00",0,0,"00:00:00","00:00:00",0,0,"00:00:00","00:00:00",0,0,"00:00:00","00:00:00",0,0,"00:00:00","00:00:00",0,0,"00:00:00","00:00:00",0,0,"00:00:00","00:00:00",0,0]
[null,null,null,null,null,null,null,0,"00:00:00","00:00:00",0,0,"00:00:00","00:00:00",0,0,"00:00:00","00:00:00",0,0,"00:00:00","00:00:00",0,0,"00:00:00","00:00:00",0,0,"00:00:00","00:00:00",0,0,"00:00:00","00:00:00",0,0,"00:00:00","00:00:00",0,0,"00:00:00","00:00:00",0,0,"00:00:00","00:00:00",0,0]
[null,null,null,null,null,null,null,0,"00:00:00","00:00:00",0,0,"00:00:00","00:00:00",0,0,"00:00:00","00:00:00",0,0,"00:00:00","00:00:00",0,0,"00:00:00","00:00:00",0,0,"00:00:00","00:00:00",0,0,"00:00:00","00:00:00",0,0,"00:00:00","00:00:00",0,0,"00:00:00","00:00:00",0,0,"00:00:00","00:00:00",0,0]
[null,null,null,null,null,null,null,0,"00:00:00","00:00:00",0,0,"00:00:00","00:00:00",0,0,"00:00:00","00:00:00",0,0,"00:00:00","00:00:00",0,0,"00:00:00","00:00:00",0,0,"00:00:00","00:00:00",0,0,"00:00:00","00:00:00",0,0,"00:00:00","00:00:00",0,0,"00:00:00","00:00:00",0,0,"00:00:00","00:00:00",0,0]
[null,null,null,null,null,null,null,0,"00:00:00","00:00:00",0,0,"00:00:00","00:00:00",0,0,"00:00:00","00:00:00",0,0,"00:00:00","00:00:00",0,0,"00:00:00","00:00:00",0,0,"00:00:00","00:00:00",0,0,"00:00:00","00:00:00",0,0,"00:00:00","00:00:00",0,0,"00:00:00","00:00:00",0,0,"00:00:00","00:00:00",0,0]
[null,null,null,null,null,null,null,0,"00:00:00","00:00:00",0,0,"00:00:00","00:00:00",0,0,"00:00:00","00:00:00",0,0,"00:00:00","00:00:00",0,0,"00:00:00","00:00:00",0,0,"00:00:00","00:00:00",0,0,"00:00:00","00:00:00",0,0,"00:00:00","00:00:00",0,0,"00:00:00","00:00:00",0,0,"00:00:00","00:00:00",0,0]
[null,null,null,null,null,null,null,0,"00:00:00","00:00:00",0,0,"00:00:00","00:00:00",0,0,"00:00:00","00:00:00",0,0,"00:00:00","00:00:00",0,0,"00:00:00","00:00:00",0,0,"00:00:00","00:00:00",0,0,"00:00:00","00:00:00",0,0,"00:00:00","00:00:00",0,0,"00:00:00","00:00:00",0,0,"00:00:00","00:00:00",0,0]
[null,null,null,null,null,null,null,0,"00:00:00","00:00:00",0,0,"00:00:00","00:00:00",0,0,"00:00:00","00:00:00",0,0,"00:00:00","00:00:00",0,0,"00:00:00","00:00:00",0,0,"00:00:00","00:00:00",0,0,"00:00:00","00:00:00",0,0,"00:00:00","00:00:00",0,0,"00:00:00","00:00:00",0,0,"00:00:00","00:00:00",0,0]
[null,null,null,null,null,null,null,0,"00:00:00","00:00:00",0,0,"00:00:00","00:00:00",0,0,"00:00:00","00:00:00",0,0,"00:00:00","00:00:00",0,0,"00:00:00","00:00:00",0,0,"00:00:00","00:00:00",0,0,"00:00:00","00:00:00",0,0,"00:00:00","00:00:00",0,0,"00:00:00","00:00:00",0,0,"00:00:00","00:00:00",0,0]
[null,null,null,null,null,null,null,0,"00:00:00","00:00:00",0,0,"00:00:00","00:00:00",0,0,"00:00:00","00:00:00",0,0,"00:00:00","00:00:00",0,0,"00:00:00","00:00:00",0,0,"00:00:00","00:00:00",0,0,"00:00:00","00:00:00",0,0,"00:00:00","00:00:00",0,0,"00:00:00","00:00:00",0,0,"00:00:00","00:00:00",0,0]
[null,null,null,null,null,null,null,0,"00:00:00","00:00:00",0,0,"00:00:00","00:00:00",0,0,"00:00:00","00:00:00",0,0,"00:00:00","00:00:00",0,0,"00:00:00","00:00:00",0,0,"00:00:00","00:00:00",0,0,"00:00:00","00:00:00",0,0,"00:00:00","00:00:00",0,0,"00:00:00","00:00:00",0,0,"00:00:00","00:00:00",0,0]
[null,null,null,null,null,null,null,0,"00:00:00","00:00:00",0,0,"00:00:00","00:00:00",0,0,"00:00:00","00:00:00",0,0,"00:00:00","00:00:00",0,0,"00:00:00","00:00:00",0,0,"00:00:00","00:00:00",0,0,"00:00:00","00:00:00",0,0,"00:00:00","00:00:00",0,0,"00:00:00","00:00:00",0,0,"00:00:00","00:00:00",0,0]
[null,null,null,null,null,null,null,0,"00:00:00","00:00:00",0,0,"00:00:00","00:00:00",0,0,"00:00:00","00:00:00",0,0,"00:00:00","00:00:00",0,0,"00:00:00","00:00:00",0,0,"00:00:00","00:00:00",0,0,"00:00:00","00:00:00",0,0,"00:00:00","00:00:00",0,0,"00:00:00","00:00:00",0,0,"00:00:00","00:00:00",0,0]
[null,null,null,null,null,null,null,0,"00:00:00","00:00:00",0,0,"00:00:00","00:00:00",0,0,"00:00:00","00:00:00",0,0,"00:00:00","00:00:00",0,0,"00:00:00","00:00:00",0,0,"00:00:00","00:00:00",0,0,"00:00:00","00:00:00",0,0,"00:00:00","00:00:00",0,0,"00:00:00","00:00:00",0,0,"00:00:00","00:00:00",0,0]
[null,null,null,null,null,null,null,0,"00:00:00","00:00:00",0,0,"00:00:00","00:00:00",0,0,"00:00:00","00:00:00",0,0,"00:00:00","00:00:00",0,0,"00:00:00","00:00:00",0,0,"00:00:00","00:00:00",0,0,"00:00:00","00:00:00",0,0,"00:00:00","00:00:00",0,0,"00:00:00","00:00:00",0,0,"00:00:00","00:00:00",0,0]
[null,null,null,null,null,null,null,0,"00:00:00","00:00:00",0,0,"00:00:00","00:00:00",0,0,"00:00:00","00:00:00",0,0,"00:00:00","00:00:00",0,0,"00:00:00","00:00:00",0,0,"00:00:00","00:00:00",0,0,"00:00:00","00:00:00",0,0,"00:00:00","00:00:00",0,0,"00:00:00","00:00:00",0,0,"00:00:00","00:00:00",0,0]
[null,null,null,null,null,null,null,0,"00:00:00","00:00:00",0,0,"00:00:00","00:00:00",0,0,"00:00:00","00:00:00",0,0,"00:00:00","00:00:00",0,0,"00:00:00","00:00:00",0,0,"00:00:00","00:00:00",0,0,"00:00:00","00:00:00",0,0,"00:00:00","00:00:00",0,0,"00:00:00","00:00:00",0,0,"00:00:00","00:00:00",0,0]
[null,null,null,null,null,null,null,0,"00:00:00","00:00:00",0,0,"00:00:00","00:00:00",0,0,"00:00:00","00:00:00",0,0,"00:00:00","00:00:00",0,0,"00:00:00","00:00:00",0,0,"00:00:00","00:00:00",0,0,"00:00:00","00:00:00",0,0,"00:00:00","00:00:00",0,0,"00:00:00","00:00:00",0,0,"00:00:00","00:00:00",0,0]
[null,null,null,null,null,null,null,0,"00:00:00","00:00:00",0,0,"00:00:00","00:00:00",0,0,"00:00:00","00:00:00",0,0,"00:00:00","00:00:00",0,0,"00:00:00","00:00:00",0,0,"00:00:00","00:00:00",0,0,"00:00:00","00:00:00",0,0,"00:00:00","00:00:00",0,0,"00:00:00","00:00:00",0,0,"00:00:00","00:00:00",0,0]
[null,null,null,null,null,null,null,0,"00:00:00","00:00:00",0,0,"00:00:00","00:00:00",0,0,"00:00:00","00:00:00",0,0,"00:00:00","00:00:00",0,0,"00:00:00","00:00:00",0,0,"00:00:00","00:00:00",0,0,"00:00:00","00:00:00",0,0,"00:00:00","00:00:00",0,0,"00:00:00","00:00:00",0,0,"00:00:00","00:00:00",0,0]
[null,null,null,null,null,null,null,0,"00:00:00","00:00:00",0,0,"00:00:00","00:00:00",0,0,"00:00:00","00:00:00",0,0,"00:00:00","00:00:00",0,0,"00:00:00","00:00:00",0,0,"00:00:00","00:00:00",0,0,"00:00:00","00:00:00",0,0,"00:00:00","00:00:00",0,0,"00:00:00","00:00:00",0,0,"00:00:00","00:00:00",0,0]
[null,null,null,null,null,null,null,0,"00:00:00","00:00:00",0,0,"00:00:00","00:00:00",0,0,"00:00:00","00:00:00",0,0,"00:00:00","00:00:00",0,0,"00:00:00","00:00:00",0,0,"00:00:00","00:00:00",0,0,"00:00:00","00:00:00",0,0,"00:00:00","00:00:00",0,0,"00:00:00","00:00:00",0,0,"00:00:00","00:00:00",0,0]
[null,null,null,null,null,null,null,0,"00:00:00","00:00:00",0,0,"00:00:00","00:00:00",0,0,"00:00:00","00:00:00",0,0,"00:00:00","00:00:00",0,0,"00:00:00","00:00:00",0,0,"00:00:00","00:00:00",0,0,"00:00:00","00:00:00",0,0,"00:00:00","00:00:00",0,0,"00:00:00","00:00:00",0,0,"00:00:00","00:00:00",0,0]
[null,null,null,null,null,null,null,0,"00:00:00","00:00:00",0,0,"00:00:00","00:00:00",0,0,"00:00:00","00:00:00",0,0,"00:00:00","00:00:00",0,0,"00:00:00","00:00:00",0,0,"00:00:00","00:00:00",0,0,"00:00:00","00:00:00",0,0,"00:00:00","00:00:00",0,0,"00:00:00","00:00:00",0,0,"00:00:00","00:00:00",0,0]
[null,null,null,null,null,null,null,0,"00:00:00","00:00:00",0,0,"00:00:00","00:00:00",0,0,"00:00:00","00:00:00",0,0,"00:00:00","00:00:00",0,0,"00:00:00","00:00:00",0,0,"00:00:00","00:00:00",0,0,"00:00:00","00:00:00",0,0,"00:00:00","00:00:00",0,0,"00:00:00","00:00:00",0,0,"00:00:00","00:00:00",0,0]
[null,null,null,null,null,null,null,0,"00:00:00","00:00:00",0,0,"00:00:00","00:00:00",0,0,"00:00:00","00:00:00",0,0,"00:00:00","00:00:00",0,0,"00:00:00","00:00:00",0,0,"00:00:00","00:00:00",0,0,"00:00:00","00:00:00",0,0,"00:00:00","00:00:00",0,0,"00:00:00","00:00:00",0,0,"00:00:00","00:00:00",0,0]
[null,null,null,null,null,null,null,0,"00:00:00","00:00:00",0,0,"00:00:00","00:00:00",0,0,"00:00:00","00:00:00",0,0,"00:00:00","00:00:00",0,0,"00:00:00","00:00:00",0,0,"00:00:00","00:00:00",0,0,"00:00:00","00:00:00",0,0,"00:00:00","00:00:00",0,0,"00:00:00","00:00:00",0,0,"00:00:00","00:00:00",0,0]
[null,null,null,null,null,null,null,0,"00:00:00","00:00:00",0,0,"00:00:00","00:00:00",0,0,"00:00:00","00:00:00",0,0,"00:00:00","00:00:00",0,0,"00:00:00","00:00:00",0,0,"00:00:00","00:00:00",0,0,"00:00:00","00:00:00",0,0,"00:00:00","00:00:00",0,0,"00:00:00","00:00:00",0,0,"00:00:00","00:00:00",0,0]
[null,null,null,null,null,null,null,0,"00:00:00","00:00:00",0,0,"00:00:00","00:00:00",0,0,"00:00:00","00:00:00",0,0,"00:00:00","00:00:00",0,0,"00:00:00","00:00:00",0,0,"00:00:00","00:00:00",0,0,"00:00:00","00:00:00",0,0,"00:00:00","00:00:00",0,0,"00:00:00","00:00:00",0,0,"00:00:00","00:00:00",0,0]
[null,null,null,null,null,null,null,0,"00:00:00","00:00:00",0,0,"00:00:00","00:00:00",0,0,"00:00:00","00:00:00",0,0,"00:00:00","00:00:00",0,0,"00:00:00","00:00:00",0,0,"00:00:00","00:00:00",0,0,"00:00:00","00:00:00",0,0,"00:00:00","00:00:00",0,0,"00:00:00","00:00:00",0,0,"00:00:00","00:00:00",0,0]
[null,null,null,null,null,null,null,0,"00:00:00","00:00:00",0,0,"00:00:00","00:00:00",0,0,"00:00:00","00:00:00",0,0,"00:00:00","00:00:00",0,0,"00:00:00","00:00:00",0,0,"00:00:00","00:00:00",0,0,"00:00:00","00:00:00",0,0,"00:00:00","00:00:00",0,0,"00:00:00","00:00:00",0,0,"00:00:00","00:00:00",0,0]
[null,null,null,null,null,null,null,0,"00:00:00","00:00:00",0,0,"00:00:00","00:00:00",0,0,"00:00:00","00:00:00",0,0,"00:00:00","00:00:00",0,0,"00:00:00","00:00:00",0,0,"00:00:00","00:00:00",0,0,"00:00:00","00:00:00",0,0,"00:00:00","00:00:00",0,0,"00:00:00","00:00:00",0,0,"00:00:00","00:00:00",0,0]
[null,null,null,null,null,null,null,0,"00:00:00","00:00:00",0,0,"00:00:00","00:00:00",0,0,"00:00:00","00:00:00",0,0,"00:00:00","00:00:00",0,0,"00:00:00","00:00:00",0,0,"00:00:00","00:00:00",0,0,"00:00:00","00:00:00",0,0,"00:00:00","00:00:00",0,0,"00:00:00","00:00:00",0,0,"00:00:00","00:00:00",0,0]
[null,null,null,null,null,null,null,0,"00:00:00","00:00:00",0,0,"00:00:00","00:00:00",0,0,"00:00:00","00:00:00",0,0,"00:00:00","00:00:00",0,0,"00:00:00","00:00:00",0,0,"00:00:00","00:00:00",0,0,"00:00:00","00:00:00",0,0,"00:00:00","00:00:00",0,0,"00:00:00","00:00:00",0,0,"00:00:00","00:00:00",0,0]
[null,null,null,null,null,null,null,0,"00:00:00","00:00:00",0,0,"00:00:00","00:00:00",0,0,"00:00:00","00:00:00",0,0,"00:00:00","00:00:00",0,0,"00:00:00","00:00:00",0,0,"00:00:00","00:00:00",0,0,"00:00:00","00:00:00",0,0,"00:00:00","00:00:00",0,0,"00:00:00","00:00:00",0,0,"00:00:00","00:00:00",0,0]
[null,null,null,null,null,null,null,{"$f":"IF(F461-E461=0,0,F461-E461+1)","v":0},{"$f":"IF(OR($F461<I$10,$E461>J$10),0,IF(AND($E461>=I$10,$F461<=J$10),$E461,IF(AND($E461<=I$10,$F461<=J$10),I$10,IF(AND($E461<=J$10,$F461>=J$10,$E461>=I$10),$E461,IF(AND($E461<=I$10,$F461>=J$10),I$10,\"chyba\")))))","v":"00:00:00"},{"$f":"IF(OR($F461<I$10,$E461>J$10),0,IF(AND($E461>=I$10,$F461<=J$10),$F461,IF(AND($E461<=I$10,$F461<=J$10),$F461,IF(AND($E461<=J$10,$F461>=J$10),J$10,IF(AND($E461<=I$10,$F461>=J$10),J$10,\"chyba\")))))","v":"00:00:00"},{"$f":"IF(J461-I461=0,0,J461-I461+1)","v":0},{"$f":"IF($H461<=0,0,$G461/$H461*K461)","v":0},{"$f":"IF(OR($F461<M$10,$E461>N$10),0,IF(AND($E461>=M$10,$F461<=N$10),$E461,IF(AND($E461<=M$10,$F461<=N$10),M$10,IF(AND($E461<=N$10,$F461>=N$10,$E461>=M$10),$E461,IF(AND($E461<=M$10,$F461>=N$10),M$10,\"chyba\")))))","v":"00:00:00"},{"$f":"IF(OR($F461<M$10,$E461>N$10),0,IF(AND($E461>=M$10,$F461<=N$10),$F461,IF(AND($E461<=M$10,$F461<=N$10),$F461,IF(AND($E461<=N$10,$F461>=N$10),N$10,IF(AND($E461<=M$10,$F461>=N$10),N$10,\"chyba\")))))","v":"00:00:00"},{"$f":"IF(N461-M461=0,0,N461-M461+1)","v":0},{"$f":"IF($H461<=0,0,$G461/$H461*O461)","v":0},{"$f":"IF(OR($F461<Q$10,$E461>R$10),0,IF(AND($E461>=Q$10,$F461<=R$10),$E461,IF(AND($E461<=Q$10,$F461<=R$10),Q$10,IF(AND($E461<=R$10,$F461>=R$10,$E461>=Q$10),$E461,IF(AND($E461<=Q$10,$F461>=R$10),Q$10,\"chyba\")))))","v":"00:00:00"},{"$f":"IF(OR($F461<Q$10,$E461>R$10),0,IF(AND($E461>=Q$10,$F461<=R$10),$F461,IF(AND($E461<=Q$10,$F461<=R$10),$F461,IF(AND($E461<=R$10,$F461>=R$10),R$10,IF(AND($E461<=Q$10,$F461>=R$10),R$10,\"chyba\")))))","v":"00:00:00"},{"$f":"IF(R461-Q461=0,0,R461-Q461+1)","v":0},{"$f":"IF($H461<=0,0,$G461/$H461*S461)","v":0},{"$f":"IF(OR($F461<U$10,$E461>V$10),0,IF(AND($E461>=U$10,$F461<=V$10),$E461,IF(AND($E461<=U$10,$F461<=V$10),U$10,IF(AND($E461<=V$10,$F461>=V$10,$E461>=U$10),$E461,IF(AND($E461<=U$10,$F461>=V$10),U$10,\"chyba\")))))","v":"00:00:00"},{"$f":"IF(OR($F461<U$10,$E461>V$10),0,IF(AND($E461>=U$10,$F461<=V$10),$F461,IF(AND($E461<=U$10,$F461<=V$10),$F461,IF(AND($E461<=V$10,$F461>=V$10),V$10,IF(AND($E461<=U$10,$F461>=V$10),V$10,\"chyba\")))))","v":"00:00:00"},{"$f":"IF(V461-U461=0,0,V461-U461+1)","v":0},{"$f":"IF($H461<=0,0,$G461/$H461*W461)","v":0},{"$f":"IF(OR($F461<Y$10,$E461>Z$10),0,IF(AND($E461>=Y$10,$F461<=Z$10),$E461,IF(AND($E461<=Y$10,$F461<=Z$10),Y$10,IF(AND($E461<=Z$10,$F461>=Z$10,$E461>=Y$10),$E461,IF(AND($E461<=Y$10,$F461>=Z$10),Y$10,\"chyba\")))))","v":"00:00:00"},{"$f":"IF(OR($F461<Y$10,$E461>Z$10),0,IF(AND($E461>=Y$10,$F461<=Z$10),$F461,IF(AND($E461<=Y$10,$F461<=Z$10),$F461,IF(AND($E461<=Z$10,$F461>=Z$10),Z$10,IF(AND($E461<=Y$10,$F461>=Z$10),Z$10,\"chyba\")))))","v":"00:00:00"},{"$f":"IF(Z461-Y461=0,0,Z461-Y461+1)","v":0},{"$f":"IF($H461<=0,0,$G461/$H461*AA461)","v":0},{"$f":"IF(OR($F461<AC$10,$E461>AD$10),0,IF(AND($E461>=AC$10,$F461<=AD$10),$E461,IF(AND($E461<=AC$10,$F461<=AD$10),AC$10,IF(AND($E461<=AD$10,$F461>=AD$10,$E461>=AC$10),$E461,IF(AND($E461<=AC$10,$F461>=AD$10),AC$10,\"chyba\")))))","v":"00:00:00"},{"$f":"IF(OR($F461<AC$10,$E461>AD$10),0,IF(AND($E461>=AC$10,$F461<=AD$10),$F461,IF(AND($E461<=AC$10,$F461<=AD$10),$F461,IF(AND($E461<=AD$10,$F461>=AD$10),AD$10,IF(AND($E461<=AC$10,$F461>=AD$10),AD$10,\"chyba\")))))","v":"00:00:00"},{"$f":"IF(AD461-AC461=0,0,AD461-AC461+1)","v":0},{"$f":"IF($H461<=0,0,$G461/$H461*AE461)","v":0},{"$f":"IF(OR($F461<AG$10,$E461>AH$10),0,IF(AND($E461>=AG$10,$F461<=AH$10),$E461,IF(AND($E461<=AG$10,$F461<=AH$10),AG$10,IF(AND($E461<=AH$10,$F461>=AH$10,$E461>=AG$10),$E461,IF(AND($E461<=AG$10,$F461>=AH$10),AG$10,\"chyba\")))))","v":"00:00:00"},{"$f":"IF(OR($F461<AG$10,$E461>AH$10),0,IF(AND($E461>=AG$10,$F461<=AH$10),$F461,IF(AND($E461<=AG$10,$F461<=AH$10),$F461,IF(AND($E461<=AH$10,$F461>=AH$10),AH$10,IF(AND($E461<=AG$10,$F461>=AH$10),AH$10,\"chyba\")))))","v":"00:00:00"},{"$f":"IF(AH461-AG461=0,0,AH461-AG461+1)","v":0},{"$f":"IF($H461<=0,0,$G461/$H461*AI461)","v":0},{"$f":"IF(OR($F461<AK$10,$E461>AL$10),0,IF(AND($E461>=AK$10,$F461<=AL$10),$E461,IF(AND($E461<=AK$10,$F461<=AL$10),AK$10,IF(AND($E461<=AL$10,$F461>=AL$10,$E461>=AK$10),$E461,IF(AND($E461<=AK$10,$F461>=AL$10),AK$10,\"chyba\")))))","v":"00:00:00"},{"$f":"IF(OR($F461<AK$10,$E461>AL$10),0,IF(AND($E461>=AK$10,$F461<=AL$10),$F461,IF(AND($E461<=AK$10,$F461<=AL$10),$F461,IF(AND($E461<=AL$10,$F461>=AL$10),AL$10,IF(AND($E461<=AK$10,$F461>=AL$10),AL$10,\"chyba\")))))","v":"00:00:00"},{"$f":"IF(AL461-AK461=0,0,AL461-AK461+1)","v":0},{"$f":"IF($H461<=0,0,$G461/$H461*AM461)","v":0},{"$f":"IF(OR($F461<AO$10,$E461>AP$10),0,IF(AND($E461>=AO$10,$F461<=AP$10),$E461,IF(AND($E461<=AO$10,$F461<=AP$10),AO$10,IF(AND($E461<=AP$10,$F461>=AP$10,$E461>=AO$10),$E461,IF(AND($E461<=AO$10,$F461>=AP$10),AO$10,\"chyba\")))))","v":"00:00:00"},{"$f":"IF(OR($F461<AO$10,$E461>AP$10),0,IF(AND($E461>=AO$10,$F461<=AP$10),$F461,IF(AND($E461<=AO$10,$F461<=AP$10),$F461,IF(AND($E461<=AP$10,$F461>=AP$10),AP$10,IF(AND($E461<=AO$10,$F461>=AP$10),AP$10,\"chyba\")))))","v":"00:00:00"},{"$f":"IF(AP461-AO461=0,0,AP461-AO461+1)","v":0},{"$f":"IF($H461<=0,0,$G461/$H461*AQ461)","v":0},{"$f":"IF(OR($F461<AS$10,$E461>AT$10),0,IF(AND($E461>=AS$10,$F461<=AT$10),$E461,IF(AND($E461<=AS$10,$F461<=AT$10),AS$10,IF(AND($E461<=AT$10,$F461>=AT$10,$E461>=AS$10),$E461,IF(AND($E461<=AS$10,$F461>=AT$10),AS$10,\"chyba\")))))","v":"00:00:00"},{"$f":"IF(OR($F461<AS$10,$E461>AT$10),0,IF(AND($E461>=AS$10,$F461<=AT$10),$F461,IF(AND($E461<=AS$10,$F461<=AT$10),$F461,IF(AND($E461<=AT$10,$F461>=AT$10),AT$10,IF(AND($E461<=AS$10,$F461>=AT$10),AT$10,\"chyba\")))))","v":"00:00:00"},{"$f":"IF(AT461-AS461=0,0,AT461-AS461+1)","v":0},{"$f":"IF($H461<=0,0,$G461/$H461*AU461)","v":0}]
[null,null,null,null,null,null,null,0,"00:00:00","00:00:00",0,0,"00:00:00","00:00:00",0,0,"00:00:00","00:00:00",0,0,"00:00:00","00:00:00",0,0,"00:00:00","00:00:00",0,0,"00:00:00","00:00:00",0,0,"00:00:00","00:00:00",0,0,"00:00:00","00:00:00",0,0,"00:00:00","00:00:00",0,0,"00:00:00","00:00:00",0,0]
[null,null,null,null,null,null,null,0,"00:00:00","00:00:00",0,0,"00:00:00","00:00:00",0,0,"00:00:00","00:00:00",0,0,"00:00:00","00:00:00",0,0,"00:00:00","00:00:00",0,0,"00:00:00","00:00:00",0,0,"00:00:00","00:00:00",0,0,"00:00:00","00:00:00",0,0,"00:00:00","00:00:00",0,0,"00:00:00","00:00:00",0,0]
[null,null,null,null,null,null,null,0,"00:00:00","00:00:00",0,0,"00:00:00","00:00:00",0,0,"00:00:00","00:00:00",0,0,"00:00:00","00:00:00",0,0,"00:00:00","00:00:00",0,0,"00:00:00","00:00:00",0,0,"00:00:00","00:00:00",0,0,"00:00:00","00:00:00",0,0,"00:00:00","00:00:00",0,0,"00:00:00","00:00:00",0,0]
[null,null,null,null,null,null,null,0,"00:00:00","00:00:00",0,0,"00:00:00","00:00:00",0,0,"00:00:00","00:00:00",0,0,"00:00:00","00:00:00",0,0,"00:00:00","00:00:00",0,0,"00:00:00","00:00:00",0,0,"00:00:00","00:00:00",0,0,"00:00:00","00:00:00",0,0,"00:00:00","00:00:00",0,0,"00:00:00","00:00:00",0,0]
[null,null,null,null,null,null,null,0,"00:00:00","00:00:00",0,0,"00:00:00","00:00:00",0,0,"00:00:00","00:00:00",0,0,"00:00:00","00:00:00",0,0,"00:00:00","00:00:00",0,0,"00:00:00","00:00:00",0,0,"00:00:00","00:00:00",0,0,"00:00:00","00:00:00",0,0,"00:00:00","00:00:00",0,0,"00:00:00","00:00:00",0,0]
[null,null,null,null,null,null,null,0,"00:00:00","00:00:00",0,0,"00:00:00","00:00:00",0,0,"00:00:00","00:00:00",0,0,"00:00:00","00:00:00",0,0,"00:00:00","00:00:00",0,0,"00:00:00","00:00:00",0,0,"00:00:00","00:00:00",0,0,"00:00:00","00:00:00",0,0,"00:00:00","00:00:00",0,0,"00:00:00","00:00:00",0,0]
[null,null,null,null,null,null,null,0,"00:00:00","00:00:00",0,0,"00:00:00","00:00:00",0,0,"00:00:00","00:00:00",0,0,"00:00:00","00:00:00",0,0,"00:00:00","00:00:00",0,0,"00:00:00","00:00:00",0,0,"00:00:00","00:00:00",0,0,"00:00:00","00:00:00",0,0,"00:00:00","00:00:00",0,0,"00:00:00","00:00:00",0,0]
[null,null,null,null,null,null,null,0,"00:00:00","00:00:00",0,0,"00:00:00","00:00:00",0,0,"00:00:00","00:00:00",0,0,"00:00:00","00:00:00",0,0,"00:00:00","00:00:00",0,0,"00:00:00","00:00:00",0,0,"00:00:00","00:00:00",0,0,"00:00:00","00:00:00",0,0,"00:00:00","00:00:00",0,0,"00:00:00","00:00:00",0,0]
[null,null,null,null,null,null,null,0,"00:00:00","00:00:00",0,0,"00:00:00","00:00:00",0,0,"00:00:00","00:00:00",0,0,"00:00:00","00:00:00",0,0,"00:00:00","00:00:00",0,0,"00:00:00","00:00:00",0,0,"00:00:00","00:00:00",0,0,"00:00:00","00:00:00",0,0,"00:00:00","00:00:00",0,0,"00:00:00","00:00:00",0,0]
[null,null,null,null,null,null,null,0,"00:00:00","00:00:00",0,0,"00:00:00","00:00:00",0,0,"00:00:00","00:00:00",0,0,"00:00:00","00:00:00",0,0,"00:00:00","00:00:00",0,0,"00:00:00","00:00:00",0,0,"00:00:00","00:00:00",0,0,"00:00:00","00:00:00",0,0,"00:00:00","00:00:00",0,0,"00:00:00","00:00:00",0,0]
[null,null,null,null,null,null,null,0,"00:00:00","00:00:00",0,0,"00:00:00","00:00:00",0,0,"00:00:00","00:00:00",0,0,"00:00:00","00:00:00",0,0,"00:00:00","00:00:00",0,0,"00:00:00","00:00:00",0,0,"00:00:00","00:00:00",0,0,"00:00:00","00:00:00",0,0,"00:00:00","00:00:00",0,0,"00:00:00","00:00:00",0,0]
[null,null,null,null,null,null,null,0,"00:00:00","00:00:00",0,0,"00:00:00","00:00:00",0,0,"00:00:00","00:00:00",0,0,"00:00:00","00:00:00",0,0,"00:00:00","00:00:00",0,0,"00:00:00","00:00:00",0,0,"00:00:00","00:00:00",0,0,"00:00:00","00:00:00",0,0,"00:00:00","00:00:00",0,0,"00:00:00","00:00:00",0,0]
[null,null,null,null,null,null,null,0,"00:00:00","00:00:00",0,0,"00:00:00","00:00:00",0,0,"00:00:00","00:00:00",0,0,"00:00:00","00:00:00",0,0,"00:00:00","00:00:00",0,0,"00:00:00","00:00:00",0,0,"00:00:00","00:00:00",0,0,"00:00:00","00:00:00",0,0,"00:00:00","00:00:00",0,0,"00:00:00","00:00:00",0,0]
[null,null,null,null,null,null,null,0,"00:00:00","00:00:00",0,0,"00:00:00","00:00:00",0,0,"00:00:00","00:00:00",0,0,"00:00:00","00:00:00",0,0,"00:00:00","00:00:00",0,0,"00:00:00","00:00:00",0,0,"00:00:00","00:00:00",0,0,"00:00:00","00:00:00",0,0,"00:00:00","00:00:00",0,0,"00:00:00","00:00:00",0,0]
[null,null,null,null,null,null,null,0,"00:00:00","00:00:00",0,0,"00:00:00","00:00:00",0,0,"00:00:00","00:00:00",0,0,"00:00:00","00:00:00",0,0,"00:00:00","00:00:00",0,0,"00:00:00","00:00:00",0,0,"00:00:00","00:00:00",0,0,"00:00:00","00:00:00",0,0,"00:00:00","00:00:00",0,0,"00:00:00","00:00:00",0,0]
[null,null,null,null,null,null,null,0,"00:00:00","00:00:00",0,0,"00:00:00","00:00:00",0,0,"00:00:00","00:00:00",0,0,"00:00:00","00:00:00",0,0,"00:00:00","00:00:00",0,0,"00:00:00","00:00:00",0,0,"00:00:00","00:00:00",0,0,"00:00:00","00:00:00",0,0,"00:00:00","00:00:00",0,0,"00:00:00","00:00:00",0,0]
[null,null,null,null,null,null,null,0,"00:00:00","00:00:00",0,0,"00:00:00","00:00:00",0,0,"00:00:00","00:00:00",0,0,"00:00:00","00:00:00",0,0,"00:00:00","00:00:00",0,0,"00:00:00","00:00:00",0,0,"00:00:00","00:00:00",0,0,"00:00:00","00:00:00",0,0,"00:00:00","00:00:00",0,0,"00:00:00","00:00:00",0,0]
[null,null,null,null,null,null,null,0,"00:00:00","00:00:00",0,0,"00:00:00","00:00:00",0,0,"00:00:00","00:00:00",0,0,"00:00:00","00:00:00",0,0,"00:00:00","00:00:00",0,0,"00:00:00","00:00:00",0,0,"00:00:00","00:00:00",0,0,"00:00:00","00:00:00",0,0,"00:00:00","00:00:00",0,0,"00:00:00","00:00:00",0,0]
[null,null,null,null,null,null,null,0,"00:00:00","00:00:00",0,0,"00:00:00","00:00:00",0,0,"00:00:00","00:00:00",0,0,"00:00:00","00:00:00",0,0,"00:00:00","00:00:00",0,0,"00:00:00","00:00:00",0,0,"00:00:00","00:00:00",0,0,"00:00:00","00:00:00",0,0,"00:00:00","00:00:00",0,0,"00:00:00","00:00:00",0,0]
[null,null,null,null,null,null,null,0,"00:00:00","00:00:00",0,0,"00:00:00","00:00:00",0,0,"00:00:00","00:00:00",0,0,"00:00:00","00:00:00",0,0,"00:00:00","00:00:00",0,0,"00:00:00","00:00:00",0,0,"00:00:00","00:00:00",0,0,"00:00:00","00:00:00",0,0,"00:00:00","00:00:00",0,0,"00:00:00","00:00:00",0,0]
[null,null,null,null,null,null,null,0,"00:00:00","00:00:00",0,0,"00:00:00","00:00:00",0,0,"00:00:00","00:00:00",0,0,"00:00:00","00:00:00",0,0,"00:00:00","00:00:00",0,0,"00:00:00","00:00:00",0,0,"00:00:00","00:00:00",0,0,"00:00:00","00:00:00",0,0,"00:00:00","00:00:00",0,0,"00:00:00","00:00:00",0,0]
[null,null,null,null,null,null,null,0,"00:00:00","00:00:00",0,0,"00:00:00","00:00:00",0,0,"00:00:00","00:00:00",0,0,"00:00:00","00:00:00",0,0,"00:00:00","00:00:00",0,0,"00:00:00","00:00:00",0,0,"00:00:00","00:00:00",0,0,"00:00:00","00:00:00",0,0,"00:00:00","00:00:00",0,0,"00:00:00","00:00:00",0,0]
[null,null,null,null,null,null,null,0,"00:00:00","00:00:00",0,0,"00:00:00","00:00:00",0,0,"00:00:00","00:00:00",0,0,"00:00:00","00:00:00",0,0,"00:00:00","00:00:00",0,0,"00:00:00","00:00:00",0,0,"00:00:00","00:00:00",0,0,"00:00:00","00:00:00",0,0,"00:00:00","00:00:00",0,0,"00:00:00","00:00:00",0,0]
[null,null,null,null,null,null,null,0,"00:00:00","00:00:00",0,0,"00:00:00","00:00:00",0,0,"00:00:00","00:00:00",0,0,"00:00:00","00:00:00",0,0,"00:00:00","00:00:00",0,0,"00:00:00","00:00:00",0,0,"00:00:00","00:00:00",0,0,"00:00:00","00:00:00",0,0,"00:00:00","00:00:00",0,0,"00:00:00","00:00:00",0,0]
[null,null,null,null,null,null,null,0,"00:00:00","00:00:00",0,0,"00:00:00","00:00:00",0,0,"00:00:00","00:00:00",0,0,"00:00:00","00:00:00",0,0,"00:00:00","00:00:00",0,0,"00:00:00","00:00:00",0,0,"00:00:00","00:00:00",0,0,"00:00:00","00:00:00",0,0,"00:00:00","00:00:00",0,0,"00:00:00","00:00:00",0,0]
[null,null,null,null,null,null,null,0,"00:00:00","00:00:00",0,0,"00:00:00","00:00:00",0,0,"00:00:00","00:00:00",0,0,"00:00:00","00:00:00",0,0,"00:00:00","00:00:00",0,0,"00:00:00","00:00:00",0,0,"00:00:00","00:00:00",0,0,"00:00:00","00:00:00",0,0,"00:00:00","00:00:00",0,0,"00:00:00","00:00:00",0,0]
[null,null,null,null,null,null,null,0,"00:00:00","00:00:00",0,0,"00:00:00","00:00:00",0,0,"00:00:00","00:00:00",0,0,"00:00:00","00:00:00",0,0,"00:00:00","00:00:00",0,0,"00:00:00","00:00:00",0,0,"00:00:00","00:00:00",0,0,"00:00:00","00:00:00",0,0,"00:00:00","00:00:00",0,0,"00:00:00","00:00:00",0,0]
[null,null,null,null,null,null,null,0,"00:00:00","00:00:00",0,0,"00:00:00","00:00:00",0,0,"00:00:00","00:00:00",0,0,"00:00:00","00:00:00",0,0,"00:00:00","00:00:00",0,0,"00:00:00","00:00:00",0,0,"00:00:00","00:00:00",0,0,"00:00:00","00:00:00",0,0,"00:00:00","00:00:00",0,0,"00:00:00","00:00:00",0,0]
[null,null,null,null,null,null,null,0,"00:00:00","00:00:00",0,0,"00:00:00","00:00:00",0,0,"00:00:00","00:00:00",0,0,"00:00:00","00:00:00",0,0,"00:00:00","00:00:00",0,0,"00:00:00","00:00:00",0,0,"00:00:00","00:00:00",0,0,"00:00:00","00:00:00",0,0,"00:00:00","00:00:00",0,0,"00:00:00","00:00:00",0,0]
[null,null,null,null,null,null,null,0,"00:00:00","00:00:00",0,0,"00:00:00","00:00:00",0,0,"00:00:00","00:00:00",0,0,"00:00:00","00:00:00",0,0,"00:00:00","00:00:00",0,0,"00:00:00","00:00:00",0,0,"00:00:00","00:00:00",0,0,"00:00:00","00:00:00",0,0,"00:00:00","00:00:00",0,0,"00:00:00","00:00:00",0,0]
[null,null,null,null,null,null,null,0,"00:00:00","00:00:00",0,0,"00:00:00","00:00:00",0,0,"00:00:00","00:00:00",0,0,"00:00:00","00:00:00",0,0,"00:00:00","00:00:00",0,0,"00:00:00","00:00:00",0,0,"00:00:00","00:00:00",0,0,"00:00:00","00:00:00",0,0,"00:00:00","00:00:00",0,0,"00:00:00","00:00:00",0,0]
[null,null,null,null,null,null,null,0,"00:00:00","00:00:00",0,0,"00:00:00","00:00:00",0,0,"00:00:00","00:00:00",0,0,"00:00:00","00:00:00",0,0,"00:00:00","00:00:00",0,0,"00:00:00","00:00:00",0,0,"00:00:00","00:00:00",0,0,"00:00:00","00:00:00",0,0,"00:00:00","00:00:00",0,0,"00:00:00","00:00:00",0,0]
[null,null,null,null,null,null,null,0,"00:00:00","00:00:00",0,0,"00:00:00","00:00:00",0,0,"00:00:00","00:00:00",0,0,"00:00:00","00:00:00",0,0,"00:00:00","00:00:00",0,0,"00:00:00","00:00:00",0,0,"00:00:00","00:00:00",0,0,"00:00:00","00:00:00",0,0,"00:00:00","00:00:00",0,0,"00:00:00","00:00:00",0,0]
[null,null,null,null,null,null,null,0,"00:00:00","00:00:00",0,0,"00:00:00","00:00:00",0,0,"00:00:00","00:00:00",0,0,"00:00:00","00:00:00",0,0,"00:00:00","00:00:00",0,0,"00:00:00","00:00:00",0,0,"00:00:00","00:00:00",0,0,"00:00:00","00:00:00",0,0,"00:00:00","00:00:00",0,0,"00:00:00","00:00:00",0,0]
[null,null,null,null,null,null,null,0,"00:00:00","00:00:00",0,0,"00:00:00","00:00:00",0,0,"00:00:00","00:00:00",0,0,"00:00:00","00:00:00",0,0,"00:00:00","00:00:00",0,0,"00:00:00","00:00:00",0,0,"00:00:00","00:00:00",0,0,"00:00:00","00:00:00",0,0,"00:00:00","00:00:00",0,0,"00:00:00","00:00:00",0,0]
[null,null,null,null,null,null,null,0,"00:00:00","00:00:00",0,0,"00:00:00","00:00:00",0,0,"00:00:00","00:00:00",0,0,"00:00:00","00:00:00",0,0,"00:00:00","00:00:00",0,0,"00:00:00","00:00:00",0,0,"00:00:00","00:00:00",0,0,"00:00:00","00:00:00",0,0,"00:00:00","00:00:00",0,0,"00:00:00","00:00:00",0,0]
[null,null,null,null,null,null,null,0,"00:00:00","00:00:00",0,0,"00:00:00","00:00:00",0,0,"00:00:00","00:00:00",0,0,"00:00:00","00:00:00",0,0,"00:00:00","00:00:00",0,0,"00:00:00","00:00:00",0,0,"00:00:00","00:00:00",0,0,"00:00:00","00:00:00",0,0,"00:00:00","00:00:00",0,0,"00:00:00","00:00:00",0,0]
[null,null,null,null,null,null,null,0,"00:00:00","00:00:00",0,0,"00:00:00","00:00:00",0,0,"00:00:00","00:00:00",0,0,"00:00:00","00:00:00",0,0,"00:00:00","00:00:00",0,0,"00:00:00","00:00:00",0,0,"00:00:00","00:00:00",0,0,"00:00:00","00:00:00",0,0,"00:00:00","00:00:00",0,0,"00:00:00","00:00:00",0,0]
[null,null,null,null,null,null,null,0,"00:00:00","00:00:00",0,0,"00:00:00","00:00:00",0,0,"00:00:00","00:00:00",0,0,"00:00:00","00:00:00",0,0,"00:00:00","00:00:00",0,0,"00:00:00","00:00:00",0,0,"00:00:00","00:00:00",0,0,"00:00:00","00:00:00",0,0,"00:00:00","00:00:00",0,0,"00:00:00","00:00:00",0,0]
[null,null,null,null,null,null,null,0,"00:00:00","00:00:00",0,0,"00:00:00","00:00:00",0,0,"00:00:00","00:00:00",0,0,"00:00:00","00:00:00",0,0,"00:00:00","00:00:00",0,0,"00:00:00","00:00:00",0,0,"00:00:00","00:00:00",0,0,"00:00:00","00:00:00",0,0,"00:00:00","00:00:00",0,0,"00:00:00","00:00:00",0,0]
[null,null,null,null,null,null,null,0,"00:00:00","00:00:00",0,0,"00:00:00","00:00:00",0,0,"00:00:00","00:00:00",0,0,"00:00:00","00:00:00",0,0,"00:00:00","00:00:00",0,0,"00:00:00","00:00:00",0,0,"00:00:00","00:00:00",0,0,"00:00:00","00:00:00",0,0,"00:00:00","00:00:00",0,0,"00:00:00","00:00:00",0,0]
[null,null,null,null,null,null,null,0,"00:00:00","00:00:00",0,0,"00:00:00","00:00:00",0,0,"00:00:00","00:00:00",0,0,"00:00:00","00:00:00",0,0,"00:00:00","00:00:00",0,0,"00:00:00","00:00:00",0,0,"00:00:00","00:00:00",0,0,"00:00:00","00:00:00",0,0,"00:00:00","00:00:00",0,0,"00:00:00","00:00:00",0,0]
[null,null,null,null,null,null,null,0,"00:00:00","00:00:00",0,0,"00:00:00","00:00:00",0,0,"00:00:00","00:00:00",0,0,"00:00:00","00:00:00",0,0,"00:00:00","00:00:00",0,0,"00:00:00","00:00:00",0,0,"00:00:00","00:00:00",0,0,"00:00:00","00:00:00",0,0,"00:00:00","00:00:00",0,0,"00:00:00","00:00:00",0,0]
[null,null,null,null,null,null,null,0,"00:00:00","00:00:00",0,0,"00:00:00","00:00:00",0,0,"00:00:00","00:00:00",0,0,"00:00:00","00:00:00",0,0,"00:00:00","00:00:00",0,0,"00:00:00","00:00:00",0,0,"00:00:00","00:00:00",0,0,"00:00:00","00:00:00",0,0,"00:00:00","00:00:00",0,0,"00:00:00","00:00:00",0,0]
[null,null,null,null,null,null,null,0,"00:00:00","00:00:00",0,0,"00:00:00","00:00:00",0,0,"00:00:00","00:00:00",0,0,"00:00:00","00:00:00",0,0,"00:00:00","00:00:00",0,0,"00:00:00","00:00:00",0,0,"00:00:00","00:00:00",0,0,"00:00:00","00:00:00",0,0,"00:00:00","00:00:00",0,0,"00:00:00","00:00:00",0,0]
[null,null,null,null,null,null,null,0,"00:00:00","00:00:00",0,0,"00:00:00","00:00:00",0,0,"00:00:00","00:00:00",0,0,"00:00:00","00:00:00",0,0,"00:00:00","00:00:00",0,0,"00:00:00","00:00:00",0,0,"00:00:00","00:00:00",0,0,"00:00:00","00:00:00",0,0,"00:00:00","00:00:00",0,0,"00:00:00","00:00:00",0,0]
[null,null,null,null,null,null,null,0,"00:00:00","00:00:00",0,0,"00:00:00","00:00:00",0,0,"00:00:00","00:00:00",0,0,"00:00:00","00:00:00",0,0,"00:00:00","00:00:00",0,0,"00:00:00","00:00:00",0,0,"00:00:00","00:00:00",0,0,"00:00:00","00:00:00",0,0,"00:00:00","00:00:00",0,0,"00:00:00","00:00:00",0,0]
[null,null,null,null,null,null,null,0,"00:00:00","00:00:00",0,0,"00:00:00","00:00:00",0,0,"00:00:00","00:00:00",0,0,"00:00:00","00:00:00",0,0,"00:00:00","00:00:00",0,0,"00:00:00","00:00:00",0,0,"00:00:00","00:00:00",0,0,"00:00:00","00:00:00",0,0,"00:00:00","00:00:00",0,0,"00:00:00","00:00:00",0,0]
[null,null,null,null,null,null,null,0,"00:00:00","00:00:00",0,0,"00:00:00","00:00:00",0,0,"00:00:00","00:00:00",0,0,"00:00:00","00:00:00",0,0,"00:00:00","00:00:00",0,0,"00:00:00","00:00:00",0,0,"00:00:00","00:00:00",0,0,"00:00:00","00:00:00",0,0,"00:00:00","00:00:00",0,0,"00:00:00","00:00:00",0,0]
[null,null,null,null,null,null,null,0,"00:00:00","00:00:00",0,0,"00:00:00","00:00:00",0,0,"00:00:00","00:00:00",0,0,"00:00:00","00:00:00",0,0,"00:00:00","00:00:00",0,0,"00:00:00","00:00:00",0,0,"00:00:00","00:00:00",0,0,"00:00:00","00:00:00",0,0,"00:00:00","00:00:00",0,0,"00:00:00","00:00:00",0,0]
[null,null,null,null,null,null,null,0,"00:00:00","00:00:00",0,0,"00:00:00","00:00:00",0,0,"00:00:00","00:00:00",0,0,"00:00:00","00:00:00",0,0,"00:00:00","00:00:00",0,0,"00:00:00","00:00:00",0,0,"00:00:00","00:00:00",0,0,"00:00:00","00:00:00",0,0,"00:00:00","00:00:00",0,0,"00:00:00","00:00:00",0,0]
[null,null,null,null,null,null,null,0,"00:00:00","00:00:00",0,0,"00:00:00","00:00:00",0,0,"00:00:00","00:00:00",0,0,"00:00:00","00:00:00",0,0,"00:00:00","00:00:00",0,0,"00:00:00","00:00:00",0,0,"00:00:00","00:00:00",0,0,"00:00:00","00:00:00",0,0,"00:00:00","00:00:00",0,0,"00:00:00","00:00:00",0,0]
[null,null,null,null,null,null,null,0,"00:00:00","00:00:00",0,0,"00:00:00","00:00:00",0,0,"00:00:00","00:00:00",0,0,"00:00:00","00:00:00",0,0,"00:00:00","00:00:00",0,0,"00:00:00","00:00:00",0,0,"00:00:00","00:00:00",0,0,"00:00:00","00:00:00",0,0,"00:00:00","00:00:00",0,0,"00:00:00","00:00:00",0,0]
[null,null,null,null,null,null,null,0,"00:00:00","00:00:00",0,0,"00:00:00","00:00:00",0,0,"00:00:00","00:00:00",0,0,"00:00:00","00:00:00",0,0,"00:00:00","00:00:00",0,0,"00:00:00","00:00:00",0,0,"00:00:00","00:00:00",0,0,"00:00:00","00:00:00",0,0,"00:00:00","00:00:00",0,0,"00:00:00","00:00:00",0,0]
[null,null,null,null,null,null,null,0,"00:00:00","00:00:00",0,0,"00:00:00","00:00:00",0,0,"00:00:00","00:00:00",0,0,"00:00:00","00:00:00",0,0,"00:00:00","00:00:00",0,0,"00:00:00","00:00:00",0,0,"00:00:00","00:00:00",0,0,"00:00:00","00:00:00",0,0,"00:00:00","00:00:00",0,0,"00:00:00","00:00:00",0,0]
[null,null,null,null,null,null,null,0,"00:00:00","00:00:00",0,0,"00:00:00","00:00:00",0,0,"00:00:00","00:00:00",0,0,"00:00:00","00:00:00",0,0,"00:00:00","00:00:00",0,0,"00:00:00","00:00:00",0,0,"00:00:00","00:00:00",0,0,"00:00:00","00:00:00",0,0,"00:00:00","00:00:00",0,0,"00:00:00","00:00:00",0,0]
[null,null,null,null,null,null,null,0,"00:00:00","00:00:00",0,0,"00:00:00","00:00:00",0,0,"00:00:00","00:00:00",0,0,"00:00:00","00:00:00",0,0,"00:00:00","00:00:00",0,0,"00:00:00","00:00:00",0,0,"00:00:00","00:00:00",0,0,"00:00:00","00:00:00",0,0,"00:00:00","00:00:00",0,0,"00:00:00","00:00:00",0,0]
[null,null,null,null,null,null,null,0,"00:00:00","00:00:00",0,0,"00:00:00","00:00:00",0,0,"00:00:00","00:00:00",0,0,"00:00:00","00:00:00",0,0,"00:00:00","00:00:00",0,0,"00:00:00","00:00:00",0,0,"00:00:00","00:00:00",0,0,"00:00:00","00:00:00",0,0,"00:00:00","00:00:00",0,0,"00:00:00","00:00:00",0,0]
[null,null,null,null,null,null,null,0,"00:00:00","00:00:00",0,0,"00:00:00","00:00:00",0,0,"00:00:00","00:00:00",0,0,"00:00:00","00:00:00",0,0,"00:00:00","00:00:00",0,0,"00:00:00","00:00:00",0,0,"00:00:00","00:00:00",0,0,"00:00:00","00:00:00",0,0,"00:00:00","00:00:00",0,0,"00:00:00","00:00:00",0,0]
[null,null,null,null,null,null,null,0,"00:00:00","00:00:00",0,0,"00:00:00","00:00:00",0,0,"00:00:00","00:00:00",0,0,"00:00:00","00:00:00",0,0,"00:00:00","00:00:00",0,0,"00:00:00","00:00:00",0,0,"00:00:00","00:00:00",0,0,"00:00:00","00:00:00",0,0,"00:00:00","00:00:00",0,0,"00:00:00","00:00:00",0,0]
[null,null,null,null,null,null,null,0,"00:00:00","00:00:00",0,0,"00:00:00","00:00:00",0,0,"00:00:00","00:00:00",0,0,"00:00:00","00:00:00",0,0,"00:00:00","00:00:00",0,0,"00:00:00","00:00:00",0,0,"00:00:00","00:00:00",0,0,"00:00:00","00:00:00",0,0,"00:00:00","00:00:00",0,0,"00:00:00","00:00:00",0,0]
[null,null,null,null,null,null,null,0,"00:00:00","00:00:00",0,0,"00:00:00","00:00:00",0,0,"00:00:00","00:00:00",0,0,"00:00:00","00:00:00",0,0,"00:00:00","00:00:00",0,0,"00:00:00","00:00:00",0,0,"00:00:00","00:00:00",0,0,"00:00:00","00:00:00",0,0,"00:00:00","00:00:00",0,0,"00:00:00","00:00:00",0,0]
[null,null,null,null,null,null,null,0,"00:00:00","00:00:00",0,0,"00:00:00","00:00:00",0,0,"00:00:00","00:00:00",0,0,"00:00:00","00:00:00",0,0,"00:00:00","00:00:00",0,0,"00:00:00","00:00:00",0,0,"00:00:00","00:00:00",0,0,"00:00:00","00:00:00",0,0,"00:00:00","00:00:00",0,0,"00:00:00","00:00:00",0,0]
[null,null,null,null,null,null,null,{"$f":"IF(F525-E525=0,0,F525-E525+1)","v":0},{"$f":"IF(OR($F525<I$10,$E525>J$10),0,IF(AND($E525>=I$10,$F525<=J$10),$E525,IF(AND($E525<=I$10,$F525<=J$10),I$10,IF(AND($E525<=J$10,$F525>=J$10,$E525>=I$10),$E525,IF(AND($E525<=I$10,$F525>=J$10),I$10,\"chyba\")))))","v":"00:00:00"},{"$f":"IF(OR($F525<I$10,$E525>J$10),0,IF(AND($E525>=I$10,$F525<=J$10),$F525,IF(AND($E525<=I$10,$F525<=J$10),$F525,IF(AND($E525<=J$10,$F525>=J$10),J$10,IF(AND($E525<=I$10,$F525>=J$10),J$10,\"chyba\")))))","v":"00:00:00"},{"$f":"IF(J525-I525=0,0,J525-I525+1)","v":0},{"$f":"IF($H525<=0,0,$G525/$H525*K525)","v":0},{"$f":"IF(OR($F525<M$10,$E525>N$10),0,IF(AND($E525>=M$10,$F525<=N$10),$E525,IF(AND($E525<=M$10,$F525<=N$10),M$10,IF(AND($E525<=N$10,$F525>=N$10,$E525>=M$10),$E525,IF(AND($E525<=M$10,$F525>=N$10),M$10,\"chyba\")))))","v":"00:00:00"},{"$f":"IF(OR($F525<M$10,$E525>N$10),0,IF(AND($E525>=M$10,$F525<=N$10),$F525,IF(AND($E525<=M$10,$F525<=N$10),$F525,IF(AND($E525<=N$10,$F525>=N$10),N$10,IF(AND($E525<=M$10,$F525>=N$10),N$10,\"chyba\")))))","v":"00:00:00"},{"$f":"IF(N525-M525=0,0,N525-M525+1)","v":0},{"$f":"IF($H525<=0,0,$G525/$H525*O525)","v":0},{"$f":"IF(OR($F525<Q$10,$E525>R$10),0,IF(AND($E525>=Q$10,$F525<=R$10),$E525,IF(AND($E525<=Q$10,$F525<=R$10),Q$10,IF(AND($E525<=R$10,$F525>=R$10,$E525>=Q$10),$E525,IF(AND($E525<=Q$10,$F525>=R$10),Q$10,\"chyba\")))))","v":"00:00:00"},{"$f":"IF(OR($F525<Q$10,$E525>R$10),0,IF(AND($E525>=Q$10,$F525<=R$10),$F525,IF(AND($E525<=Q$10,$F525<=R$10),$F525,IF(AND($E525<=R$10,$F525>=R$10),R$10,IF(AND($E525<=Q$10,$F525>=R$10),R$10,\"chyba\")))))","v":"00:00:00"},{"$f":"IF(R525-Q525=0,0,R525-Q525+1)","v":0},{"$f":"IF($H525<=0,0,$G525/$H525*S525)","v":0},{"$f":"IF(OR($F525<U$10,$E525>V$10),0,IF(AND($E525>=U$10,$F525<=V$10),$E525,IF(AND($E525<=U$10,$F525<=V$10),U$10,IF(AND($E525<=V$10,$F525>=V$10,$E525>=U$10),$E525,IF(AND($E525<=U$10,$F525>=V$10),U$10,\"chyba\")))))","v":"00:00:00"},{"$f":"IF(OR($F525<U$10,$E525>V$10),0,IF(AND($E525>=U$10,$F525<=V$10),$F525,IF(AND($E525<=U$10,$F525<=V$10),$F525,IF(AND($E525<=V$10,$F525>=V$10),V$10,IF(AND($E525<=U$10,$F525>=V$10),V$10,\"chyba\")))))","v":"00:00:00"},{"$f":"IF(V525-U525=0,0,V525-U525+1)","v":0},{"$f":"IF($H525<=0,0,$G525/$H525*W525)","v":0},{"$f":"IF(OR($F525<Y$10,$E525>Z$10),0,IF(AND($E525>=Y$10,$F525<=Z$10),$E525,IF(AND($E525<=Y$10,$F525<=Z$10),Y$10,IF(AND($E525<=Z$10,$F525>=Z$10,$E525>=Y$10),$E525,IF(AND($E525<=Y$10,$F525>=Z$10),Y$10,\"chyba\")))))","v":"00:00:00"},{"$f":"IF(OR($F525<Y$10,$E525>Z$10),0,IF(AND($E525>=Y$10,$F525<=Z$10),$F525,IF(AND($E525<=Y$10,$F525<=Z$10),$F525,IF(AND($E525<=Z$10,$F525>=Z$10),Z$10,IF(AND($E525<=Y$10,$F525>=Z$10),Z$10,\"chyba\")))))","v":"00:00:00"},{"$f":"IF(Z525-Y525=0,0,Z525-Y525+1)","v":0},{"$f":"IF($H525<=0,0,$G525/$H525*AA525)","v":0},{"$f":"IF(OR($F525<AC$10,$E525>AD$10),0,IF(AND($E525>=AC$10,$F525<=AD$10),$E525,IF(AND($E525<=AC$10,$F525<=AD$10),AC$10,IF(AND($E525<=AD$10,$F525>=AD$10,$E525>=AC$10),$E525,IF(AND($E525<=AC$10,$F525>=AD$10),AC$10,\"chyba\")))))","v":"00:00:00"},{"$f":"IF(OR($F525<AC$10,$E525>AD$10),0,IF(AND($E525>=AC$10,$F525<=AD$10),$F525,IF(AND($E525<=AC$10,$F525<=AD$10),$F525,IF(AND($E525<=AD$10,$F525>=AD$10),AD$10,IF(AND($E525<=AC$10,$F525>=AD$10),AD$10,\"chyba\")))))","v":"00:00:00"},{"$f":"IF(AD525-AC525=0,0,AD525-AC525+1)","v":0},{"$f":"IF($H525<=0,0,$G525/$H525*AE525)","v":0},{"$f":"IF(OR($F525<AG$10,$E525>AH$10),0,IF(AND($E525>=AG$10,$F525<=AH$10),$E525,IF(AND($E525<=AG$10,$F525<=AH$10),AG$10,IF(AND($E525<=AH$10,$F525>=AH$10,$E525>=AG$10),$E525,IF(AND($E525<=AG$10,$F525>=AH$10),AG$10,\"chyba\")))))","v":"00:00:00"},{"$f":"IF(OR($F525<AG$10,$E525>AH$10),0,IF(AND($E525>=AG$10,$F525<=AH$10),$F525,IF(AND($E525<=AG$10,$F525<=AH$10),$F525,IF(AND($E525<=AH$10,$F525>=AH$10),AH$10,IF(AND($E525<=AG$10,$F525>=AH$10),AH$10,\"chyba\")))))","v":"00:00:00"},{"$f":"IF(AH525-AG525=0,0,AH525-AG525+1)","v":0},{"$f":"IF($H525<=0,0,$G525/$H525*AI525)","v":0},{"$f":"IF(OR($F525<AK$10,$E525>AL$10),0,IF(AND($E525>=AK$10,$F525<=AL$10),$E525,IF(AND($E525<=AK$10,$F525<=AL$10),AK$10,IF(AND($E525<=AL$10,$F525>=AL$10,$E525>=AK$10),$E525,IF(AND($E525<=AK$10,$F525>=AL$10),AK$10,\"chyba\")))))","v":"00:00:00"},{"$f":"IF(OR($F525<AK$10,$E525>AL$10),0,IF(AND($E525>=AK$10,$F525<=AL$10),$F525,IF(AND($E525<=AK$10,$F525<=AL$10),$F525,IF(AND($E525<=AL$10,$F525>=AL$10),AL$10,IF(AND($E525<=AK$10,$F525>=AL$10),AL$10,\"chyba\")))))","v":"00:00:00"},{"$f":"IF(AL525-AK525=0,0,AL525-AK525+1)","v":0},{"$f":"IF($H525<=0,0,$G525/$H525*AM525)","v":0},{"$f":"IF(OR($F525<AO$10,$E525>AP$10),0,IF(AND($E525>=AO$10,$F525<=AP$10),$E525,IF(AND($E525<=AO$10,$F525<=AP$10),AO$10,IF(AND($E525<=AP$10,$F525>=AP$10,$E525>=AO$10),$E525,IF(AND($E525<=AO$10,$F525>=AP$10),AO$10,\"chyba\")))))","v":"00:00:00"},{"$f":"IF(OR($F525<AO$10,$E525>AP$10),0,IF(AND($E525>=AO$10,$F525<=AP$10),$F525,IF(AND($E525<=AO$10,$F525<=AP$10),$F525,IF(AND($E525<=AP$10,$F525>=AP$10),AP$10,IF(AND($E525<=AO$10,$F525>=AP$10),AP$10,\"chyba\")))))","v":"00:00:00"},{"$f":"IF(AP525-AO525=0,0,AP525-AO525+1)","v":0},{"$f":"IF($H525<=0,0,$G525/$H525*AQ525)","v":0},{"$f":"IF(OR($F525<AS$10,$E525>AT$10),0,IF(AND($E525>=AS$10,$F525<=AT$10),$E525,IF(AND($E525<=AS$10,$F525<=AT$10),AS$10,IF(AND($E525<=AT$10,$F525>=AT$10,$E525>=AS$10),$E525,IF(AND($E525<=AS$10,$F525>=AT$10),AS$10,\"chyba\")))))","v":"00:00:00"},{"$f":"IF(OR($F525<AS$10,$E525>AT$10),0,IF(AND($E525>=AS$10,$F525<=AT$10),$F525,IF(AND($E525<=AS$10,$F525<=AT$10),$F525,IF(AND($E525<=AT$10,$F525>=AT$10),AT$10,IF(AND($E525<=AS$10,$F525>=AT$10),AT$10,\"chyba\")))))","v":"00:00:00"},{"$f":"IF(AT525-AS525=0,0,AT525-AS525+1)","v":0},{"$f":"IF($H525<=0,0,$G525/$H525*AU525)","v":0}]
[null,null,null,null,null,null,null,0,"00:00:00","00:00:00",0,0,"00:00:00","00:00:00",0,0,"00:00:00","00:00:00",0,0,"00:00:00","00:00:00",0,0,"00:00:00","00:00:00",0,0,"00:00:00","00:00:00",0,0,"00:00:00","00:00:00",0,0,"00:00:00","00:00:00",0,0,"00:00:00","00:00:00",0,0,"00:00:00","00:00:00",0,0]
[null,null,null,null,null,null,null,0,"00:00:00","00:00:00",0,0,"00:00:00","00:00:00",0,0,"00:00:00","00:00:00",0,0,"00:00:00","00:00:00",0,0,"00:00:00","00:00:00",0,0,"00:00:00","00:00:00",0,0,"00:00:00","00:00:00",0,0,"00:00:00","00:00:00",0,0,"00:00:00","00:00:00",0,0,"00:00:00","00:00:00",0,0]
[null,null,null,null,null,null,null,0,"00:00:00","00:00:00",0,0,"00:00:00","00:00:00",0,0,"00:00:00","00:00:00",0,0,"00:00:00","00:00:00",0,0,"00:00:00","00:00:00",0,0,"00:00:00","00:00:00",0,0,"00:00:00","00:00:00",0,0,"00:00:00","00:00:00",0,0,"00:00:00","00:00:00",0,0,"00:00:00","00:00:00",0,0]
[null,null,null,null,null,null,null,0,"00:00:00","00:00:00",0,0,"00:00:00","00:00:00",0,0,"00:00:00","00:00:00",0,0,"00:00:00","00:00:00",0,0,"00:00:00","00:00:00",0,0,"00:00:00","00:00:00",0,0,"00:00:00","00:00:00",0,0,"00:00:00","00:00:00",0,0,"00:00:00","00:00:00",0,0,"00:00:00","00:00:00",0,0]
[null,null,null,null,null,null,null,0,"00:00:00","00:00:00",0,0,"00:00:00","00:00:00",0,0,"00:00:00","00:00:00",0,0,"00:00:00","00:00:00",0,0,"00:00:00","00:00:00",0,0,"00:00:00","00:00:00",0,0,"00:00:00","00:00:00",0,0,"00:00:00","00:00:00",0,0,"00:00:00","00:00:00",0,0,"00:00:00","00:00:00",0,0]
[null,null,null,null,null,null,null,0,"00:00:00","00:00:00",0,0,"00:00:00","00:00:00",0,0,"00:00:00","00:00:00",0,0,"00:00:00","00:00:00",0,0,"00:00:00","00:00:00",0,0,"00:00:00","00:00:00",0,0,"00:00:00","00:00:00",0,0,"00:00:00","00:00:00",0,0,"00:00:00","00:00:00",0,0,"00:00:00","00:00:00",0,0]
[null,null,null,null,null,null,null,0,"00:00:00","00:00:00",0,0,"00:00:00","00:00:00",0,0,"00:00:00","00:00:00",0,0,"00:00:00","00:00:00",0,0,"00:00:00","00:00:00",0,0,"00:00:00","00:00:00",0,0,"00:00:00","00:00:00",0,0,"00:00:00","00:00:00",0,0,"00:00:00","00:00:00",0,0,"00:00:00","00:00:00",0,0]
[null,null,null,null,null,null,null,0,"00:00:00","00:00:00",0,0,"00:00:00","00:00:00",0,0,"00:00:00","00:00:00",0,0,"00:00:00","00:00:00",0,0,"00:00:00","00:00:00",0,0,"00:00:00","00:00:00",0,0,"00:00:00","00:00:00",0,0,"00:00:00","00:00:00",0,0,"00:00:00","00:00:00",0,0,"00:00:00","00:00:00",0,0]
[null,null,null,null,null,null,null,0,"00:00:00","00:00:00",0,0,"00:00:00","00:00:00",0,0,"00:00:00","00:00:00",0,0,"00:00:00","00:00:00",0,0,"00:00:00","00:00:00",0,0,"00:00:00","00:00:00",0,0,"00:00:00","00:00:00",0,0,"00:00:00","00:00:00",0,0,"00:00:00","00:00:00",0,0,"00:00:00","00:00:00",0,0]
[null,null,null,null,null,null,null,0,"00:00:00","00:00:00",0,0,"00:00:00","00:00:00",0,0,"00:00:00","00:00:00",0,0,"00:00:00","00:00:00",0,0,"00:00:00","00:00:00",0,0,"00:00:00","00:00:00",0,0,"00:00:00","00:00:00",0,0,"00:00:00","00:00:00",0,0,"00:00:00","00:00:00",0,0,"00:00:00","00:00:00",0,0]
[null,null,null,null,null,null,null,0,"00:00:00","00:00:00",0,0,"00:00:00","00:00:00",0,0,"00:00:00","00:00:00",0,0,"00:00:00","00:00:00",0,0,"00:00:00","00:00:00",0,0,"00:00:00","00:00:00",0,0,"00:00:00","00:00:00",0,0,"00:00:00","00:00:00",0,0,"00:00:00","00:00:00",0,0,"00:00:00","00:00:00",0,0]
[null,null,null,null,null,null,null,0,"00:00:00","00:00:00",0,0,"00:00:00","00:00:00",0,0,"00:00:00","00:00:00",0,0,"00:00:00","00:00:00",0,0,"00:00:00","00:00:00",0,0,"00:00:00","00:00:00",0,0,"00:00:00","00:00:00",0,0,"00:00:00","00:00:00",0,0,"00:00:00","00:00:00",0,0,"00:00:00","00:00:00",0,0]
[null,null,null,null,null,null,null,0,"00:00:00","00:00:00",0,0,"00:00:00","00:00:00",0,0,"00:00:00","00:00:00",0,0,"00:00:00","00:00:00",0,0,"00:00:00","00:00:00",0,0,"00:00:00","00:00:00",0,0,"00:00:00","00:00:00",0,0,"00:00:00","00:00:00",0,0,"00:00:00","00:00:00",0,0,"00:00:00","00:00:00",0,0]
[null,null,null,null,null,null,null,0,"00:00:00","00:00:00",0,0,"00:00:00","00:00:00",0,0,"00:00:00","00:00:00",0,0,"00:00:00","00:00:00",0,0,"00:00:00","00:00:00",0,0,"00:00:00","00:00:00",0,0,"00:00:00","00:00:00",0,0,"00:00:00","00:00:00",0,0,"00:00:00","00:00:00",0,0,"00:00:00","00:00:00",0,0]
[null,null,null,null,null,null,null,0,"00:00:00","00:00:00",0,0,"00:00:00","00:00:00",0,0,"00:00:00","00:00:00",0,0,"00:00:00","00:00:00",0,0,"00:00:00","00:00:00",0,0,"00:00:00","00:00:00",0,0,"00:00:00","00:00:00",0,0,"00:00:00","00:00:00",0,0,"00:00:00","00:00:00",0,0,"00:00:00","00:00:00",0,0]
[null,null,null,null,null,null,null,0,"00:00:00","00:00:00",0,0,"00:00:00","00:00:00",0,0,"00:00:00","00:00:00",0,0,"00:00:00","00:00:00",0,0,"00:00:00","00:00:00",0,0,"00:00:00","00:00:00",0,0,"00:00:00","00:00:00",0,0,"00:00:00","00:00:00",0,0,"00:00:00","00:00:00",0,0,"00:00:00","00:00:00",0,0]
[null,null,null,null,null,null,null,0,"00:00:00","00:00:00",0,0,"00:00:00","00:00:00",0,0,"00:00:00","00:00:00",0,0,"00:00:00","00:00:00",0,0,"00:00:00","00:00:00",0,0,"00:00:00","00:00:00",0,0,"00:00:00","00:00:00",0,0,"00:00:00","00:00:00",0,0,"00:00:00","00:00:00",0,0,"00:00:00","00:00:00",0,0]
[null,null,null,null,null,null,null,0,"00:00:00","00:00:00",0,0,"00:00:00","00:00:00",0,0,"00:00:00","00:00:00",0,0,"00:00:00","00:00:00",0,0,"00:00:00","00:00:00",0,0,"00:00:00","00:00:00",0,0,"00:00:00","00:00:00",0,0,"00:00:00","00:00:00",0,0,"00:00:00","00:00:00",0,0,"00:00:00","00:00:00",0,0]
[null,null,null,null,null,null,null,0,"00:00:00","00:00:00",0,0,"00:00:00","00:00:00",0,0,"00:00:00","00:00:00",0,0,"00:00:00","00:00:00",0,0,"00:00:00","00:00:00",0,0,"00:00:00","00:00:00",0,0,"00:00:00","00:00:00",0,0,"00:00:00","00:00:00",0,0,"00:00:00","00:00:00",0,0,"00:00:00","00:00:00",0,0]
[null,null,null,null,null,null,null,0,"00:00:00","00:00:00",0,0,"00:00:00","00:00:00",0,0,"00:00:00","00:00:00",0,0,"00:00:00","00:00:00",0,0,"00:00:00","00:00:00",0,0,"00:00:00","00:00:00",0,0,"00:00:00","00:00:00",0,0,"00:00:00","00:00:00",0,0,"00:00:00","00:00:00",0,0,"00:00:00","00:00:00",0,0]
[null,null,null,null,null,null,null,0,"00:00:00","00:00:00",0,0,"00:00:00","00:00:00",0,0,"00:00:00","00:00:00",0,0,"00:00:00","00:00:00",0,0,"00:00:00","00:00:00",0,0,"00:00:00","00:00:00",0,0,"00:00:00","00:00:00",0,0,"00:00:00","00:00:00",0,0,"00:00:00","00:00:00",0,0,"00:00:00","00:00:00",0,0]
[null,null,null,null,null,null,null,0,"00:00:00","00:00:00",0,0,"00:00:00","00:00:00",0,0,"00:00:00","00:00:00",0,0,"00:00:00","00:00:00",0,0,"00:00:00","00:00:00",0,0,"00:00:00","00:00:00",0,0,"00:00:00","00:00:00",0,0,"00:00:00","00:00:00",0,0,"00:00:00","00:00:00",0,0,"00:00:00","00:00:00",0,0]
[null,null,null,null,null,null,null,0,"00:00:00","00:00:00",0,0,"00:00:00","00:00:00",0,0,"00:00:00","00:00:00",0,0,"00:00:00","00:00:00",0,0,"00:00:00","00:00:00",0,0,"00:00:00","00:00:00",0,0,"00:00:00","00:00:00",0,0,"00:00:00","00:00:00",0,0,"00:00:00","00:00:00",0,0,"00:00:00","00:00:00",0,0]
[null,null,null,null,null,null,null,0,"00:00:00","00:00:00",0,0,"00:00:00","00:00:00",0,0,"00:00:00","00:00:00",0,0,"00:00:00","00:00:00",0,0,"00:00:00","00:00:00",0,0,"00:00:00","00:00:00",0,0,"00:00:00","00:00:00",0,0,"00:00:00","00:00:00",0,0,"00:00:00","00:00:00",0,0,"00:00:00","00:00:00",0,0]
[null,null,null,null,null,null,null,0,"00:00:00","00:00:00",0,0,"00:00:00","00:00:00",0,0,"00:00:00","00:00:00",0,0,"00:00:00","00:00:00",0,0,"00:00:00","00:00:00",0,0,"00:00:00","00:00:00",0,0,"00:00:00","00:00:00",0,0,"00:00:00","00:00:00",0,0,"00:00:00","00:00:00",0,0,"00:00:00","00:00:00",0,0]
[null,null,null,null,null,null,null,0,"00:00:00","00:00:00",0,0,"00:00:00","00:00:00",0,0,"00:00:00","00:00:00",0,0,"00:00:00","00:00:00",0,0,"00:00:00","00:00:00",0,0,"00:00:00","00:00:00",0,0,"00:00:00","00:00:00",0,0,"00:00:00","00:00:00",0,0,"00:00:00","00:00:00",0,0,"00:00:00","00:00:00",0,0]
[null,null,null,null,null,null,null,0,"00:00:00","00:00:00",0,0,"00:00:00","00:00:00",0,0,"00:00:00","00:00:00",0,0,"00:00:00","00:00:00",0,0,"00:00:00","00:00:00",0,0,"00:00:00","00:00:00",0,0,"00:00:00","00:00:00",0,0,"00:00:00","00:00:00",0,0,"00:00:00","00:00:00",0,0,"00:00:00","00:00:00",0,0]
[null,null,null,null,null,null,null,0,"00:00:00","00:00:00",0,0,"00:00:00","00:00:00",0,0,"00:00:00","00:00:00",0,0,"00:00:00","00:00:00",0,0,"00:00:00","00:00:00",0,0,"00:00:00","00:00:00",0,0,"00:00:00","00:00:00",0,0,"00:00:00","00:00:00",0,0,"00:00:00","00:00:00",0,0,"00:00:00","00:00:00",0,0]
[null,null,null,null,null,null,null,0,"00:00:00","00:00:00",0,0,"00:00:00","00:00:00",0,0,"00:00:00","00:00:00",0,0,"00:00:00","00:00:00",0,0,"00:00:00","00:00:00",0,0,"00:00:00","00:00:00",0,0,"00:00:00","00:00:00",0,0,"00:00:00","00:00:00",0,0,"00:00:00","00:00:00",0,0,"00:00:00","00:00:00",0,0]
[null,null,null,null,null,null,null,0,"00:00:00","00:00:00",0,0,"00:00:00","00:00:00",0,0,"00:00:00","00:00:00",0,0,"00:00:00","00:00:00",0,0,"00:00:00","00:00:00",0,0,"00:00:00","00:00:00",0,0,"00:00:00","00:00:00",0,0,"00:00:00","00:00:00",0,0,"00:00:00","00:00:00",0,0,"00:00:00","00:00:00",0,0]
[null,null,null,null,null,null,null,0,"00:00:00","00:00:00",0,0,"00:00:00","00:00:00",0,0,"00:00:00","00:00:00",0,0,"00:00:00","00:00:00",0,0,"00:00:00","00:00:00",0,0,"00:00:00","00:00:00",0,0,"00:00:00","00:00:00",0,0,"00:00:00","00:00:00",0,0,"00:00:00","00:00:00",0,0,"00:00:00","00:00:00",0,0]
[null,null,null,null,null,null,null,0,"00:00:00","00:00:00",0,0,"00:00:00","00:00:00",0,0,"00:00:00","00:00:00",0,0,"00:00:00","00:00:00",0,0,"00:00:00","00:00:00",0,0,"00:00:00","00:00:00",0,0,"00:00:00","00:00:00",0,0,"00:00:00","00:00:00",0,0,"00:00:00","00:00:00",0,0,"00:00:00","00:00:00",0,0]
[null,null,null,null,null,null,null,0,"00:00:00","00:00:00",0,0,"00:00:00","00:00:00",0,0,"00:00:00","00:00:00",0,0,"00:00:00","00:00:00",0,0,"00:00:00","00:00:00",0,0,"00:00:00","00:00:00",0,0,"00:00:00","00:00:00",0,0,"00:00:00","00:00:00",0,0,"00:00:00","00:00:00",0,0,"00:00:00","00:00:00",0,0]
[null,null,null,null,null,null,null,0,"00:00:00","00:00:00",0,0,"00:00:00","00:00:00",0,0,"00:00:00","00:00:00",0,0,"00:00:00","00:00:00",0,0,"00:00:00","00:00:00",0,0,"00:00:00","00:00:00",0,0,"00:00:00","00:00:00",0,0,"00:00:00","00:00:00",0,0,"00:00:00","00:00:00",0,0,"00:00:00","00:00:00",0,0]
[null,null,null,null,null,null,null,0,"00:00:00","00:00:00",0,0,"00:00:00","00:00:00",0,0,"00:00:00","00:00:00",0,0,"00:00:00","00:00:00",0,0,"00:00:00","00:00:00",0,0,"00:00:00","00:00:00",0,0,"00:00:00","00:00:00",0,0,"00:00:00","00:00:00",0,0,"00:00:00","00:00:00",0,0,"00:00:00","00:00:00",0,0]
[null,null,null,null,null,null,null,0,"00:00:00","00:00:00",0,0,"00:00:00","00:00:00",0,0,"00:00:00","00:00:00",0,0,"00:00:00","00:00:00",0,0,"00:00:00","00:00:00",0,0,"00:00:00","00:00:00",0,0,"00:00:00","00:00:00",0,0,"00:00:00","00:00:00",0,0,"00:00:00","00:00:00",0,0,"00:00:00","00:00:00",0,0]
[null,null,null,null,null,null,null,0,"00:00:00","00:00:00",0,0,"00:00:00","00:00:00",0,0,"00:00:00","00:00:00",0,0,"00:00:00","00:00:00",0,0,"00:00:00","00:00:00",0,0,"00:00:00","00:00:00",0,0,"00:00:00","00:00:00",0,0,"00:00:00","00:00:00",0,0,"00:00:00","00:00:00",0,0,"00:00:00","00:00:00",0,0]
[null,null,null,null,null,null,null,0,"00:00:00","00:00:00",0,0,"00:00:00","00:00:00",0,0,"00:00:00","00:00:00",0,0,"00:00:00","00:00:00",0,0,"00:00:00","00:00:00",0,0,"00:00:00","00:00:00",0,0,"00:00:00","00:00:00",0,0,"00:00:00","00:00:00",0,0,"00:00:00","00:00:00",0,0,"00:00:00","00:00:00",0,0]
[null,null,null,null,null,null,null,0,"00:00:00","00:00:00",0,0,"00:00:00","00:00:00",0,0,"00:00:00","00:00:00",0,0,"00:00:00","00:00:00",0,0,"00:00:00","00:00:00",0,0,"00:00:00","00:00:00",0,0,"00:00:00","00:00:00",0,0,"00:00:00","00:00:00",0,0,"00:00:00","00:00:00",0,0,"00:00:00","00:00:00",0,0]
[null,null,null,null,null,null,null,0,"00:00:00","00:00:00",0,0,"00:00:00","00:00:00",0,0,"00:00:00","00:00:00",0,0,"00:00:00","00:00:00",0,0,"00:00:00","00:00:00",0,0,"00:00:00","00:00:00",0,0,"00:00:00","00:00:00",0,0,"00:00:00","00:00:00",0,0,"00:00:00","00:00:00",0,0,"00:00:00","00:00:00",0,0]
[null,null,null,null,null,null,null,0,"00:00:00","00:00:00",0,0,"00:00:00","00:00:00",0,0,"00:00:00","00:00:00",0,0,"00:00:00","00:00:00",0,0,"00:00:00","00:00:00",0,0,"00:00:00","00:00:00",0,0,"00:00:00","00:00:00",0,0,"00:00:00","00:00:00",0,0,"00:00:00","00:00:00",0,0,"00:00:00","00:00:00",0,0]
[null,null,null,null,null,null,null,0,"00:00:00","00:00:00",0,0,"00:00:00","00:00:00",0,0,"00:00:00","00:00:00",0,0,"00:00:00","00:00:00",0,0,"00:00:00","00:00:00",0,0,"00:00:00","00:00:00",0,0,"00:00:00","00:00:00",0,0,"00:00:00","00:00:00",0,0,"00:00:00","00:00:00",0,0,"00:00:00","00:00:00",0,0]
[null,null,null,null,null,null,null,0,"00:00:00","00:00:00",0,0,"00:00:00","00:00:00",0,0,"00:00:00","00:00:00",0,0,"00:00:00","00:00:00",0,0,"00:00:00","00:00:00",0,0,"00:00:00","00:00:00",0,0,"00:00:00","00:00:00",0,0,"00:00:00","00:00:00",0,0,"00:00:00","00:00:00",0,0,"00:00:00","00:00:00",0,0]
[null,null,null,null,null,null,null,0,"00:00:00","00:00:00",0,0,"00:00:00","00:00:00",0,0,"00:00:00","00:00:00",0,0,"00:00:00","00:00:00",0,0,"00:00:00","00:00:00",0,0,"00:00:00","00:00:00",0,0,"00:00:00","00:00:00",0,0,"00:00:00","00:00:00",0,0,"00:00:00","00:00:00",0,0,"00:00:00","00:00:00",0,0]
[null,null,null,null,null,null,null,0,"00:00:00","00:00:00",0,0,"00:00:00","00:00:00",0,0,"00:00:00","00:00:00",0,0,"00:00:00","00:00:00",0,0,"00:00:00","00:00:00",0,0,"00:00:00","00:00:00",0,0,"00:00:00","00:00:00",0,0,"00:00:00","00:00:00",0,0,"00:00:00","00:00:00",0,0,"00:00:00","00:00:00",0,0]
[null,null,null,null,null,null,null,0,"00:00:00","00:00:00",0,0,"00:00:00","00:00:00",0,0,"00:00:00","00:00:00",0,0,"00:00:00","00:00:00",0,0,"00:00:00","00:00:00",0,0,"00:00:00","00:00:00",0,0,"00:00:00","00:00:00",0,0,"00:00:00","00:00:00",0,0,"00:00:00","00:00:00",0,0,"00:00:00","00:00:00",0,0]
[null,null,null,null,null,null,null,0,"00:00:00","00:00:00",0,0,"00:00:00","00:00:00",0,0,"00:00:00","00:00:00",0,0,"00:00:00","00:00:00",0,0,"00:00:00","00:00:00",0,0,"00:00:00","00:00:00",0,0,"00:00:00","00:00:00",0,0,"00:00:00","00:00:00",0,0,"00:00:00","00:00:00",0,0,"00:00:00","00:00:00",0,0]
[null,null,null,null,null,null,null,0,"00:00:00","00:00:00",0,0,"00:00:00","00:00:00",0,0,"00:00:00","00:00:00",0,0,"00:00:00","00:00:00",0,0,"00:00:00","00:00:00",0,0,"00:00:00","00:00:00",0,0,"00:00:00","00:00:00",0,0,"00:00:00","00:00:00",0,0,"00:00:00","00:00:00",0,0,"00:00:00","00:00:00",0,0]
[null,null,null,null,null,null,null,0,"00:00:00","00:00:00",0,0,"00:00:00","00:00:00",0,0,"00:00:00","00:00:00",0,0,"00:00:00","00:00:00",0,0,"00:00:00","00:00:00",0,0,"00:00:00","00:00:00",0,0,"00:00:00","00:00:00",0,0,"00:00:00","00:00:00",0,0,"00:00:00","00:00:00",0,0,"00:00:00","00:00:00",0,0]
[null,null,null,null,null,null,null,0,"00:00:00","00:00:00",0,0,"00:00:00","00:00:00",0,0,"00:00:00","00:00:00",0,0,"00:00:00","00:00:00",0,0,"00:00:00","00:00:00",0,0,"00:00:00","00:00:00",0,0,"00:00:00","00:00:00",0,0,"00:00:00","00:00:00",0,0,"00:00:00","00:00:00",0,0,"00:00:00","00:00:00",0,0]
[null,null,null,null,null,null,null,0,"00:00:00","00:00:00",0,0,"00:00:00","00:00:00",0,0,"00:00:00","00:00:00",0,0,"00:00:00","00:00:00",0,0,"00:00:00","00:00:00",0,0,"00:00:00","00:00:00",0,0,"00:00:00","00:00:00",0,0,"00:00:00","00:00:00",0,0,"00:00:00","00:00:00",0,0,"00:00:00","00:00:00",0,0]
[null,null,null,null,null,null,null,0,"00:00:00","00:00:00",0,0,"00:00:00","00:00:00",0,0,"00:00:00","00:00:00",0,0,"00:00:00","00:00:00",0,0,"00:00:00","00:00:00",0,0,"00:00:00","00:00:00",0,0,"00:00:00","00:00:00",0,0,"00:00:00","00:00:00",0,0,"00:00:00","00:00:00",0,0,"00:00:00","00:00:00",0,0]
[null,null,null,null,null,null,null,0,"00:00:00","00:00:00",0,0,"00:00:00","00:00:00",0,0,"00:00:00","00:00:00",0,0,"00:00:00","00:00:00",0,0,"00:00:00","00:00:00",0,0,"00:00:00","00:00:00",0,0,"00:00:00","00:00:00",0,0,"00:00:00","00:00:00",0,0,"00:00:00","00:00:00",0,0,"00:00:00","00:00:00",0,0]
[null,null,null,null,null,null,null,0,"00:00:00","00:00:00",0,0,"00:00:00","00:00:00",0,0,"00:00:00","00:00:00",0,0,"00:00:00","00:00:00",0,0,"00:00:00","00:00:00",0,0,"00:00:00","00:00:00",0,0,"00:00:00","00:00:00",0,0,"00:00:00","00:00:00",0,0,"00:00:00","00:00:00",0,0,"00:00:00","00:00:00",0,0]
[null,null,null,null,null,null,null,0,"00:00:00","00:00:00",0,0,"00:00:00","00:00:00",0,0,"00:00:00","00:00:00",0,0,"00:00:00","00:00:00",0,0,"00:00:00","00:00:00",0,0,"00:00:00","00:00:00",0,0,"00:00:00","00:00:00",0,0,"00:00:00","00:00:00",0,0,"00:00:00","00:00:00",0,0,"00:00:00","00:00:00",0,0]
[null,null,null,null,null,null,null,0,"00:00:00","00:00:00",0,0,"00:00:00","00:00:00",0,0,"00:00:00","00:00:00",0,0,"00:00:00","00:00:00",0,0,"00:00:00","00:00:00",0,0,"00:00:00","00:00:00",0,0,"00:00:00","00:00:00",0,0,"00:00:00","00:00:00",0,0,"00:00:00","00:00:00",0,0,"00:00:00","00:00:00",0,0]
[null,null,null,null,null,null,null,0,"00:00:00","00:00:00",0,0,"00:00:00","00:00:00",0,0,"00:00:00","00:00:00",0,0,"00:00:00","00:00:00",0,0,"00:00:00","00:00:00",0,0,"00:00:00","00:00:00",0,0,"00:00:00","00:00:00",0,0,"00:00:00","00:00:00",0,0,"00:00:00","00:00:00",0,0,"00:00:00","00:00:00",0,0]
[null,null,null,null,null,null,null,0,"00:00:00","00:00:00",0,0,"00:00:00","00:00:00",0,0,"00:00:00","00:00:00",0,0,"00:00:00","00:00:00",0,0,"00:00:00","00:00:00",0,0,"00:00:00","00:00:00",0,0,"00:00:00","00:00:00",0,0,"00:00:00","00:00:00",0,0,"00:00:00","00:00:00",0,0,"00:00:00","00:00:00",0,0]
[null,null,null,null,null,null,null,0,"00:00:00","00:00:00",0,0,"00:00:00","00:00:00",0,0,"00:00:00","00:00:00",0,0,"00:00:00","00:00:00",0,0,"00:00:00","00:00:00",0,0,"00:00:00","00:00:00",0,0,"00:00:00","00:00:00",0,0,"00:00:00","00:00:00",0,0,"00:00:00","00:00:00",0,0,"00:00:00","00:00:00",0,0]
[null,null,null,null,null,null,null,0,"00:00:00","00:00:00",0,0,"00:00:00","00:00:00",0,0,"00:00:00","00:00:00",0,0,"00:00:00","00:00:00",0,0,"00:00:00","00:00:00",0,0,"00:00:00","00:00:00",0,0,"00:00:00","00:00:00",0,0,"00:00:00","00:00:00",0,0,"00:00:00","00:00:00",0,0,"00:00:00","00:00:00",0,0]
[null,null,null,null,null,null,null,0,"00:00:00","00:00:00",0,0,"00:00:00","00:00:00",0,0,"00:00:00","00:00:00",0,0,"00:00:00","00:00:00",0,0,"00:00:00","00:00:00",0,0,"00:00:00","00:00:00",0,0,"00:00:00","00:00:00",0,0,"00:00:00","00:00:00",0,0,"00:00:00","00:00:00",0,0,"00:00:00","00:00:00",0,0]
[null,null,null,null,null,null,null,0,"00:00:00","00:00:00",0,0,"00:00:00","00:00:00",0,0,"00:00:00","00:00:00",0,0,"00:00:00","00:00:00",0,0,"00:00:00","00:00:00",0,0,"00:00:00","00:00:00",0,0,"00:00:00","00:00:00",0,0,"00:00:00","00:00:00",0,0,"00:00:00","00:00:00",0,0,"00:00:00","00:00:00",0,0]
[null,null,null,null,null,null,null,0,"00:00:00","00:00:00",0,0,"00:00:00","00:00:00",0,0,"00:00:00","00:00:00",0,0,"00:00:00","00:00:00",0,0,"00:00:00","00:00:00",0,0,"00:00:00","00:00:00",0,0,"00:00:00","00:00:00",0,0,"00:00:00","00:00:00",0,0,"00:00:00","00:00:00",0,0,"00:00:00","00:00:00",0,0]
[null,null,null,null,null,null,null,{"$f":"IF(F589-E589=0,0,F589-E589+1)","v":0},{"$f":"IF(OR($F589<I$10,$E589>J$10),0,IF(AND($E589>=I$10,$F589<=J$10),$E589,IF(AND($E589<=I$10,$F589<=J$10),I$10,IF(AND($E589<=J$10,$F589>=J$10,$E589>=I$10),$E589,IF(AND($E589<=I$10,$F589>=J$10),I$10,\"chyba\")))))","v":"00:00:00"},{"$f":"IF(OR($F589<I$10,$E589>J$10),0,IF(AND($E589>=I$10,$F589<=J$10),$F589,IF(AND($E589<=I$10,$F589<=J$10),$F589,IF(AND($E589<=J$10,$F589>=J$10),J$10,IF(AND($E589<=I$10,$F589>=J$10),J$10,\"chyba\")))))","v":"00:00:00"},{"$f":"IF(J589-I589=0,0,J589-I589+1)","v":0},{"$f":"IF($H589<=0,0,$G589/$H589*K589)","v":0},{"$f":"IF(OR($F589<M$10,$E589>N$10),0,IF(AND($E589>=M$10,$F589<=N$10),$E589,IF(AND($E589<=M$10,$F589<=N$10),M$10,IF(AND($E589<=N$10,$F589>=N$10,$E589>=M$10),$E589,IF(AND($E589<=M$10,$F589>=N$10),M$10,\"chyba\")))))","v":"00:00:00"},{"$f":"IF(OR($F589<M$10,$E589>N$10),0,IF(AND($E589>=M$10,$F589<=N$10),$F589,IF(AND($E589<=M$10,$F589<=N$10),$F589,IF(AND($E589<=N$10,$F589>=N$10),N$10,IF(AND($E589<=M$10,$F589>=N$10),N$10,\"chyba\")))))","v":"00:00:00"},{"$f":"IF(N589-M589=0,0,N589-M589+1)","v":0},{"$f":"IF($H589<=0,0,$G589/$H589*O589)","v":0},{"$f":"IF(OR($F589<Q$10,$E589>R$10),0,IF(AND($E589>=Q$10,$F589<=R$10),$E589,IF(AND($E589<=Q$10,$F589<=R$10),Q$10,IF(AND($E589<=R$10,$F589>=R$10,$E589>=Q$10),$E589,IF(AND($E589<=Q$10,$F589>=R$10),Q$10,\"chyba\")))))","v":"00:00:00"},{"$f":"IF(OR($F589<Q$10,$E589>R$10),0,IF(AND($E589>=Q$10,$F589<=R$10),$F589,IF(AND($E589<=Q$10,$F589<=R$10),$F589,IF(AND($E589<=R$10,$F589>=R$10),R$10,IF(AND($E589<=Q$10,$F589>=R$10),R$10,\"chyba\")))))","v":"00:00:00"},{"$f":"IF(R589-Q589=0,0,R589-Q589+1)","v":0},{"$f":"IF($H589<=0,0,$G589/$H589*S589)","v":0},{"$f":"IF(OR($F589<U$10,$E589>V$10),0,IF(AND($E589>=U$10,$F589<=V$10),$E589,IF(AND($E589<=U$10,$F589<=V$10),U$10,IF(AND($E589<=V$10,$F589>=V$10,$E589>=U$10),$E589,IF(AND($E589<=U$10,$F589>=V$10),U$10,\"chyba\")))))","v":"00:00:00"},{"$f":"IF(OR($F589<U$10,$E589>V$10),0,IF(AND($E589>=U$10,$F589<=V$10),$F589,IF(AND($E589<=U$10,$F589<=V$10),$F589,IF(AND($E589<=V$10,$F589>=V$10),V$10,IF(AND($E589<=U$10,$F589>=V$10),V$10,\"chyba\")))))","v":"00:00:00"},{"$f":"IF(V589-U589=0,0,V589-U589+1)","v":0},{"$f":"IF($H589<=0,0,$G589/$H589*W589)","v":0},{"$f":"IF(OR($F589<Y$10,$E589>Z$10),0,IF(AND($E589>=Y$10,$F589<=Z$10),$E589,IF(AND($E589<=Y$10,$F589<=Z$10),Y$10,IF(AND($E589<=Z$10,$F589>=Z$10,$E589>=Y$10),$E589,IF(AND($E589<=Y$10,$F589>=Z$10),Y$10,\"chyba\")))))","v":"00:00:00"},{"$f":"IF(OR($F589<Y$10,$E589>Z$10),0,IF(AND($E589>=Y$10,$F589<=Z$10),$F589,IF(AND($E589<=Y$10,$F589<=Z$10),$F589,IF(AND($E589<=Z$10,$F589>=Z$10),Z$10,IF(AND($E589<=Y$10,$F589>=Z$10),Z$10,\"chyba\")))))","v":"00:00:00"},{"$f":"IF(Z589-Y589=0,0,Z589-Y589+1)","v":0},{"$f":"IF($H589<=0,0,$G589/$H589*AA589)","v":0},{"$f":"IF(OR($F589<AC$10,$E589>AD$10),0,IF(AND($E589>=AC$10,$F589<=AD$10),$E589,IF(AND($E589<=AC$10,$F589<=AD$10),AC$10,IF(AND($E589<=AD$10,$F589>=AD$10,$E589>=AC$10),$E589,IF(AND($E589<=AC$10,$F589>=AD$10),AC$10,\"chyba\")))))","v":"00:00:00"},{"$f":"IF(OR($F589<AC$10,$E589>AD$10),0,IF(AND($E589>=AC$10,$F589<=AD$10),$F589,IF(AND($E589<=AC$10,$F589<=AD$10),$F589,IF(AND($E589<=AD$10,$F589>=AD$10),AD$10,IF(AND($E589<=AC$10,$F589>=AD$10),AD$10,\"chyba\")))))","v":"00:00:00"},{"$f":"IF(AD589-AC589=0,0,AD589-AC589+1)","v":0},{"$f":"IF($H589<=0,0,$G589/$H589*AE589)","v":0},{"$f":"IF(OR($F589<AG$10,$E589>AH$10),0,IF(AND($E589>=AG$10,$F589<=AH$10),$E589,IF(AND($E589<=AG$10,$F589<=AH$10),AG$10,IF(AND($E589<=AH$10,$F589>=AH$10,$E589>=AG$10),$E589,IF(AND($E589<=AG$10,$F589>=AH$10),AG$10,\"chyba\")))))","v":"00:00:00"},{"$f":"IF(OR($F589<AG$10,$E589>AH$10),0,IF(AND($E589>=AG$10,$F589<=AH$10),$F589,IF(AND($E589<=AG$10,$F589<=AH$10),$F589,IF(AND($E589<=AH$10,$F589>=AH$10),AH$10,IF(AND($E589<=AG$10,$F589>=AH$10),AH$10,\"chyba\")))))","v":"00:00:00"},{"$f":"IF(AH589-AG589=0,0,AH589-AG589+1)","v":0},{"$f":"IF($H589<=0,0,$G589/$H589*AI589)","v":0},{"$f":"IF(OR($F589<AK$10,$E589>AL$10),0,IF(AND($E589>=AK$10,$F589<=AL$10),$E589,IF(AND($E589<=AK$10,$F589<=AL$10),AK$10,IF(AND($E589<=AL$10,$F589>=AL$10,$E589>=AK$10),$E589,IF(AND($E589<=AK$10,$F589>=AL$10),AK$10,\"chyba\")))))","v":"00:00:00"},{"$f":"IF(OR($F589<AK$10,$E589>AL$10),0,IF(AND($E589>=AK$10,$F589<=AL$10),$F589,IF(AND($E589<=AK$10,$F589<=AL$10),$F589,IF(AND($E589<=AL$10,$F589>=AL$10),AL$10,IF(AND($E589<=AK$10,$F589>=AL$10),AL$10,\"chyba\")))))","v":"00:00:00"},{"$f":"IF(AL589-AK589=0,0,AL589-AK589+1)","v":0},{"$f":"IF($H589<=0,0,$G589/$H589*AM589)","v":0},{"$f":"IF(OR($F589<AO$10,$E589>AP$10),0,IF(AND($E589>=AO$10,$F589<=AP$10),$E589,IF(AND($E589<=AO$10,$F589<=AP$10),AO$10,IF(AND($E589<=AP$10,$F589>=AP$10,$E589>=AO$10),$E589,IF(AND($E589<=AO$10,$F589>=AP$10),AO$10,\"chyba\")))))","v":"00:00:00"},{"$f":"IF(OR($F589<AO$10,$E589>AP$10),0,IF(AND($E589>=AO$10,$F589<=AP$10),$F589,IF(AND($E589<=AO$10,$F589<=AP$10),$F589,IF(AND($E589<=AP$10,$F589>=AP$10),AP$10,IF(AND($E589<=AO$10,$F589>=AP$10),AP$10,\"chyba\")))))","v":"00:00:00"},{"$f":"IF(AP589-AO589=0,0,AP589-AO589+1)","v":0},{"$f":"IF($H589<=0,0,$G589/$H589*AQ589)","v":0},{"$f":"IF(OR($F589<AS$10,$E589>AT$10),0,IF(AND($E589>=AS$10,$F589<=AT$10),$E589,IF(AND($E589<=AS$10,$F589<=AT$10),AS$10,IF(AND($E589<=AT$10,$F589>=AT$10,$E589>=AS$10),$E589,IF(AND($E589<=AS$10,$F589>=AT$10),AS$10,\"chyba\")))))","v":"00:00:00"},{"$f":"IF(OR($F589<AS$10,$E589>AT$10),0,IF(AND($E589>=AS$10,$F589<=AT$10),$F589,IF(AND($E589<=AS$10,$F589<=AT$10),$F589,IF(AND($E589<=AT$10,$F589>=AT$10),AT$10,IF(AND($E589<=AS$10,$F589>=AT$10),AT$10,\"chyba\")))))","v":"00:00:00"},{"$f":"IF(AT589-AS589=0,0,AT589-AS589+1)","v":0},{"$f":"IF($H589<=0,0,$G589/$H589*AU589)","v":0}]
[null,null,null,null,null,null,null,0,"00:00:00","00:00:00",0,0,"00:00:00","00:00:00",0,0,"00:00:00","00:00:00",0,0,"00:00:00","00:00:00",0,0,"00:00:00","00:00:00",0,0,"00:00:00","00:00:00",0,0,"00:00:00","00:00:00",0,0,"00:00:00","00:00:00",0,0,"00:00:00","00:00:00",0,0,"00:00:00","00:00:00",0,0]
[null,null,null,null,null,null,null,0,"00:00:00","00:00:00",0,0,"00:00:00","00:00:00",0,0,"00:00:00","00:00:00",0,0,"00:00:00","00:00:00",0,0,"00:00:00","00:00:00",0,0,"00:00:00","00:00:00",0,0,"00:00:00","00:00:00",0,0,"00:00:00","00:00:00",0,0,"00:00:00","00:00:00",0,0,"00:00:00","00:00:00",0,0]
[null,null,null,null,null,null,null,0,"00:00:00","00:00:00",0,0,"00:00:00","00:00:00",0,0,"00:00:00","00:00:00",0,0,"00:00:00","00:00:00",0,0,"00:00:00","00:00:00",0,0,"00:00:00","00:00:00",0,0,"00:00:00","00:00:00",0,0,"00:00:00","00:00:00",0,0,"00:00:00","00:00:00",0,0,"00:00:00","00:00:00",0,0]
[null,null,null,null,null,null,null,0,"00:00:00","00:00:00",0,0,"00:00:00","00:00:00",0,0,"00:00:00","00:00:00",0,0,"00:00:00","00:00:00",0,0,"00:00:00","00:00:00",0,0,"00:00:00","00:00:00",0,0,"00:00:00","00:00:00",0,0,"00:00:00","00:00:00",0,0,"00:00:00","00:00:00",0,0,"00:00:00","00:00:00",0,0]
[null,null,null,null,null,null,null,0,"00:00:00","00:00:00",0,0,"00:00:00","00:00:00",0,0,"00:00:00","00:00:00",0,0,"00:00:00","00:00:00",0,0,"00:00:00","00:00:00",0,0,"00:00:00","00:00:00",0,0,"00:00:00","00:00:00",0,0,"00:00:00","00:00:00",0,0,"00:00:00","00:00:00",0,0,"00:00:00","00:00:00",0,0]
[null,null,null,null,null,null,null,0,"00:00:00","00:00:00",0,0,"00:00:00","00:00:00",0,0,"00:00:00","00:00:00",0,0,"00:00:00","00:00:00",0,0,"00:00:00","00:00:00",0,0,"00:00:00","00:00:00",0,0,"00:00:00","00:00:00",0,0,"00:00:00","00:00:00",0,0,"00:00:00","00:00:00",0,0,"00:00:00","00:00:00",0,0]
[null,null,null,null,null,null,null,0,"00:00:00","00:00:00",0,0,"00:00:00","00:00:00",0,0,"00:00:00","00:00:00",0,0,"00:00:00","00:00:00",0,0,"00:00:00","00:00:00",0,0,"00:00:00","00:00:00",0,0,"00:00:00","00:00:00",0,0,"00:00:00","00:00:00",0,0,"00:00:00","00:00:00",0,0,"00:00:00","00:00:00",0,0]
[null,null,null,null,null,null,null,0,"00:00:00","00:00:00",0,0,"00:00:00","00:00:00",0,0,"00:00:00","00:00:00",0,0,"00:00:00","00:00:00",0,0,"00:00:00","00:00:00",0,0,"00:00:00","00:00:00",0,0,"00:00:00","00:00:00",0,0,"00:00:00","00:00:00",0,0,"00:00:00","00:00:00",0,0,"00:00:00","00:00:00",0,0]
[null,null,null,null,null,null,null,0,"00:00:00","00:00:00",0,0,"00:00:00","00:00:00",0,0,"00:00:00","00:00:00",0,0,"00:00:00","00:00:00",0,0,"00:00:00","00:00:00",0,0,"00:00:00","00:00:00",0,0,"00:00:00","00:00:00",0,0,"00:00:00","00:00:00",0,0,"00:00:00","00:00:00",0,0,"00:00:00","00:00:00",0,0]
[null,null,null,null,null,null,null,0,"00:00:00","00:00:00",0,0,"00:00:00","00:00:00",0,0,"00:00:00","00:00:00",0,0,"00:00:00","00:00:00",0,0,"00:00:00","00:00:00",0,0,"00:00:00","00:00:00",0,0,"00:00:00","00:00:00",0,0,"00:00:00","00:00:00",0,0,"00:00:00","00:00:00",0,0,"00:00:00","00:00:00",0,0]
[null,null,null,null,null,null,null,0,"00:00:00","00:00:00",0,0,"00:00:00","00:00:00",0,0,"00:00:00","00:00:00",0,0,"00:00:00","00:00:00",0,0,"00:00:00","00:00:00",0,0,"00:00:00","00:00:00",0,0,"00:00:00","00:00:00",0,0,"00:00:00","00:00:00",0,0,"00:00:00","00:00:00",0,0,"00:00:00","00:00:00",0,0]
[null,null,null,null,null,null,null,0,"00:00:00","00:00:00",0,0,"00:00:00","00:00:00",0,0,"00:00:00","00:00:00",0,0,"00:00:00","00:00:00",0,0,"00:00:00","00:00:00",0,0,"00:00:00","00:00:00",0,0,"00:00:00","00:00:00",0,0,"00:00:00","00:00:00",0,0,"00:00:00","00:00:00",0,0,"00:00:00","00:00:00",0,0]
[null,null,null,null,null,null,null,0,"00:00:00","00:00:00",0,0,"00:00:00","00:00:00",0,0,"00:00:00","00:00:00",0,0,"00:00:00","00:00:00",0,0,"00:00:00","00:00:00",0,0,"00:00:00","00:00:00",0,0,"00:00:00","00:00:00",0,0,"00:00:00","00:00:00",0,0,"00:00:00","00:00:00",0,0,"00:00:00","00:00:00",0,0]
[null,null,null,null,null,null,null,0,"00:00:00","00:00:00",0,0,"00:00:00","00:00:00",0,0,"00:00:00","00:00:00",0,0,"00:00:00","00:00:00",0,0,"00:00:00","00:00:00",0,0,"00:00:00","00:00:00",0,0,"00:00:00","00:00:00",0,0,"00:00:00","00:00:00",0,0,"00:00:00","00:00:00",0,0,"00:00:00","00:00:00",0,0]
[null,null,null,null,null,null,null,0,"00:00:00","00:00:00",0,0,"00:00:00","00:00:00",0,0,"00:00:00","00:00:00",0,0,"00:00:00","00:00:00",0,0,"00:00:00","00:00:00",0,0,"00:00:00","00:00:00",0,0,"00:00:00","00:00:00",0,0,"00:00:00","00:00:00",0,0,"00:00:00","00:00:00",0,0,"00:00:00","00:00:00",0,0]
[null,null,null,null,null,null,null,0,"00:00:00","00:00:00",0,0,"00:00:00","00:00:00",0,0,"00:00:00","00:00:00",0,0,"00:00:00","00:00:00",0,0,"00:00:00","00:00:00",0,0,"00:00:00","00:00:00",0,0,"00:00:00","00:00:00",0,0,"00:00:00","00:00:00",0,0,"00:00:00","00:00:00",0,0,"00:00:00","00:00:00",0,0]
[null,null,null,null,null,null,null,0,"00:00:00","00:00:00",0,0,"00:00:00","00:00:00",0,0,"00:00:00","00:00:00",0,0,"00:00:00","00:00:00",0,0,"00:00:00","00:00:00",0,0,"00:00:00","00:00:00",0,0,"00:00:00","00:00:00",0,0,"00:00:00","00:00:00",0,0,"00:00:00","00:00:00",0,0,"00:00:00","00:00:00",0,0]
[null,null,null,null,null,null,null,0,"00:00:00","00:00:00",0,0,"00:00:00","00:00:00",0,0,"00:00:00","00:00:00",0,0,"00:00:00","00:00:00",0,0,"00:00:00","00:00:00",0,0,"00:00:00","00:00:00",0,0,"00:00:00","00:00:00",0,0,"00:00:00","00:00:00",0,0,"00:00:00","00:00:00",0,0,"00:00:00","00:00:00",0,0]
[null,null,null,null,null,null,null,0,"00:00:00","00:00:00",0,0,"00:00:00","00:00:00",0,0,"00:00:00","00:00:00",0,0,"00:00:00","00:00:00",0,0,"00:00:00","00:00:00",0,0,"00:00:00","00:00:00",0,0,"00:00:00","00:00:00",0,0,"00:00:00","00:00:00",0,0,"00:00:00","00:00:00",0,0,"00:00:00","00:00:00",0,0]
[null,null,null,null,null,null,null,0,"00:00:00","00:00:00",0,0,"00:00:00","00:00:00",0,0,"00:00:00","00:00:00",0,0,"00:00:00","00:00:00",0,0,"00:00:00","00:00:00",0,0,"00:00:00","00:00:00",0,0,"00:00:00","00:00:00",0,0,"00:00:00","00:00:00",0,0,"00:00:00","00:00:00",0,0,"00:00:00","00:00:00",0,0]
[null,null,null,null,null,null,null,0,"00:00:00","00:00:00",0,0,"00:00:00","00:00:00",0,0,"00:00:00","00:00:00",0,0,"00:00:00","00:00:00",0,0,"00:00:00","00:00:00",0,0,"00:00:00","00:00:00",0,0,"00:00:00","00:00:00",0,0,"00:00:00","00:00:00",0,0,"00:00:00","00:00:00",0,0,"00:00:00","00:00:00",0,0]
[null,null,null,null,null,null,null,0,"00:00:00","00:00:00",0,0,"00:00:00","00:00:00",0,0,"00:00:00","00:00:00",0,0,"00:00:00","00:00:00",0,0,"00:00:00","00:00:00",0,0,"00:00:00","00:00:00",0,0,"00:00:00","00:00:00",0,0,"00:00:00","00:00:00",0,0,"00:00:00","00:00:00",0,0,"00:00:00","00:00:00",0,0]
[null,null,null,null,null,null,null,0,"00:00:00","00:00:00",0,0,"00:00:00","00:00:00",0,0,"00:00:00","00:00:00",0,0,"00:00:00","00:00:00",0,0,"00:00:00","00:00:00",0,0,"00:00:00","00:00:00",0,0,"00:00:00","00:00:00",0,0,"00:00:00","00:00:00",0,0,"00:00:00","00:00:00",0,0,"00:00:00","00:00:00",0,0]
[null,null,null,null,null,null,null,0,"00:00:00","00:00:00",0,0,"00:00:00","00:00:00",0,0,"00:00:00","00:00:00",0,0,"00:00:00","00:00:00",0,0,"00:00:00","00:00:00",0,0,"00:00:00","00:00:00",0,0,"00:00:00","00:00:00",0,0,"00:00:00","00:00:00",0,0,"00:00:00","00:00:00",0,0,"00:00:00","00:00:00",0,0]
[null,null,null,null,null,null,null,0,"00:00:00","00:00:00",0,0,"00:00:00","00:00:00",0,0,"00:00:00","00:00:00",0,0,"00:00:00","00:00:00",0,0,"00:00:00","00:00:00",0,0,"00:00:00","00:00:00",0,0,"00:00:00","00:00:00",0,0,"00:00:00","00:00:00",0,0,"00:00:00","00:00:00",0,0,"00:00:00","00:00:00",0,0]
[null,null,null,null,null,null,null,0,"00:00:00","00:00:00",0,0,"00:00:00","00:00:00",0,0,"00:00:00","00:00:00",0,0,"00:00:00","00:00:00",0,0,"00:00:00","00:00:00",0,0,"00:00:00","00:00:00",0,0,"00:00:00","00:00:00",0,0,"00:00:00","00:00:00",0,0,"00:00:00","00:00:00",0,0,"00:00:00","00:00:00",0,0]
[null,null,null,null,null,null,null,0,"00:00:00","00:00:00",0,0,"00:00:00","00:00:00",0,0,"00:00:00","00:00:00",0,0,"00:00:00","00:00:00",0,0,"00:00:00","00:00:00",0,0,"00:00:00","00:00:00",0,0,"00:00:00","00:00:00",0,0,"00:00:00","00:00:00",0,0,"00:00:00","00:00:00",0,0,"00:00:00","00:00:00",0,0]
[null,null,null,null,null,null,null,0,"00:00:00","00:00:00",0,0,"00:00:00","00:00:00",0,0,"00:00:00","00:00:00",0,0,"00:00:00","00:00:00",0,0,"00:00:00","00:00:00",0,0,"00:00:00","00:00:00",0,0,"00:00:00","00:00:00",0,0,"00:00:00","00:00:00",0,0,"00:00:00","00:00:00",0,0,"00:00:00","00:00:00",0,0]
[null,null,null,null,null,null,null,0,"00:00:00","00:00:00",0,0,"00:00:00","00:00:00",0,0,"00:00:00","00:00:00",0,0,"00:00:00","00:00:00",0,0,"00:00:00","00:00:00",0,0,"00:00:00","00:00:00",0,0,"00:00:00","00:00:00",0,0,"00:00:00","00:00:00",0,0,"00:00:00","00:00:00",0,0,"00:00:00","00:00:00",0,0]
[null,null,null,null,null,null,null,0,"00:00:00","00:00:00",0,0,"00:00:00","00:00:00",0,0,"00:00:00","00:00:00",0,0,"00:00:00","00:00:00",0,0,"00:00:00","00:00:00",0,0,"00:00:00","00:00:00",0,0,"00:00:00","00:00:00",0,0,"00:00:00","00:00:00",0,0,"00:00:00","00:00:00",0,0,"00:00:00","00:00:00",0,0]
[null,null,null,null,null,null,null,0,"00:00:00","00:00:00",0,0,"00:00:00","00:00:00",0,0,"00:00:00","00:00:00",0,0,"00:00:00","00:00:00",0,0,"00:00:00","00:00:00",0,0,"00:00:00","00:00:00",0,0,"00:00:00","00:00:00",0,0,"00:00:00","00:00:00",0,0,"00:00:00","00:00:00",0,0,"00:00:00","00:00:00",0,0]
[null,null,null,null,null,null,null,0,"00:00:00","00:00:00",0,0,"00:00:00","00:00:00",0,0,"00:00:00","00:00:00",0,0,"00:00:00","00:00:00",0,0,"00:00:00","00:00:00",0,0,"00:00:00","00:00:00",0,0,"00:00:00","00:00:00",0,0,"00:00:00","00:00:00",0,0,"00:00:00","00:00:00",0,0,"00:00:00","00:00:00",0,0]
[null,null,null,null,null,null,null,0,"00:00:00","00:00:00",0,0,"00:00:00","00:00:00",0,0,"00:00:00","00:00:00",0,0,"00:00:00","00:00:00",0,0,"00:00:00","00:00:00",0,0,"00:00:00","00:00:00",0,0,"00:00:00","00:00:00",0,0,"00:00:00","00:00:00",0,0,"00:00:00","00:00:00",0,0,"00:00:00","00:00:00",0,0]
[null,null,null,null,null,null,null,0,"00:00:00","00:00:00",0,0,"00:00:00","00:00:00",0,0,"00:00:00","00:00:00",0,0,"00:00:00","00:00:00",0,0,"00:00:00","00:00:00",0,0,"00:00:00","00:00:00",0,0,"00:00:00","00:00:00",0,0,"00:00:00","00:00:00",0,0,"00:00:00","00:00:00",0,0,"00:00:00","00:00:00",0,0]
[null,null,null,null,null,null,null,0,"00:00:00","00:00:00",0,0,"00:00:00","00:00:00",0,0,"00:00:00","00:00:00",0,0,"00:00:00","00:00:00",0,0,"00:00:00","00:00:00",0,0,"00:00:00","00:00:00",0,0,"00:00:00","00:00:00",0,0,"00:00:00","00:00:00",0,0,"00:00:00","00:00:00",0,0,"00:00:00","00:00:00",0,0]
[null,null,null,null,null,null,null,0,"00:00:00","00:00:00",0,0,"00:00:00","00:00:00",0,0,"00:00:00","00:00:00",0,0,"00:00:00","00:00:00",0,0,"00:00:00","00:00:00",0,0,"00:00:00","00:00:00",0,0,"00:00:00","00:00:00",0,0,"00:00:00","00:00:00",0,0,"00:00:00","00:00:00",0,0,"00:00:00","00:00:00",0,0]
[null,null,null,null,null,null,null,0,"00:00:00","00:00:00",0,0,"00:00:00","00:00:00",0,0,"00:00:00","00:00:00",0,0,"00:00:00","00:00:00",0,0,"00:00:00","00:00:00",0,0,"00:00:00","00:00:00",0,0,"00:00:00","00:00:00",0,0,"00:00:00","00:00:00",0,0,"00:00:00","00:00:00",0,0,"00:00:00","00:00:00",0,0]
[null,null,null,null,null,null,null,0,"00:00:00","00:00:00",0,0,"00:00:00","00:00:00",0,0,"00:00:00","00:00:00",0,0,"00:00:00","00:00:00",0,0,"00:00:00","00:00:00",0,0,"00:00:00","00:00:00",0,0,"00:00:00","00:00:00",0,0,"00:00:00","00:00:00",0,0,"00:00:00","00:00:00",0,0,"00:00:00","00:00:00",0,0]
[null,null,null,null,null,null,null,0,"00:00:00","00:00:00",0,0,"00:00:00","00:00:00",0,0,"00:00:00","00:00:00",0,0,"00:00:00","00:00:00",0,0,"00:00:00","00:00:00",0,0,"00:00:00","00:00:00",0,0,"00:00:00","00:00:00",0,0,"00:00:00","00:00:00",0,0,"00:00:00","00:00:00",0,0,"00:00:00","00:00:00",0,0]
[null,null,null,null,null,null,null,0,"00:00:00","00:00:00",0,0,"00:00:00","00:00:00",0,0,"00:00:00","00:00:00",0,0,"00:00:00","00:00:00",0,0,"00:00:00","00:00:00",0,0,"00:00:00","00:00:00",0,0,"00:00:00","00:00:00",0,0,"00:00:00","00:00:00",0,0,"00:00:00","00:00:00",0,0,"00:00:00","00:00:00",0,0]
[null,null,null,null,null,null,null,0,"00:00:00","00:00:00",0,0,"00:00:00","00:00:00",0,0,"00:00:00","00:00:00",0,0,"00:00:00","00:00:00",0,0,"00:00:00","00:00:00",0,0,"00:00:00","00:00:00",0,0,"00:00:00","00:00:00",0,0,"00:00:00","00:00:00",0,0,"00:00:00","00:00:00",0,0,"00:00:00","00:00:00",0,0]
[null,null,null,null,null,null,null,0,"00:00:00","00:00:00",0,0,"00:00:00","00:00:00",0,0,"00:00:00","00:00:00",0,0,"00:00:00","00:00:00",0,0,"00:00:00","00:00:00",0,0,"00:00:00","00:00:00",0,0,"00:00:00","00:00:00",0,0,"00:00:00","00:00:00",0,0,"00:00:00","00:00:00",0,0,"00:00:00","00:00:00",0,0]
[null,null,null,null,null,null,null,0,"00:00:00","00:00:00",0,0,"00:00:00","00:00:00",0,0,"00:00:00","00:00:00",0,0,"00:00:00","00:00:00",0,0,"00:00:00","00:00:00",0,0,"00:00:00","00:00:00",0,0,"00:00:00","00:00:00",0,0,"00:00:00","00:00:00",0,0,"00:00:00","00:00:00",0,0,"00:00:00","00:00:00",0,0]
[null,null,null,null,null,null,null,0,"00:00:00","00:00:00",0,0,"00:00:00","00:00:00",0,0,"00:00:00","00:00:00",0,0,"00:00:00","00:00:00",0,0,"00:00:00","00:00:00",0,0,"00:00:00","00:00:00",0,0,"00:00:00","00:00:00",0,0,"00:00:00","00:00:00",0,0,"00:00:00","00:00:00",0,0,"00:00:00","00:00:00",0,0]
[null,null,null,null,null,null,null,0,"00:00:00","00:00:00",0,0,"00:00:00","00:00:00",0,0,"00:00:00","00:00:00",0,0,"00:00:00","00:00:00",0,0,"00:00:00","00:00:00",0,0,"00:00:00","00:00:00",0,0,"00:00:00","00:00:00",0,0,"00:00:00","00:00:00",0,0,"00:00:00","00:00:00",0,0,"00:00:00","00:00:00",0,0]
[null,null,null,null,null,null,null,0,"00:00:00","00:00:00",0,0,"00:00:00","00:00:00",0,0,"00:00:00","00:00:00",0,0,"00:00:00","00:00:00",0,0,"00:00:00","00:00:00",0,0,"00:00:00","00:00:00",0,0,"00:00:00","00:00:00",0,0,"00:00:00","00:00:00",0,0,"00:00:00","00:00:00",0,0,"00:00:00","00:00:00",0,0]
[null,null,null,null,null,null,null,0,"00:00:00","00:00:00",0,0,"00:00:00","00:00:00",0,0,"00:00:00","00:00:00",0,0,"00:00:00","00:00:00",0,0,"00:00:00","00:00:00",0,0,"00:00:00","00:00:00",0,0,"00:00:00","00:00:00",0,0,"00:00:00","00:00:00",0,0,"00:00:00","00:00:00",0,0,"00:00:00","00:00:00",0,0]
[null,null,null,null,null,null,null,0,"00:00:00","00:00:00",0,0,"00:00:00","00:00:00",0,0,"00:00:00","00:00:00",0,0,"00:00:00","00:00:00",0,0,"00:00:00","00:00:00",0,0,"00:00:00","00:00:00",0,0,"00:00:00","00:00:00",0,0,"00:00:00","00:00:00",0,0,"00:00:00","00:00:00",0,0,"00:00:00","00:00:00",0,0]
[null,null,null,null,null,null,null,0,"00:00:00","00:00:00",0,0,"00:00:00","00:00:00",0,0,"00:00:00","00:00:00",0,0,"00:00:00","00:00:00",0,0,"00:00:00","00:00:00",0,0,"00:00:00","00:00:00",0,0,"00:00:00","00:00:00",0,0,"00:00:00","00:00:00",0,0,"00:00:00","00:00:00",0,0,"00:00:00","00:00:00",0,0]
[null,null,null,null,null,null,null,0,"00:00:00","00:00:00",0,0,"00:00:00","00:00:00",0,0,"00:00:00","00:00:00",0,0,"00:00:00","00:00:00",0,0,"00:00:00","00:00:00",0,0,"00:00:00","00:00:00",0,0,"00:00:00","00:00:00",0,0,"00:00:00","00:00:00",0,0,"00:00:00","00:00:00",0,0,"00:00:00","00:00:00",0,0]
[null,null,null,null,null,null,null,0,"00:00:00","00:00:00",0,0,"00:00:00","00:00:00",0,0,"00:00:00","00:00:00",0,0,"00:00:00","00:00:00",0,0,"00:00:00","00:00:00",0,0,"00:00:00","00:00:00",0,0,"00:00:00","00:00:00",0,0,"00:00:00","00:00:00",0,0,"00:00:00","00:00:00",0,0,"00:00:00","00:00:00",0,0]
[null,null,null,null,null,null,null,0,"00:00:00","00:00:00",0,0,"00:00:00","00:00:00",0,0,"00:00:00","00:00:00",0,0,"00:00:00","00:00:00",0,0,"00:00:00","00:00:00",0,0,"00:00:00","00:00:00",0,0,"00:00:00","00:00:00",0,0,"00:00:00","00:00:00",0,0,"00:00:00","00:00:00",0,0,"00:00:00","00:00:00",0,0]
[null,null,null,null,null,null,null,0,"00:00:00","00:00:00",0,0,"00:00:00","00:00:00",0,0,"00:00:00","00:00:00",0,0,"00:00:00","00:00:00",0,0,"00:00:00","00:00:00",0,0,"00:00:00","00:00:00",0,0,"00:00:00","00:00:00",0,0,"00:00:00","00:00:00",0,0,"00:00:00","00:00:00",0,0,"00:00:00","00:00:00",0,0]
[null,null,null,null,null,null,null,0,"00:00:00","00:00:00",0,0,"00:00:00","00:00:00",0,0,"00:00:00","00:00:00",0,0,"00:00:00","00:00:00",0,0,"00:00:00","00:00:00",0,0,"00:00:00","00:00:00",0,0,"00:00:00","00:00:00",0,0,"00:00:00","00:00:00",0,0,"00:00:00","00:00:00",0,0,"00:00:00","00:00:00",0,0]
[null,null,null,null,null,null,null,0,"00:00:00","00:00:00",0,0,"00:00:00","00:00:00",0,0,"00:00:00","00:00:00",0,0,"00:00:00","00:00:00",0,0,"00:00:00","00:00:00",0,0,"00:00:00","00:00:00",0,0,"00:00:00","00:00:00",0,0,"00:00:00","00:00:00",0,0,"00:00:00","00:00:00",0,0,"00:00:00","00:00:00",0,0]
[null,null,null,null,null,null,null,0,"00:00:00","00:00:00",0,0,"00:00:00","00:00:00",0,0,"00:00:00","00:00:00",0,0,"00:00:00","00:00:00",0,0,"00:00:00","00:00:00",0,0,"00:00:00","00:00:00",0,0,"00:00:00","00:00:00",0,0,"00:00:00","00:00:00",0,0,"00:00:00","00:00:00",0,0,"00:00:00","00:00:00",0,0]
[null,null,null,null,null,null,null,0,"00:00:00","00:00:00",0,0,"00:00:00","00:00:00",0,0,"00:00:00","00:00:00",0,0,"00:00:00","00:00:00",0,0,"00:00:00","00:00:00",0,0,"00:00:00","00:00:00",0,0,"00:00:00","00:00:00",0,0,"00:00:00","00:00:00",0,0,"00:00:00","00:00:00",0,0,"00:00:00","00:00:00",0,0]
[null,null,null,null,null,null,null,0,"00:00:00","00:00:00",0,0,"00:00:00","00:00:00",0,0,"00:00:00","00:00:00",0,0,"00:00:00","00:00:00",0,0,"00:00:00","00:00:00",0,0,"00:00:00","00:00:00",0,0,"00:00:00","00:00:00",0,0,"00:00:00","00:00:00",0,0,"00:00:00","00:00:00",0,0,"00:00:00","00:00:00",0,0]
[null,null,null,null,null,null,null,0,"00:00:00","00:00:00",0,0,"00:00:00","00:00:00",0,0,"00:00:00","00:00:00",0,0,"00:00:00","00:00:00",0,0,"00:00:00","00:00:00",0,0,"00:00:00","00:00:00",0,0,"00:00:00","00:00:00",0,0,"00:00:00","00:00:00",0,0,"00:00:00","00:00:00",0,0,"00:00:00","00:00:00",0,0]
[null,null,null,null,null,null,null,0,"00:00:00","00:00:00",0,0,"00:00:00","00:00:00",0,0,"00:00:00","00:00:00",0,0,"00:00:00","00:00:00",0,0,"00:00:00","00:00:00",0,0,"00:00:00","00:00:00",0,0,"00:00:00","00:00:00",0,0,"00:00:00","00:00:00",0,0,"00:00:00","00:00:00",0,0,"00:00:00","00:00:00",0,0]
[null,null,null,null,null,null,null,0,"00:00:00","00:00:00",0,0,"00:00:00","00:00:00",0,0,"00:00:00","00:00:00",0,0,"00:00:00","00:00:00",0,0,"00:00:00","00:00:00",0,0,"00:00:00","00:00:00",0,0,"00:00:00","00:00:00",0,0,"00:00:00","00:00:00",0,0,"00:00:00","00:00:00",0,0,"00:00:00","00:00:00",0,0]
[null,null,null,null,null,null,null,0,"00:00:00","00:00:00",0,0,"00:00:00","00:00:00",0,0,"00:00:00","00:00:00",0,0,"00:00:00","00:00:00",0,0,"00:00:00","00:00:00",0,0,"00:00:00","00:00:00",0,0,"00:00:00","00:00:00",0,0,"00:00:00","00:00:00",0,0,"00:00:00","00:00:00",0,0,"00:00:00","00:00:00",0,0]
[null,null,null,null,null,null,null,0,"00:00:00","00:00:00",0,0,"00:00:00","00:00:00",0,0,"00:00:00","00:00:00",0,0,"00:00:00","00:00:00",0,0,"00:00:00","00:00:00",0,0,"00:00:00","00:00:00",0,0,"00:00:00","00:00:00",0,0,"00:00:00","00:00:00",0,0,"00:00:00","00:00:00",0,0,"00:00:00","00:00:00",0,0]
[null,null,null,null,null,null,null,{"$f":"IF(F653-E653=0,0,F653-E653+1)","v":0},{"$f":"IF(OR($F653<I$10,$E653>J$10),0,IF(AND($E653>=I$10,$F653<=J$10),$E653,IF(AND($E653<=I$10,$F653<=J$10),I$10,IF(AND($E653<=J$10,$F653>=J$10,$E653>=I$10),$E653,IF(AND($E653<=I$10,$F653>=J$10),I$10,\"chyba\")))))","v":"00:00:00"},{"$f":"IF(OR($F653<I$10,$E653>J$10),0,IF(AND($E653>=I$10,$F653<=J$10),$F653,IF(AND($E653<=I$10,$F653<=J$10),$F653,IF(AND($E653<=J$10,$F653>=J$10),J$10,IF(AND($E653<=I$10,$F653>=J$10),J$10,\"chyba\")))))","v":"00:00:00"},{"$f":"IF(J653-I653=0,0,J653-I653+1)","v":0},{"$f":"IF($H653<=0,0,$G653/$H653*K653)","v":0},{"$f":"IF(OR($F653<M$10,$E653>N$10),0,IF(AND($E653>=M$10,$F653<=N$10),$E653,IF(AND($E653<=M$10,$F653<=N$10),M$10,IF(AND($E653<=N$10,$F653>=N$10,$E653>=M$10),$E653,IF(AND($E653<=M$10,$F653>=N$10),M$10,\"chyba\")))))","v":"00:00:00"},{"$f":"IF(OR($F653<M$10,$E653>N$10),0,IF(AND($E653>=M$10,$F653<=N$10),$F653,IF(AND($E653<=M$10,$F653<=N$10),$F653,IF(AND($E653<=N$10,$F653>=N$10),N$10,IF(AND($E653<=M$10,$F653>=N$10),N$10,\"chyba\")))))","v":"00:00:00"},{"$f":"IF(N653-M653=0,0,N653-M653+1)","v":0},{"$f":"IF($H653<=0,0,$G653/$H653*O653)","v":0},{"$f":"IF(OR($F653<Q$10,$E653>R$10),0,IF(AND($E653>=Q$10,$F653<=R$10),$E653,IF(AND($E653<=Q$10,$F653<=R$10),Q$10,IF(AND($E653<=R$10,$F653>=R$10,$E653>=Q$10),$E653,IF(AND($E653<=Q$10,$F653>=R$10),Q$10,\"chyba\")))))","v":"00:00:00"},{"$f":"IF(OR($F653<Q$10,$E653>R$10),0,IF(AND($E653>=Q$10,$F653<=R$10),$F653,IF(AND($E653<=Q$10,$F653<=R$10),$F653,IF(AND($E653<=R$10,$F653>=R$10),R$10,IF(AND($E653<=Q$10,$F653>=R$10),R$10,\"chyba\")))))","v":"00:00:00"},{"$f":"IF(R653-Q653=0,0,R653-Q653+1)","v":0},{"$f":"IF($H653<=0,0,$G653/$H653*S653)","v":0},{"$f":"IF(OR($F653<U$10,$E653>V$10),0,IF(AND($E653>=U$10,$F653<=V$10),$E653,IF(AND($E653<=U$10,$F653<=V$10),U$10,IF(AND($E653<=V$10,$F653>=V$10,$E653>=U$10),$E653,IF(AND($E653<=U$10,$F653>=V$10),U$10,\"chyba\")))))","v":"00:00:00"},{"$f":"IF(OR($F653<U$10,$E653>V$10),0,IF(AND($E653>=U$10,$F653<=V$10),$F653,IF(AND($E653<=U$10,$F653<=V$10),$F653,IF(AND($E653<=V$10,$F653>=V$10),V$10,IF(AND($E653<=U$10,$F653>=V$10),V$10,\"chyba\")))))","v":"00:00:00"},{"$f":"IF(V653-U653=0,0,V653-U653+1)","v":0},{"$f":"IF($H653<=0,0,$G653/$H653*W653)","v":0},{"$f":"IF(OR($F653<Y$10,$E653>Z$10),0,IF(AND($E653>=Y$10,$F653<=Z$10),$E653,IF(AND($E653<=Y$10,$F653<=Z$10),Y$10,IF(AND($E653<=Z$10,$F653>=Z$10,$E653>=Y$10),$E653,IF(AND($E653<=Y$10,$F653>=Z$10),Y$10,\"chyba\")))))","v":"00:00:00"},{"$f":"IF(OR($F653<Y$10,$E653>Z$10),0,IF(AND($E653>=Y$10,$F653<=Z$10),$F653,IF(AND($E653<=Y$10,$F653<=Z$10),$F653,IF(AND($E653<=Z$10,$F653>=Z$10),Z$10,IF(AND($E653<=Y$10,$F653>=Z$10),Z$10,\"chyba\")))))","v":"00:00:00"},{"$f":"IF(Z653-Y653=0,0,Z653-Y653+1)","v":0},{"$f":"IF($H653<=0,0,$G653/$H653*AA653)","v":0},{"$f":"IF(OR($F653<AC$10,$E653>AD$10),0,IF(AND($E653>=AC$10,$F653<=AD$10),$E653,IF(AND($E653<=AC$10,$F653<=AD$10),AC$10,IF(AND($E653<=AD$10,$F653>=AD$10,$E653>=AC$10),$E653,IF(AND($E653<=AC$10,$F653>=AD$10),AC$10,\"chyba\")))))","v":"00:00:00"},{"$f":"IF(OR($F653<AC$10,$E653>AD$10),0,IF(AND($E653>=AC$10,$F653<=AD$10),$F653,IF(AND($E653<=AC$10,$F653<=AD$10),$F653,IF(AND($E653<=AD$10,$F653>=AD$10),AD$10,IF(AND($E653<=AC$10,$F653>=AD$10),AD$10,\"chyba\")))))","v":"00:00:00"},{"$f":"IF(AD653-AC653=0,0,AD653-AC653+1)","v":0},{"$f":"IF($H653<=0,0,$G653/$H653*AE653)","v":0},{"$f":"IF(OR($F653<AG$10,$E653>AH$10),0,IF(AND($E653>=AG$10,$F653<=AH$10),$E653,IF(AND($E653<=AG$10,$F653<=AH$10),AG$10,IF(AND($E653<=AH$10,$F653>=AH$10,$E653>=AG$10),$E653,IF(AND($E653<=AG$10,$F653>=AH$10),AG$10,\"chyba\")))))","v":"00:00:00"},{"$f":"IF(OR($F653<AG$10,$E653>AH$10),0,IF(AND($E653>=AG$10,$F653<=AH$10),$F653,IF(AND($E653<=AG$10,$F653<=AH$10),$F653,IF(AND($E653<=AH$10,$F653>=AH$10),AH$10,IF(AND($E653<=AG$10,$F653>=AH$10),AH$10,\"chyba\")))))","v":"00:00:00"},{"$f":"IF(AH653-AG653=0,0,AH653-AG653+1)","v":0},{"$f":"IF($H653<=0,0,$G653/$H653*AI653)","v":0},{"$f":"IF(OR($F653<AK$10,$E653>AL$10),0,IF(AND($E653>=AK$10,$F653<=AL$10),$E653,IF(AND($E653<=AK$10,$F653<=AL$10),AK$10,IF(AND($E653<=AL$10,$F653>=AL$10,$E653>=AK$10),$E653,IF(AND($E653<=AK$10,$F653>=AL$10),AK$10,\"chyba\")))))","v":"00:00:00"},{"$f":"IF(OR($F653<AK$10,$E653>AL$10),0,IF(AND($E653>=AK$10,$F653<=AL$10),$F653,IF(AND($E653<=AK$10,$F653<=AL$10),$F653,IF(AND($E653<=AL$10,$F653>=AL$10),AL$10,IF(AND($E653<=AK$10,$F653>=AL$10),AL$10,\"chyba\")))))","v":"00:00:00"},{"$f":"IF(AL653-AK653=0,0,AL653-AK653+1)","v":0},{"$f":"IF($H653<=0,0,$G653/$H653*AM653)","v":0},{"$f":"IF(OR($F653<AO$10,$E653>AP$10),0,IF(AND($E653>=AO$10,$F653<=AP$10),$E653,IF(AND($E653<=AO$10,$F653<=AP$10),AO$10,IF(AND($E653<=AP$10,$F653>=AP$10,$E653>=AO$10),$E653,IF(AND($E653<=AO$10,$F653>=AP$10),AO$10,\"chyba\")))))","v":"00:00:00"},{"$f":"IF(OR($F653<AO$10,$E653>AP$10),0,IF(AND($E653>=AO$10,$F653<=AP$10),$F653,IF(AND($E653<=AO$10,$F653<=AP$10),$F653,IF(AND($E653<=AP$10,$F653>=AP$10),AP$10,IF(AND($E653<=AO$10,$F653>=AP$10),AP$10,\"chyba\")))))","v":"00:00:00"},{"$f":"IF(AP653-AO653=0,0,AP653-AO653+1)","v":0},{"$f":"IF($H653<=0,0,$G653/$H653*AQ653)","v":0},{"$f":"IF(OR($F653<AS$10,$E653>AT$10),0,IF(AND($E653>=AS$10,$F653<=AT$10),$E653,IF(AND($E653<=AS$10,$F653<=AT$10),AS$10,IF(AND($E653<=AT$10,$F653>=AT$10,$E653>=AS$10),$E653,IF(AND($E653<=AS$10,$F653>=AT$10),AS$10,\"chyba\")))))","v":"00:00:00"},{"$f":"IF(OR($F653<AS$10,$E653>AT$10),0,IF(AND($E653>=AS$10,$F653<=AT$10),$F653,IF(AND($E653<=AS$10,$F653<=AT$10),$F653,IF(AND($E653<=AT$10,$F653>=AT$10),AT$10,IF(AND($E653<=AS$10,$F653>=AT$10),AT$10,\"chyba\")))))","v":"00:00:00"},{"$f":"IF(AT653-AS653=0,0,AT653-AS653+1)","v":0},{"$f":"IF($H653<=0,0,$G653/$H653*AU653)","v":0}]
[null,null,null,null,null,null,null,0,"00:00:00","00:00:00",0,0,"00:00:00","00:00:00",0,0,"00:00:00","00:00:00",0,0,"00:00:00","00:00:00",0,0,"00:00:00","00:00:00",0,0,"00:00:00","00:00:00",0,0,"00:00:00","00:00:00",0,0,"00:00:00","00:00:00",0,0,"00:00:00","00:00:00",0,0,"00:00:00","00:00:00",0,0]
[null,null,null,null,null,null,null,0,"00:00:00","00:00:00",0,0,"00:00:00","00:00:00",0,0,"00:00:00","00:00:00",0,0,"00:00:00","00:00:00",0,0,"00:00:00","00:00:00",0,0,"00:00:00","00:00:00",0,0,"00:00:00","00:00:00",0,0,"00:00:00","00:00:00",0,0,"00:00:00","00:00:00",0,0,"00:00:00","00:00:00",0,0]
[null,null,null,null,null,null,null,0,"00:00:00","00:00:00",0,0,"00:00:00","00:00:00",0,0,"00:00:00","00:00:00",0,0,"00:00:00","00:00:00",0,0,"00:00:00","00:00:00",0,0,"00:00:00","00:00:00",0,0,"00:00:00","00:00:00",0,0,"00:00:00","00:00:00",0,0,"00:00:00","00:00:00",0,0,"00:00:00","00:00:00",0,0]
[null,null,null,null,null,null,null,0,"00:00:00","00:00:00",0,0,"00:00:00","00:00:00",0,0,"00:00:00","00:00:00",0,0,"00:00:00","00:00:00",0,0,"00:00:00","00:00:00",0,0,"00:00:00","00:00:00",0,0,"00:00:00","00:00:00",0,0,"00:00:00","00:00:00",0,0,"00:00:00","00:00:00",0,0,"00:00:00","00:00:00",0,0]
[null,null,null,null,null,null,null,0,"00:00:00","00:00:00",0,0,"00:00:00","00:00:00",0,0,"00:00:00","00:00:00",0,0,"00:00:00","00:00:00",0,0,"00:00:00","00:00:00",0,0,"00:00:00","00:00:00",0,0,"00:00:00","00:00:00",0,0,"00:00:00","00:00:00",0,0,"00:00:00","00:00:00",0,0,"00:00:00","00:00:00",0,0]
[null,null,null,null,null,null,null,0,"00:00:00","00:00:00",0,0,"00:00:00","00:00:00",0,0,"00:00:00","00:00:00",0,0,"00:00:00","00:00:00",0,0,"00:00:00","00:00:00",0,0,"00:00:00","00:00:00",0,0,"00:00:00","00:00:00",0,0,"00:00:00","00:00:00",0,0,"00:00:00","00:00:00",0,0,"00:00:00","00:00:00",0,0]
[null,null,null,null,null,null,null,0,"00:00:00","00:00:00",0,0,"00:00:00","00:00:00",0,0,"00:00:00","00:00:00",0,0,"00:00:00","00:00:00",0,0,"00:00:00","00:00:00",0,0,"00:00:00","00:00:00",0,0,"00:00:00","00:00:00",0,0,"00:00:00","00:00:00",0,0,"00:00:00","00:00:00",0,0,"00:00:00","00:00:00",0,0]
[null,null,null,null,null,null,null,0,"00:00:00","00:00:00",0,0,"00:00:00","00:00:00",0,0,"00:00:00","00:00:00",0,0,"00:00:00","00:00:00",0,0,"00:00:00","00:00:00",0,0,"00:00:00","00:00:00",0,0,"00:00:00","00:00:00",0,0,"00:00:00","00:00:00",0,0,"00:00:00","00:00:00",0,0,"00:00:00","00:00:00",0,0]
[null,null,null,null,null,null,null,0,"00:00:00","00:00:00",0,0,"00:00:00","00:00:00",0,0,"00:00:00","00:00:00",0,0,"00:00:00","00:00:00",0,0,"00:00:00","00:00:00",0,0,"00:00:00","00:00:00",0,0,"00:00:00","00:00:00",0,0,"00:00:00","00:00:00",0,0,"00:00:00","00:00:00",0,0,"00:00:00","00:00:00",0,0]
[null,null,null,null,null,null,null,0,"00:00:00","00:00:00",0,0,"00:00:00","00:00:00",0,0,"00:00:00","00:00:00",0,0,"00:00:00","00:00:00",0,0,"00:00:00","00:00:00",0,0,"00:00:00","00:00:00",0,0,"00:00:00","00:00:00",0,0,"00:00:00","00:00:00",0,0,"00:00:00","00:00:00",0,0,"00:00:00","00:00:00",0,0]
[null,null,null,null,null,null,null,0,"00:00:00","00:00:00",0,0,"00:00:00","00:00:00",0,0,"00:00:00","00:00:00",0,0,"00:00:00","00:00:00",0,0,"00:00:00","00:00:00",0,0,"00:00:00","00:00:00",0,0,"00:00:00","00:00:00",0,0,"00:00:00","00:00:00",0,0,"00:00:00","00:00:00",0,0,"00:00:00","00:00:00",0,0]
[null,null,null,null,null,null,null,0,"00:00:00","00:00:00",0,0,"00:00:00","00:00:00",0,0,"00:00:00","00:00:00",0,0,"00:00:00","00:00:00",0,0,"00:00:00","00:00:00",0,0,"00:00:00","00:00:00",0,0,"00:00:00","00:00:00",0,0,"00:00:00","00:00:00",0,0,"00:00:00","00:00:00",0,0,"00:00:00","00:00:00",0,0]
[null,null,null,null,null,null,null,0,"00:00:00","00:00:00",0,0,"00:00:00","00:00:00",0,0,"00:00:00","00:00:00",0,0,"00:00:00","00:00:00",0,0,"00:00:00","00:00:00",0,0,"00:00:00","00:00:00",0,0,"00:00:00","00:00:00",0,0,"00:00:00","00:00:00",0,0,"00:00:00","00:00:00",0,0,"00:00:00","00:00:00",0,0]
[null,null,null,null,null,null,null,0,"00:00:00","00:00:00",0,0,"00:00:00","00:00:00",0,0,"00:00:00","00:00:00",0,0,"00:00:00","00:00:00",0,0,"00:00:00","00:00:00",0,0,"00:00:00","00:00:00",0,0,"00:00:00","00:00:00",0,0,"00:00:00","00:00:00",0,0,"00:00:00","00:00:00",0,0,"00:00:00","00:00:00",0,0]
[null,null,null,null,null,null,null,0,"00:00:00","00:00:00",0,0,"00:00:00","00:00:00",0,0,"00:00:00","00:00:00",0,0,"00:00:00","00:00:00",0,0,"00:00:00","00:00:00",0,0,"00:00:00","00:00:00",0,0,"00:00:00","00:00:00",0,0,"00:00:00","00:00:00",0,0,"00:00:00","00:00:00",0,0,"00:00:00","00:00:00",0,0]
[null,null,null,null,null,null,null,0,"00:00:00","00:00:00",0,0,"00:00:00","00:00:00",0,0,"00:00:00","00:00:00",0,0,"00:00:00","00:00:00",0,0,"00:00:00","00:00:00",0,0,"00:00:00","00:00:00",0,0,"00:00:00","00:00:00",0,0,"00:00:00","00:00:00",0,0,"00:00:00","00:00:00",0,0,"00:00:00","00:00:00",0,0]
[null,null,null,null,null,null,null,0,"00:00:00","00:00:00",0,0,"00:00:00","00:00:00",0,0,"00:00:00","00:00:00",0,0,"00:00:00","00:00:00",0,0,"00:00:00","00:00:00",0,0,"00:00:00","00:00:00",0,0,"00:00:00","00:00:00",0,0,"00:00:00","00:00:00",0,0,"00:00:00","00:00:00",0,0,"00:00:00","00:00:00",0,0]
[null,null,null,null,null,null,null,0,"00:00:00","00:00:00",0,0,"00:00:00","00:00:00",0,0,"00:00:00","00:00:00",0,0,"00:00:00","00:00:00",0,0,"00:00:00","00:00:00",0,0,"00:00:00","00:00:00",0,0,"00:00:00","00:00:00",0,0,"00:00:00","00:00:00",0,0,"00:00:00","00:00:00",0,0,"00:00:00","00:00:00",0,0]
[null,null,null,null,null,null,null,0,"00:00:00","00:00:00",0,0,"00:00:00","00:00:00",0,0,"00:00:00","00:00:00",0,0,"00:00:00","00:00:00",0,0,"00:00:00","00:00:00",0,0,"00:00:00","00:00:00",0,0,"00:00:00","00:00:00",0,0,"00:00:00","00:00:00",0,0,"00:00:00","00:00:00",0,0,"00:00:00","00:00:00",0,0]
[null,null,null,null,null,null,null,0,"00:00:00","00:00:00",0,0,"00:00:00","00:00:00",0,0,"00:00:00","00:00:00",0,0,"00:00:00","00:00:00",0,0,"00:00:00","00:00:00",0,0,"00:00:00","00:00:00",0,0,"00:00:00","00:00:00",0,0,"00:00:00","00:00:00",0,0,"00:00:00","00:00:00",0,0,"00:00:00","00:00:00",0,0]
[null,null,null,null,null,null,null,0,"00:00:00","00:00:00",0,0,"00:00:00","00:00:00",0,0,"00:00:00","00:00:00",0,0,"00:00:00","00:00:00",0,0,"00:00:00","00:00:00",0,0,"00:00:00","00:00:00",0,0,"00:00:00","00:00:00",0,0,"00:00:00","00:00:00",0,0,"00:00:00","00:00:00",0,0,"00:00:00","00:00:00",0,0]
[null,null,null,null,null,null,null,0,"00:00:00","00:00:00",0,0,"00:00:00","00:00:00",0,0,"00:00:00","00:00:00",0,0,"00:00:00","00:00:00",0,0,"00:00:00","00:00:00",0,0,"00:00:00","00:00:00",0,0,"00:00:00","00:00:00",0,0,"00:00:00","00:00:00",0,0,"00:00:00","00:00:00",0,0,"00:00:00","00:00:00",0,0]
[null,null,null,null,null,null,null,0,"00:00:00","00:00:00",0,0,"00:00:00","00:00:00",0,0,"00:00:00","00:00:00",0,0,"00:00:00","00:00:00",0,0,"00:00:00","00:00:00",0,0,"00:00:00","00:00:00",0,0,"00:00:00","00:00:00",0,0,"00:00:00","00:00:00",0,0,"00:00:00","00:00:00",0,0,"00:00:00","00:00:00",0,0]
[null,null,null,null,null,null,null,0,"00:00:00","00:00:00",0,0,"00:00:00","00:00:00",0,0,"00:00:00","00:00:00",0,0,"00:00:00","00:00:00",0,0,"00:00:00","00:00:00",0,0,"00:00:00","00:00:00",0,0,"00:00:00","00:00:00",0,0,"00:00:00","00:00:00",0,0,"00:00:00","00:00:00",0,0,"00:00:00","00:00:00",0,0]
[null,null,null,null,null,null,null,0,"00:00:00","00:00:00",0,0,"00:00:00","00:00:00",0,0,"00:00:00","00:00:00",0,0,"00:00:00","00:00:00",0,0,"00:00:00","00:00:00",0,0,"00:00:00","00:00:00",0,0,"00:00:00","00:00:00",0,0,"00:00:00","00:00:00",0,0,"00:00:00","00:00:00",0,0,"00:00:00","00:00:00",0,0]
[null,null,null,null,null,null,null,0,"00:00:00","00:00:00",0,0,"00:00:00","00:00:00",0,0,"00:00:00","00:00:00",0,0,"00:00:00","00:00:00",0,0,"00:00:00","00:00:00",0,0,"00:00:00","00:00:00",0,0,"00:00:00","00:00:00",0,0,"00:00:00","00:00:00",0,0,"00:00:00","00:00:00",0,0,"00:00:00","00:00:00",0,0]
[null,null,null,null,null,null,null,0,"00:00:00","00:00:00",0,0,"00:00:00","00:00:00",0,0,"00:00:00","00:00:00",0,0,"00:00:00","00:00:00",0,0,"00:00:00","00:00:00",0,0,"00:00:00","00:00:00",0,0,"00:00:00","00:00:00",0,0,"00:00:00","00:00:00",0,0,"00:00:00","00:00:00",0,0,"00:00:00","00:00:00",0,0]
[null,null,null,null,null,null,null,0,"00:00:00","00:00:00",0,0,"00:00:00","00:00:00",0,0,"00:00:00","00:00:00",0,0,"00:00:00","00:00:00",0,0,"00:00:00","00:00:00",0,0,"00:00:00","00:00:00",0,0,"00:00:00","00:00:00",0,0,"00:00:00","00:00:00",0,0,"00:00:00","00:00:00",0,0,"00:00:00","00:00:00",0,0]
[null,null,null,null,null,null,null,0,"00:00:00","00:00:00",0,0,"00:00:00","00:00:00",0,0,"00:00:00","00:00:00",0,0,"00:00:00","00:00:00",0,0,"00:00:00","00:00:00",0,0,"00:00:00","00:00:00",0,0,"00:00:00","00:00:00",0,0,"00:00:00","00:00:00",0,0,"00:00:00","00:00:00",0,0,"00:00:00","00:00:00",0,0]
[null,null,null,null,null,null,null,0,"00:00:00","00:00:00",0,0,"00:00:00","00:00:00",0,0,"00:00:00","00:00:00",0,0,"00:00:00","00:00:00",0,0,"00:00:00","00:00:00",0,0,"00:00:00","00:00:00",0,0,"00:00:00","00:00:00",0,0,"00:00:00","00:00:00",0,0,"00:00:00","00:00:00",0,0,"00:00:00","00:00:00",0,0]
[null,null,null,null,null,null,null,0,"00:00:00","00:00:00",0,0,"00:00:00","00:00:00",0,0,"00:00:00","00:00:00",0,0,"00:00:00","00:00:00",0,0,"00:00:00","00:00:00",0,0,"00:00:00","00:00:00",0,0,"00:00:00","00:00:00",0,0,"00:00:00","00:00:00",0,0,"00:00:00","00:00:00",0,0,"00:00:00","00:00:00",0,0]
[null,null,null,null,null,null,null,0,"00:00:00","00:00:00",0,0,"00:00:00","00:00:00",0,0,"00:00:00","00:00:00",0,0,"00:00:00","00:00:00",0,0,"00:00:00","00:00:00",0,0,"00:00:00","00:00:00",0,0,"00:00:00","00:00:00",0,0,"00:00:00","00:00:00",0,0,"00:00:00","00:00:00",0,0,"00:00:00","00:00:00",0,0]
[null,null,null,null,null,null,null,0,"00:00:00","00:00:00",0,0,"00:00:00","00:00:00",0,0,"00:00:00","00:00:00",0,0,"00:00:00","00:00:00",0,0,"00:00:00","00:00:00",0,0,"00:00:00","00:00:00",0,0,"00:00:00","00:00:00",0,0,"00:00:00","00:00:00",0,0,"00:00:00","00:00:00",0,0,"00:00:00","00:00:00",0,0]
[null,null,null,null,null,null,null,0,"00:00:00","00:00:00",0,0,"00:00:00","00:00:00",0,0,"00:00:00","00:00:00",0,0,"00:00:00","00:00:00",0,0,"00:00:00","00:00:00",0,0,"00:00:00","00:00:00",0,0,"00:00:00","00:00:00",0,0,"00:00:00","00:00:00",0,0,"00:00:00","00:00:00",0,0,"00:00:00","00:00:00",0,0]
[null,null,null,null,null,null,null,0,"00:00:00","00:00:00",0,0,"00:00:00","00:00:00",0,0,"00:00:00","00:00:00",0,0,"00:00:00","00:00:00",0,0,"00:00:00","00:00:00",0,0,"00:00:00","00:00:00",0,0,"00:00:00","00:00:00",0,0,"00:00:00","00:00:00",0,0,"00:00:00","00:00:00",0,0,"00:00:00","00:00:00",0,0]
[null,null,null,null,null,null,null,0,"00:00:00","00:00:00",0,0,"00:00:00","00:00:00",0,0,"00:00:00","00:00:00",0,0,"00:00:00","00:00:00",0,0,"00:00:00","00:00:00",0,0,"00:00:00","00:00:00",0,0,"00:00:00","00:00:00",0,0,"00:00:00","00:00:00",0,0,"00:00:00","00:00:00",0,0,"00:00:00","00:00:00",0,0]
[null,null,null,null,null,null,null,0,"00:00:00","00:00:00",0,0,"00:00:00","00:00:00",0,0,"00:00:00","00:00:00",0,0,"00:00:00","00:00:00",0,0,"00:00:00","00:00:00",0,0,"00:00:00","00:00:00",0,0,"00:00:00","00:00:00",0,0,"00:00:00","00:00:00",0,0,"00:00:00","00:00:00",0,0,"00:00:00","00:00:00",0,0]
[null,null,null,null,null,null,null,0,"00:00:00","00:00:00",0,0,"00:00:00","00:00:00",0,0,"00:00:00","00:00:00",0,0,"00:00:00","00:00:00",0,0,"00:00:00","00:00:00",0,0,"00:00:00","00:00:00",0,0,"00:00:00","00:00:00",0,0,"00:00:00","00:00:00",0,0,"00:00:00","00:00:00",0,0,"00:00:00","00:00:00",0,0]
[null,null,null,null,null,null,null,0,"00:00:00","00:00:00",0,0,"00:00:00","00:00:00",0,0,"00:00:00","00:00:00",0,0,"00:00:00","00:00:00",0,0,"00:00:00","00:00:00",0,0,"00:00:00","00:00:00",0,0,"00:00:00","00:00:00",0,0,"00:00:00","00:00:00",0,0,"00:00:00","00:00:00",0,0,"00:00:00","00:00:00",0,0]
[null,null,null,null,null,null,null,0,"00:00:00","00:00:00",0,0,"00:00:00","00:00:00",0,0,"00:00:00","00:00:00",0,0,"00:00:00","00:00:00",0,0,"00:00:00","00:00:00",0,0,"00:00:00","00:00:00",0,0,"00:00:00","00:00:00",0,0,"00:00:00","00:00:00",0,0,"00:00:00","00:00:00",0,0,"00:00:00","00:00:00",0,0]
[null,null,null,null,null,null,null,0,"00:00:00","00:00:00",0,0,"00:00:00","00:00:00",0,0,"00:00:00","00:00:00",0,0,"00:00:00","00:00:00",0,0,"00:00:00","00:00:00",0,0,"00:00:00","00:00:00",0,0,"00:00:00","00:00:00",0,0,"00:00:00","00:00:00",0,0,"00:00:00","00:00:00",0,0,"00:00:00","00:00:00",0,0]
[null,null,null,null,null,null,null,0,"00:00:00","00:00:00",0,0,"00:00:00","00:00:00",0,0,"00:00:00","00:00:00",0,0,"00:00:00","00:00:00",0,0,"00:00:00","00:00:00",0,0,"00:00:00","00:00:00",0,0,"00:00:00","00:00:00",0,0,"00:00:00","00:00:00",0,0,"00:00:00","00:00:00",0,0,"00:00:00","00:00:00",0,0]
[null,null,null,null,null,null,null,0,"00:00:00","00:00:00",0,0,"00:00:00","00:00:00",0,0,"00:00:00","00:00:00",0,0,"00:00:00","00:00:00",0,0,"00:00:00","00:00:00",0,0,"00:00:00","00:00:00",0,0,"00:00:00","00:00:00",0,0,"00:00:00","00:00:00",0,0,"00:00:00","00:00:00",0,0,"00:00:00","00:00:00",0,0]
[null,null,null,null,null,null,null,0,"00:00:00","00:00:00",0,0,"00:00:00","00:00:00",0,0,"00:00:00","00:00:00",0,0,"00:00:00","00:00:00",0,0,"00:00:00","00:00:00",0,0,"00:00:00","00:00:00",0,0,"00:00:00","00:00:00",0,0,"00:00:00","00:00:00",0,0,"00:00:00","00:00:00",0,0,"00:00:00","00:00:00",0,0]
[null,null,null,null,null,null,null,0,"00:00:00","00:00:00",0,0,"00:00:00","00:00:00",0,0,"00:00:00","00:00:00",0,0,"00:00:00","00:00:00",0,0,"00:00:00","00:00:00",0,0,"00:00:00","00:00:00",0,0,"00:00:00","00:00:00",0,0,"00:00:00","00:00:00",0,0,"00:00:00","00:00:00",0,0,"00:00:00","00:00:00",0,0]
[null,null,null,null,null,null,null,0,"00:00:00","00:00:00",0,0,"00:00:00","00:00:00",0,0,"00:00:00","00:00:00",0,0,"00:00:00","00:00:00",0,0,"00:00:00","00:00:00",0,0,"00:00:00","00:00:00",0,0,"00:00:00","00:00:00",0,0,"00:00:00","00:00:00",0,0,"00:00:00","00:00:00",0,0,"00:00:00","00:00:00",0,0]
[null,null,null,null,null,null,null,0,"00:00:00","00:00:00",0,0,"00:00:00","00:00:00",0,0,"00:00:00","00:00:00",0,0,"00:00:00","00:00:00",0,0,"00:00:00","00:00:00",0,0,"00:00:00","00:00:00",0,0,"00:00:00","00:00:00",0,0,"00:00:00","00:00:00",0,0,"00:00:00","00:00:00",0,0,"00:00:00","00:00:00",0,0]
[null,null,null,null,null,null,null,0,"00:00:00","00:00:00",0,0,"00:00:00","00:00:00",0,0,"00:00:00","00:00:00",0,0,"00:00:00","00:00:00",0,0,"00:00:00","00:00:00",0,0,"00:00:00","00:00:00",0,0,"00:00:00","00:00:00",0,0,"00:00:00","00:00:00",0,0,"00:00:00","00:00:00",0,0,"00:00:00","00:00:00",0,0]
[null,null,null,null,null,null,null,0,"00:00:00","00:00:00",0,0,"00:00:00","00:00:00",0,0,"00:00:00","00:00:00",0,0,"00:00:00","00:00:00",0,0,"00:00:00","00:00:00",0,0,"00:00:00","00:00:00",0,0,"00:00:00","00:00:00",0,0,"00:00:00","00:00:00",0,0,"00:00:00","00:00:00",0,0,"00:00:00","00:00:00",0,0]
[null,null,null,null,null,null,null,0,"00:00:00","00:00:00",0,0,"00:00:00","00:00:00",0,0,"00:00:00","00:00:00",0,0,"00:00:00","00:00:00",0,0,"00:00:00","00:00:00",0,0,"00:00:00","00:00:00",0,0,"00:00:00","00:00:00",0,0,"00:00:00","00:00:00",0,0,"00:00:00","00:00:00",0,0,"00:00:00","00:00:00",0,0]
[null,null,null,null,null,null,null,0,"00:00:00","00:00:00",0,0,"00:00:00","00:00:00",0,0,"00:00:00","00:00:00",0,0,"00:00:00","00:00:00",0,0,"00:00:00","00:00:00",0,0,"00:00:00","00:00:00",0,0,"00:00:00","00:00:00",0,0,"00:00:00","00:00:00",0,0,"00:00:00","00:00:00",0,0,"00:00:00","00:00:00",0,0]
[null,null,null,null,null,null,null,0,"00:00:00","00:00:00",0,0,"00:00:00","00:00:00",0,0,"00:00:00","00:00:00",0,0,"00:00:00","00:00:00",0,0,"00:00:00","00:00:00",0,0,"00:00:00","00:00:00",0,0,"00:00:00","00:00:00",0,0,"00:00:00","00:00:00",0,0,"00:00:00","00:00:00",0,0,"00:00:00","00:00:00",0,0]
[null,null,null,null,null,null,null,0,"00:00:00","00:00:00",0,0,"00:00:00","00:00:00",0,0,"00:00:00","00:00:00",0,0,"00:00:00","00:00:00",0,0,"00:00:00","00:00:00",0,0,"00:00:00","00:00:00",0,0,"00:00:00","00:00:00",0,0,"00:00:00","00:00:00",0,0,"00:00:00","00:00:00",0,0,"00:00:00","00:00:00",0,0]
[null,null,null,null,null,null,null,0,"00:00:00","00:00:00",0,0,"00:00:00","00:00:00",0,0,"00:00:00","00:00:00",0,0,"00:00:00","00:00:00",0,0,"00:00:00","00:00:00",0,0,"00:00:00","00:00:00",0,0,"00:00:00","00:00:00",0,0,"00:00:00","00:00:00",0,0,"00:00:00","00:00:00",0,0,"00:00:00","00:00:00",0,0]
[null,null,null,null,null,null,null,0,"00:00:00","00:00:00",0,0,"00:00:00","00:00:00",0,0,"00:00:00","00:00:00",0,0,"00:00:00","00:00:00",0,0,"00:00:00","00:00:00",0,0,"00:00:00","00:00:00",0,0,"00:00:00","00:00:00",0,0,"00:00:00","00:00:00",0,0,"00:00:00","00:00:00",0,0,"00:00:00","00:00:00",0,0]
[null,null,null,null,null,null,null,0,"00:00:00","00:00:00",0,0,"00:00:00","00:00:00",0,0,"00:00:00","00:00:00",0,0,"00:00:00","00:00:00",0,0,"00:00:00","00:00:00",0,0,"00:00:00","00:00:00",0,0,"00:00:00","00:00:00",0,0,"00:00:00","00:00:00",0,0,"00:00:00","00:00:00",0,0,"00:00:00","00:00:00",0,0]
[null,null,null,null,null,null,null,0,"00:00:00","00:00:00",0,0,"00:00:00","00:00:00",0,0,"00:00:00","00:00:00",0,0,"00:00:00","00:00:00",0,0,"00:00:00","00:00:00",0,0,"00:00:00","00:00:00",0,0,"00:00:00","00:00:00",0,0,"00:00:00","00:00:00",0,0,"00:00:00","00:00:00",0,0,"00:00:00","00:00:00",0,0]
[null,null,null,null,null,null,null,0,"00:00:00","00:00:00",0,0,"00:00:00","00:00:00",0,0,"00:00:00","00:00:00",0,0,"00:00:00","00:00:00",0,0,"00:00:00","00:00:00",0,0,"00:00:00","00:00:00",0,0,"00:00:00","00:00:00",0,0,"00:00:00","00:00:00",0,0,"00:00:00","00:00:00",0,0,"00:00:00","00:00:00",0,0]
[null,null,null,null,null,null,null,0,"00:00:00","00:00:00",0,0,"00:00:00","00:00:00",0,0,"00:00:00","00:00:00",0,0,"00:00:00","00:00:00",0,0,"00:00:00","00:00:00",0,0,"00:00:00","00:00:00",0,0,"00:00:00","00:00:00",0,0,"00:00:00","00:00:00",0,0,"00:00:00","00:00:00",0,0,"00:00:00","00:00:00",0,0]
[null,null,null,null,null,null,null,0,"00:00:00","00:00:00",0,0,"00:00:00","00:00:00",0,0,"00:00:00","00:00:00",0,0,"00:00:00","00:00:00",0,0,"00:00:00","00:00:00",0,0,"00:00:00","00:00:00",0,0,"00:00:00","00:00:00",0,0,"00:00:00","00:00:00",0,0,"00:00:00","00:00:00",0,0,"00:00:00","00:00:00",0,0]
[null,null,null,null,null,null,null,0,"00:00:00","00:00:00",0,0,"00:00:00","00:00:00",0,0,"00:00:00","00:00:00",0,0,"00:00:00","00:00:00",0,0,"00:00:00","00:00:00",0,0,"00:00:00","00:00:00",0,0,"00:00:00","00:00:00",0,0,"00:00:00","00:00:00",0,0,"00:00:00","00:00:00",0,0,"00:00:00","00:00:00",0,0]
[null,null,null,null,null,null,null,0,"00:00:00","00:00:00",0,0,"00:00:00","00:00:00",0,0,"00:00:00","00:00:00",0,0,"00:00:00","00:00:00",0,0,"00:00:00","00:00:00",0,0,"00:00:00","00:00:00",0,0,"00:00:00","00:00:00",0,0,"00:00:00","00:00:00",0,0,"00:00:00","00:00:00",0,0,"00:00:00","00:00:00",0,0]
[null,null,null,null,null,null,null,0,"00:00:00","00:00:00",0,0,"00:00:00","00:00:00",0,0,"00:00:00","00:00:00",0,0,"00:00:00","00:00:00",0,0,"00:00:00","00:00:00",0,0,"00:00:00","00:00:00",0,0,"00:00:00","00:00:00",0,0,"00:00:00","00:00:00",0,0,"00:00:00","00:00:00",0,0,"00:00:00","00:00:00",0,0]
[null,null,null,null,null,null,null,{"$f":"IF(F717-E717=0,0,F717-E717+1)","v":0},{"$f":"IF(OR($F717<I$10,$E717>J$10),0,IF(AND($E717>=I$10,$F717<=J$10),$E717,IF(AND($E717<=I$10,$F717<=J$10),I$10,IF(AND($E717<=J$10,$F717>=J$10,$E717>=I$10),$E717,IF(AND($E717<=I$10,$F717>=J$10),I$10,\"chyba\")))))","v":"00:00:00"},{"$f":"IF(OR($F717<I$10,$E717>J$10),0,IF(AND($E717>=I$10,$F717<=J$10),$F717,IF(AND($E717<=I$10,$F717<=J$10),$F717,IF(AND($E717<=J$10,$F717>=J$10),J$10,IF(AND($E717<=I$10,$F717>=J$10),J$10,\"chyba\")))))","v":"00:00:00"},{"$f":"IF(J717-I717=0,0,J717-I717+1)","v":0},{"$f":"IF($H717<=0,0,$G717/$H717*K717)","v":0},{"$f":"IF(OR($F717<M$10,$E717>N$10),0,IF(AND($E717>=M$10,$F717<=N$10),$E717,IF(AND($E717<=M$10,$F717<=N$10),M$10,IF(AND($E717<=N$10,$F717>=N$10,$E717>=M$10),$E717,IF(AND($E717<=M$10,$F717>=N$10),M$10,\"chyba\")))))","v":"00:00:00"},{"$f":"IF(OR($F717<M$10,$E717>N$10),0,IF(AND($E717>=M$10,$F717<=N$10),$F717,IF(AND($E717<=M$10,$F717<=N$10),$F717,IF(AND($E717<=N$10,$F717>=N$10),N$10,IF(AND($E717<=M$10,$F717>=N$10),N$10,\"chyba\")))))","v":"00:00:00"},{"$f":"IF(N717-M717=0,0,N717-M717+1)","v":0},{"$f":"IF($H717<=0,0,$G717/$H717*O717)","v":0},{"$f":"IF(OR($F717<Q$10,$E717>R$10),0,IF(AND($E717>=Q$10,$F717<=R$10),$E717,IF(AND($E717<=Q$10,$F717<=R$10),Q$10,IF(AND($E717<=R$10,$F717>=R$10,$E717>=Q$10),$E717,IF(AND($E717<=Q$10,$F717>=R$10),Q$10,\"chyba\")))))","v":"00:00:00"},{"$f":"IF(OR($F717<Q$10,$E717>R$10),0,IF(AND($E717>=Q$10,$F717<=R$10),$F717,IF(AND($E717<=Q$10,$F717<=R$10),$F717,IF(AND($E717<=R$10,$F717>=R$10),R$10,IF(AND($E717<=Q$10,$F717>=R$10),R$10,\"chyba\")))))","v":"00:00:00"},{"$f":"IF(R717-Q717=0,0,R717-Q717+1)","v":0},{"$f":"IF($H717<=0,0,$G717/$H717*S717)","v":0},{"$f":"IF(OR($F717<U$10,$E717>V$10),0,IF(AND($E717>=U$10,$F717<=V$10),$E717,IF(AND($E717<=U$10,$F717<=V$10),U$10,IF(AND($E717<=V$10,$F717>=V$10,$E717>=U$10),$E717,IF(AND($E717<=U$10,$F717>=V$10),U$10,\"chyba\")))))","v":"00:00:00"},{"$f":"IF(OR($F717<U$10,$E717>V$10),0,IF(AND($E717>=U$10,$F717<=V$10),$F717,IF(AND($E717<=U$10,$F717<=V$10),$F717,IF(AND($E717<=V$10,$F717>=V$10),V$10,IF(AND($E717<=U$10,$F717>=V$10),V$10,\"chyba\")))))","v":"00:00:00"},{"$f":"IF(V717-U717=0,0,V717-U717+1)","v":0},{"$f":"IF($H717<=0,0,$G717/$H717*W717)","v":0},{"$f":"IF(OR($F717<Y$10,$E717>Z$10),0,IF(AND($E717>=Y$10,$F717<=Z$10),$E717,IF(AND($E717<=Y$10,$F717<=Z$10),Y$10,IF(AND($E717<=Z$10,$F717>=Z$10,$E717>=Y$10),$E717,IF(AND($E717<=Y$10,$F717>=Z$10),Y$10,\"chyba\")))))","v":"00:00:00"},{"$f":"IF(OR($F717<Y$10,$E717>Z$10),0,IF(AND($E717>=Y$10,$F717<=Z$10),$F717,IF(AND($E717<=Y$10,$F717<=Z$10),$F717,IF(AND($E717<=Z$10,$F717>=Z$10),Z$10,IF(AND($E717<=Y$10,$F717>=Z$10),Z$10,\"chyba\")))))","v":"00:00:00"},{"$f":"IF(Z717-Y717=0,0,Z717-Y717+1)","v":0},{"$f":"IF($H717<=0,0,$G717/$H717*AA717)","v":0},{"$f":"IF(OR($F717<AC$10,$E717>AD$10),0,IF(AND($E717>=AC$10,$F717<=AD$10),$E717,IF(AND($E717<=AC$10,$F717<=AD$10),AC$10,IF(AND($E717<=AD$10,$F717>=AD$10,$E717>=AC$10),$E717,IF(AND($E717<=AC$10,$F717>=AD$10),AC$10,\"chyba\")))))","v":"00:00:00"},{"$f":"IF(OR($F717<AC$10,$E717>AD$10),0,IF(AND($E717>=AC$10,$F717<=AD$10),$F717,IF(AND($E717<=AC$10,$F717<=AD$10),$F717,IF(AND($E717<=AD$10,$F717>=AD$10),AD$10,IF(AND($E717<=AC$10,$F717>=AD$10),AD$10,\"chyba\")))))","v":"00:00:00"},{"$f":"IF(AD717-AC717=0,0,AD717-AC717+1)","v":0},{"$f":"IF($H717<=0,0,$G717/$H717*AE717)","v":0},{"$f":"IF(OR($F717<AG$10,$E717>AH$10),0,IF(AND($E717>=AG$10,$F717<=AH$10),$E717,IF(AND($E717<=AG$10,$F717<=AH$10),AG$10,IF(AND($E717<=AH$10,$F717>=AH$10,$E717>=AG$10),$E717,IF(AND($E717<=AG$10,$F717>=AH$10),AG$10,\"chyba\")))))","v":"00:00:00"},{"$f":"IF(OR($F717<AG$10,$E717>AH$10),0,IF(AND($E717>=AG$10,$F717<=AH$10),$F717,IF(AND($E717<=AG$10,$F717<=AH$10),$F717,IF(AND($E717<=AH$10,$F717>=AH$10),AH$10,IF(AND($E717<=AG$10,$F717>=AH$10),AH$10,\"chyba\")))))","v":"00:00:00"},{"$f":"IF(AH717-AG717=0,0,AH717-AG717+1)","v":0},{"$f":"IF($H717<=0,0,$G717/$H717*AI717)","v":0},{"$f":"IF(OR($F717<AK$10,$E717>AL$10),0,IF(AND($E717>=AK$10,$F717<=AL$10),$E717,IF(AND($E717<=AK$10,$F717<=AL$10),AK$10,IF(AND($E717<=AL$10,$F717>=AL$10,$E717>=AK$10),$E717,IF(AND($E717<=AK$10,$F717>=AL$10),AK$10,\"chyba\")))))","v":"00:00:00"},{"$f":"IF(OR($F717<AK$10,$E717>AL$10),0,IF(AND($E717>=AK$10,$F717<=AL$10),$F717,IF(AND($E717<=AK$10,$F717<=AL$10),$F717,IF(AND($E717<=AL$10,$F717>=AL$10),AL$10,IF(AND($E717<=AK$10,$F717>=AL$10),AL$10,\"chyba\")))))","v":"00:00:00"},{"$f":"IF(AL717-AK717=0,0,AL717-AK717+1)","v":0},{"$f":"IF($H717<=0,0,$G717/$H717*AM717)","v":0},{"$f":"IF(OR($F717<AO$10,$E717>AP$10),0,IF(AND($E717>=AO$10,$F717<=AP$10),$E717,IF(AND($E717<=AO$10,$F717<=AP$10),AO$10,IF(AND($E717<=AP$10,$F717>=AP$10,$E717>=AO$10),$E717,IF(AND($E717<=AO$10,$F717>=AP$10),AO$10,\"chyba\")))))","v":"00:00:00"},{"$f":"IF(OR($F717<AO$10,$E717>AP$10),0,IF(AND($E717>=AO$10,$F717<=AP$10),$F717,IF(AND($E717<=AO$10,$F717<=AP$10),$F717,IF(AND($E717<=AP$10,$F717>=AP$10),AP$10,IF(AND($E717<=AO$10,$F717>=AP$10),AP$10,\"chyba\")))))","v":"00:00:00"},{"$f":"IF(AP717-AO717=0,0,AP717-AO717+1)","v":0},{"$f":"IF($H717<=0,0,$G717/$H717*AQ717)","v":0},{"$f":"IF(OR($F717<AS$10,$E717>AT$10),0,IF(AND($E717>=AS$10,$F717<=AT$10),$E717,IF(AND($E717<=AS$10,$F717<=AT$10),AS$10,IF(AND($E717<=AT$10,$F717>=AT$10,$E717>=AS$10),$E717,IF(AND($E717<=AS$10,$F717>=AT$10),AS$10,\"chyba\")))))","v":"00:00:00"},{"$f":"IF(OR($F717<AS$10,$E717>AT$10),0,IF(AND($E717>=AS$10,$F717<=AT$10),$F717,IF(AND($E717<=AS$10,$F717<=AT$10),$F717,IF(AND($E717<=AT$10,$F717>=AT$10),AT$10,IF(AND($E717<=AS$10,$F717>=AT$10),AT$10,\"chyba\")))))","v":"00:00:00"},{"$f":"IF(AT717-AS717=0,0,AT717-AS717+1)","v":0},{"$f":"IF($H717<=0,0,$G717/$H717*AU717)","v":0}]
[null,null,null,null,null,null,null,0,"00:00:00","00:00:00",0,0,"00:00:00","00:00:00",0,0,"00:00:00","00:00:00",0,0,"00:00:00","00:00:00",0,0,"00:00:00","00:00:00",0,0,"00:00:00","00:00:00",0,0,"00:00:00","00:00:00",0,0,"00:00:00","00:00:00",0,0,"00:00:00","00:00:00",0,0,"00:00:00","00:00:00",0,0]
[null,null,null,null,null,null,null,0,"00:00:00","00:00:00",0,0,"00:00:00","00:00:00",0,0,"00:00:00","00:00:00",0,0,"00:00:00","00:00:00",0,0,"00:00:00","00:00:00",0,0,"00:00:00","00:00:00",0,0,"00:00:00","00:00:00",0,0,"00:00:00","00:00:00",0,0,"00:00:00","00:00:00",0,0,"00:00:00","00:00:00",0,0]
[null,null,null,null,null,null,null,0,"00:00:00","00:00:00",0,0,"00:00:00","00:00:00",0,0,"00:00:00","00:00:00",0,0,"00:00:00","00:00:00",0,0,"00:00:00","00:00:00",0,0,"00:00:00","00:00:00",0,0,"00:00:00","00:00:00",0,0,"00:00:00","00:00:00",0,0,"00:00:00","00:00:00",0,0,"00:00:00","00:00:00",0,0]
[null,null,null,null,null,null,null,0,"00:00:00","00:00:00",0,0,"00:00:00","00:00:00",0,0,"00:00:00","00:00:00",0,0,"00:00:00","00:00:00",0,0,"00:00:00","00:00:00",0,0,"00:00:00","00:00:00",0,0,"00:00:00","00:00:00",0,0,"00:00:00","00:00:00",0,0,"00:00:00","00:00:00",0,0,"00:00:00","00:00:00",0,0]
[null,null,null,null,null,null,null,0,"00:00:00","00:00:00",0,0,"00:00:00","00:00:00",0,0,"00:00:00","00:00:00",0,0,"00:00:00","00:00:00",0,0,"00:00:00","00:00:00",0,0,"00:00:00","00:00:00",0,0,"00:00:00","00:00:00",0,0,"00:00:00","00:00:00",0,0,"00:00:00","00:00:00",0,0,"00:00:00","00:00:00",0,0]
[null,null,null,null,null,null,null,0,"00:00:00","00:00:00",0,0,"00:00:00","00:00:00",0,0,"00:00:00","00:00:00",0,0,"00:00:00","00:00:00",0,0,"00:00:00","00:00:00",0,0,"00:00:00","00:00:00",0,0,"00:00:00","00:00:00",0,0,"00:00:00","00:00:00",0,0,"00:00:00","00:00:00",0,0,"00:00:00","00:00:00",0,0]
[null,null,null,null,null,null,null,0,"00:00:00","00:00:00",0,0,"00:00:00","00:00:00",0,0,"00:00:00","00:00:00",0,0,"00:00:00","00:00:00",0,0,"00:00:00","00:00:00",0,0,"00:00:00","00:00:00",0,0,"00:00:00","00:00:00",0,0,"00:00:00","00:00:00",0,0,"00:00:00","00:00:00",0,0,"00:00:00","00:00:00",0,0]
[null,null,null,null,null,null,null,0,"00:00:00","00:00:00",0,0,"00:00:00","00:00:00",0,0,"00:00:00","00:00:00",0,0,"00:00:00","00:00:00",0,0,"00:00:00","00:00:00",0,0,"00:00:00","00:00:00",0,0,"00:00:00","00:00:00",0,0,"00:00:00","00:00:00",0,0,"00:00:00","00:00:00",0,0,"00:00:00","00:00:00",0,0]
[null,null,null,null,null,null,null,0,"00:00:00","00:00:00",0,0,"00:00:00","00:00:00",0,0,"00:00:00","00:00:00",0,0,"00:00:00","00:00:00",0,0,"00:00:00","00:00:00",0,0,"00:00:00","00:00:00",0,0,"00:00:00","00:00:00",0,0,"00:00:00","00:00:00",0,0,"00:00:00","00:00:00",0,0,"00:00:00","00:00:00",0,0]
[null,null,null,null,null,null,null,0,"00:00:00","00:00:00",0,0,"00:00:00","00:00:00",0,0,"00:00:00","00:00:00",0,0,"00:00:00","00:00:00",0,0,"00:00:00","00:00:00",0,0,"00:00:00","00:00:00",0,0,"00:00:00","00:00:00",0,0,"00:00:00","00:00:00",0,0,"00:00:00","00:00:00",0,0,"00:00:00","00:00:00",0,0]
[null,null,null,null,null,null,null,0,"00:00:00","00:00:00",0,0,"00:00:00","00:00:00",0,0,"00:00:00","00:00:00",0,0,"00:00:00","00:00:00",0,0,"00:00:00","00:00:00",0,0,"00:00:00","00:00:00",0,0,"00:00:00","00:00:00",0,0,"00:00:00","00:00:00",0,0,"00:00:00","00:00:00",0,0,"00:00:00","00:00:00",0,0]
[null,null,null,null,null,null,null,0,"00:00:00","00:00:00",0,0,"00:00:00","00:00:00",0,0,"00:00:00","00:00:00",0,0,"00:00:00","00:00:00",0,0,"00:00:00","00:00:00",0,0,"00:00:00","00:00:00",0,0,"00:00:00","00:00:00",0,0,"00:00:00","00:00:00",0,0,"00:00:00","00:00:00",0,0,"00:00:00","00:00:00",0,0]
[null,null,null,null,null,null,null,0,"00:00:00","00:00:00",0,0,"00:00:00","00:00:00",0,0,"00:00:00","00:00:00",0,0,"00:00:00","00:00:00",0,0,"00:00:00","00:00:00",0,0,"00:00:00","00:00:00",0,0,"00:00:00","00:00:00",0,0,"00:00:00","00:00:00",0,0,"00:00:00","00:00:00",0,0,"00:00:00","00:00:00",0,0]
[null,null,null,null,null,null,null,0,"00:00:00","00:00:00",0,0,"00:00:00","00:00:00",0,0,"00:00:00","00:00:00",0,0,"00:00:00","00:00:00",0,0,"00:00:00","00:00:00",0,0,"00:00:00","00:00:00",0,0,"00:00:00","00:00:00",0,0,"00:00:00","00:00:00",0,0,"00:00:00","00:00:00",0,0,"00:00:00","00:00:00",0,0]
[null,null,null,null,null,null,null,0,"00:00:00","00:00:00",0,0,"00:00:00","00:00:00",0,0,"00:00:00","00:00:00",0,0,"00:00:00","00:00:00",0,0,"00:00:00","00:00:00",0,0,"00:00:00","00:00:00",0,0,"00:00:00","00:00:00",0,0,"00:00:00","00:00:00",0,0,"00:00:00","00:00:00",0,0,"00:00:00","00:00:00",0,0]
[null,null,null,null,null,null,null,0,"00:00:00","00:00:00",0,0,"00:00:00","00:00:00",0,0,"00:00:00","00:00:00",0,0,"00:00:00","00:00:00",0,0,"00:00:00","00:00:00",0,0,"00:00:00","00:00:00",0,0,"00:00:00","00:00:00",0,0,"00:00:00","00:00:00",0,0,"00:00:00","00:00:00",0,0,"00:00:00","00:00:00",0,0]
[null,null,null,null,null,null,null,0,"00:00:00","00:00:00",0,0,"00:00:00","00:00:00",0,0,"00:00:00","00:00:00",0,0,"00:00:00","00:00:00",0,0,"00:00:00","00:00:00",0,0,"00:00:00","00:00:00",0,0,"00:00:00","00:00:00",0,0,"00:00:00","00:00:00",0,0,"00:00:00","00:00:00",0,0,"00:00:00","00:00:00",0,0]
[null,null,null,null,null,null,null,0,"00:00:00","00:00:00",0,0,"00:00:00","00:00:00",0,0,"00:00:00","00:00:00",0,0,"00:00:00","00:00:00",0,0,"00:00:00","00:00:00",0,0,"00:00:00","00:00:00",0,0,"00:00:00","00:00:00",0,0,"00:00:00","00:00:00",0,0,"00:00:00","00:00:00",0,0,"00:00:00","00:00:00",0,0]
[null,null,null,null,null,null,null,0,"00:00:00","00:00:00",0,0,"00:00:00","00:00:00",0,0,"00:00:00","00:00:00",0,0,"00:00:00","00:00:00",0,0,"00:00:00","00:00:00",0,0,"00:00:00","00:00:00",0,0,"00:00:00","00:00:00",0,0,"00:00:00","00:00:00",0,0,"00:00:00","00:00:00",0,0,"00:00:00","00:00:00",0,0]
[null,null,null,null,null,null,null,0,"00:00:00","00:00:00",0,0,"00:00:00","00:00:00",0,0,"00:00:00","00:00:00",0,0,"00:00:00","00:00:00",0,0,"00:00:00","00:00:00",0,0,"00:00:00","00:00:00",0,0,"00:00:00","00:00:00",0,0,"00:00:00","00:00:00",0,0,"00:00:00","00:00:00",0,0,"00:00:00","00:00:00",0,0]
[null,null,null,null,null,null,null,0,"00:00:00","00:00:00",0,0,"00:00:00","00:00:00",0,0,"00:00:00","00:00:00",0,0,"00:00:00","00:00:00",0,0,"00:00:00","00:00:00",0,0,"00:00:00","00:00:00",0,0,"00:00:00","00:00:00",0,0,"00:00:00","00:00:00",0,0,"00:00:00","00:00:00",0,0,"00:00:00","00:00:00",0,0]
[null,null,null,null,null,null,null,0,"00:00:00","00:00:00",0,0,"00:00:00","00:00:00",0,0,"00:00:00","00:00:00",0,0,"00:00:00","00:00:00",0,0,"00:00:00","00:00:00",0,0,"00:00:00","00:00:00",0,0,"00:00:00","00:00:00",0,0,"00:00:00","00:00:00",0,0,"00:00:00","00:00:00",0,0,"00:00:00","00:00:00",0,0]
[null,null,null,null,null,null,null,0,"00:00:00","00:00:00",0,0,"00:00:00","00:00:00",0,0,"00:00:00","00:00:00",0,0,"00:00:00","00:00:00",0,0,"00:00:00","00:00:00",0,0,"00:00:00","00:00:00",0,0,"00:00:00","00:00:00",0,0,"00:00:00","00:00:00",0,0,"00:00:00","00:00:00",0,0,"00:00:00","00:00:00",0,0]
[null,null,null,null,null,null,null,0,"00:00:00","00:00:00",0,0,"00:00:00","00:00:00",0,0,"00:00:00","00:00:00",0,0,"00:00:00","00:00:00",0,0,"00:00:00","00:00:00",0,0,"00:00:00","00:00:00",0,0,"00:00:00","00:00:00",0,0,"00:00:00","00:00:00",0,0,"00:00:00","00:00:00",0,0,"00:00:00","00:00:00",0,0]
[null,null,null,null,null,null,null,0,"00:00:00","00:00:00",0,0,"00:00:00","00:00:00",0,0,"00:00:00","00:00:00",0,0,"00:00:00","00:00:00",0,0,"00:00:00","00:00:00",0,0,"00:00:00","00:00:00",0,0,"00:00:00","00:00:00",0,0,"00:00:00","00:00:00",0,0,"00:00:00","00:00:00",0,0,"00:00:00","00:00:00",0,0]
[null,null,null,null,null,null,null,0,"00:00:00","00:00:00",0,0,"00:00:00","00:00:00",0,0,"00:00:00","00:00:00",0,0,"00:00:00","00:00:00",0,0,"00:00:00","00:00:00",0,0,"00:00:00","00:00:00",0,0,"00:00:00","00:00:00",0,0,"00:00:00","00:00:00",0,0,"00:00:00","00:00:00",0,0,"00:00:00","00:00:00",0,0]
[null,null,null,null,null,null,null,0,"00:00:00","00:00:00",0,0,"00:00:00","00:00:00",0,0,"00:00:00","00:00:00",0,0,"00:00:00","00:00:00",0,0,"00:00:00","00:00:00",0,0,"00:00:00","00:00:00",0,0,"00:00:00","00:00:00",0,0,"00:00:00","00:00:00",0,0,"00:00:00","00:00:00",0,0,"00:00:00","00:00:00",0,0]
[null,null,null,null,null,null,null,0,"00:00:00","00:00:00",0,0,"00:00:00","00:00:00",0,0,"00:00:00","00:00:00",0,0,"00:00:00","00:00:00",0,0,"00:00:00","00:00:00",0,0,"00:00:00","00:00:00",0,0,"00:00:00","00:00:00",0,0,"00:00:00","00:00:00",0,0,"00:00:00","00:00:00",0,0,"00:00:00","00:00:00",0,0]
[null,null,null,null,null,null,null,0,"00:00:00","00:00:00",0,0,"00:00:00","00:00:00",0,0,"00:00:00","00:00:00",0,0,"00:00:00","00:00:00",0,0,"00:00:00","00:00:00",0,0,"00:00:00","00:00:00",0,0,"00:00:00","00:00:00",0,0,"00:00:00","00:00:00",0,0,"00:00:00","00:00:00",0,0,"00:00:00","00:00:00",0,0]
[null,null,null,null,null,null,null,0,"00:00:00","00:00:00",0,0,"00:00:00","00:00:00",0,0,"00:00:00","00:00:00",0,0,"00:00:00","00:00:00",0,0,"00:00:00","00:00:00",0,0,"00:00:00","00:00:00",0,0,"00:00:00","00:00:00",0,0,"00:00:00","00:00:00",0,0,"00:00:00","00:00:00",0,0,"00:00:00","00:00:00",0,0]
[null,null,null,null,null,null,null,0,"00:00:00","00:00:00",0,0,"00:00:00","00:00:00",0,0,"00:00:00","00:00:00",0,0,"00:00:00","00:00:00",0,0,"00:00:00","00:00:00",0,0,"00:00:00","00:00:00",0,0,"00:00:00","00:00:00",0,0,"00:00:00","00:00:00",0,0,"00:00:00","00:00:00",0,0,"00:00:00","00:00:00",0,0]
[null,null,null,null,null,null,null,0,"00:00:00","00:00:00",0,0,"00:00:00","00:00:00",0,0,"00:00:00","00:00:00",0,0,"00:00:00","00:00:00",0,0,"00:00:00","00:00:00",0,0,"00:00:00","00:00:00",0,0,"00:00:00","00:00:00",0,0,"00:00:00","00:00:00",0,0,"00:00:00","00:00:00",0,0,"00:00:00","00:00:00",0,0]
[null,null,null,null,null,null,null,0,"00:00:00","00:00:00",0,0,"00:00:00","00:00:00",0,0,"00:00:00","00:00:00",0,0,"00:00:00","00:00:00",0,0,"00:00:00","00:00:00",0,0,"00:00:00","00:00:00",0,0,"00:00:00","00:00:00",0,0,"00:00:00","00:00:00",0,0,"00:00:00","00:00:00",0,0,"00:00:00","00:00:00",0,0]
[null,null,null,null,null,null,null,0,"00:00:00","00:00:00",0,0,"00:00:00","00:00:00",0,0,"00:00:00","00:00:00",0,0,"00:00:00","00:00:00",0,0,"00:00:00","00:00:00",0,0,"00:00:00","00:00:00",0,0,"00:00:00","00:00:00",0,0,"00:00:00","00:00:00",0,0,"00:00:00","00:00:00",0,0,"00:00:00","00:00:00",0,0]
[null,null,null,null,null,null,null,0,"00:00:00","00:00:00",0,0,"00:00:00","00:00:00",0,0,"00:00:00","00:00:00",0,0,"00:00:00","00:00:00",0,0,"00:00:00","00:00:00",0,0,"00:00:00","00:00:00",0,0,"00:00:00","00:00:00",0,0,"00:00:00","00:00:00",0,0,"00:00:00","00:00:00",0,0,"00:00:00","00:00:00",0,0]
[null,null,null,null,null,null,null,0,"00:00:00","00:00:00",0,0,"00:00:00","00:00:00",0,0,"00:00:00","00:00:00",0,0,"00:00:00","00:00:00",0,0,"00:00:00","00:00:00",0,0,"00:00:00","00:00:00",0,0,"00:00:00","00:00:00",0,0,"00:00:00","00:00:00",0,0,"00:00:00","00:00:00",0,0,"00:00:00","00:00:00",0,0]
[null,null,null,null,null,null,null,0,"00:00:00","00:00:00",0,0,"00:00:00","00:00:00",0,0,"00:00:00","00:00:00",0,0,"00:00:00","00:00:00",0,0,"00:00:00","00:00:00",0,0,"00:00:00","00:00:00",0,0,"00:00:00","00:00:00",0,0,"00:00:00","00:00:00",0,0,"00:00:00","00:00:00",0,0,"00:00:00","00:00:00",0,0]
[null,null,null,null,null,null,null,0,"00:00:00","00:00:00",0,0,"00:00:00","00:00:00",0,0,"00:00:00","00:00:00",0,0,"00:00:00","00:00:00",0,0,"00:00:00","00:00:00",0,0,"00:00:00","00:00:00",0,0,"00:00:00","00:00:00",0,0,"00:00:00","00:00:00",0,0,"00:00:00","00:00:00",0,0,"00:00:00","00:00:00",0,0]
[null,null,null,null,null,null,null,0,"00:00:00","00:00:00",0,0,"00:00:00","00:00:00",0,0,"00:00:00","00:00:00",0,0,"00:00:00","00:00:00",0,0,"00:00:00","00:00:00",0,0,"00:00:00","00:00:00",0,0,"00:00:00","00:00:00",0,0,"00:00:00","00:00:00",0,0,"00:00:00","00:00:00",0,0,"00:00:00","00:00:00",0,0]
[null,null,null,null,null,null,null,0,"00:00:00","00:00:00",0,0,"00:00:00","00:00:00",0,0,"00:00:00","00:00:00",0,0,"00:00:00","00:00:00",0,0,"00:00:00","00:00:00",0,0,"00:00:00","00:00:00",0,0,"00:00:00","00:00:00",0,0,"00:00:00","00:00:00",0,0,"00:00:00","00:00:00",0,0,"00:00:00","00:00:00",0,0]
[null,null,null,null,null,null,null,0,"00:00:00","00:00:00",0,0,"00:00:00","00:00:00",0,0,"00:00:00","00:00:00",0,0,"00:00:00","00:00:00",0,0,"00:00:00","00:00:00",0,0,"00:00:00","00:00:00",0,0,"00:00:00","00:00:00",0,0,"00:00:00","00:00:00",0,0,"00:00:00","00:00:00",0,0,"00:00:00","00:00:00",0,0]
[null,null,null,null,null,null,null,0,"00:00:00","00:00:00",0,0,"00:00:00","00:00:00",0,0,"00:00:00","00:00:00",0,0,"00:00:00","00:00:00",0,0,"00:00:00","00:00:00",0,0,"00:00:00","00:00:00",0,0,"00:00:00","00:00:00",0,0,"00:00:00","00:00:00",0,0,"00:00:00","00:00:00",0,0,"00:00:00","00:00:00",0,0]
[null,null,null,null,null,null,null,0,"00:00:00","00:00:00",0,0,"00:00:00","00:00:00",0,0,"00:00:00","00:00:00",0,0,"00:00:00","00:00:00",0,0,"00:00:00","00:00:00",0,0,"00:00:00","00:00:00",0,0,"00:00:00","00:00:00",0,0,"00:00:00","00:00:00",0,0,"00:00:00","00:00:00",0,0,"00:00:00","00:00:00",0,0]
[null,null,null,null,null,null,null,0,"00:00:00","00:00:00",0,0,"00:00:00","00:00:00",0,0,"00:00:00","00:00:00",0,0,"00:00:00","00:00:00",0,0,"00:00:00","00:00:00",0,0,"00:00:00","00:00:00",0,0,"00:00:00","00:00:00",0,0,"00:00:00","00:00:00",0,0,"00:00:00","00:00:00",0,0,"00:00:00","00:00:00",0,0]
[null,null,null,null,null,null,null,0,"00:00:00","00:00:00",0,0,"00:00:00","00:00:00",0,0,"00:00:00","00:00:00",0,0,"00:00:00","00:00:00",0,0,"00:00:00","00:00:00",0,0,"00:00:00","00:00:00",0,0,"00:00:00","00:00:00",0,0,"00:00:00","00:00:00",0,0,"00:00:00","00:00:00",0,0,"00:00:00","00:00:00",0,0]
[null,null,null,null,null,null,null,0,"00:00:00","00:00:00",0,0,"00:00:00","00:00:00",0,0,"00:00:00","00:00:00",0,0,"00:00:00","00:00:00",0,0,"00:00:00","00:00:00",0,0,"00:00:00","00:00:00",0,0,"00:00:00","00:00:00",0,0,"00:00:00","00:00:00",0,0,"00:00:00","00:00:00",0,0,"00:00:00","00:00:00",0,0]
[null,null,null,null,null,null,null,0,"00:00:00","00:00:00",0,0,"00:00:00","00:00:00",0,0,"00:00:00","00:00:00",0,0,"00:00:00","00:00:00",0,0,"00:00:00","00:00:00",0,0,"00:00:00","00:00:00",0,0,"00:00:00","00:00:00",0,0,"00:00:00","00:00:00",0,0,"00:00:00","00:00:00",0,0,"00:00:00","00:00:00",0,0]
[null,null,null,null,null,null,null,0,"00:00:00","00:00:00",0,0,"00:00:00","00:00:00",0,0,"00:00:00","00:00:00",0,0,"00:00:00","00:00:00",0,0,"00:00:00","00:00:00",0,0,"00:00:00","00:00:00",0,0,"00:00:00","00:00:00",0,0,"00:00:00","00:00:00",0,0,"00:00:00","00:00:00",0,0,"00:00:00","00:00:00",0,0]
[null,null,null,null,null,null,null,0,"00:00:00","00:00:00",0,0,"00:00:00","00:00:00",0,0,"00:00:00","00:00:00",0,0,"00:00:00","00:00:00",0,0,"00:00:00","00:00:00",0,0,"00:00:00","00:00:00",0,0,"00:00:00","00:00:00",0,0,"00:00:00","00:00:00",0,0,"00:00:00","00:00:00",0,0,"00:00:00","00:00:00",0,0]
[null,null,null,null,null,null,null,0,"00:00:00","00:00:00",0,0,"00:00:00","00:00:00",0,0,"00:00:00","00:00:00",0,0,"00:00:00","00:00:00",0,0,"00:00:00","00:00:00",0,0,"00:00:00","00:00:00",0,0,"00:00:00","00:00:00",0,0,"00:00:00","00:00:00",0,0,"00:00:00","00:00:00",0,0,"00:00:00","00:00:00",0,0]
[null,null,null,null,null,null,null,0,"00:00:00","00:00:00",0,0,"00:00:00","00:00:00",0,0,"00:00:00","00:00:00",0,0,"00:00:00","00:00:00",0,0,"00:00:00","00:00:00",0,0,"00:00:00","00:00:00",0,0,"00:00:00","00:00:00",0,0,"00:00:00","00:00:00",0,0,"00:00:00","00:00:00",0,0,"00:00:00","00:00:00",0,0]
[null,null,null,null,null,null,null,0,"00:00:00","00:00:00",0,0,"00:00:00","00:00:00",0,0,"00:00:00","00:00:00",0,0,"00:00:00","00:00:00",0,0,"00:00:00","00:00:00",0,0,"00:00:00","00:00:00",0,0,"00:00:00","00:00:00",0,0,"00:00:00","00:00:00",0,0,"00:00:00","00:00:00",0,0,"00:00:00","00:00:00",0,0]
[null,null,null,null,null,null,null,0,"00:00:00","00:00:00",0,0,"00:00:00","00:00:00",0,0,"00:00:00","00:00:00",0,0,"00:00:00","00:00:00",0,0,"00:00:00","00:00:00",0,0,"00:00:00","00:00:00",0,0,"00:00:00","00:00:00",0,0,"00:00:00","00:00:00",0,0,"00:00:00","00:00:00",0,0,"00:00:00","00:00:00",0,0]
[null,null,null,null,null,null,null,0,"00:00:00","00:00:00",0,0,"00:00:00","00:00:00",0,0,"00:00:00","00:00:00",0,0,"00:00:00","00:00:00",0,0,"00:00:00","00:00:00",0,0,"00:00:00","00:00:00",0,0,"00:00:00","00:00:00",0,0,"00:00:00","00:00:00",0,0,"00:00:00","00:00:00",0,0,"00:00:00","00:00:00",0,0]
[null,null,null,null,null,null,null,0,"00:00:00","00:00:00",0,0,"00:00:00","00:00:00",0,0,"00:00:00","00:00:00",0,0,"00:00:00","00:00:00",0,0,"00:00:00","00:00:00",0,0,"00:00:00","00:00:00",0,0,"00:00:00","00:00:00",0,0,"00:00:00","00:00:00",0,0,"00:00:00","00:00:00",0,0,"00:00:00","00:00:00",0,0]
[null,null,null,null,null,null,null,0,"00:00:00","00:00:00",0,0,"00:00:00","00:00:00",0,0,"00:00:00","00:00:00",0,0,"00:00:00","00:00:00",0,0,"00:00:00","00:00:00",0,0,"00:00:00","00:00:00",0,0,"00:00:00","00:00:00",0,0,"00:00:00","00:00:00",0,0,"00:00:00","00:00:00",0,0,"00:00:00","00:00:00",0,0]
[null,null,null,null,null,null,null,0,"00:00:00","00:00:00",0,0,"00:00:00","00:00:00",0,0,"00:00:00","00:00:00",0,0,"00:00:00","00:00:00",0,0,"00:00:00","00:00:00",0,0,"00:00:00","00:00:00",0,0,"00:00:00","00:00:00",0,0,"00:00:00","00:00:00",0,0,"00:00:00","00:00:00",0,0,"00:00:00","00:00:00",0,0]
[null,null,null,null,null,null,null,0,"00:00:00","00:00:00",0,0,"00:00:00","00:00:00",0,0,"00:00:00","00:00:00",0,0,"00:00:00","00:00:00",0,0,"00:00:00","00:00:00",0,0,"00:00:00","00:00:00",0,0,"00:00:00","00:00:00",0,0,"00:00:00","00:00:00",0,0,"00:00:00","00:00:00",0,0,"00:00:00","00:00:00",0,0]
[null,null,null,null,null,null,null,0,"00:00:00","00:00:00",0,0,"00:00:00","00:00:00",0,0,"00:00:00","00:00:00",0,0,"00:00:00","00:00:00",0,0,"00:00:00","00:00:00",0,0,"00:00:00","00:00:00",0,0,"00:00:00","00:00:00",0,0,"00:00:00","00:00:00",0,0,"00:00:00","00:00:00",0,0,"00:00:00","00:00:00",0,0]
[null,null,null,null,null,null,null,0,"00:00:00","00:00:00",0,0,"00:00:00","00:00:00",0,0,"00:00:00","00:00:00",0,0,"00:00:00","00:00:00",0,0,"00:00:00","00:00:00",0,0,"00:00:00","00:00:00",0,0,"00:00:00","00:00:00",0,0,"00:00:00","00:00:00",0,0,"00:00:00","00:00:00",0,0,"00:00:00","00:00:00",0,0]
[null,null,null,null,null,null,null,0,"00:00:00","00:00:00",0,0,"00:00:00","00:00:00",0,0,"00:00:00","00:00:00",0,0,"00:00:00","00:00:00",0,0,"00:00:00","00:00:00",0,0,"00:00:00","00:00:00",0,0,"00:00:00","00:00:00",0,0,"00:00:00","00:00:00",0,0,"00:00:00","00:00:00",0,0,"00:00:00","00:00:00",0,0]
[null,null,null,null,null,null,null,0,"00:00:00","00:00:00",0,0,"00:00:00","00:00:00",0,0,"00:00:00","00:00:00",0,0,"00:00:00","00:00:00",0,0,"00:00:00","00:00:00",0,0,"00:00:00","00:00:00",0,0,"00:00:00","00:00:00",0,0,"00:00:00","00:00:00",0,0,"00:00:00","00:00:00",0,0,"00:00:00","00:00:00",0,0]
[null,null,null,null,null,null,null,0,"00:00:00","00:00:00",0,0,"00:00:00","00:00:00",0,0,"00:00:00","00:00:00",0,0,"00:00:00","00:00:00",0,0,"00:00:00","00:00:00",0,0,"00:00:00","00:00:00",0,0,"00:00:00","00:00:00",0,0,"00:00:00","00:00:00",0,0,"00:00:00","00:00:00",0,0,"00:00:00","00:00:00",0,0]
[null,null,null,null,null,null,null,{"$f":"IF(F781-E781=0,0,F781-E781+1)","v":0},{"$f":"IF(OR($F781<I$10,$E781>J$10),0,IF(AND($E781>=I$10,$F781<=J$10),$E781,IF(AND($E781<=I$10,$F781<=J$10),I$10,IF(AND($E781<=J$10,$F781>=J$10,$E781>=I$10),$E781,IF(AND($E781<=I$10,$F781>=J$10),I$10,\"chyba\")))))","v":"00:00:00"},{"$f":"IF(OR($F781<I$10,$E781>J$10),0,IF(AND($E781>=I$10,$F781<=J$10),$F781,IF(AND($E781<=I$10,$F781<=J$10),$F781,IF(AND($E781<=J$10,$F781>=J$10),J$10,IF(AND($E781<=I$10,$F781>=J$10),J$10,\"chyba\")))))","v":"00:00:00"},{"$f":"IF(J781-I781=0,0,J781-I781+1)","v":0},{"$f":"IF($H781<=0,0,$G781/$H781*K781)","v":0},{"$f":"IF(OR($F781<M$10,$E781>N$10),0,IF(AND($E781>=M$10,$F781<=N$10),$E781,IF(AND($E781<=M$10,$F781<=N$10),M$10,IF(AND($E781<=N$10,$F781>=N$10,$E781>=M$10),$E781,IF(AND($E781<=M$10,$F781>=N$10),M$10,\"chyba\")))))","v":"00:00:00"},{"$f":"IF(OR($F781<M$10,$E781>N$10),0,IF(AND($E781>=M$10,$F781<=N$10),$F781,IF(AND($E781<=M$10,$F781<=N$10),$F781,IF(AND($E781<=N$10,$F781>=N$10),N$10,IF(AND($E781<=M$10,$F781>=N$10),N$10,\"chyba\")))))","v":"00:00:00"},{"$f":"IF(N781-M781=0,0,N781-M781+1)","v":0},{"$f":"IF($H781<=0,0,$G781/$H781*O781)","v":0},{"$f":"IF(OR($F781<Q$10,$E781>R$10),0,IF(AND($E781>=Q$10,$F781<=R$10),$E781,IF(AND($E781<=Q$10,$F781<=R$10),Q$10,IF(AND($E781<=R$10,$F781>=R$10,$E781>=Q$10),$E781,IF(AND($E781<=Q$10,$F781>=R$10),Q$10,\"chyba\")))))","v":"00:00:00"},{"$f":"IF(OR($F781<Q$10,$E781>R$10),0,IF(AND($E781>=Q$10,$F781<=R$10),$F781,IF(AND($E781<=Q$10,$F781<=R$10),$F781,IF(AND($E781<=R$10,$F781>=R$10),R$10,IF(AND($E781<=Q$10,$F781>=R$10),R$10,\"chyba\")))))","v":"00:00:00"},{"$f":"IF(R781-Q781=0,0,R781-Q781+1)","v":0},{"$f":"IF($H781<=0,0,$G781/$H781*S781)","v":0},{"$f":"IF(OR($F781<U$10,$E781>V$10),0,IF(AND($E781>=U$10,$F781<=V$10),$E781,IF(AND($E781<=U$10,$F781<=V$10),U$10,IF(AND($E781<=V$10,$F781>=V$10,$E781>=U$10),$E781,IF(AND($E781<=U$10,$F781>=V$10),U$10,\"chyba\")))))","v":"00:00:00"},{"$f":"IF(OR($F781<U$10,$E781>V$10),0,IF(AND($E781>=U$10,$F781<=V$10),$F781,IF(AND($E781<=U$10,$F781<=V$10),$F781,IF(AND($E781<=V$10,$F781>=V$10),V$10,IF(AND($E781<=U$10,$F781>=V$10),V$10,\"chyba\")))))","v":"00:00:00"},{"$f":"IF(V781-U781=0,0,V781-U781+1)","v":0},{"$f":"IF($H781<=0,0,$G781/$H781*W781)","v":0},{"$f":"IF(OR($F781<Y$10,$E781>Z$10),0,IF(AND($E781>=Y$10,$F781<=Z$10),$E781,IF(AND($E781<=Y$10,$F781<=Z$10),Y$10,IF(AND($E781<=Z$10,$F781>=Z$10,$E781>=Y$10),$E781,IF(AND($E781<=Y$10,$F781>=Z$10),Y$10,\"chyba\")))))","v":"00:00:00"},{"$f":"IF(OR($F781<Y$10,$E781>Z$10),0,IF(AND($E781>=Y$10,$F781<=Z$10),$F781,IF(AND($E781<=Y$10,$F781<=Z$10),$F781,IF(AND($E781<=Z$10,$F781>=Z$10),Z$10,IF(AND($E781<=Y$10,$F781>=Z$10),Z$10,\"chyba\")))))","v":"00:00:00"},{"$f":"IF(Z781-Y781=0,0,Z781-Y781+1)","v":0},{"$f":"IF($H781<=0,0,$G781/$H781*AA781)","v":0},{"$f":"IF(OR($F781<AC$10,$E781>AD$10),0,IF(AND($E781>=AC$10,$F781<=AD$10),$E781,IF(AND($E781<=AC$10,$F781<=AD$10),AC$10,IF(AND($E781<=AD$10,$F781>=AD$10,$E781>=AC$10),$E781,IF(AND($E781<=AC$10,$F781>=AD$10),AC$10,\"chyba\")))))","v":"00:00:00"},{"$f":"IF(OR($F781<AC$10,$E781>AD$10),0,IF(AND($E781>=AC$10,$F781<=AD$10),$F781,IF(AND($E781<=AC$10,$F781<=AD$10),$F781,IF(AND($E781<=AD$10,$F781>=AD$10),AD$10,IF(AND($E781<=AC$10,$F781>=AD$10),AD$10,\"chyba\")))))","v":"00:00:00"},{"$f":"IF(AD781-AC781=0,0,AD781-AC781+1)","v":0},{"$f":"IF($H781<=0,0,$G781/$H781*AE781)","v":0},{"$f":"IF(OR($F781<AG$10,$E781>AH$10),0,IF(AND($E781>=AG$10,$F781<=AH$10),$E781,IF(AND($E781<=AG$10,$F781<=AH$10),AG$10,IF(AND($E781<=AH$10,$F781>=AH$10,$E781>=AG$10),$E781,IF(AND($E781<=AG$10,$F781>=AH$10),AG$10,\"chyba\")))))","v":"00:00:00"},{"$f":"IF(OR($F781<AG$10,$E781>AH$10),0,IF(AND($E781>=AG$10,$F781<=AH$10),$F781,IF(AND($E781<=AG$10,$F781<=AH$10),$F781,IF(AND($E781<=AH$10,$F781>=AH$10),AH$10,IF(AND($E781<=AG$10,$F781>=AH$10),AH$10,\"chyba\")))))","v":"00:00:00"},{"$f":"IF(AH781-AG781=0,0,AH781-AG781+1)","v":0},{"$f":"IF($H781<=0,0,$G781/$H781*AI781)","v":0},{"$f":"IF(OR($F781<AK$10,$E781>AL$10),0,IF(AND($E781>=AK$10,$F781<=AL$10),$E781,IF(AND($E781<=AK$10,$F781<=AL$10),AK$10,IF(AND($E781<=AL$10,$F781>=AL$10,$E781>=AK$10),$E781,IF(AND($E781<=AK$10,$F781>=AL$10),AK$10,\"chyba\")))))","v":"00:00:00"},{"$f":"IF(OR($F781<AK$10,$E781>AL$10),0,IF(AND($E781>=AK$10,$F781<=AL$10),$F781,IF(AND($E781<=AK$10,$F781<=AL$10),$F781,IF(AND($E781<=AL$10,$F781>=AL$10),AL$10,IF(AND($E781<=AK$10,$F781>=AL$10),AL$10,\"chyba\")))))","v":"00:00:00"},{"$f":"IF(AL781-AK781=0,0,AL781-AK781+1)","v":0},{"$f":"IF($H781<=0,0,$G781/$H781*AM781)","v":0},{"$f":"IF(OR($F781<AO$10,$E781>AP$10),0,IF(AND($E781>=AO$10,$F781<=AP$10),$E781,IF(AND($E781<=AO$10,$F781<=AP$10),AO$10,IF(AND($E781<=AP$10,$F781>=AP$10,$E781>=AO$10),$E781,IF(AND($E781<=AO$10,$F781>=AP$10),AO$10,\"chyba\")))))","v":"00:00:00"},{"$f":"IF(OR($F781<AO$10,$E781>AP$10),0,IF(AND($E781>=AO$10,$F781<=AP$10),$F781,IF(AND($E781<=AO$10,$F781<=AP$10),$F781,IF(AND($E781<=AP$10,$F781>=AP$10),AP$10,IF(AND($E781<=AO$10,$F781>=AP$10),AP$10,\"chyba\")))))","v":"00:00:00"},{"$f":"IF(AP781-AO781=0,0,AP781-AO781+1)","v":0},{"$f":"IF($H781<=0,0,$G781/$H781*AQ781)","v":0},{"$f":"IF(OR($F781<AS$10,$E781>AT$10),0,IF(AND($E781>=AS$10,$F781<=AT$10),$E781,IF(AND($E781<=AS$10,$F781<=AT$10),AS$10,IF(AND($E781<=AT$10,$F781>=AT$10,$E781>=AS$10),$E781,IF(AND($E781<=AS$10,$F781>=AT$10),AS$10,\"chyba\")))))","v":"00:00:00"},{"$f":"IF(OR($F781<AS$10,$E781>AT$10),0,IF(AND($E781>=AS$10,$F781<=AT$10),$F781,IF(AND($E781<=AS$10,$F781<=AT$10),$F781,IF(AND($E781<=AT$10,$F781>=AT$10),AT$10,IF(AND($E781<=AS$10,$F781>=AT$10),AT$10,\"chyba\")))))","v":"00:00:00"},{"$f":"IF(AT781-AS781=0,0,AT781-AS781+1)","v":0},{"$f":"IF($H781<=0,0,$G781/$H781*AU781)","v":0}]
[null,null,null,null,null,null,null,0,"00:00:00","00:00:00",0,0,"00:00:00","00:00:00",0,0,"00:00:00","00:00:00",0,0,"00:00:00","00:00:00",0,0,"00:00:00","00:00:00",0,0,"00:00:00","00:00:00",0,0,"00:00:00","00:00:00",0,0,"00:00:00","00:00:00",0,0,"00:00:00","00:00:00",0,0,"00:00:00","00:00:00",0,0]
[null,null,null,null,null,null,null,0,"00:00:00","00:00:00",0,0,"00:00:00","00:00:00",0,0,"00:00:00","00:00:00",0,0,"00:00:00","00:00:00",0,0,"00:00:00","00:00:00",0,0,"00:00:00","00:00:00",0,0,"00:00:00","00:00:00",0,0,"00:00:00","00:00:00",0,0,"00:00:00","00:00:00",0,0,"00:00:00","00:00:00",0,0]
[null,null,null,null,null,null,null,0,"00:00:00","00:00:00",0,0,"00:00:00","00:00:00",0,0,"00:00:00","00:00:00",0,0,"00:00:00","00:00:00",0,0,"00:00:00","00:00:00",0,0,"00:00:00","00:00:00",0,0,"00:00:00","00:00:00",0,0,"00:00:00","00:00:00",0,0,"00:00:00","00:00:00",0,0,"00:00:00","00:00:00",0,0]
[null,null,null,null,null,null,null,0,"00:00:00","00:00:00",0,0,"00:00:00","00:00:00",0,0,"00:00:00","00:00:00",0,0,"00:00:00","00:00:00",0,0,"00:00:00","00:00:00",0,0,"00:00:00","00:00:00",0,0,"00:00:00","00:00:00",0,0,"00:00:00","00:00:00",0,0,"00:00:00","00:00:00",0,0,"00:00:00","00:00:00",0,0]
[null,null,null,null,null,null,null,0,"00:00:00","00:00:00",0,0,"00:00:00","00:00:00",0,0,"00:00:00","00:00:00",0,0,"00:00:00","00:00:00",0,0,"00:00:00","00:00:00",0,0,"00:00:00","00:00:00",0,0,"00:00:00","00:00:00",0,0,"00:00:00","00:00:00",0,0,"00:00:00","00:00:00",0,0,"00:00:00","00:00:00",0,0]
[null,null,null,null,null,null,null,0,"00:00:00","00:00:00",0,0,"00:00:00","00:00:00",0,0,"00:00:00","00:00:00",0,0,"00:00:00","00:00:00",0,0,"00:00:00","00:00:00",0,0,"00:00:00","00:00:00",0,0,"00:00:00","00:00:00",0,0,"00:00:00","00:00:00",0,0,"00:00:00","00:00:00",0,0,"00:00:00","00:00:00",0,0]
[null,null,null,null,null,null,null,0,"00:00:00","00:00:00",0,0,"00:00:00","00:00:00",0,0,"00:00:00","00:00:00",0,0,"00:00:00","00:00:00",0,0,"00:00:00","00:00:00",0,0,"00:00:00","00:00:00",0,0,"00:00:00","00:00:00",0,0,"00:00:00","00:00:00",0,0,"00:00:00","00:00:00",0,0,"00:00:00","00:00:00",0,0]
[null,null,null,null,null,null,null,0,"00:00:00","00:00:00",0,0,"00:00:00","00:00:00",0,0,"00:00:00","00:00:00",0,0,"00:00:00","00:00:00",0,0,"00:00:00","00:00:00",0,0,"00:00:00","00:00:00",0,0,"00:00:00","00:00:00",0,0,"00:00:00","00:00:00",0,0,"00:00:00","00:00:00",0,0,"00:00:00","00:00:00",0,0]
[null,null,null,null,null,null,null,0,"00:00:00","00:00:00",0,0,"00:00:00","00:00:00",0,0,"00:00:00","00:00:00",0,0,"00:00:00","00:00:00",0,0,"00:00:00","00:00:00",0,0,"00:00:00","00:00:00",0,0,"00:00:00","00:00:00",0,0,"00:00:00","00:00:00",0,0,"00:00:00","00:00:00",0,0,"00:00:00","00:00:00",0,0]
[null,null,null,null,null,null,null,0,"00:00:00","00:00:00",0,0,"00:00:00","00:00:00",0,0,"00:00:00","00:00:00",0,0,"00:00:00","00:00:00",0,0,"00:00:00","00:00:00",0,0,"00:00:00","00:00:00",0,0,"00:00:00","00:00:00",0,0,"00:00:00","00:00:00",0,0,"00:00:00","00:00:00",0,0,"00:00:00","00:00:00",0,0]
[null,null,null,null,null,null,null,0,"00:00:00","00:00:00",0,0,"00:00:00","00:00:00",0,0,"00:00:00","00:00:00",0,0,"00:00:00","00:00:00",0,0,"00:00:00","00:00:00",0,0,"00:00:00","00:00:00",0,0,"00:00:00","00:00:00",0,0,"00:00:00","00:00:00",0,0,"00:00:00","00:00:00",0,0,"00:00:00","00:00:00",0,0]
[null,null,null,null,null,null,null,0,"00:00:00","00:00:00",0,0,"00:00:00","00:00:00",0,0,"00:00:00","00:00:00",0,0,"00:00:00","00:00:00",0,0,"00:00:00","00:00:00",0,0,"00:00:00","00:00:00",0,0,"00:00:00","00:00:00",0,0,"00:00:00","00:00:00",0,0,"00:00:00","00:00:00",0,0,"00:00:00","00:00:00",0,0]
[null,null,null,null,null,null,null,0,"00:00:00","00:00:00",0,0,"00:00:00","00:00:00",0,0,"00:00:00","00:00:00",0,0,"00:00:00","00:00:00",0,0,"00:00:00","00:00:00",0,0,"00:00:00","00:00:00",0,0,"00:00:00","00:00:00",0,0,"00:00:00","00:00:00",0,0,"00:00:00","00:00:00",0,0,"00:00:00","00:00:00",0,0]
[null,null,null,null,null,null,null,0,"00:00:00","00:00:00",0,0,"00:00:00","00:00:00",0,0,"00:00:00","00:00:00",0,0,"00:00:00","00:00:00",0,0,"00:00:00","00:00:00",0,0,"00:00:00","00:00:00",0,0,"00:00:00","00:00:00",0,0,"00:00:00","00:00:00",0,0,"00:00:00","00:00:00",0,0,"00:00:00","00:00:00",0,0]
[null,null,null,null,null,null,null,0,"00:00:00","00:00:00",0,0,"00:00:00","00:00:00",0,0,"00:00:00","00:00:00",0,0,"00:00:00","00:00:00",0,0,"00:00:00","00:00:00",0,0,"00:00:00","00:00:00",0,0,"00:00:00","00:00:00",0,0,"00:00:00","00:00:00",0,0,"00:00:00","00:00:00",0,0,"00:00:00","00:00:00",0,0]
[null,null,null,null,null,null,null,0,"00:00:00","00:00:00",0,0,"00:00:00","00:00:00",0,0,"00:00:00","00:00:00",0,0,"00:00:00","00:00:00",0,0,"00:00:00","00:00:00",0,0,"00:00:00","00:00:00",0,0,"00:00:00","00:00:00",0,0,"00:00:00","00:00:00",0,0,"00:00:00","00:00:00",0,0,"00:00:00","00:00:00",0,0]
[null,null,null,null,null,null,null,0,"00:00:00","00:00:00",0,0,"00:00:00","00:00:00",0,0,"00:00:00","00:00:00",0,0,"00:00:00","00:00:00",0,0,"00:00:00","00:00:00",0,0,"00:00:00","00:00:00",0,0,"00:00:00","00:00:00",0,0,"00:00:00","00:00:00",0,0,"00:00:00","00:00:00",0,0,"00:00:00","00:00:00",0,0]
[null,null,null,null,null,null,null,0,"00:00:00","00:00:00",0,0,"00:00:00","00:00:00",0,0,"00:00:00","00:00:00",0,0,"00:00:00","00:00:00",0,0,"00:00:00","00:00:00",0,0,"00:00:00","00:00:00",0,0,"00:00:00","00:00:00",0,0,"00:00:00","00:00:00",0,0,"00:00:00","00:00:00",0,0,"00:00:00","00:00:00",0,0]
[null,null,null,null,null,null,null,0,"00:00:00","00:00:00",0,0,"00:00:00","00:00:00",0,0,"00:00:00","00:00:00",0,0,"00:00:00","00:00:00",0,0,"00:00:00","00:00:00",0,0,"00:00:00","00:00:00",0,0,"00:00:00","00:00:00",0,0,"00:00:00","00:00:00",0,0,"00:00:00","00:00:00",0,0,"00:00:00","00:00:00",0,0]
[null,null,null,null,null,null,null,0,"00:00:00","00:00:00",0,0,"00:00:00","00:00:00",0,0,"00:00:00","00:00:00",0,0,"00:00:00","00:00:00",0,0,"00:00:00","00:00:00",0,0,"00:00:00","00:00:00",0,0,"00:00:00","00:00:00",0,0,"00:00:00","00:00:00",0,0,"00:00:00","00:00:00",0,0,"00:00:00","00:00:00",0,0]
[null,null,null,null,null,null,null,0,"00:00:00","00:00:00",0,0,"00:00:00","00:00:00",0,0,"00:00:00","00:00:00",0,0,"00:00:00","00:00:00",0,0,"00:00:00","00:00:00",0,0,"00:00:00","00:00:00",0,0,"00:00:00","00:00:00",0,0,"00:00:00","00:00:00",0,0,"00:00:00","00:00:00",0,0,"00:00:00","00:00:00",0,0]
[null,null,null,null,null,null,null,0,"00:00:00","00:00:00",0,0,"00:00:00","00:00:00",0,0,"00:00:00","00:00:00",0,0,"00:00:00","00:00:00",0,0,"00:00:00","00:00:00",0,0,"00:00:00","00:00:00",0,0,"00:00:00","00:00:00",0,0,"00:00:00","00:00:00",0,0,"00:00:00","00:00:00",0,0,"00:00:00","00:00:00",0,0]
[null,null,null,null,null,null,null,0,"00:00:00","00:00:00",0,0,"00:00:00","00:00:00",0,0,"00:00:00","00:00:00",0,0,"00:00:00","00:00:00",0,0,"00:00:00","00:00:00",0,0,"00:00:00","00:00:00",0,0,"00:00:00","00:00:00",0,0,"00:00:00","00:00:00",0,0,"00:00:00","00:00:00",0,0,"00:00:00","00:00:00",0,0]
[null,null,null,null,null,null,null,0,"00:00:00","00:00:00",0,0,"00:00:00","00:00:00",0,0,"00:00:00","00:00:00",0,0,"00:00:00","00:00:00",0,0,"00:00:00","00:00:00",0,0,"00:00:00","00:00:00",0,0,"00:00:00","00:00:00",0,0,"00:00:00","00:00:00",0,0,"00:00:00","00:00:00",0,0,"00:00:00","00:00:00",0,0]
[null,null,null,null,null,null,null,0,"00:00:00","00:00:00",0,0,"00:00:00","00:00:00",0,0,"00:00:00","00:00:00",0,0,"00:00:00","00:00:00",0,0,"00:00:00","00:00:00",0,0,"00:00:00","00:00:00",0,0,"00:00:00","00:00:00",0,0,"00:00:00","00:00:00",0,0,"00:00:00","00:00:00",0,0,"00:00:00","00:00:00",0,0]
[null,null,null,null,null,null,null,0,"00:00:00","00:00:00",0,0,"00:00:00","00:00:00",0,0,"00:00:00","00:00:00",0,0,"00:00:00","00:00:00",0,0,"00:00:00","00:00:00",0,0,"00:00:00","00:00:00",0,0,"00:00:00","00:00:00",0,0,"00:00:00","00:00:00",0,0,"00:00:00","00:00:00",0,0,"00:00:00","00:00:00",0,0]
[null,null,null,null,null,null,null,0,"00:00:00","00:00:00",0,0,"00:00:00","00:00:00",0,0,"00:00:00","00:00:00",0,0,"00:00:00","00:00:00",0,0,"00:00:00","00:00:00",0,0,"00:00:00","00:00:00",0,0,"00:00:00","00:00:00",0,0,"00:00:00","00:00:00",0,0,"00:00:00","00:00:00",0,0,"00:00:00","00:00:00",0,0]
[null,null,null,null,null,null,null,0,"00:00:00","00:00:00",0,0,"00:00:00","00:00:00",0,0,"00:00:00","00:00:00",0,0,"00:00:00","00:00:00",0,0,"00:00:00","00:00:00",0,0,"00:00:00","00:00:00",0,0,"00:00:00","00:00:00",0,0,"00:00:00","00:00:00",0,0,"00:00:00","00:00:00",0,0,"00:00:00","00:00:00",0,0]
[null,null,null,null,null,null,null,0,"00:00:00","00:00:00",0,0,"00:00:00","00:00:00",0,0,"00:00:00","00:00:00",0,0,"00:00:00","00:00:00",0,0,"00:00:00","00:00:00",0,0,"00:00:00","00:00:00",0,0,"00:00:00","00:00:00",0,0,"00:00:00","00:00:00",0,0,"00:00:00","00:00:00",0,0,"00:00:00","00:00:00",0,0]
[null,null,null,null,null,null,null,0,"00:00:00","00:00:00",0,0,"00:00:00","00:00:00",0,0,"00:00:00","00:00:00",0,0,"00:00:00","00:00:00",0,0,"00:00:00","00:00:00",0,0,"00:00:00","00:00:00",0,0,"00:00:00","00:00:00",0,0,"00:00:00","00:00:00",0,0,"00:00:00","00:00:00",0,0,"00:00:00","00:00:00",0,0]
[null,null,null,null,null,null,null,0,"00:00:00","00:00:00",0,0,"00:00:00","00:00:00",0,0,"00:00:00","00:00:00",0,0,"00:00:00","00:00:00",0,0,"00:00:00","00:00:00",0,0,"00:00:00","00:00:00",0,0,"00:00:00","00:00:00",0,0,"00:00:00","00:00:00",0,0,"00:00:00","00:00:00",0,0,"00:00:00","00:00:00",0,0]
[null,null,null,null,null,null,null,0,"00:00:00","00:00:00",0,0,"00:00:00","00:00:00",0,0,"00:00:00","00:00:00",0,0,"00:00:00","00:00:00",0,0,"00:00:00","00:00:00",0,0,"00:00:00","00:00:00",0,0,"00:00:00","00:00:00",0,0,"00:00:00","00:00:00",0,0,"00:00:00","00:00:00",0,0,"00:00:00","00:00:00",0,0]
[null,null,null,null,null,null,null,0,"00:00:00","00:00:00",0,0,"00:00:00","00:00:00",0,0,"00:00:00","00:00:00",0,0,"00:00:00","00:00:00",0,0,"00:00:00","00:00:00",0,0,"00:00:00","00:00:00",0,0,"00:00:00","00:00:00",0,0,"00:00:00","00:00:00",0,0,"00:00:00","00:00:00",0,0,"00:00:00","00:00:00",0,0]
[null,null,null,null,null,null,null,0,"00:00:00","00:00:00",0,0,"00:00:00","00:00:00",0,0,"00:00:00","00:00:00",0,0,"00:00:00","00:00:00",0,0,"00:00:00","00:00:00",0,0,"00:00:00","00:00:00",0,0,"00:00:00","00:00:00",0,0,"00:00:00","00:00:00",0,0,"00:00:00","00:00:00",0,0,"00:00:00","00:00:00",0,0]
[null,null,null,null,null,null,null,0,"00:00:00","00:00:00",0,0,"00:00:00","00:00:00",0,0,"00:00:00","00:00:00",0,0,"00:00:00","00:00:00",0,0,"00:00:00","00:00:00",0,0,"00:00:00","00:00:00",0,0,"00:00:00","00:00:00",0,0,"00:00:00","00:00:00",0,0,"00:00:00","00:00:00",0,0,"00:00:00","00:00:00",0,0]
[null,null,null,null,null,null,null,0,"00:00:00","00:00:00",0,0,"00:00:00","00:00:00",0,0,"00:00:00","00:00:00",0,0,"00:00:00","00:00:00",0,0,"00:00:00","00:00:00",0,0,"00:00:00","00:00:00",0,0,"00:00:00","00:00:00",0,0,"00:00:00","00:00:00",0,0,"00:00:00","00:00:00",0,0,"00:00:00","00:00:00",0,0]
[null,null,null,null,null,null,null,0,"00:00:00","00:00:00",0,0,"00:00:00","00:00:00",0,0,"00:00:00","00:00:00",0,0,"00:00:00","00:00:00",0,0,"00:00:00","00:00:00",0,0,"00:00:00","00:00:00",0,0,"00:00:00","00:00:00",0,0,"00:00:00","00:00:00",0,0,"00:00:00","00:00:00",0,0,"00:00:00","00:00:00",0,0]
[null,null,null,null,null,null,null,0,"00:00:00","00:00:00",0,0,"00:00:00","00:00:00",0,0,"00:00:00","00:00:00",0,0,"00:00:00","00:00:00",0,0,"00:00:00","00:00:00",0,0,"00:00:00","00:00:00",0,0,"00:00:00","00:00:00",0,0,"00:00:00","00:00:00",0,0,"00:00:00","00:00:00",0,0,"00:00:00","00:00:00",0,0]
[null,null,null,null,null,null,null,0,"00:00:00","00:00:00",0,0,"00:00:00","00:00:00",0,0,"00:00:00","00:00:00",0,0,"00:00:00","00:00:00",0,0,"00:00:00","00:00:00",0,0,"00:00:00","00:00:00",0,0,"00:00:00","00:00:00",0,0,"00:00:00","00:00:00",0,0,"00:00:00","00:00:00",0,0,"00:00:00","00:00:00",0,0]
[null,null,null,null,null,null,null,0,"00:00:00","00:00:00",0,0,"00:00:00","00:00:00",0,0,"00:00:00","00:00:00",0,0,"00:00:00","00:00:00",0,0,"00:00:00","00:00:00",0,0,"00:00:00","00:00:00",0,0,"00:00:00","00:00:00",0,0,"00:00:00","00:00:00",0,0,"00:00:00","00:00:00",0,0,"00:00:00","00:00:00",0,0]
[null,null,null,null,null,null,null,0,"00:00:00","00:00:00",0,0,"00:00:00","00:00:00",0,0,"00:00:00","00:00:00",0,0,"00:00:00","00:00:00",0,0,"00:00:00","00:00:00",0,0,"00:00:00","00:00:00",0,0,"00:00:00","00:00:00",0,0,"00:00:00","00:00:00",0,0,"00:00:00","00:00:00",0,0,"00:00:00","00:00:00",0,0]
[null,null,null,null,null,null,null,0,"00:00:00","00:00:00",0,0,"00:00:00","00:00:00",0,0,"00:00:00","00:00:00",0,0,"00:00:00","00:00:00",0,0,"00:00:00","00:00:00",0,0,"00:00:00","00:00:00",0,0,"00:00:00","00:00:00",0,0,"00:00:00","00:00:00",0,0,"00:00:00","00:00:00",0,0,"00:00:00","00:00:00",0,0]
[null,null,null,null,null,null,null,0,"00:00:00","00:00:00",0,0,"00:00:00","00:00:00",0,0,"00:00:00","00:00:00",0,0,"00:00:00","00:00:00",0,0,"00:00:00","00:00:00",0,0,"00:00:00","00:00:00",0,0,"00:00:00","00:00:00",0,0,"00:00:00","00:00:00",0,0,"00:00:00","00:00:00",0,0,"00:00:00","00:00:00",0,0]
[null,null,null,null,null,null,null,0,"00:00:00","00:00:00",0,0,"00:00:00","00:00:00",0,0,"00:00:00","00:00:00",0,0,"00:00:00","00:00:00",0,0,"00:00:00","00:00:00",0,0,"00:00:00","00:00:00",0,0,"00:00:00","00:00:00",0,0,"00:00:00","00:00:00",0,0,"00:00:00","00:00:00",0,0,"00:00:00","00:00:00",0,0]
[null,null,null,null,null,null,null,0,"00:00:00","00:00:00",0,0,"00:00:00","00:00:00",0,0,"00:00:00","00:00:00",0,0,"00:00:00","00:00:00",0,0,"00:00:00","00:00:00",0,0,"00:00:00","00:00:00",0,0,"00:00:00","00:00:00",0,0,"00:00:00","00:00:00",0,0,"00:00:00","00:00:00",0,0,"00:00:00","00:00:00",0,0]
[null,null,null,null,null,null,null,0,"00:00:00","00:00:00",0,0,"00:00:00","00:00:00",0,0,"00:00:00","00:00:00",0,0,"00:00:00","00:00:00",0,0,"00:00:00","00:00:00",0,0,"00:00:00","00:00:00",0,0,"00:00:00","00:00:00",0,0,"00:00:00","00:00:00",0,0,"00:00:00","00:00:00",0,0,"00:00:00","00:00:00",0,0]
[null,null,null,null,null,null,null,0,"00:00:00","00:00:00",0,0,"00:00:00","00:00:00",0,0,"00:00:00","00:00:00",0,0,"00:00:00","00:00:00",0,0,"00:00:00","00:00:00",0,0,"00:00:00","00:00:00",0,0,"00:00:00","00:00:00",0,0,"00:00:00","00:00:00",0,0,"00:00:00","00:00:00",0,0,"00:00:00","00:00:00",0,0]
[null,null,null,null,null,null,null,0,"00:00:00","00:00:00",0,0,"00:00:00","00:00:00",0,0,"00:00:00","00:00:00",0,0,"00:00:00","00:00:00",0,0,"00:00:00","00:00:00",0,0,"00:00:00","00:00:00",0,0,"00:00:00","00:00:00",0,0,"00:00:00","00:00:00",0,0,"00:00:00","00:00:00",0,0,"00:00:00","00:00:00",0,0]
[null,null,null,null,null,null,null,0,"00:00:00","00:00:00",0,0,"00:00:00","00:00:00",0,0,"00:00:00","00:00:00",0,0,"00:00:00","00:00:00",0,0,"00:00:00","00:00:00",0,0,"00:00:00","00:00:00",0,0,"00:00:00","00:00:00",0,0,"00:00:00","00:00:00",0,0,"00:00:00","00:00:00",0,0,"00:00:00","00:00:00",0,0]
[null,null,null,null,null,null,null,0,"00:00:00","00:00:00",0,0,"00:00:00","00:00:00",0,0,"00:00:00","00:00:00",0,0,"00:00:00","00:00:00",0,0,"00:00:00","00:00:00",0,0,"00:00:00","00:00:00",0,0,"00:00:00","00:00:00",0,0,"00:00:00","00:00:00",0,0,"00:00:00","00:00:00",0,0,"00:00:00","00:00:00",0,0]
[null,null,null,null,null,null,null,0,"00:00:00","00:00:00",0,0,"00:00:00","00:00:00",0,0,"00:00:00","00:00:00",0,0,"00:00:00","00:00:00",0,0,"00:00:00","00:00:00",0,0,"00:00:00","00:00:00",0,0,"00:00:00","00:00:00",0,0,"00:00:00","00:00:00",0,0,"00:00:00","00:00:00",0,0,"00:00:00","00:00:00",0,0]
[null,null,null,null,null,null,null,0,"00:00:00","00:00:00",0,0,"00:00:00","00:00:00",0,0,"00:00:00","00:00:00",0,0,"00:00:00","00:00:00",0,0,"00:00:00","00:00:00",0,0,"00:00:00","00:00:00",0,0,"00:00:00","00:00:00",0,0,"00:00:00","00:00:00",0,0,"00:00:00","00:00:00",0,0,"00:00:00","00:00:00",0,0]
[null,null,null,null,null,null,null,0,"00:00:00","00:00:00",0,0,"00:00:00","00:00:00",0,0,"00:00:00","00:00:00",0,0,"00:00:00","00:00:00",0,0,"00:00:00","00:00:00",0,0,"00:00:00","00:00:00",0,0,"00:00:00","00:00:00",0,0,"00:00:00","00:00:00",0,0,"00:00:00","00:00:00",0,0,"00:00:00","00:00:00",0,0]
[null,null,null,null,null,null,null,0,"00:00:00","00:00:00",0,0,"00:00:00","00:00:00",0,0,"00:00:00","00:00:00",0,0,"00:00:00","00:00:00",0,0,"00:00:00","00:00:00",0,0,"00:00:00","00:00:00",0,0,"00:00:00","00:00:00",0,0,"00:00:00","00:00:00",0,0,"00:00:00","00:00:00",0,0,"00:00:00","00:00:00",0,0]
[null,null,null,null,null,null,null,0,"00:00:00","00:00:00",0,0,"00:00:00","00:00:00",0,0,"00:00:00","00:00:00",0,0,"00:00:00","00:00:00",0,0,"00:00:00","00:00:00",0,0,"00:00:00","00:00:00",0,0,"00:00:00","00:00:00",0,0,"00:00:00","00:00:00",0,0,"00:00:00","00:00:00",0,0,"00:00:00","00:00:00",0,0]
[null,null,null,null,null,null,null,0,"00:00:00","00:00:00",0,0,"00:00:00","00:00:00",0,0,"00:00:00","00:00:00",0,0,"00:00:00","00:00:00",0,0,"00:00:00","00:00:00",0,0,"00:00:00","00:00:00",0,0,"00:00:00","00:00:00",0,0,"00:00:00","00:00:00",0,0,"00:00:00","00:00:00",0,0,"00:00:00","00:00:00",0,0]
[null,null,null,null,null,null,null,0,"00:00:00","00:00:00",0,0,"00:00:00","00:00:00",0,0,"00:00:00","00:00:00",0,0,"00:00:00","00:00:00",0,0,"00:00:00","00:00:00",0,0,"00:00:00","00:00:00",0,0,"00:00:00","00:00:00",0,0,"00:00:00","00:00:00",0,0,"00:00:00","00:00:00",0,0,"00:00:00","00:00:00",0,0]
[null,null,null,null,null,null,null,0,"00:00:00","00:00:00",0,0,"00:00:00","00:00:00",0,0,"00:00:00","00:00:00",0,0,"00:00:00","00:00:00",0,0,"00:00:00","00:00:00",0,0,"00:00:00","00:00:00",0,0,"00:00:00","00:00:00",0,0,"00:00:00","00:00:00",0,0,"00:00:00","00:00:00",0,0,"00:00:00","00:00:00",0,0]
[null,null,null,null,null,null,null,0,"00:00:00","00:00:00",0,0,"00:00:00","00:00:00",0,0,"00:00:00","00:00:00",0,0,"00:00:00","00:00:00",0,0,"00:00:00","00:00:00",0,0,"00:00:00","00:00:00",0,0,"00:00:00","00:00:00",0,0,"00:00:00","00:00:00",0,0,"00:00:00","00:00:00",0,0,"00:00:00","00:00:00",0,0]
[null,null,null,null,null,null,null,0,"00:00:00","00:00:00",0,0,"00:00:00","00:00:00",0,0,"00:00:00","00:00:00",0,0,"00:00:00","00:00:00",0,0,"00:00:00","00:00:00",0,0,"00:00:00","00:00:00",0,0,"00:00:00","00:00:00",0,0,"00:00:00","00:00:00",0,0,"00:00:00","00:00:00",0,0,"00:00:00","00:00:00",0,0]
[null,null,null,null,null,null,null,0,"00:00:00","00:00:00",0,0,"00:00:00","00:00:00",0,0,"00:00:00","00:00:00",0,0,"00:00:00","00:00:00",0,0,"00:00:00","00:00:00",0,0,"00:00:00","00:00:00",0,0,"00:00:00","00:00:00",0,0,"00:00:00","00:00:00",0,0,"00:00:00","00:00:00",0,0,"00:00:00","00:00:00",0,0]
[null,null,null,null,null,null,null,0,"00:00:00","00:00:00",0,0,"00:00:00","00:00:00",0,0,"00:00:00","00:00:00",0,0,"00:00:00","00:00:00",0,0,"00:00:00","00:00:00",0,0,"00:00:00","00:00:00",0,0,"00:00:00","00:00:00",0,0,"00:00:00","00:00:00",0,0,"00:00:00","00:00:00",0,0,"00:00:00","00:00:00",0,0]
[null,null,null,null,null,null,null,0,"00:00:00","00:00:00",0,0,"00:00:00","00:00:00",0,0,"00:00:00","00:00:00",0,0,"00:00:00","00:00:00",0,0,"00:00:00","00:00:00",0,0,"00:00:00","00:00:00",0,0,"00:00:00","00:00:00",0,0,"00:00:00","00:00:00",0,0,"00:00:00","00:00:00",0,0,"00:00:00","00:00:00",0,0]
[null,null,null,null,null,null,null,{"$f":"IF(F845-E845=0,0,F845-E845+1)","v":0},{"$f":"IF(OR($F845<I$10,$E845>J$10),0,IF(AND($E845>=I$10,$F845<=J$10),$E845,IF(AND($E845<=I$10,$F845<=J$10),I$10,IF(AND($E845<=J$10,$F845>=J$10,$E845>=I$10),$E845,IF(AND($E845<=I$10,$F845>=J$10),I$10,\"chyba\")))))","v":"00:00:00"},{"$f":"IF(OR($F845<I$10,$E845>J$10),0,IF(AND($E845>=I$10,$F845<=J$10),$F845,IF(AND($E845<=I$10,$F845<=J$10),$F845,IF(AND($E845<=J$10,$F845>=J$10),J$10,IF(AND($E845<=I$10,$F845>=J$10),J$10,\"chyba\")))))","v":"00:00:00"},{"$f":"IF(J845-I845=0,0,J845-I845+1)","v":0},{"$f":"IF($H845<=0,0,$G845/$H845*K845)","v":0},{"$f":"IF(OR($F845<M$10,$E845>N$10),0,IF(AND($E845>=M$10,$F845<=N$10),$E845,IF(AND($E845<=M$10,$F845<=N$10),M$10,IF(AND($E845<=N$10,$F845>=N$10,$E845>=M$10),$E845,IF(AND($E845<=M$10,$F845>=N$10),M$10,\"chyba\")))))","v":"00:00:00"},{"$f":"IF(OR($F845<M$10,$E845>N$10),0,IF(AND($E845>=M$10,$F845<=N$10),$F845,IF(AND($E845<=M$10,$F845<=N$10),$F845,IF(AND($E845<=N$10,$F845>=N$10),N$10,IF(AND($E845<=M$10,$F845>=N$10),N$10,\"chyba\")))))","v":"00:00:00"},{"$f":"IF(N845-M845=0,0,N845-M845+1)","v":0},{"$f":"IF($H845<=0,0,$G845/$H845*O845)","v":0},{"$f":"IF(OR($F845<Q$10,$E845>R$10),0,IF(AND($E845>=Q$10,$F845<=R$10),$E845,IF(AND($E845<=Q$10,$F845<=R$10),Q$10,IF(AND($E845<=R$10,$F845>=R$10,$E845>=Q$10),$E845,IF(AND($E845<=Q$10,$F845>=R$10),Q$10,\"chyba\")))))","v":"00:00:00"},{"$f":"IF(OR($F845<Q$10,$E845>R$10),0,IF(AND($E845>=Q$10,$F845<=R$10),$F845,IF(AND($E845<=Q$10,$F845<=R$10),$F845,IF(AND($E845<=R$10,$F845>=R$10),R$10,IF(AND($E845<=Q$10,$F845>=R$10),R$10,\"chyba\")))))","v":"00:00:00"},{"$f":"IF(R845-Q845=0,0,R845-Q845+1)","v":0},{"$f":"IF($H845<=0,0,$G845/$H845*S845)","v":0},{"$f":"IF(OR($F845<U$10,$E845>V$10),0,IF(AND($E845>=U$10,$F845<=V$10),$E845,IF(AND($E845<=U$10,$F845<=V$10),U$10,IF(AND($E845<=V$10,$F845>=V$10,$E845>=U$10),$E845,IF(AND($E845<=U$10,$F845>=V$10),U$10,\"chyba\")))))","v":"00:00:00"},{"$f":"IF(OR($F845<U$10,$E845>V$10),0,IF(AND($E845>=U$10,$F845<=V$10),$F845,IF(AND($E845<=U$10,$F845<=V$10),$F845,IF(AND($E845<=V$10,$F845>=V$10),V$10,IF(AND($E845<=U$10,$F845>=V$10),V$10,\"chyba\")))))","v":"00:00:00"},{"$f":"IF(V845-U845=0,0,V845-U845+1)","v":0},{"$f":"IF($H845<=0,0,$G845/$H845*W845)","v":0},{"$f":"IF(OR($F845<Y$10,$E845>Z$10),0,IF(AND($E845>=Y$10,$F845<=Z$10),$E845,IF(AND($E845<=Y$10,$F845<=Z$10),Y$10,IF(AND($E845<=Z$10,$F845>=Z$10,$E845>=Y$10),$E845,IF(AND($E845<=Y$10,$F845>=Z$10),Y$10,\"chyba\")))))","v":"00:00:00"},{"$f":"IF(OR($F845<Y$10,$E845>Z$10),0,IF(AND($E845>=Y$10,$F845<=Z$10),$F845,IF(AND($E845<=Y$10,$F845<=Z$10),$F845,IF(AND($E845<=Z$10,$F845>=Z$10),Z$10,IF(AND($E845<=Y$10,$F845>=Z$10),Z$10,\"chyba\")))))","v":"00:00:00"},{"$f":"IF(Z845-Y845=0,0,Z845-Y845+1)","v":0},{"$f":"IF($H845<=0,0,$G845/$H845*AA845)","v":0},{"$f":"IF(OR($F845<AC$10,$E845>AD$10),0,IF(AND($E845>=AC$10,$F845<=AD$10),$E845,IF(AND($E845<=AC$10,$F845<=AD$10),AC$10,IF(AND($E845<=AD$10,$F845>=AD$10,$E845>=AC$10),$E845,IF(AND($E845<=AC$10,$F845>=AD$10),AC$10,\"chyba\")))))","v":"00:00:00"},{"$f":"IF(OR($F845<AC$10,$E845>AD$10),0,IF(AND($E845>=AC$10,$F845<=AD$10),$F845,IF(AND($E845<=AC$10,$F845<=AD$10),$F845,IF(AND($E845<=AD$10,$F845>=AD$10),AD$10,IF(AND($E845<=AC$10,$F845>=AD$10),AD$10,\"chyba\")))))","v":"00:00:00"},{"$f":"IF(AD845-AC845=0,0,AD845-AC845+1)","v":0},{"$f":"IF($H845<=0,0,$G845/$H845*AE845)","v":0},{"$f":"IF(OR($F845<AG$10,$E845>AH$10),0,IF(AND($E845>=AG$10,$F845<=AH$10),$E845,IF(AND($E845<=AG$10,$F845<=AH$10),AG$10,IF(AND($E845<=AH$10,$F845>=AH$10,$E845>=AG$10),$E845,IF(AND($E845<=AG$10,$F845>=AH$10),AG$10,\"chyba\")))))","v":"00:00:00"},{"$f":"IF(OR($F845<AG$10,$E845>AH$10),0,IF(AND($E845>=AG$10,$F845<=AH$10),$F845,IF(AND($E845<=AG$10,$F845<=AH$10),$F845,IF(AND($E845<=AH$10,$F845>=AH$10),AH$10,IF(AND($E845<=AG$10,$F845>=AH$10),AH$10,\"chyba\")))))","v":"00:00:00"},{"$f":"IF(AH845-AG845=0,0,AH845-AG845+1)","v":0},{"$f":"IF($H845<=0,0,$G845/$H845*AI845)","v":0},{"$f":"IF(OR($F845<AK$10,$E845>AL$10),0,IF(AND($E845>=AK$10,$F845<=AL$10),$E845,IF(AND($E845<=AK$10,$F845<=AL$10),AK$10,IF(AND($E845<=AL$10,$F845>=AL$10,$E845>=AK$10),$E845,IF(AND($E845<=AK$10,$F845>=AL$10),AK$10,\"chyba\")))))","v":"00:00:00"},{"$f":"IF(OR($F845<AK$10,$E845>AL$10),0,IF(AND($E845>=AK$10,$F845<=AL$10),$F845,IF(AND($E845<=AK$10,$F845<=AL$10),$F845,IF(AND($E845<=AL$10,$F845>=AL$10),AL$10,IF(AND($E845<=AK$10,$F845>=AL$10),AL$10,\"chyba\")))))","v":"00:00:00"},{"$f":"IF(AL845-AK845=0,0,AL845-AK845+1)","v":0},{"$f":"IF($H845<=0,0,$G845/$H845*AM845)","v":0},{"$f":"IF(OR($F845<AO$10,$E845>AP$10),0,IF(AND($E845>=AO$10,$F845<=AP$10),$E845,IF(AND($E845<=AO$10,$F845<=AP$10),AO$10,IF(AND($E845<=AP$10,$F845>=AP$10,$E845>=AO$10),$E845,IF(AND($E845<=AO$10,$F845>=AP$10),AO$10,\"chyba\")))))","v":"00:00:00"},{"$f":"IF(OR($F845<AO$10,$E845>AP$10),0,IF(AND($E845>=AO$10,$F845<=AP$10),$F845,IF(AND($E845<=AO$10,$F845<=AP$10),$F845,IF(AND($E845<=AP$10,$F845>=AP$10),AP$10,IF(AND($E845<=AO$10,$F845>=AP$10),AP$10,\"chyba\")))))","v":"00:00:00"},{"$f":"IF(AP845-AO845=0,0,AP845-AO845+1)","v":0},{"$f":"IF($H845<=0,0,$G845/$H845*AQ845)","v":0},{"$f":"IF(OR($F845<AS$10,$E845>AT$10),0,IF(AND($E845>=AS$10,$F845<=AT$10),$E845,IF(AND($E845<=AS$10,$F845<=AT$10),AS$10,IF(AND($E845<=AT$10,$F845>=AT$10,$E845>=AS$10),$E845,IF(AND($E845<=AS$10,$F845>=AT$10),AS$10,\"chyba\")))))","v":"00:00:00"},{"$f":"IF(OR($F845<AS$10,$E845>AT$10),0,IF(AND($E845>=AS$10,$F845<=AT$10),$F845,IF(AND($E845<=AS$10,$F845<=AT$10),$F845,IF(AND($E845<=AT$10,$F845>=AT$10),AT$10,IF(AND($E845<=AS$10,$F845>=AT$10),AT$10,\"chyba\")))))","v":"00:00:00"},{"$f":"IF(AT845-AS845=0,0,AT845-AS845+1)","v":0},{"$f":"IF($H845<=0,0,$G845/$H845*AU845)","v":0}]
[null,null,null,null,null,null,null,0,"00:00:00","00:00:00",0,0,"00:00:00","00:00:00",0,0,"00:00:00","00:00:00",0,0,"00:00:00","00:00:00",0,0,"00:00:00","00:00:00",0,0,"00:00:00","00:00:00",0,0,"00:00:00","00:00:00",0,0,"00:00:00","00:00:00",0,0,"00:00:00","00:00:00",0,0,"00:00:00","00:00:00",0,0]
[null,null,null,null,null,null,null,0,"00:00:00","00:00:00",0,0,"00:00:00","00:00:00",0,0,"00:00:00","00:00:00",0,0,"00:00:00","00:00:00",0,0,"00:00:00","00:00:00",0,0,"00:00:00","00:00:00",0,0,"00:00:00","00:00:00",0,0,"00:00:00","00:00:00",0,0,"00:00:00","00:00:00",0,0,"00:00:00","00:00:00",0,0]
[null,null,null,null,null,null,null,0,"00:00:00","00:00:00",0,0,"00:00:00","00:00:00",0,0,"00:00:00","00:00:00",0,0,"00:00:00","00:00:00",0,0,"00:00:00","00:00:00",0,0,"00:00:00","00:00:00",0,0,"00:00:00","00:00:00",0,0,"00:00:00","00:00:00",0,0,"00:00:00","00:00:00",0,0,"00:00:00","00:00:00",0,0]
[null,null,null,null,null,null,null,0,"00:00:00","00:00:00",0,0,"00:00:00","00:00:00",0,0,"00:00:00","00:00:00",0,0,"00:00:00","00:00:00",0,0,"00:00:00","00:00:00",0,0,"00:00:00","00:00:00",0,0,"00:00:00","00:00:00",0,0,"00:00:00","00:00:00",0,0,"00:00:00","00:00:00",0,0,"00:00:00","00:00:00",0,0]
[null,null,null,null,null,null,null,0,"00:00:00","00:00:00",0,0,"00:00:00","00:00:00",0,0,"00:00:00","00:00:00",0,0,"00:00:00","00:00:00",0,0,"00:00:00","00:00:00",0,0,"00:00:00","00:00:00",0,0,"00:00:00","00:00:00",0,0,"00:00:00","00:00:00",0,0,"00:00:00","00:00:00",0,0,"00:00:00","00:00:00",0,0]
[null,null,null,null,null,null,null,0,"00:00:00","00:00:00",0,0,"00:00:00","00:00:00",0,0,"00:00:00","00:00:00",0,0,"00:00:00","00:00:00",0,0,"00:00:00","00:00:00",0,0,"00:00:00","00:00:00",0,0,"00:00:00","00:00:00",0,0,"00:00:00","00:00:00",0,0,"00:00:00","00:00:00",0,0,"00:00:00","00:00:00",0,0]
[null,null,null,null,null,null,null,0,"00:00:00","00:00:00",0,0,"00:00:00","00:00:00",0,0,"00:00:00","00:00:00",0,0,"00:00:00","00:00:00",0,0,"00:00:00","00:00:00",0,0,"00:00:00","00:00:00",0,0,"00:00:00","00:00:00",0,0,"00:00:00","00:00:00",0,0,"00:00:00","00:00:00",0,0,"00:00:00","00:00:00",0,0]
[null,null,null,null,null,null,null,0,"00:00:00","00:00:00",0,0,"00:00:00","00:00:00",0,0,"00:00:00","00:00:00",0,0,"00:00:00","00:00:00",0,0,"00:00:00","00:00:00",0,0,"00:00:00","00:00:00",0,0,"00:00:00","00:00:00",0,0,"00:00:00","00:00:00",0,0,"00:00:00","00:00:00",0,0,"00:00:00","00:00:00",0,0]
[null,null,null,null,null,null,null,0,"00:00:00","00:00:00",0,0,"00:00:00","00:00:00",0,0,"00:00:00","00:00:00",0,0,"00:00:00","00:00:00",0,0,"00:00:00","00:00:00",0,0,"00:00:00","00:00:00",0,0,"00:00:00","00:00:00",0,0,"00:00:00","00:00:00",0,0,"00:00:00","00:00:00",0,0,"00:00:00","00:00:00",0,0]
[null,null,null,null,null,null,null,0,"00:00:00","00:00:00",0,0,"00:00:00","00:00:00",0,0,"00:00:00","00:00:00",0,0,"00:00:00","00:00:00",0,0,"00:00:00","00:00:00",0,0,"00:00:00","00:00:00",0,0,"00:00:00","00:00:00",0,0,"00:00:00","00:00:00",0,0,"00:00:00","00:00:00",0,0,"00:00:00","00:00:00",0,0]
[null,null,null,null,null,null,null,0,"00:00:00","00:00:00",0,0,"00:00:00","00:00:00",0,0,"00:00:00","00:00:00",0,0,"00:00:00","00:00:00",0,0,"00:00:00","00:00:00",0,0,"00:00:00","00:00:00",0,0,"00:00:00","00:00:00",0,0,"00:00:00","00:00:00",0,0,"00:00:00","00:00:00",0,0,"00:00:00","00:00:00",0,0]
[null,null,null,null,null,null,null,0,"00:00:00","00:00:00",0,0,"00:00:00","00:00:00",0,0,"00:00:00","00:00:00",0,0,"00:00:00","00:00:00",0,0,"00:00:00","00:00:00",0,0,"00:00:00","00:00:00",0,0,"00:00:00","00:00:00",0,0,"00:00:00","00:00:00",0,0,"00:00:00","00:00:00",0,0,"00:00:00","00:00:00",0,0]
[null,null,null,null,null,null,null,0,"00:00:00","00:00:00",0,0,"00:00:00","00:00:00",0,0,"00:00:00","00:00:00",0,0,"00:00:00","00:00:00",0,0,"00:00:00","00:00:00",0,0,"00:00:00","00:00:00",0,0,"00:00:00","00:00:00",0,0,"00:00:00","00:00:00",0,0,"00:00:00","00:00:00",0,0,"00:00:00","00:00:00",0,0]
[null,null,null,null,null,null,null,0,"00:00:00","00:00:00",0,0,"00:00:00","00:00:00",0,0,"00:00:00","00:00:00",0,0,"00:00:00","00:00:00",0,0,"00:00:00","00:00:00",0,0,"00:00:00","00:00:00",0,0,"00:00:00","00:00:00",0,0,"00:00:00","00:00:00",0,0,"00:00:00","00:00:00",0,0,"00:00:00","00:00:00",0,0]
[null,null,null,null,null,null,null,0,"00:00:00","00:00:00",0,0,"00:00:00","00:00:00",0,0,"00:00:00","00:00:00",0,0,"00:00:00","00:00:00",0,0,"00:00:00","00:00:00",0,0,"00:00:00","00:00:00",0,0,"00:00:00","00:00:00",0,0,"00:00:00","00:00:00",0,0,"00:00:00","00:00:00",0,0,"00:00:00","00:00:00",0,0]
[null,null,null,null,null,null,null,0,"00:00:00","00:00:00",0,0,"00:00:00","00:00:00",0,0,"00:00:00","00:00:00",0,0,"00:00:00","00:00:00",0,0,"00:00:00","00:00:00",0,0,"00:00:00","00:00:00",0,0,"00:00:00","00:00:00",0,0,"00:00:00","00:00:00",0,0,"00:00:00","00:00:00",0,0,"00:00:00","00:00:00",0,0]
[null,null,null,null,null,null,null,0,"00:00:00","00:00:00",0,0,"00:00:00","00:00:00",0,0,"00:00:00","00:00:00",0,0,"00:00:00","00:00:00",0,0,"00:00:00","00:00:00",0,0,"00:00:00","00:00:00",0,0,"00:00:00","00:00:00",0,0,"00:00:00","00:00:00",0,0,"00:00:00","00:00:00",0,0,"00:00:00","00:00:00",0,0]
[null,null,null,null,null,null,null,0,"00:00:00","00:00:00",0,0,"00:00:00","00:00:00",0,0,"00:00:00","00:00:00",0,0,"00:00:00","00:00:00",0,0,"00:00:00","00:00:00",0,0,"00:00:00","00:00:00",0,0,"00:00:00","00:00:00",0,0,"00:00:00","00:00:00",0,0,"00:00:00","00:00:00",0,0,"00:00:00","00:00:00",0,0]
[null,null,null,null,null,null,null,0,"00:00:00","00:00:00",0,0,"00:00:00","00:00:00",0,0,"00:00:00","00:00:00",0,0,"00:00:00","00:00:00",0,0,"00:00:00","00:00:00",0,0,"00:00:00","00:00:00",0,0,"00:00:00","00:00:00",0,0,"00:00:00","00:00:00",0,0,"00:00:00","00:00:00",0,0,"00:00:00","00:00:00",0,0]
[null,null,null,null,null,null,null,0,"00:00:00","00:00:00",0,0,"00:00:00","00:00:00",0,0,"00:00:00","00:00:00",0,0,"00:00:00","00:00:00",0,0,"00:00:00","00:00:00",0,0,"00:00:00","00:00:00",0,0,"00:00:00","00:00:00",0,0,"00:00:00","00:00:00",0,0,"00:00:00","00:00:00",0,0,"00:00:00","00:00:00",0,0]
[null,null,null,null,null,null,null,0,"00:00:00","00:00:00",0,0,"00:00:00","00:00:00",0,0,"00:00:00","00:00:00",0,0,"00:00:00","00:00:00",0,0,"00:00:00","00:00:00",0,0,"00:00:00","00:00:00",0,0,"00:00:00","00:00:00",0,0,"00:00:00","00:00:00",0,0,"00:00:00","00:00:00",0,0,"00:00:00","00:00:00",0,0]
[null,null,null,null,null,null,null,0,"00:00:00","00:00:00",0,0,"00:00:00","00:00:00",0,0,"00:00:00","00:00:00",0,0,"00:00:00","00:00:00",0,0,"00:00:00","00:00:00",0,0,"00:00:00","00:00:00",0,0,"00:00:00","00:00:00",0,0,"00:00:00","00:00:00",0,0,"00:00:00","00:00:00",0,0,"00:00:00","00:00:00",0,0]
[null,null,null,null,null,null,null,0,"00:00:00","00:00:00",0,0,"00:00:00","00:00:00",0,0,"00:00:00","00:00:00",0,0,"00:00:00","00:00:00",0,0,"00:00:00","00:00:00",0,0,"00:00:00","00:00:00",0,0,"00:00:00","00:00:00",0,0,"00:00:00","00:00:00",0,0,"00:00:00","00:00:00",0,0,"00:00:00","00:00:00",0,0]
[null,null,null,null,null,null,null,0,"00:00:00","00:00:00",0,0,"00:00:00","00:00:00",0,0,"00:00:00","00:00:00",0,0,"00:00:00","00:00:00",0,0,"00:00:00","00:00:00",0,0,"00:00:00","00:00:00",0,0,"00:00:00","00:00:00",0,0,"00:00:00","00:00:00",0,0,"00:00:00","00:00:00",0,0,"00:00:00","00:00:00",0,0]
[null,null,null,null,null,null,null,0,"00:00:00","00:00:00",0,0,"00:00:00","00:00:00",0,0,"00:00:00","00:00:00",0,0,"00:00:00","00:00:00",0,0,"00:00:00","00:00:00",0,0,"00:00:00","00:00:00",0,0,"00:00:00","00:00:00",0,0,"00:00:00","00:00:00",0,0,"00:00:00","00:00:00",0,0,"00:00:00","00:00:00",0,0]
[null,null,null,null,null,null,null,0,"00:00:00","00:00:00",0,0,"00:00:00","00:00:00",0,0,"00:00:00","00:00:00",0,0,"00:00:00","00:00:00",0,0,"00:00:00","00:00:00",0,0,"00:00:00","00:00:00",0,0,"00:00:00","00:00:00",0,0,"00:00:00","00:00:00",0,0,"00:00:00","00:00:00",0,0,"00:00:00","00:00:00",0,0]
[null,null,null,null,null,null,null,0,"00:00:00","00:00:00",0,0,"00:00:00","00:00:00",0,0,"00:00:00","00:00:00",0,0,"00:00:00","00:00:00",0,0,"00:00:00","00:00:00",0,0,"00:00:00","00:00:00",0,0,"00:00:00","00:00:00",0,0,"00:00:00","00:00:00",0,0,"00:00:00","00:00:00",0,0,"00:00:00","00:00:00",0,0]
[null,null,null,null,null,null,null,0,"00:00:00","00:00:00",0,0,"00:00:00","00:00:00",0,0,"00:00:00","00:00:00",0,0,"00:00:00","00:00:00",0,0,"00:00:00","00:00:00",0,0,"00:00:00","00:00:00",0,0,"00:00:00","00:00:00",0,0,"00:00:00","00:00:00",0,0,"00:00:00","00:00:00",0,0,"00:00:00","00:00:00",0,0]
[null,null,null,null,null,null,null,0,"00:00:00","00:00:00",0,0,"00:00:00","00:00:00",0,0,"00:00:00","00:00:00",0,0,"00:00:00","00:00:00",0,0,"00:00:00","00:00:00",0,0,"00:00:00","00:00:00",0,0,"00:00:00","00:00:00",0,0,"00:00:00","00:00:00",0,0,"00:00:00","00:00:00",0,0,"00:00:00","00:00:00",0,0]
[null,null,null,null,null,null,null,0,"00:00:00","00:00:00",0,0,"00:00:00","00:00:00",0,0,"00:00:00","00:00:00",0,0,"00:00:00","00:00:00",0,0,"00:00:00","00:00:00",0,0,"00:00:00","00:00:00",0,0,"00:00:00","00:00:00",0,0,"00:00:00","00:00:00",0,0,"00:00:00","00:00:00",0,0,"00:00:00","00:00:00",0,0]
[null,null,null,null,null,null,null,0,"00:00:00","00:00:00",0,0,"00:00:00","00:00:00",0,0,"00:00:00","00:00:00",0,0,"00:00:00","00:00:00",0,0,"00:00:00","00:00:00",0,0,"00:00:00","00:00:00",0,0,"00:00:00","00:00:00",0,0,"00:00:00","00:00:00",0,0,"00:00:00","00:00:00",0,0,"00:00:00","00:00:00",0,0]
[null,null,null,null,null,null,null,0,"00:00:00","00:00:00",0,0,"00:00:00","00:00:00",0,0,"00:00:00","00:00:00",0,0,"00:00:00","00:00:00",0,0,"00:00:00","00:00:00",0,0,"00:00:00","00:00:00",0,0,"00:00:00","00:00:00",0,0,"00:00:00","00:00:00",0,0,"00:00:00","00:00:00",0,0,"00:00:00","00:00:00",0,0]
[null,null,null,null,null,null,null,0,"00:00:00","00:00:00",0,0,"00:00:00","00:00:00",0,0,"00:00:00","00:00:00",0,0,"00:00:00","00:00:00",0,0,"00:00:00","00:00:00",0,0,"00:00:00","00:00:00",0,0,"00:00:00","00:00:00",0,0,"00:00:00","00:00:00",0,0,"00:00:00","00:00:00",0,0,"00:00:00","00:00:00",0,0]
[null,null,null,null,null,null,null,0,"00:00:00","00:00:00",0,0,"00:00:00","00:00:00",0,0,"00:00:00","00:00:00",0,0,"00:00:00","00:00:00",0,0,"00:00:00","00:00:00",0,0,"00:00:00","00:00:00",0,0,"00:00:00","00:00:00",0,0,"00:00:00","00:00:00",0,0,"00:00:00","00:00:00",0,0,"00:00:00","00:00:00",0,0]
[null,null,null,null,null,null,null,0,"00:00:00","00:00:00",0,0,"00:00:00","00:00:00",0,0,"00:00:00","00:00:00",0,0,"00:00:00","00:00:00",0,0,"00:00:00","00:00:00",0,0,"00:00:00","00:00:00",0,0,"00:00:00","00:00:00",0,0,"00:00:00","00:00:00",0,0,"00:00:00","00:00:00",0,0,"00:00:00","00:00:00",0,0]
[null,null,null,null,null,null,null,0,"00:00:00","00:00:00",0,0,"00:00:00","00:00:00",0,0,"00:00:00","00:00:00",0,0,"00:00:00","00:00:00",0,0,"00:00:00","00:00:00",0,0,"00:00:00","00:00:00",0,0,"00:00:00","00:00:00",0,0,"00:00:00","00:00:00",0,0,"00:00:00","00:00:00",0,0,"00:00:00","00:00:00",0,0]
[null,null,null,null,null,null,null,0,"00:00:00","00:00:00",0,0,"00:00:00","00:00:00",0,0,"00:00:00","00:00:00",0,0,"00:00:00","00:00:00",0,0,"00:00:00","00:00:00",0,0,"00:00:00","00:00:00",0,0,"00:00:00","00:00:00",0,0,"00:00:00","00:00:00",0,0,"00:00:00","00:00:00",0,0,"00:00:00","00:00:00",0,0]
[null,null,null,null,null,null,null,0,"00:00:00","00:00:00",0,0,"00:00:00","00:00:00",0,0,"00:00:00","00:00:00",0,0,"00:00:00","00:00:00",0,0,"00:00:00","00:00:00",0,0,"00:00:00","00:00:00",0,0,"00:00:00","00:00:00",0,0,"00:00:00","00:00:00",0,0,"00:00:00","00:00:00",0,0,"00:00:00","00:00:00",0,0]
[null,null,null,null,null,null,null,0,"00:00:00","00:00:00",0,0,"00:00:00","00:00:00",0,0,"00:00:00","00:00:00",0,0,"00:00:00","00:00:00",0,0,"00:00:00","00:00:00",0,0,"00:00:00","00:00:00",0,0,"00:00:00","00:00:00",0,0,"00:00:00","00:00:00",0,0,"00:00:00","00:00:00",0,0,"00:00:00","00:00:00",0,0]
[null,null,null,null,null,null,null,0,"00:00:00","00:00:00",0,0,"00:00:00","00:00:00",0,0,"00:00:00","00:00:00",0,0,"00:00:00","00:00:00",0,0,"00:00:00","00:00:00",0,0,"00:00:00","00:00:00",0,0,"00:00:00","00:00:00",0,0,"00:00:00","00:00:00",0,0,"00:00:00","00:00:00",0,0,"00:00:00","00:00:00",0,0]
[null,null,null,null,null,null,null,0,"00:00:00","00:00:00",0,0,"00:00:00","00:00:00",0,0,"00:00:00","00:00:00",0,0,"00:00:00","00:00:00",0,0,"00:00:00","00:00:00",0,0,"00:00:00","00:00:00",0,0,"00:00:00","00:00:00",0,0,"00:00:00","00:00:00",0,0,"00:00:00","00:00:00",0,0,"00:00:00","00:00:00",0,0]
[null,null,null,null,null,null,null,0,"00:00:00","00:00:00",0,0,"00:00:00","00:00:00",0,0,"00:00:00","00:00:00",0,0,"00:00:00","00:00:00",0,0,"00:00:00","00:00:00",0,0,"00:00:00","00:00:00",0,0,"00:00:00","00:00:00",0,0,"00:00:00","00:00:00",0,0,"00:00:00","00:00:00",0,0,"00:00:00","00:00:00",0,0]
[null,null,null,null,null,null,null,0,"00:00:00","00:00:00",0,0,"00:00:00","00:00:00",0,0,"00:00:00","00:00:00",0,0,"00:00:00","00:00:00",0,0,"00:00:00","00:00:00",0,0,"00:00:00","00:00:00",0,0,"00:00:00","00:00:00",0,0,"00:00:00","00:00:00",0,0,"00:00:00","00:00:00",0,0,"00:00:00","00:00:00",0,0]
[null,null,null,null,null,null,null,0,"00:00:00","00:00:00",0,0,"00:00:00","00:00:00",0,0,"00:00:00","00:00:00",0,0,"00:00:00","00:00:00",0,0,"00:00:00","00:00:00",0,0,"00:00:00","00:00:00",0,0,"00:00:00","00:00:00",0,0,"00:00:00","00:00:00",0,0,"00:00:00","00:00:00",0,0,"00:00:00","00:00:00",0,0]
[null,null,null,null,null,null,null,0,"00:00:00","00:00:00",0,0,"00:00:00","00:00:00",0,0,"00:00:00","00:00:00",0,0,"00:00:00","00:00:00",0,0,"00:00:00","00:00:00",0,0,"00:00:00","00:00:00",0,0,"00:00:00","00:00:00",0,0,"00:00:00","00:00:00",0,0,"00:00:00","00:00:00",0,0,"00:00:00","00:00:00",0,0]
[null,null,null,null,null,null,null,0,"00:00:00","00:00:00",0,0,"00:00:00","00:00:00",0,0,"00:00:00","00:00:00",0,0,"00:00:00","00:00:00",0,0,"00:00:00","00:00:00",0,0,"00:00:00","00:00:00",0,0,"00:00:00","00:00:00",0,0,"00:00:00","00:00:00",0,0,"00:00:00","00:00:00",0,0,"00:00:00","00:00:00",0,0]
[null,null,null,null,null,null,null,0,"00:00:00","00:00:00",0,0,"00:00:00","00:00:00",0,0,"00:00:00","00:00:00",0,0,"00:00:00","00:00:00",0,0,"00:00:00","00:00:00",0,0,"00:00:00","00:00:00",0,0,"00:00:00","00:00:00",0,0,"00:00:00","00:00:00",0,0,"00:00:00","00:00:00",0,0,"00:00:00","00:00:00",0,0]
[null,null,null,null,null,null,null,0,"00:00:00","00:00:00",0,0,"00:00:00","00:00:00",0,0,"00:00:00","00:00:00",0,0,"00:00:00","00:00:00",0,0,"00:00:00","00:00:00",0,0,"00:00:00","00:00:00",0,0,"00:00:00","00:00:00",0,0,"00:00:00","00:00:00",0,0,"00:00:00","00:00:00",0,0,"00:00:00","00:00:00",0,0]
[null,null,null,null,null,null,null,0,"00:00:00","00:00:00",0,0,"00:00:00","00:00:00",0,0,"00:00:00","00:00:00",0,0,"00:00:00","00:00:00",0,0,"00:00:00","00:00:00",0,0,"00:00:00","00:00:00",0,0,"00:00:00","00:00:00",0,0,"00:00:00","00:00:00",0,0,"00:00:00","00:00:00",0,0,"00:00:00","00:00:00",0,0]
[null,null,null,null,null,null,null,0,"00:00:00","00:00:00",0,0,"00:00:00","00:00:00",0,0,"00:00:00","00:00:00",0,0,"00:00:00","00:00:00",0,0,"00:00:00","00:00:00",0,0,"00:00:00","00:00:00",0,0,"00:00:00","00:00:00",0,0,"00:00:00","00:00:00",0,0,"00:00:00","00:00:00",0,0,"00:00:00","00:00:00",0,0]
[null,null,null,null,null,null,null,0,"00:00:00","00:00:00",0,0,"00:00:00","00:00:00",0,0,"00:00:00","00:00:00",0,0,"00:00:00","00:00:00",0,0,"00:00:00","00:00:00",0,0,"00:00:00","00:00:00",0,0,"00:00:00","00:00:00",0,0,"00:00:00","00:00:00",0,0,"00:00:00","00:00:00",0,0,"00:00:00","00:00:00",0,0]
[null,null,null,null,null,null,null,0,"00:00:00","00:00:00",0,0,"00:00:00","00:00:00",0,0,"00:00:00","00:00:00",0,0,"00:00:00","00:00:00",0,0,"00:00:00","00:00:00",0,0,"00:00:00","00:00:00",0,0,"00:00:00","00:00:00",0,0,"00:00:00","00:00:00",0,0,"00:00:00","00:00:00",0,0,"00:00:00","00:00:00",0,0]
[null,null,null,null,null,null,null,0,"00:00:00","00:00:00",0,0,"00:00:00","00:00:00",0,0,"00:00:00","00:00:00",0,0,"00:00:00","00:00:00",0,0,"00:00:00","00:00:00",0,0,"00:00:00","00:00:00",0,0,"00:00:00","00:00:00",0,0,"00:00:00","00:00:00",0,0,"00:00:00","00:00:00",0,0,"00:00:00","00:00:00",0,0]
[null,null,null,null,null,null,null,0,"00:00:00","00:00:00",0,0,"00:00:00","00:00:00",0,0,"00:00:00","00:00:00",0,0,"00:00:00","00:00:00",0,0,"00:00:00","00:00:00",0,0,"00:00:00","00:00:00",0,0,"00:00:00","00:00:00",0,0,"00:00:00","00:00:00",0,0,"00:00:00","00:00:00",0,0,"00:00:00","00:00:00",0,0]
[null,null,null,null,null,null,null,0,"00:00:00","00:00:00",0,0,"00:00:00","00:00:00",0,0,"00:00:00","00:00:00",0,0,"00:00:00","00:00:00",0,0,"00:00:00","00:00:00",0,0,"00:00:00","00:00:00",0,0,"00:00:00","00:00:00",0,0,"00:00:00","00:00:00",0,0,"00:00:00","00:00:00",0,0,"00:00:00","00:00:00",0,0]
[null,null,null,null,null,null,null,0,"00:00:00","00:00:00",0,0,"00:00:00","00:00:00",0,0,"00:00:00","00:00:00",0,0,"00:00:00","00:00:00",0,0,"00:00:00","00:00:00",0,0,"00:00:00","00:00:00",0,0,"00:00:00","00:00:00",0,0,"00:00:00","00:00:00",0,0,"00:00:00","00:00:00",0,0,"00:00:00","00:00:00",0,0]
[null,null,null,null,null,null,null,0,"00:00:00","00:00:00",0,0,"00:00:00","00:00:00",0,0,"00:00:00","00:00:00",0,0,"00:00:00","00:00:00",0,0,"00:00:00","00:00:00",0,0,"00:00:00","00:00:00",0,0,"00:00:00","00:00:00",0,0,"00:00:00","00:00:00",0,0,"00:00:00","00:00:00",0,0,"00:00:00","00:00:00",0,0]
[null,null,null,null,null,null,null,0,"00:00:00","00:00:00",0,0,"00:00:00","00:00:00",0,0,"00:00:00","00:00:00",0,0,"00:00:00","00:00:00",0,0,"00:00:00","00:00:00",0,0,"00:00:00","00:00:00",0,0,"00:00:00","00:00:00",0,0,"00:00:00","00:00:00",0,0,"00:00:00","00:00:00",0,0,"00:00:00","00:00:00",0,0]
[null,null,null,null,null,null,null,0,"00:00:00","00:00:00",0,0,"00:00:00","00:00:00",0,0,"00:00:00","00:00:00",0,0,"00:00:00","00:00:00",0,0,"00:00:00","00:00:00",0,0,"00:00:00","00:00:00",0,0,"00:00:00","00:00:00",0,0,"00:00:00","00:00:00",0,0,"00:00:00","00:00:00",0,0,"00:00:00","00:00:00",0,0]
[null,null,null,null,null,null,null,0,"00:00:00","00:00:00",0,0,"00:00:00","00:00:00",0,0,"00:00:00","00:00:00",0,0,"00:00:00","00:00:00",0,0,"00:00:00","00:00:00",0,0,"00:00:00","00:00:00",0,0,"00:00:00","00:00:00",0,0,"00:00:00","00:00:00",0,0,"00:00:00","00:00:00",0,0,"00:00:00","00:00:00",0,0]
[null,null,null,null,null,null,null,0,"00:00:00","00:00:00",0,0,"00:00:00","00:00:00",0,0,"00:00:00","00:00:00",0,0,"00:00:00","00:00:00",0,0,"00:00:00","00:00:00",0,0,"00:00:00","00:00:00",0,0,"00:00:00","00:00:00",0,0,"00:00:00","00:00:00",0,0,"00:00:00","00:00:00",0,0,"00:00:00","00:00:00",0,0]
[null,null,null,null,null,null,null,0,"00:00:00","00:00:00",0,0,"00:00:00","00:00:00",0,0,"00:00:00","00:00:00",0,0,"00:00:00","00:00:00",0,0,"00:00:00","00:00:00",0,0,"00:00:00","00:00:00",0,0,"00:00:00","00:00:00",0,0,"00:00:00","00:00:00",0,0,"00:00:00","00:00:00",0,0,"00:00:00","00:00:00",0,0]
[null,null,null,null,null,null,null,0,"00:00:00","00:00:00",0,0,"00:00:00","00:00:00",0,0,"00:00:00","00:00:00",0,0,"00:00:00","00:00:00",0,0,"00:00:00","00:00:00",0,0,"00:00:00","00:00:00",0,0,"00:00:00","00:00:00",0,0,"00:00:00","00:00:00",0,0,"00:00:00","00:00:00",0,0,"00:00:00","00:00:00",0,0]
[null,null,null,null,null,null,null,{"$f":"IF(F909-E909=0,0,F909-E909+1)","v":0},{"$f":"IF(OR($F909<I$10,$E909>J$10),0,IF(AND($E909>=I$10,$F909<=J$10),$E909,IF(AND($E909<=I$10,$F909<=J$10),I$10,IF(AND($E909<=J$10,$F909>=J$10,$E909>=I$10),$E909,IF(AND($E909<=I$10,$F909>=J$10),I$10,\"chyba\")))))","v":"00:00:00"},{"$f":"IF(OR($F909<I$10,$E909>J$10),0,IF(AND($E909>=I$10,$F909<=J$10),$F909,IF(AND($E909<=I$10,$F909<=J$10),$F909,IF(AND($E909<=J$10,$F909>=J$10),J$10,IF(AND($E909<=I$10,$F909>=J$10),J$10,\"chyba\")))))","v":"00:00:00"},{"$f":"IF(J909-I909=0,0,J909-I909+1)","v":0},{"$f":"IF($H909<=0,0,$G909/$H909*K909)","v":0},{"$f":"IF(OR($F909<M$10,$E909>N$10),0,IF(AND($E909>=M$10,$F909<=N$10),$E909,IF(AND($E909<=M$10,$F909<=N$10),M$10,IF(AND($E909<=N$10,$F909>=N$10,$E909>=M$10),$E909,IF(AND($E909<=M$10,$F909>=N$10),M$10,\"chyba\")))))","v":"00:00:00"},{"$f":"IF(OR($F909<M$10,$E909>N$10),0,IF(AND($E909>=M$10,$F909<=N$10),$F909,IF(AND($E909<=M$10,$F909<=N$10),$F909,IF(AND($E909<=N$10,$F909>=N$10),N$10,IF(AND($E909<=M$10,$F909>=N$10),N$10,\"chyba\")))))","v":"00:00:00"},{"$f":"IF(N909-M909=0,0,N909-M909+1)","v":0},{"$f":"IF($H909<=0,0,$G909/$H909*O909)","v":0},{"$f":"IF(OR($F909<Q$10,$E909>R$10),0,IF(AND($E909>=Q$10,$F909<=R$10),$E909,IF(AND($E909<=Q$10,$F909<=R$10),Q$10,IF(AND($E909<=R$10,$F909>=R$10,$E909>=Q$10),$E909,IF(AND($E909<=Q$10,$F909>=R$10),Q$10,\"chyba\")))))","v":"00:00:00"},{"$f":"IF(OR($F909<Q$10,$E909>R$10),0,IF(AND($E909>=Q$10,$F909<=R$10),$F909,IF(AND($E909<=Q$10,$F909<=R$10),$F909,IF(AND($E909<=R$10,$F909>=R$10),R$10,IF(AND($E909<=Q$10,$F909>=R$10),R$10,\"chyba\")))))","v":"00:00:00"},{"$f":"IF(R909-Q909=0,0,R909-Q909+1)","v":0},{"$f":"IF($H909<=0,0,$G909/$H909*S909)","v":0},{"$f":"IF(OR($F909<U$10,$E909>V$10),0,IF(AND($E909>=U$10,$F909<=V$10),$E909,IF(AND($E909<=U$10,$F909<=V$10),U$10,IF(AND($E909<=V$10,$F909>=V$10,$E909>=U$10),$E909,IF(AND($E909<=U$10,$F909>=V$10),U$10,\"chyba\")))))","v":"00:00:00"},{"$f":"IF(OR($F909<U$10,$E909>V$10),0,IF(AND($E909>=U$10,$F909<=V$10),$F909,IF(AND($E909<=U$10,$F909<=V$10),$F909,IF(AND($E909<=V$10,$F909>=V$10),V$10,IF(AND($E909<=U$10,$F909>=V$10),V$10,\"chyba\")))))","v":"00:00:00"},{"$f":"IF(V909-U909=0,0,V909-U909+1)","v":0},{"$f":"IF($H909<=0,0,$G909/$H909*W909)","v":0},{"$f":"IF(OR($F909<Y$10,$E909>Z$10),0,IF(AND($E909>=Y$10,$F909<=Z$10),$E909,IF(AND($E909<=Y$10,$F909<=Z$10),Y$10,IF(AND($E909<=Z$10,$F909>=Z$10,$E909>=Y$10),$E909,IF(AND($E909<=Y$10,$F909>=Z$10),Y$10,\"chyba\")))))","v":"00:00:00"},{"$f":"IF(OR($F909<Y$10,$E909>Z$10),0,IF(AND($E909>=Y$10,$F909<=Z$10),$F909,IF(AND($E909<=Y$10,$F909<=Z$10),$F909,IF(AND($E909<=Z$10,$F909>=Z$10),Z$10,IF(AND($E909<=Y$10,$F909>=Z$10),Z$10,\"chyba\")))))","v":"00:00:00"},{"$f":"IF(Z909-Y909=0,0,Z909-Y909+1)","v":0},{"$f":"IF($H909<=0,0,$G909/$H909*AA909)","v":0},{"$f":"IF(OR($F909<AC$10,$E909>AD$10),0,IF(AND($E909>=AC$10,$F909<=AD$10),$E909,IF(AND($E909<=AC$10,$F909<=AD$10),AC$10,IF(AND($E909<=AD$10,$F909>=AD$10,$E909>=AC$10),$E909,IF(AND($E909<=AC$10,$F909>=AD$10),AC$10,\"chyba\")))))","v":"00:00:00"},{"$f":"IF(OR($F909<AC$10,$E909>AD$10),0,IF(AND($E909>=AC$10,$F909<=AD$10),$F909,IF(AND($E909<=AC$10,$F909<=AD$10),$F909,IF(AND($E909<=AD$10,$F909>=AD$10),AD$10,IF(AND($E909<=AC$10,$F909>=AD$10),AD$10,\"chyba\")))))","v":"00:00:00"},{"$f":"IF(AD909-AC909=0,0,AD909-AC909+1)","v":0},{"$f":"IF($H909<=0,0,$G909/$H909*AE909)","v":0},{"$f":"IF(OR($F909<AG$10,$E909>AH$10),0,IF(AND($E909>=AG$10,$F909<=AH$10),$E909,IF(AND($E909<=AG$10,$F909<=AH$10),AG$10,IF(AND($E909<=AH$10,$F909>=AH$10,$E909>=AG$10),$E909,IF(AND($E909<=AG$10,$F909>=AH$10),AG$10,\"chyba\")))))","v":"00:00:00"},{"$f":"IF(OR($F909<AG$10,$E909>AH$10),0,IF(AND($E909>=AG$10,$F909<=AH$10),$F909,IF(AND($E909<=AG$10,$F909<=AH$10),$F909,IF(AND($E909<=AH$10,$F909>=AH$10),AH$10,IF(AND($E909<=AG$10,$F909>=AH$10),AH$10,\"chyba\")))))","v":"00:00:00"},{"$f":"IF(AH909-AG909=0,0,AH909-AG909+1)","v":0},{"$f":"IF($H909<=0,0,$G909/$H909*AI909)","v":0},{"$f":"IF(OR($F909<AK$10,$E909>AL$10),0,IF(AND($E909>=AK$10,$F909<=AL$10),$E909,IF(AND($E909<=AK$10,$F909<=AL$10),AK$10,IF(AND($E909<=AL$10,$F909>=AL$10,$E909>=AK$10),$E909,IF(AND($E909<=AK$10,$F909>=AL$10),AK$10,\"chyba\")))))","v":"00:00:00"},{"$f":"IF(OR($F909<AK$10,$E909>AL$10),0,IF(AND($E909>=AK$10,$F909<=AL$10),$F909,IF(AND($E909<=AK$10,$F909<=AL$10),$F909,IF(AND($E909<=AL$10,$F909>=AL$10),AL$10,IF(AND($E909<=AK$10,$F909>=AL$10),AL$10,\"chyba\")))))","v":"00:00:00"},{"$f":"IF(AL909-AK909=0,0,AL909-AK909+1)","v":0},{"$f":"IF($H909<=0,0,$G909/$H909*AM909)","v":0},{"$f":"IF(OR($F909<AO$10,$E909>AP$10),0,IF(AND($E909>=AO$10,$F909<=AP$10),$E909,IF(AND($E909<=AO$10,$F909<=AP$10),AO$10,IF(AND($E909<=AP$10,$F909>=AP$10,$E909>=AO$10),$E909,IF(AND($E909<=AO$10,$F909>=AP$10),AO$10,\"chyba\")))))","v":"00:00:00"},{"$f":"IF(OR($F909<AO$10,$E909>AP$10),0,IF(AND($E909>=AO$10,$F909<=AP$10),$F909,IF(AND($E909<=AO$10,$F909<=AP$10),$F909,IF(AND($E909<=AP$10,$F909>=AP$10),AP$10,IF(AND($E909<=AO$10,$F909>=AP$10),AP$10,\"chyba\")))))","v":"00:00:00"},{"$f":"IF(AP909-AO909=0,0,AP909-AO909+1)","v":0},{"$f":"IF($H909<=0,0,$G909/$H909*AQ909)","v":0},{"$f":"IF(OR($F909<AS$10,$E909>AT$10),0,IF(AND($E909>=AS$10,$F909<=AT$10),$E909,IF(AND($E909<=AS$10,$F909<=AT$10),AS$10,IF(AND($E909<=AT$10,$F909>=AT$10,$E909>=AS$10),$E909,IF(AND($E909<=AS$10,$F909>=AT$10),AS$10,\"chyba\")))))","v":"00:00:00"},{"$f":"IF(OR($F909<AS$10,$E909>AT$10),0,IF(AND($E909>=AS$10,$F909<=AT$10),$F909,IF(AND($E909<=AS$10,$F909<=AT$10),$F909,IF(AND($E909<=AT$10,$F909>=AT$10),AT$10,IF(AND($E909<=AS$10,$F909>=AT$10),AT$10,\"chyba\")))))","v":"00:00:00"},{"$f":"IF(AT909-AS909=0,0,AT909-AS909+1)","v":0},{"$f":"IF($H909<=0,0,$G909/$H909*AU909)","v":0}]
[null,null,null,null,null,null,null,0,"00:00:00","00:00:00",0,0,"00:00:00","00:00:00",0,0,"00:00:00","00:00:00",0,0,"00:00:00","00:00:00",0,0,"00:00:00","00:00:00",0,0,"00:00:00","00:00:00",0,0,"00:00:00","00:00:00",0,0,"00:00:00","00:00:00",0,0,"00:00:00","00:00:00",0,0,"00:00:00","00:00:00",0,0]
[null,null,null,null,null,null,null,0,"00:00:00","00:00:00",0,0,"00:00:00","00:00:00",0,0,"00:00:00","00:00:00",0,0,"00:00:00","00:00:00",0,0,"00:00:00","00:00:00",0,0,"00:00:00","00:00:00",0,0,"00:00:00","00:00:00",0,0,"00:00:00","00:00:00",0,0,"00:00:00","00:00:00",0,0,"00:00:00","00:00:00",0,0]
[null,null,null,null,null,null,null,0,"00:00:00","00:00:00",0,0,"00:00:00","00:00:00",0,0,"00:00:00","00:00:00",0,0,"00:00:00","00:00:00",0,0,"00:00:00","00:00:00",0,0,"00:00:00","00:00:00",0,0,"00:00:00","00:00:00",0,0,"00:00:00","00:00:00",0,0,"00:00:00","00:00:00",0,0,"00:00:00","00:00:00",0,0]
[null,null,null,null,null,null,null,0,"00:00:00","00:00:00",0,0,"00:00:00","00:00:00",0,0,"00:00:00","00:00:00",0,0,"00:00:00","00:00:00",0,0,"00:00:00","00:00:00",0,0,"00:00:00","00:00:00",0,0,"00:00:00","00:00:00",0,0,"00:00:00","00:00:00",0,0,"00:00:00","00:00:00",0,0,"00:00:00","00:00:00",0,0]
[null,null,null,null,null,null,null,0,"00:00:00","00:00:00",0,0,"00:00:00","00:00:00",0,0,"00:00:00","00:00:00",0,0,"00:00:00","00:00:00",0,0,"00:00:00","00:00:00",0,0,"00:00:00","00:00:00",0,0,"00:00:00","00:00:00",0,0,"00:00:00","00:00:00",0,0,"00:00:00","00:00:00",0,0,"00:00:00","00:00:00",0,0]
[null,null,null,null,null,null,null,0,"00:00:00","00:00:00",0,0,"00:00:00","00:00:00",0,0,"00:00:00","00:00:00",0,0,"00:00:00","00:00:00",0,0,"00:00:00","00:00:00",0,0,"00:00:00","00:00:00",0,0,"00:00:00","00:00:00",0,0,"00:00:00","00:00:00",0,0,"00:00:00","00:00:00",0,0,"00:00:00","00:00:00",0,0]
[null,null,null,null,null,null,null,0,"00:00:00","00:00:00",0,0,"00:00:00","00:00:00",0,0,"00:00:00","00:00:00",0,0,"00:00:00","00:00:00",0,0,"00:00:00","00:00:00",0,0,"00:00:00","00:00:00",0,0,"00:00:00","00:00:00",0,0,"00:00:00","00:00:00",0,0,"00:00:00","00:00:00",0,0,"00:00:00","00:00:00",0,0]
[null,null,null,null,null,null,null,0,"00:00:00","00:00:00",0,0,"00:00:00","00:00:00",0,0,"00:00:00","00:00:00",0,0,"00:00:00","00:00:00",0,0,"00:00:00","00:00:00",0,0,"00:00:00","00:00:00",0,0,"00:00:00","00:00:00",0,0,"00:00:00","00:00:00",0,0,"00:00:00","00:00:00",0,0,"00:00:00","00:00:00",0,0]
[null,null,null,null,null,null,null,0,"00:00:00","00:00:00",0,0,"00:00:00","00:00:00",0,0,"00:00:00","00:00:00",0,0,"00:00:00","00:00:00",0,0,"00:00:00","00:00:00",0,0,"00:00:00","00:00:00",0,0,"00:00:00","00:00:00",0,0,"00:00:00","00:00:00",0,0,"00:00:00","00:00:00",0,0,"00:00:00","00:00:00",0,0]
[null,null,null,null,null,null,null,0,"00:00:00","00:00:00",0,0,"00:00:00","00:00:00",0,0,"00:00:00","00:00:00",0,0,"00:00:00","00:00:00",0,0,"00:00:00","00:00:00",0,0,"00:00:00","00:00:00",0,0,"00:00:00","00:00:00",0,0,"00:00:00","00:00:00",0,0,"00:00:00","00:00:00",0,0,"00:00:00","00:00:00",0,0]
[null,null,null,null,null,null,null,0,"00:00:00","00:00:00",0,0,"00:00:00","00:00:00",0,0,"00:00:00","00:00:00",0,0,"00:00:00","00:00:00",0,0,"00:00:00","00:00:00",0,0,"00:00:00","00:00:00",0,0,"00:00:00","00:00:00",0,0,"00:00:00","00:00:00",0,0,"00:00:00","00:00:00",0,0,"00:00:00","00:00:00",0,0]
[null,null,null,null,null,null,null,0,"00:00:00","00:00:00",0,0,"00:00:00","00:00:00",0,0,"00:00:00","00:00:00",0,0,"00:00:00","00:00:00",0,0,"00:00:00","00:00:00",0,0,"00:00:00","00:00:00",0,0,"00:00:00","00:00:00",0,0,"00:00:00","00:00:00",0,0,"00:00:00","00:00:00",0,0,"00:00:00","00:00:00",0,0]
[null,null,null,null,null,null,null,0,"00:00:00","00:00:00",0,0,"00:00:00","00:00:00",0,0,"00:00:00","00:00:00",0,0,"00:00:00","00:00:00",0,0,"00:00:00","00:00:00",0,0,"00:00:00","00:00:00",0,0,"00:00:00","00:00:00",0,0,"00:00:00","00:00:00",0,0,"00:00:00","00:00:00",0,0,"00:00:00","00:00:00",0,0]
[null,null,null,null,null,null,null,0,"00:00:00","00:00:00",0,0,"00:00:00","00:00:00",0,0,"00:00:00","00:00:00",0,0,"00:00:00","00:00:00",0,0,"00:00:00","00:00:00",0,0,"00:00:00","00:00:00",0,0,"00:00:00","00:00:00",0,0,"00:00:00","00:00:00",0,0,"00:00:00","00:00:00",0,0,"00:00:00","00:00:00",0,0]
[null,null,null,null,null,null,null,0,"00:00:00","00:00:00",0,0,"00:00:00","00:00:00",0,0,"00:00:00","00:00:00",0,0,"00:00:00","00:00:00",0,0,"00:00:00","00:00:00",0,0,"00:00:00","00:00:00",0,0,"00:00:00","00:00:00",0,0,"00:00:00","00:00:00",0,0,"00:00:00","00:00:00",0,0,"00:00:00","00:00:00",0,0]
[null,null,null,null,null,null,null,0,"00:00:00","00:00:00",0,0,"00:00:00","00:00:00",0,0,"00:00:00","00:00:00",0,0,"00:00:00","00:00:00",0,0,"00:00:00","00:00:00",0,0,"00:00:00","00:00:00",0,0,"00:00:00","00:00:00",0,0,"00:00:00","00:00:00",0,0,"00:00:00","00:00:00",0,0,"00:00:00","00:00:00",0,0]
[null,null,null,null,null,null,null,0,"00:00:00","00:00:00",0,0,"00:00:00","00:00:00",0,0,"00:00:00","00:00:00",0,0,"00:00:00","00:00:00",0,0,"00:00:00","00:00:00",0,0,"00:00:00","00:00:00",0,0,"00:00:00","00:00:00",0,0,"00:00:00","00:00:00",0,0,"00:00:00","00:00:00",0,0,"00:00:00","00:00:00",0,0]
[null,null,null,null,null,null,null,0,"00:00:00","00:00:00",0,0,"00:00:00","00:00:00",0,0,"00:00:00","00:00:00",0,0,"00:00:00","00:00:00",0,0,"00:00:00","00:00:00",0,0,"00:00:00","00:00:00",0,0,"00:00:00","00:00:00",0,0,"00:00:00","00:00:00",0,0,"00:00:00","00:00:00",0,0,"00:00:00","00:00:00",0,0]
[null,null,null,null,null,null,null,0,"00:00:00","00:00:00",0,0,"00:00:00","00:00:00",0,0,"00:00:00","00:00:00",0,0,"00:00:00","00:00:00",0,0,"00:00:00","00:00:00",0,0,"00:00:00","00:00:00",0,0,"00:00:00","00:00:00",0,0,"00:00:00","00:00:00",0,0,"00:00:00","00:00:00",0,0,"00:00:00","00:00:00",0,0]
[null,null,null,null,null,null,null,0,"00:00:00","00:00:00",0,0,"00:00:00","00:00:00",0,0,"00:00:00","00:00:00",0,0,"00:00:00","00:00:00",0,0,"00:00:00","00:00:00",0,0,"00:00:00","00:00:00",0,0,"00:00:00","00:00:00",0,0,"00:00:00","00:00:00",0,0,"00:00:00","00:00:00",0,0,"00:00:00","00:00:00",0,0]
[null,null,null,null,null,null,null,0,"00:00:00","00:00:00",0,0,"00:00:00","00:00:00",0,0,"00:00:00","00:00:00",0,0,"00:00:00","00:00:00",0,0,"00:00:00","00:00:00",0,0,"00:00:00","00:00:00",0,0,"00:00:00","00:00:00",0,0,"00:00:00","00:00:00",0,0,"00:00:00","00:00:00",0,0,"00:00:00","00:00:00",0,0]
[null,null,null,null,null,null,null,0,"00:00:00","00:00:00",0,0,"00:00:00","00:00:00",0,0,"00:00:00","00:00:00",0,0,"00:00:00","00:00:00",0,0,"00:00:00","00:00:00",0,0,"00:00:00","00:00:00",0,0,"00:00:00","00:00:00",0,0,"00:00:00","00:00:00",0,0,"00:00:00","00:00:00",0,0,"00:00:00","00:00:00",0,0]
[null,null,null,null,null,null,null,0,"00:00:00","00:00:00",0,0,"00:00:00","00:00:00",0,0,"00:00:00","00:00:00",0,0,"00:00:00","00:00:00",0,0,"00:00:00","00:00:00",0,0,"00:00:00","00:00:00",0,0,"00:00:00","00:00:00",0,0,"00:00:00","00:00:00",0,0,"00:00:00","00:00:00",0,0,"00:00:00","00:00:00",0,0]
[null,null,null,null,null,null,null,0,"00:00:00","00:00:00",0,0,"00:00:00","00:00:00",0,0,"00:00:00","00:00:00",0,0,"00:00:00","00:00:00",0,0,"00:00:00","00:00:00",0,0,"00:00:00","00:00:00",0,0,"00:00:00","00:00:00",0,0,"00:00:00","00:00:00",0,0,"00:00:00","00:00:00",0,0,"00:00:00","00:00:00",0,0]
[null,null,null,null,null,null,null,0,"00:00:00","00:00:00",0,0,"00:00:00","00:00:00",0,0,"00:00:00","00:00:00",0,0,"00:00:00","00:00:00",0,0,"00:00:00","00:00:00",0,0,"00:00:00","00:00:00",0,0,"00:00:00","00:00:00",0,0,"00:00:00","00:00:00",0,0,"00:00:00","00:00:00",0,0,"00:00:00","00:00:00",0,0]
[null,null,null,null,null,null,null,0,"00:00:00","00:00:00",0,0,"00:00:00","00:00:00",0,0,"00:00:00","00:00:00",0,0,"00:00:00","00:00:00",0,0,"00:00:00","00:00:00",0,0,"00:00:00","00:00:00",0,0,"00:00:00","00:00:00",0,0,"00:00:00","00:00:00",0,0,"00:00:00","00:00:00",0,0,"00:00:00","00:00:00",0,0]
[null,null,null,null,null,null,null,0,"00:00:00","00:00:00",0,0,"00:00:00","00:00:00",0,0,"00:00:00","00:00:00",0,0,"00:00:00","00:00:00",0,0,"00:00:00","00:00:00",0,0,"00:00:00","00:00:00",0,0,"00:00:00","00:00:00",0,0,"00:00:00","00:00:00",0,0,"00:00:00","00:00:00",0,0,"00:00:00","00:00:00",0,0]
[null,null,null,null,null,null,null,0,"00:00:00","00:00:00",0,0,"00:00:00","00:00:00",0,0,"00:00:00","00:00:00",0,0,"00:00:00","00:00:00",0,0,"00:00:00","00:00:00",0,0,"00:00:00","00:00:00",0,0,"00:00:00","00:00:00",0,0,"00:00:00","00:00:00",0,0,"00:00:00","00:00:00",0,0,"00:00:00","00:00:00",0,0]
[null,null,null,null,null,null,null,0,"00:00:00","00:00:00",0,0,"00:00:00","00:00:00",0,0,"00:00:00","00:00:00",0,0,"00:00:00","00:00:00",0,0,"00:00:00","00:00:00",0,0,"00:00:00","00:00:00",0,0,"00:00:00","00:00:00",0,0,"00:00:00","00:00:00",0,0,"00:00:00","00:00:00",0,0,"00:00:00","00:00:00",0,0]
[null,null,null,null,null,null,null,0,"00:00:00","00:00:00",0,0,"00:00:00","00:00:00",0,0,"00:00:00","00:00:00",0,0,"00:00:00","00:00:00",0,0,"00:00:00","00:00:00",0,0,"00:00:00","00:00:00",0,0,"00:00:00","00:00:00",0,0,"00:00:00","00:00:00",0,0,"00:00:00","00:00:00",0,0,"00:00:00","00:00:00",0,0]
[null,null,null,null,null,null,null,0,"00:00:00","00:00:00",0,0,"00:00:00","00:00:00",0,0,"00:00:00","00:00:00",0,0,"00:00:00","00:00:00",0,0,"00:00:00","00:00:00",0,0,"00:00:00","00:00:00",0,0,"00:00:00","00:00:00",0,0,"00:00:00","00:00:00",0,0,"00:00:00","00:00:00",0,0,"00:00:00","00:00:00",0,0]
[null,null,null,null,null,null,null,0,"00:00:00","00:00:00",0,0,"00:00:00","00:00:00",0,0,"00:00:00","00:00:00",0,0,"00:00:00","00:00:00",0,0,"00:00:00","00:00:00",0,0,"00:00:00","00:00:00",0,0,"00:00:00","00:00:00",0,0,"00:00:00","00:00:00",0,0,"00:00:00","00:00:00",0,0,"00:00:00","00:00:00",0,0]
[null,null,null,null,null,null,null,0,"00:00:00","00:00:00",0,0,"00:00:00","00:00:00",0,0,"00:00:00","00:00:00",0,0,"00:00:00","00:00:00",0,0,"00:00:00","00:00:00",0,0,"00:00:00","00:00:00",0,0,"00:00:00","00:00:00",0,0,"00:00:00","00:00:00",0,0,"00:00:00","00:00:00",0,0,"00:00:00","00:00:00",0,0]
[null,null,null,null,null,null,null,0,"00:00:00","00:00:00",0,0,"00:00:00","00:00:00",0,0,"00:00:00","00:00:00",0,0,"00:00:00","00:00:00",0,0,"00:00:00","00:00:00",0,0,"00:00:00","00:00:00",0,0,"00:00:00","00:00:00",0,0,"00:00:00","00:00:00",0,0,"00:00:00","00:00:00",0,0,"00:00:00","00:00:00",0,0]
[null,null,null,null,null,null,null,0,"00:00:00","00:00:00",0,0,"00:00:00","00:00:00",0,0,"00:00:00","00:00:00",0,0,"00:00:00","00:00:00",0,0,"00:00:00","00:00:00",0,0,"00:00:00","00:00:00",0,0,"00:00:00","00:00:00",0,0,"00:00:00","00:00:00",0,0,"00:00:00","00:00:00",0,0,"00:00:00","00:00:00",0,0]
[null,null,null,null,null,null,null,0,"00:00:00","00:00:00",0,0,"00:00:00","00:00:00",0,0,"00:00:00","00:00:00",0,0,"00:00:00","00:00:00",0,0,"00:00:00","00:00:00",0,0,"00:00:00","00:00:00",0,0,"00:00:00","00:00:00",0,0,"00:00:00","00:00:00",0,0,"00:00:00","00:00:00",0,0,"00:00:00","00:00:00",0,0]
[null,null,null,null,null,null,null,0,"00:00:00","00:00:00",0,0,"00:00:00","00:00:00",0,0,"00:00:00","00:00:00",0,0,"00:00:00","00:00:00",0,0,"00:00:00","00:00:00",0,0,"00:00:00","00:00:00",0,0,"00:00:00","00:00:00",0,0,"00:00:00","00:00:00",0,0,"00:00:00","00:00:00",0,0,"00:00:00","00:00:00",0,0]
[null,null,null,null,null,null,null,0,"00:00:00","00:00:00",0,0,"00:00:00","00:00:00",0,0,"00:00:00","00:00:00",0,0,"00:00:00","00:00:00",0,0,"00:00:00","00:00:00",0,0,"00:00:00","00:00:00",0,0,"00:00:00","00:00:00",0,0,"00:00:00","00:00:00",0,0,"00:00:00","00:00:00",0,0,"00:00:00","00:00:00",0,0]
[null,null,null,null,null,null,null,0,"00:00:00","00:00:00",0,0,"00:00:00","00:00:00",0,0,"00:00:00","00:00:00",0,0,"00:00:00","00:00:00",0,0,"00:00:00","00:00:00",0,0,"00:00:00","00:00:00",0,0,"00:00:00","00:00:00",0,0,"00:00:00","00:00:00",0,0,"00:00:00","00:00:00",0,0,"00:00:00","00:00:00",0,0]
[null,null,null,null,null,null,null,0,"00:00:00","00:00:00",0,0,"00:00:00","00:00:00",0,0,"00:00:00","00:00:00",0,0,"00:00:00","00:00:00",0,0,"00:00:00","00:00:00",0,0,"00:00:00","00:00:00",0,0,"00:00:00","00:00:00",0,0,"00:00:00","00:00:00",0,0,"00:00:00","00:00:00",0,0,"00:00:00","00:00:00",0,0]
[null,null,null,null,null,null,null,0,"00:00:00","00:00:00",0,0,"00:00:00","00:00:00",0,0,"00:00:00","00:00:00",0,0,"00:00:00","00:00:00",0,0,"00:00:00","00:00:00",0,0,"00:00:00","00:00:00",0,0,"00:00:00","00:00:00",0,0,"00:00:00","00:00:00",0,0,"00:00:00","00:00:00",0,0,"00:00:00","00:00:00",0,0]
[null,null,null,null,null,null,null,0,"00:00:00","00:00:00",0,0,"00:00:00","00:00:00",0,0,"00:00:00","00:00:00",0,0,"00:00:00","00:00:00",0,0,"00:00:00","00:00:00",0,0,"00:00:00","00:00:00",0,0,"00:00:00","00:00:00",0,0,"00:00:00","00:00:00",0,0,"00:00:00","00:00:00",0,0,"00:00:00","00:00:00",0,0]
[null,null,null,null,null,null,null,0,"00:00:00","00:00:00",0,0,"00:00:00","00:00:00",0,0,"00:00:00","00:00:00",0,0,"00:00:00","00:00:00",0,0,"00:00:00","00:00:00",0,0,"00:00:00","00:00:00",0,0,"00:00:00","00:00:00",0,0,"00:00:00","00:00:00",0,0,"00:00:00","00:00:00",0,0,"00:00:00","00:00:00",0,0]
[null,null,null,null,null,null,null,0,"00:00:00","00:00:00",0,0,"00:00:00","00:00:00",0,0,"00:00:00","00:00:00",0,0,"00:00:00","00:00:00",0,0,"00:00:00","00:00:00",0,0,"00:00:00","00:00:00",0,0,"00:00:00","00:00:00",0,0,"00:00:00","00:00:00",0,0,"00:00:00","00:00:00",0,0,"00:00:00","00:00:00",0,0]
[null,null,null,null,null,null,null,0,"00:00:00","00:00:00",0,0,"00:00:00","00:00:00",0,0,"00:00:00","00:00:00",0,0,"00:00:00","00:00:00",0,0,"00:00:00","00:00:00",0,0,"00:00:00","00:00:00",0,0,"00:00:00","00:00:00",0,0,"00:00:00","00:00:00",0,0,"00:00:00","00:00:00",0,0,"00:00:00","00:00:00",0,0]
[null,null,null,null,null,null,null,0,"00:00:00","00:00:00",0,0,"00:00:00","00:00:00",0,0,"00:00:00","00:00:00",0,0,"00:00:00","00:00:00",0,0,"00:00:00","00:00:00",0,0,"00:00:00","00:00:00",0,0,"00:00:00","00:00:00",0,0,"00:00:00","00:00:00",0,0,"00:00:00","00:00:00",0,0,"00:00:00","00:00:00",0,0]
[null,null,null,null,null,null,null,0,"00:00:00","00:00:00",0,0,"00:00:00","00:00:00",0,0,"00:00:00","00:00:00",0,0,"00:00:00","00:00:00",0,0,"00:00:00","00:00:00",0,0,"00:00:00","00:00:00",0,0,"00:00:00","00:00:00",0,0,"00:00:00","00:00:00",0,0,"00:00:00","00:00:00",0,0,"00:00:00","00:00:00",0,0]
[null,null,null,null,null,null,null,0,"00:00:00","00:00:00",0,0,"00:00:00","00:00:00",0,0,"00:00:00","00:00:00",0,0,"00:00:00","00:00:00",0,0,"00:00:00","00:00:00",0,0,"00:00:00","00:00:00",0,0,"00:00:00","00:00:00",0,0,"00:00:00","00:00:00",0,0,"00:00:00","00:00:00",0,0,"00:00:00","00:00:00",0,0]
[null,null,null,null,null,null,null,0,"00:00:00","00:00:00",0,0,"00:00:00","00:00:00",0,0,"00:00:00","00:00:00",0,0,"00:00:00","00:00:00",0,0,"00:00:00","00:00:00",0,0,"00:00:00","00:00:00",0,0,"00:00:00","00:00:00",0,0,"00:00:00","00:00:00",0,0,"00:00:00","00:00:00",0,0,"00:00:00","00:00:00",0,0]
[null,null,null,null,null,null,null,0,"00:00:00","00:00:00",0,0,"00:00:00","00:00:00",0,0,"00:00:00","00:00:00",0,0,"00:00:00","00:00:00",0,0,"00:00:00","00:00:00",0,0,"00:00:00","00:00:00",0,0,"00:00:00","00:00:00",0,0,"00:00:00","00:00:00",0,0,"00:00:00","00:00:00",0,0,"00:00:00","00:00:00",0,0]
[null,null,null,null,null,null,null,0,"00:00:00","00:00:00",0,0,"00:00:00","00:00:00",0,0,"00:00:00","00:00:00",0,0,"00:00:00","00:00:00",0,0,"00:00:00","00:00:00",0,0,"00:00:00","00:00:00",0,0,"00:00:00","00:00:00",0,0,"00:00:00","00:00:00",0,0,"00:00:00","00:00:00",0,0,"00:00:00","00:00:00",0,0]
[null,null,null,null,null,null,null,0,"00:00:00","00:00:00",0,0,"00:00:00","00:00:00",0,0,"00:00:00","00:00:00",0,0,"00:00:00","00:00:00",0,0,"00:00:00","00:00:00",0,0,"00:00:00","00:00:00",0,0,"00:00:00","00:00:00",0,0,"00:00:00","00:00:00",0,0,"00:00:00","00:00:00",0,0,"00:00:00","00:00:00",0,0]
[null,null,null,null,null,null,null,0,"00:00:00","00:00:00",0,0,"00:00:00","00:00:00",0,0,"00:00:00","00:00:00",0,0,"00:00:00","00:00:00",0,0,"00:00:00","00:00:00",0,0,"00:00:00","00:00:00",0,0,"00:00:00","00:00:00",0,0,"00:00:00","00:00:00",0,0,"00:00:00","00:00:00",0,0,"00:00:00","00:00:00",0,0]
[null,null,null,null,null,null,null,0,"00:00:00","00:00:00",0,0,"00:00:00","00:00:00",0,0,"00:00:00","00:00:00",0,0,"00:00:00","00:00:00",0,0,"00:00:00","00:00:00",0,0,"00:00:00","00:00:00",0,0,"00:00:00","00:00:00",0,0,"00:00:00","00:00:00",0,0,"00:00:00","00:00:00",0,0,"00:00:00","00:00:00",0,0]
[null,null,null,null,null,null,null,0,"00:00:00","00:00:00",0,0,"00:00:00","00:00:00",0,0,"00:00:00","00:00:00",0,0,"00:00:00","00:00:00",0,0,"00:00:00","00:00:00",0,0,"00:00:00","00:00:00",0,0,"00:00:00","00:00:00",0,0,"00:00:00","00:00:00",0,0,"00:00:00","00:00:00",0,0,"00:00:00","00:00:00",0,0]
[null,null,null,null,null,null,null,0,"00:00:00","00:00:00",0,0,"00:00:00","00:00:00",0,0,"00:00:00","00:00:00",0,0,"00:00:00","00:00:00",0,0,"00:00:00","00:00:00",0,0,"00:00:00","00:00:00",0,0,"00:00:00","00:00:00",0,0,"00:00:00","00:00:00",0,0,"00:00:00","00:00:00",0,0,"00:00:00","00:00:00",0,0]
[null,null,null,null,null,null,null,0,"00:00:00","00:00:00",0,0,"00:00:00","00:00:00",0,0,"00:00:00","00:00:00",0,0,"00:00:00","00:00:00",0,0,"00:00:00","00:00:00",0,0,"00:00:00","00:00:00",0,0,"00:00:00","00:00:00",0,0,"00:00:00","00:00:00",0,0,"00:00:00","00:00:00",0,0,"00:00:00","00:00:00",0,0]
[null,null,null,null,null,null,null,0,"00:00:00","00:00:00",0,0,"00:00:00","00:00:00",0,0,"00:00:00","00:00:00",0,0,"00:00:00","00:00:00",0,0,"00:00:00","00:00:00",0,0,"00:00:00","00:00:00",0,0,"00:00:00","00:00:00",0,0,"00:00:00","00:00:00",0,0,"00:00:00","00:00:00",0,0,"00:00:00","00:00:00",0,0]
[null,null,null,null,null,null,null,0,"00:00:00","00:00:00",0,0,"00:00:00","00:00:00",0,0,"00:00:00","00:00:00",0,0,"00:00:00","00:00:00",0,0,"00:00:00","00:00:00",0,0,"00:00:00","00:00:00",0,0,"00:00:00","00:00:00",0,0,"00:00:00","00:00:00",0,0,"00:00:00","00:00:00",0,0,"00:00:00","00:00:00",0,0]
[null,null,null,null,null,null,null,0,"00:00:00","00:00:00",0,0,"00:00:00","00:00:00",0,0,"00:00:00","00:00:00",0,0,"00:00:00","00:00:00",0,0,"00:00:00","00:00:00",0,0,"00:00:00","00:00:00",0,0,"00:00:00","00:00:00",0,0,"00:00:00","00:00:00",0,0,"00:00:00","00:00:00",0,0,"00:00:00","00:00:00",0,0]
[null,null,null,null,null,null,null,0,"00:00:00","00:00:00",0,0,"00:00:00","00:00:00",0,0,"00:00:00","00:00:00",0,0,"00:00:00","00:00:00",0,0,"00:00:00","00:00:00",0,0,"00:00:00","00:00:00",0,0,"00:00:00","00:00:00",0,0,"00:00:00","00:00:00",0,0,"00:00:00","00:00:00",0,0,"00:00:00","00:00:00",0,0]
[null,null,null,null,null,null,null,0,"00:00:00","00:00:00",0,0,"00:00:00","00:00:00",0,0,"00:00:00","00:00:00",0,0,"00:00:00","00:00:00",0,0,"00:00:00","00:00:00",0,0,"00:00:00","00:00:00",0,0,"00:00:00","00:00:00",0,0,"00:00:00","00:00:00",0,0,"00:00:00","00:00:00",0,0,"00:00:00","00:00:00",0,0]
[null,null,null,null,null,null,null,0,"00:00:00","00:00:00",0,0,"00:00:00","00:00:00",0,0,"00:00:00","00:00:00",0,0,"00:00:00","00:00:00",0,0,"00:00:00","00:00:00",0,0,"00:00:00","00:00:00",0,0,"00:00:00","00:00:00",0,0,"00:00:00","00:00:00",0,0,"00:00:00","00:00:00",0,0,"00:00:00","00:00:00",0,0]
[null,null,null,null,null,null,null,{"$f":"IF(F973-E973=0,0,F973-E973+1)","v":0},{"$f":"IF(OR($F973<I$10,$E973>J$10),0,IF(AND($E973>=I$10,$F973<=J$10),$E973,IF(AND($E973<=I$10,$F973<=J$10),I$10,IF(AND($E973<=J$10,$F973>=J$10,$E973>=I$10),$E973,IF(AND($E973<=I$10,$F973>=J$10),I$10,\"chyba\")))))","v":"00:00:00"},{"$f":"IF(OR($F973<I$10,$E973>J$10),0,IF(AND($E973>=I$10,$F973<=J$10),$F973,IF(AND($E973<=I$10,$F973<=J$10),$F973,IF(AND($E973<=J$10,$F973>=J$10),J$10,IF(AND($E973<=I$10,$F973>=J$10),J$10,\"chyba\")))))","v":"00:00:00"},{"$f":"IF(J973-I973=0,0,J973-I973+1)","v":0},{"$f":"IF($H973<=0,0,$G973/$H973*K973)","v":0},{"$f":"IF(OR($F973<M$10,$E973>N$10),0,IF(AND($E973>=M$10,$F973<=N$10),$E973,IF(AND($E973<=M$10,$F973<=N$10),M$10,IF(AND($E973<=N$10,$F973>=N$10,$E973>=M$10),$E973,IF(AND($E973<=M$10,$F973>=N$10),M$10,\"chyba\")))))","v":"00:00:00"},{"$f":"IF(OR($F973<M$10,$E973>N$10),0,IF(AND($E973>=M$10,$F973<=N$10),$F973,IF(AND($E973<=M$10,$F973<=N$10),$F973,IF(AND($E973<=N$10,$F973>=N$10),N$10,IF(AND($E973<=M$10,$F973>=N$10),N$10,\"chyba\")))))","v":"00:00:00"},{"$f":"IF(N973-M973=0,0,N973-M973+1)","v":0},{"$f":"IF($H973<=0,0,$G973/$H973*O973)","v":0},{"$f":"IF(OR($F973<Q$10,$E973>R$10),0,IF(AND($E973>=Q$10,$F973<=R$10),$E973,IF(AND($E973<=Q$10,$F973<=R$10),Q$10,IF(AND($E973<=R$10,$F973>=R$10,$E973>=Q$10),$E973,IF(AND($E973<=Q$10,$F973>=R$10),Q$10,\"chyba\")))))","v":"00:00:00"},{"$f":"IF(OR($F973<Q$10,$E973>R$10),0,IF(AND($E973>=Q$10,$F973<=R$10),$F973,IF(AND($E973<=Q$10,$F973<=R$10),$F973,IF(AND($E973<=R$10,$F973>=R$10),R$10,IF(AND($E973<=Q$10,$F973>=R$10),R$10,\"chyba\")))))","v":"00:00:00"},{"$f":"IF(R973-Q973=0,0,R973-Q973+1)","v":0},{"$f":"IF($H973<=0,0,$G973/$H973*S973)","v":0},{"$f":"IF(OR($F973<U$10,$E973>V$10),0,IF(AND($E973>=U$10,$F973<=V$10),$E973,IF(AND($E973<=U$10,$F973<=V$10),U$10,IF(AND($E973<=V$10,$F973>=V$10,$E973>=U$10),$E973,IF(AND($E973<=U$10,$F973>=V$10),U$10,\"chyba\")))))","v":"00:00:00"},{"$f":"IF(OR($F973<U$10,$E973>V$10),0,IF(AND($E973>=U$10,$F973<=V$10),$F973,IF(AND($E973<=U$10,$F973<=V$10),$F973,IF(AND($E973<=V$10,$F973>=V$10),V$10,IF(AND($E973<=U$10,$F973>=V$10),V$10,\"chyba\")))))","v":"00:00:00"},{"$f":"IF(V973-U973=0,0,V973-U973+1)","v":0},{"$f":"IF($H973<=0,0,$G973/$H973*W973)","v":0},{"$f":"IF(OR($F973<Y$10,$E973>Z$10),0,IF(AND($E973>=Y$10,$F973<=Z$10),$E973,IF(AND($E973<=Y$10,$F973<=Z$10),Y$10,IF(AND($E973<=Z$10,$F973>=Z$10,$E973>=Y$10),$E973,IF(AND($E973<=Y$10,$F973>=Z$10),Y$10,\"chyba\")))))","v":"00:00:00"},{"$f":"IF(OR($F973<Y$10,$E973>Z$10),0,IF(AND($E973>=Y$10,$F973<=Z$10),$F973,IF(AND($E973<=Y$10,$F973<=Z$10),$F973,IF(AND($E973<=Z$10,$F973>=Z$10),Z$10,IF(AND($E973<=Y$10,$F973>=Z$10),Z$10,\"chyba\")))))","v":"00:00:00"},{"$f":"IF(Z973-Y973=0,0,Z973-Y973+1)","v":0},{"$f":"IF($H973<=0,0,$G973/$H973*AA973)","v":0},{"$f":"IF(OR($F973<AC$10,$E973>AD$10),0,IF(AND($E973>=AC$10,$F973<=AD$10),$E973,IF(AND($E973<=AC$10,$F973<=AD$10),AC$10,IF(AND($E973<=AD$10,$F973>=AD$10,$E973>=AC$10),$E973,IF(AND($E973<=AC$10,$F973>=AD$10),AC$10,\"chyba\")))))","v":"00:00:00"},{"$f":"IF(OR($F973<AC$10,$E973>AD$10),0,IF(AND($E973>=AC$10,$F973<=AD$10),$F973,IF(AND($E973<=AC$10,$F973<=AD$10),$F973,IF(AND($E973<=AD$10,$F973>=AD$10),AD$10,IF(AND($E973<=AC$10,$F973>=AD$10),AD$10,\"chyba\")))))","v":"00:00:00"},{"$f":"IF(AD973-AC973=0,0,AD973-AC973+1)","v":0},{"$f":"IF($H973<=0,0,$G973/$H973*AE973)","v":0},{"$f":"IF(OR($F973<AG$10,$E973>AH$10),0,IF(AND($E973>=AG$10,$F973<=AH$10),$E973,IF(AND($E973<=AG$10,$F973<=AH$10),AG$10,IF(AND($E973<=AH$10,$F973>=AH$10,$E973>=AG$10),$E973,IF(AND($E973<=AG$10,$F973>=AH$10),AG$10,\"chyba\")))))","v":"00:00:00"},{"$f":"IF(OR($F973<AG$10,$E973>AH$10),0,IF(AND($E973>=AG$10,$F973<=AH$10),$F973,IF(AND($E973<=AG$10,$F973<=AH$10),$F973,IF(AND($E973<=AH$10,$F973>=AH$10),AH$10,IF(AND($E973<=AG$10,$F973>=AH$10),AH$10,\"chyba\")))))","v":"00:00:00"},{"$f":"IF(AH973-AG973=0,0,AH973-AG973+1)","v":0},{"$f":"IF($H973<=0,0,$G973/$H973*AI973)","v":0},{"$f":"IF(OR($F973<AK$10,$E973>AL$10),0,IF(AND($E973>=AK$10,$F973<=AL$10),$E973,IF(AND($E973<=AK$10,$F973<=AL$10),AK$10,IF(AND($E973<=AL$10,$F973>=AL$10,$E973>=AK$10),$E973,IF(AND($E973<=AK$10,$F973>=AL$10),AK$10,\"chyba\")))))","v":"00:00:00"},{"$f":"IF(OR($F973<AK$10,$E973>AL$10),0,IF(AND($E973>=AK$10,$F973<=AL$10),$F973,IF(AND($E973<=AK$10,$F973<=AL$10),$F973,IF(AND($E973<=AL$10,$F973>=AL$10),AL$10,IF(AND($E973<=AK$10,$F973>=AL$10),AL$10,\"chyba\")))))","v":"00:00:00"},{"$f":"IF(AL973-AK973=0,0,AL973-AK973+1)","v":0},{"$f":"IF($H973<=0,0,$G973/$H973*AM973)","v":0},{"$f":"IF(OR($F973<AO$10,$E973>AP$10),0,IF(AND($E973>=AO$10,$F973<=AP$10),$E973,IF(AND($E973<=AO$10,$F973<=AP$10),AO$10,IF(AND($E973<=AP$10,$F973>=AP$10,$E973>=AO$10),$E973,IF(AND($E973<=AO$10,$F973>=AP$10),AO$10,\"chyba\")))))","v":"00:00:00"},{"$f":"IF(OR($F973<AO$10,$E973>AP$10),0,IF(AND($E973>=AO$10,$F973<=AP$10),$F973,IF(AND($E973<=AO$10,$F973<=AP$10),$F973,IF(AND($E973<=AP$10,$F973>=AP$10),AP$10,IF(AND($E973<=AO$10,$F973>=AP$10),AP$10,\"chyba\")))))","v":"00:00:00"},{"$f":"IF(AP973-AO973=0,0,AP973-AO973+1)","v":0},{"$f":"IF($H973<=0,0,$G973/$H973*AQ973)","v":0},{"$f":"IF(OR($F973<AS$10,$E973>AT$10),0,IF(AND($E973>=AS$10,$F973<=AT$10),$E973,IF(AND($E973<=AS$10,$F973<=AT$10),AS$10,IF(AND($E973<=AT$10,$F973>=AT$10,$E973>=AS$10),$E973,IF(AND($E973<=AS$10,$F973>=AT$10),AS$10,\"chyba\")))))","v":"00:00:00"},{"$f":"IF(OR($F973<AS$10,$E973>AT$10),0,IF(AND($E973>=AS$10,$F973<=AT$10),$F973,IF(AND($E973<=AS$10,$F973<=AT$10),$F973,IF(AND($E973<=AT$10,$F973>=AT$10),AT$10,IF(AND($E973<=AS$10,$F973>=AT$10),AT$10,\"chyba\")))))","v":"00:00:00"},{"$f":"IF(AT973-AS973=0,0,AT973-AS973+1)","v":0},{"$f":"IF($H973<=0,0,$G973/$H973*AU973)","v":0}]
[null,null,null,null,null,null,null,0,"00:00:00","00:00:00",0,0,"00:00:00","00:00:00",0,0,"00:00:00","00:00:00",0,0,"00:00:00","00:00:00",0,0,"00:00:00","00:00:00",0,0,"00:00:00","00:00:00",0,0,"00:00:00","00:00:00",0,0,"00:00:00","00:00:00",0,0,"00:00:00","00:00:00",0,0,"00:00:00","00:00:00",0,0]
[null,null,null,null,null,null,null,0,"00:00:00","00:00:00",0,0,"00:00:00","00:00:00",0,0,"00:00:00","00:00:00",0,0,"00:00:00","00:00:00",0,0,"00:00:00","00:00:00",0,0,"00:00:00","00:00:00",0,0,"00:00:00","00:00:00",0,0,"00:00:00","00:00:00",0,0,"00:00:00","00:00:00",0,0,"00:00:00","00:00:00",0,0]
[null,null,null,null,null,null,null,0,"00:00:00","00:00:00",0,0,"00:00:00","00:00:00",0,0,"00:00:00","00:00:00",0,0,"00:00:00","00:00:00",0,0,"00:00:00","00:00:00",0,0,"00:00:00","00:00:00",0,0,"00:00:00","00:00:00",0,0,"00:00:00","00:00:00",0,0,"00:00:00","00:00:00",0,0,"00:00:00","00:00:00",0,0]
[null,null,null,null,null,null,null,0,"00:00:00","00:00:00",0,0,"00:00:00","00:00:00",0,0,"00:00:00","00:00:00",0,0,"00:00:00","00:00:00",0,0,"00:00:00","00:00:00",0,0,"00:00:00","00:00:00",0,0,"00:00:00","00:00:00",0,0,"00:00:00","00:00:00",0,0,"00:00:00","00:00:00",0,0,"00:00:00","00:00:00",0,0]
[null,null,null,null,null,null,null,0,"00:00:00","00:00:00",0,0,"00:00:00","00:00:00",0,0,"00:00:00","00:00:00",0,0,"00:00:00","00:00:00",0,0,"00:00:00","00:00:00",0,0,"00:00:00","00:00:00",0,0,"00:00:00","00:00:00",0,0,"00:00:00","00:00:00",0,0,"00:00:00","00:00:00",0,0,"00:00:00","00:00:00",0,0]
[null,null,null,null,null,null,null,0,"00:00:00","00:00:00",0,0,"00:00:00","00:00:00",0,0,"00:00:00","00:00:00",0,0,"00:00:00","00:00:00",0,0,"00:00:00","00:00:00",0,0,"00:00:00","00:00:00",0,0,"00:00:00","00:00:00",0,0,"00:00:00","00:00:00",0,0,"00:00:00","00:00:00",0,0,"00:00:00","00:00:00",0,0]
[null,null,null,null,null,null,null,0,"00:00:00","00:00:00",0,0,"00:00:00","00:00:00",0,0,"00:00:00","00:00:00",0,0,"00:00:00","00:00:00",0,0,"00:00:00","00:00:00",0,0,"00:00:00","00:00:00",0,0,"00:00:00","00:00:00",0,0,"00:00:00","00:00:00",0,0,"00:00:00","00:00:00",0,0,"00:00:00","00:00:00",0,0]
[null,null,null,null,null,null,null,0,"00:00:00","00:00:00",0,0,"00:00:00","00:00:00",0,0,"00:00:00","00:00:00",0,0,"00:00:00","00:00:00",0,0,"00:00:00","00:00:00",0,0,"00:00:00","00:00:00",0,0,"00:00:00","00:00:00",0,0,"00:00:00","00:00:00",0,0,"00:00:00","00:00:00",0,0,"00:00:00","00:00:00",0,0]
[null,null,null,null,null,null,null,0,"00:00:00","00:00:00",0,0,"00:00:00","00:00:00",0,0,"00:00:00","00:00:00",0,0,"00:00:00","00:00:00",0,0,"00:00:00","00:00:00",0,0,"00:00:00","00:00:00",0,0,"00:00:00","00:00:00",0,0,"00:00:00","00:00:00",0,0,"00:00:00","00:00:00",0,0,"00:00:00","00:00:00",0,0]
[null,null,null,null,null,null,null,0,"00:00:00","00:00:00",0,0,"00:00:00","00:00:00",0,0,"00:00:00","00:00:00",0,0,"00:00:00","00:00:00",0,0,"00:00:00","00:00:00",0,0,"00:00:00","00:00:00",0,0,"00:00:00","00:00:00",0,0,"00:00:00","00:00:00",0,0,"00:00:00","00:00:00",0,0,"00:00:00","00:00:00",0,0]
[null,null,null,null,null,null,null,0,"00:00:00","00:00:00",0,0,"00:00:00","00:00:00",0,0,"00:00:00","00:00:00",0,0,"00:00:00","00:00:00",0,0,"00:00:00","00:00:00",0,0,"00:00:00","00:00:00",0,0,"00:00:00","00:00:00",0,0,"00:00:00","00:00:00",0,0,"00:00:00","00:00:00",0,0,"00:00:00","00:00:00",0,0]
[null,null,null,null,null,null,null,0,"00:00:00","00:00:00",0,0,"00:00:00","00:00:00",0,0,"00:00:00","00:00:00",0,0,"00:00:00","00:00:00",0,0,"00:00:00","00:00:00",0,0,"00:00:00","00:00:00",0,0,"00:00:00","00:00:00",0,0,"00:00:00","00:00:00",0,0,"00:00:00","00:00:00",0,0,"00:00:00","00:00:00",0,0]
[null,null,null,null,null,null,null,0,"00:00:00","00:00:00",0,0,"00:00:00","00:00:00",0,0,"00:00:00","00:00:00",0,0,"00:00:00","00:00:00",0,0,"00:00:00","00:00:00",0,0,"00:00:00","00:00:00",0,0,"00:00:00","00:00:00",0,0,"00:00:00","00:00:00",0,0,"00:00:00","00:00:00",0,0,"00:00:00","00:00:00",0,0]
[null,null,null,null,null,null,null,0,"00:00:00","00:00:00",0,0,"00:00:00","00:00:00",0,0,"00:00:00","00:00:00",0,0,"00:00:00","00:00:00",0,0,"00:00:00","00:00:00",0,0,"00:00:00","00:00:00",0,0,"00:00:00","00:00:00",0,0,"00:00:00","00:00:00",0,0,"00:00:00","00:00:00",0,0,"00:00:00","00:00:00",0,0]
[null,null,null,null,null,null,null,0,"00:00:00","00:00:00",0,0,"00:00:00","00:00:00",0,0,"00:00:00","00:00:00",0,0,"00:00:00","00:00:00",0,0,"00:00:00","00:00:00",0,0,"00:00:00","00:00:00",0,0,"00:00:00","00:00:00",0,0,"00:00:00","00:00:00",0,0,"00:00:00","00:00:00",0,0,"00:00:00","00:00:00",0,0]
[null,null,null,null,null,null,null,0,"00:00:00","00:00:00",0,0,"00:00:00","00:00:00",0,0,"00:00:00","00:00:00",0,0,"00:00:00","00:00:00",0,0,"00:00:00","00:00:00",0,0,"00:00:00","00:00:00",0,0,"00:00:00","00:00:00",0,0,"00:00:00","00:00:00",0,0,"00:00:00","00:00:00",0,0,"00:00:00","00:00:00",0,0]
[null,null,null,null,null,null,null,0,"00:00:00","00:00:00",0,0,"00:00:00","00:00:00",0,0,"00:00:00","00:00:00",0,0,"00:00:00","00:00:00",0,0,"00:00:00","00:00:00",0,0,"00:00:00","00:00:00",0,0,"00:00:00","00:00:00",0,0,"00:00:00","00:00:00",0,0,"00:00:00","00:00:00",0,0,"00:00:00","00:00:00",0,0]
[null,null,null,null,null,null,null,0,"00:00:00","00:00:00",0,0,"00:00:00","00:00:00",0,0,"00:00:00","00:00:00",0,0,"00:00:00","00:00:00",0,0,"00:00:00","00:00:00",0,0,"00:00:00","00:00:00",0,0,"00:00:00","00:00:00",0,0,"00:00:00","00:00:00",0,0,"00:00:00","00:00:00",0,0,"00:00:00","00:00:00",0,0]
[null,null,null,null,null,null,null,0,"00:00:00","00:00:00",0,0,"00:00:00","00:00:00",0,0,"00:00:00","00:00:00",0,0,"00:00:00","00:00:00",0,0,"00:00:00","00:00:00",0,0,"00:00:00","00:00:00",0,0,"00:00:00","00:00:00",0,0,"00:00:00","00:00:00",0,0,"00:00:00","00:00:00",0,0,"00:00:00","00:00:00",0,0]
[null,null,null,null,null,null,null,0,"00:00:00","00:00:00",0,0,"00:00:00","00:00:00",0,0,"00:00:00","00:00:00",0,0,"00:00:00","00:00:00",0,0,"00:00:00","00:00:00",0,0,"00:00:00","00:00:00",0,0,"00:00:00","00:00:00",0,0,"00:00:00","00:00:00",0,0,"00:00:00","00:00:00",0,0,"00:00:00","00:00:00",0,0]
[null,null,null,null,null,null,null,0,"00:00:00","00:00:00",0,0,"00:00:00","00:00:00",0,0,"00:00:00","00:00:00",0,0,"00:00:00","00:00:00",0,0,"00:00:00","00:00:00",0,0,"00:00:00","00:00:00",0,0,"00:00:00","00:00:00",0,0,"00:00:00","00:00:00",0,0,"00:00:00","00:00:00",0,0,"00:00:00","00:00:00",0,0]
[null,null,null,null,null,null,null,0,"00:00:00","00:00:00",0,0,"00:00:00","00:00:00",0,0,"00:00:00","00:00:00",0,0,"00:00:00","00:00:00",0,0,"00:00:00","00:00:00",0,0,"00:00:00","00:00:00",0,0,"00:00:00","00:00:00",0,0,"00:00:00","00:00:00",0,0,"00:00:00","00:00:00",0,0,"00:00:00","00:00:00",0,0]
[null,null,null,null,null,null,null,0,"00:00:00","00:00:00",0,0,"00:00:00","00:00:00",0,0,"00:00:00","00:00:00",0,0,"00:00:00","00:00:00",0,0,"00:00:00","00:00:00",0,0,"00:00:00","00:00:00",0,0,"00:00:00","00:00:00",0,0,"00:00:00","00:00:00",0,0,"00:00:00","00:00:00",0,0,"00:00:00","00:00:00",0,0]
[null,null,null,null,null,null,null,0,"00:00:00","00:00:00",0,0,"00:00:00","00:00:00",0,0,"00:00:00","00:00:00",0,0,"00:00:00","00:00:00",0,0,"00:00:00","00:00:00",0,0,"00:00:00","00:00:00",0,0,"00:00:00","00:00:00",0,0,"00:00:00","00:00:00",0,0,"00:00:00","00:00:00",0,0,"00:00:00","00:00:00",0,0]
[null,null,null,null,null,null,null,0,"00:00:00","00:00:00",0,0,"00:00:00","00:00:00",0,0,"00:00:00","00:00:00",0,0,"00:00:00","00:00:00",0,0,"00:00:00","00:00:00",0,0,"00:00:00","00:00:00",0,0,"00:00:00","00:00:00",0,0,"00:00:00","00:00:00",0,0,"00:00:00","00:00:00",0,0,"00:00:00","00:00:00",0,0]
[null,null,null,null,null,null,null,0,"00:00:00","00:00:00",0,0,"00:00:00","00:00:00",0,0,"00:00:00","00:00:00",0,0,"00:00:00","00:00:00",0,0,"00:00:00","00:00:00",0,0,"00:00:00","00:00:00",0,0,"00:00:00","00:00:00",0,0,"00:00:00","00:00:00",0,0,"00:00:00","00:00:00",0,0,"00:00:00","00:00:00",0,0]
[null,null,null,null,null,null,null,0,"00:00:00","00:00:00",0,0,"00:00:00","00:00:00",0,0,"00:00:00","00:00:00",0,0,"00:00:00","00:00:00",0,0,"00:00:00","00:00:00",0,0,"00:00:00","00:00:00",0,0,"00:00:00","00:00:00",0,0,"00:00:00","00:00:00",0,0,"00:00:00","00:00:00",0,0,"00:00:00","00:00:00",0,0]
[null,null,null,null,null,null,null,0,"00:00:00","00:00:00",0,0,"00:00:00","00:00:00",0,0,"00:00:00","00:00:00",0,0,"00:00:00","00:00:00",0,0,"00:00:00","00:00:00",0,0,"00:00:00","00:00:00",0,0,"00:00:00","00:00:00",0,0,"00:00:00","00:00:00",0,0,"00:00:00","00:00:00",0,0,"00:00:00","00:00:00",0,0]
[null,null,null,null,null,null,null,0,"00:00:00","00:00:00",0,0,"00:00:00","00:00:00",0,0,"00:00:00","00:00:00",0,0,"00:00:00","00:00:00",0,0,"00:00:00","00:00:00",0,0,"00:00:00","00:00:00",0,0,"00:00:00","00:00:00",0,0,"00:00:00","00:00:00",0,0,"00:00:00","00:00:00",0,0,"00:00:00","00:00:00",0,0]
[null,null,null,null,null,null,null,0,"00:00:00","00:00:00",0,0,"00:00:00","00:00:00",0,0,"00:00:00","00:00:00",0,0,"00:00:00","00:00:00",0,0,"00:00:00","00:00:00",0,0,"00:00:00","00:00:00",0,0,"00:00:00","00:00:00",0,0,"00:00:00","00:00:00",0,0,"00:00:00","00:00:00",0,0,"00:00:00","00:00:00",0,0]
[null,null,null,null,null,null,null,0,"00:00:00","00:00:00",0,0,"00:00:00","00:00:00",0,0,"00:00:00","00:00:00",0,0,"00:00:00","00:00:00",0,0,"00:00:00","00:00:00",0,0,"00:00:00","00:00:00",0,0,"00:00:00","00:00:00",0,0,"00:00:00","00:00:00",0,0,"00:00:00","00:00:00",0,0,"00:00:00","00:00:00",0,0]
[null,null,null,null,null,null,null,0,"00:00:00","00:00:00",0,0,"00:00:00","00:00:00",0,0,"00:00:00","00:00:00",0,0,"00:00:00","00:00:00",0,0,"00:00:00","00:00:00",0,0,"00:00:00","00:00:00",0,0,"00:00:00","00:00:00",0,0,"00:00:00","00:00:00",0,0,"00:00:00","00:00:00",0,0,"00:00:00","00:00:00",0,0]
[null,null,null,null,null,null,null,0,"00:00:00","00:00:00",0,0,"00:00:00","00:00:00",0,0,"00:00:00","00:00:00",0,0,"00:00:00","00:00:00",0,0,"00:00:00","00:00:00",0,0,"00:00:00","00:00:00",0,0,"00:00:00","00:00:00",0,0,"00:00:00","00:00:00",0,0,"00:00:00","00:00:00",0,0,"00:00:00","00:00:00",0,0]
[null,null,null,null,null,null,null,0,"00:00:00","00:00:00",0,0,"00:00:00","00:00:00",0,0,"00:00:00","00:00:00",0,0,"00:00:00","00:00:00",0,0,"00:00:00","00:00:00",0,0,"00:00:00","00:00:00",0,0,"00:00:00","00:00:00",0,0,"00:00:00","00:00:00",0,0,"00:00:00","00:00:00",0,0,"00:00:00","00:00:00",0,0]
[null,null,null,null,null,null,null,0,"00:00:00","00:00:00",0,0,"00:00:00","00:00:00",0,0,"00:00:00","00:00:00",0,0,"00:00:00","00:00:00",0,0,"00:00:00","00:00:00",0,0,"00:00:00","00:00:00",0,0,"00:00:00","00:00:00",0,0,"00:00:00","00:00:00",0,0,"00:00:00","00:00:00",0,0,"00:00:00","00:00:00",0,0]
[null,null,null,null,null,null,null,0,"00:00:00","00:00:00",0,0,"00:00:00","00:00:00",0,0,"00:00:00","00:00:00",0,0,"00:00:00","00:00:00",0,0,"00:00:00","00:00:00",0,0,"00:00:00","00:00:00",0,0,"00:00:00","00:00:00",0,0,"00:00:00","00:00:00",0,0,"00:00:00","00:00:00",0,0,"00:00:00","00:00:00",0,0]
[null,null,null,null,null,null,null,0,"00:00:00","00:00:00",0,0,"00:00:00","00:00:00",0,0,"00:00:00","00:00:00",0,0,"00:00:00","00:00:00",0,0,"00:00:00","00:00:00",0,0,"00:00:00","00:00:00",0,0,"00:00:00","00:00:00",0,0,"00:00:00","00:00:00",0,0,"00:00:00","00:00:00",0,0,"00:00:00","00:00:00",0,0]
[null,null,null,null,null,null,null,0,"00:00:00","00:00:00",0,0,"00:00:00","00:00:00",0,0,"00:00:00","00:00:00",0,0,"00:00:00","00:00:00",0,0,"00:00:00","00:00:00",0,0,"00:00:00","00:00:00",0,0,"00:00:00","00:00:00",0,0,"00:00:00","00:00:00",0,0,"00:00:00","00:00:00",0,0,"00:00:00","00:00:00",0,0]
[null,null,null,null,null,null,null,0,"00:00:00","00:00:00",0,0,"00:00:00","00:00:00",0,0,"00:00:00","00:00:00",0,0,"00:00:00","00:00:00",0,0,"00:00:00","00:00:00",0,0,"00:00:00","00:00:00",0,0,"00:00:00","00:00:00",0,0,"00:00:00","00:00:00",0,0,"00:00:00","00:00:00",0,0,"00:00:00","00:00:00",0,0]
[null,null,null,null,null,null,null,0,"00:00:00","00:00:00",0,0,"00:00:00","00:00:00",0,0,"00:00:00","00:00:00",0,0,"00:00:00","00:00:00",0,0,"00:00:00","00:00:00",0,0,"00:00:00","00:00:00",0,0,"00:00:00","00:00:00",0,0,"00:00:00","00:00:00",0,0,"00:00:00","00:00:00",0,0,"00:00:00","00:00:00",0,0]
[null,null,null,null,null,null,null,0,"00:00:00","00:00:00",0,0,"00:00:00","00:00:00",0,0,"00:00:00","00:00:00",0,0,"00:00:00","00:00:00",0,0,"00:00:00","00:00:00",0,0,"00:00:00","00:00:00",0,0,"00:00:00","00:00:00",0,0,"00:00:00","00:00:00",0,0,"00:00:00","00:00:00",0,0,"00:00:00","00:00:00",0,0]
[null,null,null,null,null,null,null,0,"00:00:00","00:00:00",0,0,"00:00:00","00:00:00",0,0,"00:00:00","00:00:00",0,0,"00:00:00","00:00:00",0,0,"00:00:00","00:00:00",0,0,"00:00:00","00:00:00",0,0,"00:00:00","00:00:00",0,0,"00:00:00","00:00:00",0,0,"00:00:00","00:00:00",0,0,"00:00:00","00:00:00",0,0]
[null,null,null,null,null,null,null,0,"00:00:00","00:00:00",0,0,"00:00:00","00:00:00",0,0,"00:00:00","00:00:00",0,0,"00:00:00","00:00:00",0,0,"00:00:00","00:00:00",0,0,"00:00:00","00:00:00",0,0,"00:00:00","00:00:00",0,0,"00:00:00","00:00:00",0,0,"00:00:00","00:00:00",0,0,"00:00:00","00:00:00",0,0]
[null,null,null,null,null,null,null,0,"00:00:00","00:00:00",0,0,"00:00:00","00:00:00",0,0,"00:00:00","00:00:00",0,0,"00:00:00","00:00:00",0,0,"00:00:00","00:00:00",0,0,"00:00:00","00:00:00",0,0,"00:00:00","00:00:00",0,0,"00:00:00","00:00:00",0,0,"00:00:00","00:00:00",0,0,"00:00:00","00:00:00",0,0]
[null,null,null,null,null,null,null,0,"00:00:00","00:00:00",0,0,"00:00:00","00:00:00",0,0,"00:00:00","00:00:00",0,0,"00:00:00","00:00:00",0,0,"00:00:00","00:00:00",0,0,"00:00:00","00:00:00",0,0,"00:00:00","00:00:00",0,0,"00:00:00","00:00:00",0,0,"00:00:00","00:00:00",0,0,"00:00:00","00:00:00",0,0]
[null,null,null,null,null,null,null,0,"00:00:00","00:00:00",0,0,"00:00:00","00:00:00",0,0,"00:00:00","00:00:00",0,0,"00:00:00","00:00:00",0,0,"00:00:00","00:00:00",0,0,"00:00:00","00:00:00",0,0,"00:00:00","00:00:00",0,0,"00:00:00","00:00:00",0,0,"00:00:00","00:00:00",0,0,"00:00:00","00:00:00",0,0]
[null,null,null,null,null,null,null,0,"00:00:00","00:00:00",0,0,"00:00:00","00:00:00",0,0,"00:00:00","00:00:00",0,0,"00:00:00","00:00:00",0,0,"00:00:00","00:00:00",0,0,"00:00:00","00:00:00",0,0,"00:00:00","00:00:00",0,0,"00:00:00","00:00:00",0,0,"00:00:00","00:00:00",0,0,"00:00:00","00:00:00",0,0]
[null,null,null,null,null,null,null,0,"00:00:00","00:00:00",0,0,"00:00:00","00:00:00",0,0,"00:00:00","00:00:00",0,0,"00:00:00","00:00:00",0,0,"00:00:00","00:00:00",0,0,"00:00:00","00:00:00",0,0,"00:00:00","00:00:00",0,0,"00:00:00","00:00:00",0,0,"00:00:00","00:00:00",0,0,"00:00:00","00:00:00",0,0]
[null,null,null,null,null,null,null,0,"00:00:00","00:00:00",0,0,"00:00:00","00:00:00",0,0,"00:00:00","00:00:00",0,0,"00:00:00","00:00:00",0,0,"00:00:00","00:00:00",0,0,"00:00:00","00:00:00",0,0,"00:00:00","00:00:00",0,0,"00:00:00","00:00:00",0,0,"00:00:00","00:00:00",0,0,"00:00:00","00:00:00",0,0]
[null,null,null,null,null,null,null,0,"00:00:00","00:00:00",0,0,"00:00:00","00:00:00",0,0,"00:00:00","00:00:00",0,0,"00:00:00","00:00:00",0,0,"00:00:00","00:00:00",0,0,"00:00:00","00:00:00",0,0,"00:00:00","00:00:00",0,0,"00:00:00","00:00:00",0,0,"00:00:00","00:00:00",0,0,"00:00:00","00:00:00",0,0]
[null,null,null,null,null,null,null,0,"00:00:00","00:00:00",0,0,"00:00:00","00:00:00",0,0,"00:00:00","00:00:00",0,0,"00:00:00","00:00:00",0,0,"00:00:00","00:00:00",0,0,"00:00:00","00:00:00",0,0,"00:00:00","00:00:00",0,0,"00:00:00","00:00:00",0,0,"00:00:00","00:00:00",0,0,"00:00:00","00:00:00",0,0]
[null,null,null,null,null,null,null,0,"00:00:00","00:00:00",0,0,"00:00:00","00:00:00",0,0,"00:00:00","00:00:00",0,0,"00:00:00","00:00:00",0,0,"00:00:00","00:00:00",0,0,"00:00:00","00:00:00",0,0,"00:00:00","00:00:00",0,0,"00:00:00","00:00:00",0,0,"00:00:00","00:00:00",0,0,"00:00:00","00:00:00",0,0]
[null,null,null,null,null,null,null,0,"00:00:00","00:00:00",0,0,"00:00:00","00:00:00",0,0,"00:00:00","00:00:00",0,0,"00:00:00","00:00:00",0,0,"00:00:00","00:00:00",0,0,"00:00:00","00:00:00",0,0,"00:00:00","00:00:00",0,0,"00:00:00","00:00:00",0,0,"00:00:00","00:00:00",0,0,"00:00:00","00:00:00",0,0]
[null,null,null,null,null,null,null,0,"00:00:00","00:00:00",0,0,"00:00:00","00:00:00",0,0,"00:00:00","00:00:00",0,0,"00:00:00","00:00:00",0,0,"00:00:00","00:00:00",0,0,"00:00:00","00:00:00",0,0,"00:00:00","00:00:00",0,0,"00:00:00","00:00:00",0,0,"00:00:00","00:00:00",0,0,"00:00:00","00:00:00",0,0]
[null,null,null,null,null,null,null,0,"00:00:00","00:00:00",0,0,"00:00:00","00:00:00",0,0,"00:00:00","00:00:00",0,0,"00:00:00","00:00:00",0,0,"00:00:00","00:00:00",0,0,"00:00:00","00:00:00",0,0,"00:00:00","00:00:00",0,0,"00:00:00","00:00:00",0,0,"00:00:00","00:00:00",0,0,"00:00:00","00:00:00",0,0]
[null,null,null,null,null,null,null,0,"00:00:00","00:00:00",0,0,"00:00:00","00:00:00",0,0,"00:00:00","00:00:00",0,0,"00:00:00","00:00:00",0,0,"00:00:00","00:00:00",0,0,"00:00:00","00:00:00",0,0,"00:00:00","00:00:00",0,0,"00:00:00","00:00:00",0,0,"00:00:00","00:00:00",0,0,"00:00:00","00:00:00",0,0]
[null,null,null,null,null,null,null,0,"00:00:00","00:00:00",0,0,"00:00:00","00:00:00",0,0,"00:00:00","00:00:00",0,0,"00:00:00","00:00:00",0,0,"00:00:00","00:00:00",0,0,"00:00:00","00:00:00",0,0,"00:00:00","00:00:00",0,0,"00:00:00","00:00:00",0,0,"00:00:00","00:00:00",0,0,"00:00:00","00:00:00",0,0]
[null,null,null,null,null,null,null,0,"00:00:00","00:00:00",0,0,"00:00:00","00:00:00",0,0,"00:00:00","00:00:00",0,0,"00:00:00","00:00:00",0,0,"00:00:00","00:00:00",0,0,"00:00:00","00:00:00",0,0,"00:00:00","00:00:00",0,0,"00:00:00","00:00:00",0,0,"00:00:00","00:00:00",0,0,"00:00:00","00:00:00",0,0]
[null,null,null,null,null,null,null,0,"00:00:00","00:00:00",0,0,"00:00:00","00:00:00",0,0,"00:00:00","00:00:00",0,0,"00:00:00","00:00:00",0,0,"00:00:00","00:00:00",0,0,"00:00:00","00:00:00",0,0,"00:00:00","00:00:00",0,0,"00:00:00","00:00:00",0,0,"00:00:00","00:00:00",0,0,"00:00:00","00:00:00",0,0]
[null,null,null,null,null,null,null,0,"00:00:00","00:00:00",0,0,"00:00:00","00:00:00",0,0,"00:00:00","00:00:00",0,0,"00:00:00","00:00:00",0,0,"00:00:00","00:00:00",0,0,"00:00:00","00:00:00",0,0,"00:00:00","00:00:00",0,0,"00:00:00","00:00:00",0,0,"00:00:00","00:00:00",0,0,"00:00:00","00:00:00",0,0]
[null,null,null,null,null,null,null,0,"00:00:00","00:00:00",0,0,"00:00:00","00:00:00",0,0,"00:00:00","00:00:00",0,0,"00:00:00","00:00:00",0,0,"00:00:00","00:00:00",0,0,"00:00:00","00:00:00",0,0,"00:00:00","00:00:00",0,0,"00:00:00","00:00:00",0,0,"00:00:00","00:00:00",0,0,"00:00:00","00:00:00",0,0]
[null,null,null,null,null,null,null,0,"00:00:00","00:00:00",0,0,"00:00:00","00:00:00",0,0,"00:00:00","00:00:00",0,0,"00:00:00","00:00:00",0,0,"00:00:00","00:00:00",0,0,"00:00:00","00:00:00",0,0,"00:00:00","00:00:00",0,0,"00:00:00","00:00:00",0,0,"00:00:00","00:00:00",0,0,"00:00:00","00:00:00",0,0]
[null,null,null,null,null,null,null,0,"00:00:00","00:00:00",0,0,"00:00:00","00:00:00",0,0,"00:00:00","00:00:00",0,0,"00:00:00","00:00:00",0,0,"00:00:00","00:00:00",0,0,"00:00:00","00:00:00",0,0,"00:00:00","00:00:00",0,0,"00:00:00","00:00:00",0,0,"00:00:00","00:00:00",0,0,"00:00:00","00:00:00",0,0]
[null,null,null,null,null,null,null,{"$f":"IF(F1037-E1037=0,0,F1037-E1037+1)","v":0},{"$f":"IF(OR($F1037<I$10,$E1037>J$10),0,IF(AND($E1037>=I$10,$F1037<=J$10),$E1037,IF(AND($E1037<=I$10,$F1037<=J$10),I$10,IF(AND($E1037<=J$10,$F1037>=J$10,$E1037>=I$10),$E1037,IF(AND($E1037<=I$10,$F1037>=J$10),I$10,\"chyba\")))))","v":"00:00:00"},{"$f":"IF(OR($F1037<I$10,$E1037>J$10),0,IF(AND($E1037>=I$10,$F1037<=J$10),$F1037,IF(AND($E1037<=I$10,$F1037<=J$10),$F1037,IF(AND($E1037<=J$10,$F1037>=J$10),J$10,IF(AND($E1037<=I$10,$F1037>=J$10),J$10,\"chyba\")))))","v":"00:00:00"},{"$f":"IF(J1037-I1037=0,0,J1037-I1037+1)","v":0},{"$f":"IF($H1037<=0,0,$G1037/$H1037*K1037)","v":0},{"$f":"IF(OR($F1037<M$10,$E1037>N$10),0,IF(AND($E1037>=M$10,$F1037<=N$10),$E1037,IF(AND($E1037<=M$10,$F1037<=N$10),M$10,IF(AND($E1037<=N$10,$F1037>=N$10,$E1037>=M$10),$E1037,IF(AND($E1037<=M$10,$F1037>=N$10),M$10,\"chyba\")))))","v":"00:00:00"},{"$f":"IF(OR($F1037<M$10,$E1037>N$10),0,IF(AND($E1037>=M$10,$F1037<=N$10),$F1037,IF(AND($E1037<=M$10,$F1037<=N$10),$F1037,IF(AND($E1037<=N$10,$F1037>=N$10),N$10,IF(AND($E1037<=M$10,$F1037>=N$10),N$10,\"chyba\")))))","v":"00:00:00"},{"$f":"IF(N1037-M1037=0,0,N1037-M1037+1)","v":0},{"$f":"IF($H1037<=0,0,$G1037/$H1037*O1037)","v":0},{"$f":"IF(OR($F1037<Q$10,$E1037>R$10),0,IF(AND($E1037>=Q$10,$F1037<=R$10),$E1037,IF(AND($E1037<=Q$10,$F1037<=R$10),Q$10,IF(AND($E1037<=R$10,$F1037>=R$10,$E1037>=Q$10),$E1037,IF(AND($E1037<=Q$10,$F1037>=R$10),Q$10,\"chyba\")))))","v":"00:00:00"},{"$f":"IF(OR($F1037<Q$10,$E1037>R$10),0,IF(AND($E1037>=Q$10,$F1037<=R$10),$F1037,IF(AND($E1037<=Q$10,$F1037<=R$10),$F1037,IF(AND($E1037<=R$10,$F1037>=R$10),R$10,IF(AND($E1037<=Q$10,$F1037>=R$10),R$10,\"chyba\")))))","v":"00:00:00"},{"$f":"IF(R1037-Q1037=0,0,R1037-Q1037+1)","v":0},{"$f":"IF($H1037<=0,0,$G1037/$H1037*S1037)","v":0},{"$f":"IF(OR($F1037<U$10,$E1037>V$10),0,IF(AND($E1037>=U$10,$F1037<=V$10),$E1037,IF(AND($E1037<=U$10,$F1037<=V$10),U$10,IF(AND($E1037<=V$10,$F1037>=V$10,$E1037>=U$10),$E1037,IF(AND($E1037<=U$10,$F1037>=V$10),U$10,\"chyba\")))))","v":"00:00:00"},{"$f":"IF(OR($F1037<U$10,$E1037>V$10),0,IF(AND($E1037>=U$10,$F1037<=V$10),$F1037,IF(AND($E1037<=U$10,$F1037<=V$10),$F1037,IF(AND($E1037<=V$10,$F1037>=V$10),V$10,IF(AND($E1037<=U$10,$F1037>=V$10),V$10,\"chyba\")))))","v":"00:00:00"},{"$f":"IF(V1037-U1037=0,0,V1037-U1037+1)","v":0},{"$f":"IF($H1037<=0,0,$G1037/$H1037*W1037)","v":0},{"$f":"IF(OR($F1037<Y$10,$E1037>Z$10),0,IF(AND($E1037>=Y$10,$F1037<=Z$10),$E1037,IF(AND($E1037<=Y$10,$F1037<=Z$10),Y$10,IF(AND($E1037<=Z$10,$F1037>=Z$10,$E1037>=Y$10),$E1037,IF(AND($E1037<=Y$10,$F1037>=Z$10),Y$10,\"chyba\")))))","v":"00:00:00"},{"$f":"IF(OR($F1037<Y$10,$E1037>Z$10),0,IF(AND($E1037>=Y$10,$F1037<=Z$10),$F1037,IF(AND($E1037<=Y$10,$F1037<=Z$10),$F1037,IF(AND($E1037<=Z$10,$F1037>=Z$10),Z$10,IF(AND($E1037<=Y$10,$F1037>=Z$10),Z$10,\"chyba\")))))","v":"00:00:00"},{"$f":"IF(Z1037-Y1037=0,0,Z1037-Y1037+1)","v":0},{"$f":"IF($H1037<=0,0,$G1037/$H1037*AA1037)","v":0},{"$f":"IF(OR($F1037<AC$10,$E1037>AD$10),0,IF(AND($E1037>=AC$10,$F1037<=AD$10),$E1037,IF(AND($E1037<=AC$10,$F1037<=AD$10),AC$10,IF(AND($E1037<=AD$10,$F1037>=AD$10,$E1037>=AC$10),$E1037,IF(AND($E1037<=AC$10,$F1037>=AD$10),AC$10,\"chyba\")))))","v":"00:00:00"},{"$f":"IF(OR($F1037<AC$10,$E1037>AD$10),0,IF(AND($E1037>=AC$10,$F1037<=AD$10),$F1037,IF(AND($E1037<=AC$10,$F1037<=AD$10),$F1037,IF(AND($E1037<=AD$10,$F1037>=AD$10),AD$10,IF(AND($E1037<=AC$10,$F1037>=AD$10),AD$10,\"chyba\")))))","v":"00:00:00"},{"$f":"IF(AD1037-AC1037=0,0,AD1037-AC1037+1)","v":0},{"$f":"IF($H1037<=0,0,$G1037/$H1037*AE1037)","v":0},{"$f":"IF(OR($F1037<AG$10,$E1037>AH$10),0,IF(AND($E1037>=AG$10,$F1037<=AH$10),$E1037,IF(AND($E1037<=AG$10,$F1037<=AH$10),AG$10,IF(AND($E1037<=AH$10,$F1037>=AH$10,$E1037>=AG$10),$E1037,IF(AND($E1037<=AG$10,$F1037>=AH$10),AG$10,\"chyba\")))))","v":"00:00:00"},{"$f":"IF(OR($F1037<AG$10,$E1037>AH$10),0,IF(AND($E1037>=AG$10,$F1037<=AH$10),$F1037,IF(AND($E1037<=AG$10,$F1037<=AH$10),$F1037,IF(AND($E1037<=AH$10,$F1037>=AH$10),AH$10,IF(AND($E1037<=AG$10,$F1037>=AH$10),AH$10,\"chyba\")))))","v":"00:00:00"},{"$f":"IF(AH1037-AG1037=0,0,AH1037-AG1037+1)","v":0},{"$f":"IF($H1037<=0,0,$G1037/$H1037*AI1037)","v":0},{"$f":"IF(OR($F1037<AK$10,$E1037>AL$10),0,IF(AND($E1037>=AK$10,$F1037<=AL$10),$E1037,IF(AND($E1037<=AK$10,$F1037<=AL$10),AK$10,IF(AND($E1037<=AL$10,$F1037>=AL$10,$E1037>=AK$10),$E1037,IF(AND($E1037<=AK$10,$F1037>=AL$10),AK$10,\"chyba\")))))","v":"00:00:00"},{"$f":"IF(OR($F1037<AK$10,$E1037>AL$10),0,IF(AND($E1037>=AK$10,$F1037<=AL$10),$F1037,IF(AND($E1037<=AK$10,$F1037<=AL$10),$F1037,IF(AND($E1037<=AL$10,$F1037>=AL$10),AL$10,IF(AND($E1037<=AK$10,$F1037>=AL$10),AL$10,\"chyba\")))))","v":"00:00:00"},{"$f":"IF(AL1037-AK1037=0,0,AL1037-AK1037+1)","v":0},{"$f":"IF($H1037<=0,0,$G1037/$H1037*AM1037)","v":0},{"$f":"IF(OR($F1037<AO$10,$E1037>AP$10),0,IF(AND($E1037>=AO$10,$F1037<=AP$10),$E1037,IF(AND($E1037<=AO$10,$F1037<=AP$10),AO$10,IF(AND($E1037<=AP$10,$F1037>=AP$10,$E1037>=AO$10),$E1037,IF(AND($E1037<=AO$10,$F1037>=AP$10),AO$10,\"chyba\")))))","v":"00:00:00"},{"$f":"IF(OR($F1037<AO$10,$E1037>AP$10),0,IF(AND($E1037>=AO$10,$F1037<=AP$10),$F1037,IF(AND($E1037<=AO$10,$F1037<=AP$10),$F1037,IF(AND($E1037<=AP$10,$F1037>=AP$10),AP$10,IF(AND($E1037<=AO$10,$F1037>=AP$10),AP$10,\"chyba\")))))","v":"00:00:00"},{"$f":"IF(AP1037-AO1037=0,0,AP1037-AO1037+1)","v":0},{"$f":"IF($H1037<=0,0,$G1037/$H1037*AQ1037)","v":0},{"$f":"IF(OR($F1037<AS$10,$E1037>AT$10),0,IF(AND($E1037>=AS$10,$F1037<=AT$10),$E1037,IF(AND($E1037<=AS$10,$F1037<=AT$10),AS$10,IF(AND($E1037<=AT$10,$F1037>=AT$10,$E1037>=AS$10),$E1037,IF(AND($E1037<=AS$10,$F1037>=AT$10),AS$10,\"chyba\")))))","v":"00:00:00"},{"$f":"IF(OR($F1037<AS$10,$E1037>AT$10),0,IF(AND($E1037>=AS$10,$F1037<=AT$10),$F1037,IF(AND($E1037<=AS$10,$F1037<=AT$10),$F1037,IF(AND($E1037<=AT$10,$F1037>=AT$10),AT$10,IF(AND($E1037<=AS$10,$F1037>=AT$10),AT$10,\"chyba\")))))","v":"00:00:00"},{"$f":"IF(AT1037-AS1037=0,0,AT1037-AS1037+1)","v":0},{"$f":"IF($H1037<=0,0,$G1037/$H1037*AU1037)","v":0}]
[null,null,null,null,null,null,null,0,"00:00:00","00:00:00",0,0,"00:00:00","00:00:00",0,0,"00:00:00","00:00:00",0,0,"00:00:00","00:00:00",0,0,"00:00:00","00:00:00",0,0,"00:00:00","00:00:00",0,0,"00:00:00","00:00:00",0,0,"00:00:00","00:00:00",0,0,"00:00:00","00:00:00",0,0,"00:00:00","00:00:00",0,0]
[null,null,null,null,null,null,null,0,"00:00:00","00:00:00",0,0,"00:00:00","00:00:00",0,0,"00:00:00","00:00:00",0,0,"00:00:00","00:00:00",0,0,"00:00:00","00:00:00",0,0,"00:00:00","00:00:00",0,0,"00:00:00","00:00:00",0,0,"00:00:00","00:00:00",0,0,"00:00:00","00:00:00",0,0,"00:00:00","00:00:00",0,0]
[null,null,null,null,null,null,null,0,"00:00:00","00:00:00",0,0,"00:00:00","00:00:00",0,0,"00:00:00","00:00:00",0,0,"00:00:00","00:00:00",0,0,"00:00:00","00:00:00",0,0,"00:00:00","00:00:00",0,0,"00:00:00","00:00:00",0,0,"00:00:00","00:00:00",0,0,"00:00:00","00:00:00",0,0,"00:00:00","00:00:00",0,0]
[null,null,null,null,null,null,null,0,"00:00:00","00:00:00",0,0,"00:00:00","00:00:00",0,0,"00:00:00","00:00:00",0,0,"00:00:00","00:00:00",0,0,"00:00:00","00:00:00",0,0,"00:00:00","00:00:00",0,0,"00:00:00","00:00:00",0,0,"00:00:00","00:00:00",0,0,"00:00:00","00:00:00",0,0,"00:00:00","00:00:00",0,0]
[null,null,null,null,null,null,null,0,"00:00:00","00:00:00",0,0,"00:00:00","00:00:00",0,0,"00:00:00","00:00:00",0,0,"00:00:00","00:00:00",0,0,"00:00:00","00:00:00",0,0,"00:00:00","00:00:00",0,0,"00:00:00","00:00:00",0,0,"00:00:00","00:00:00",0,0,"00:00:00","00:00:00",0,0,"00:00:00","00:00:00",0,0]
[null,null,null,null,null,null,null,0,"00:00:00","00:00:00",0,0,"00:00:00","00:00:00",0,0,"00:00:00","00:00:00",0,0,"00:00:00","00:00:00",0,0,"00:00:00","00:00:00",0,0,"00:00:00","00:00:00",0,0,"00:00:00","00:00:00",0,0,"00:00:00","00:00:00",0,0,"00:00:00","00:00:00",0,0,"00:00:00","00:00:00",0,0]
[null,null,null,null,null,null,null,0,"00:00:00","00:00:00",0,0,"00:00:00","00:00:00",0,0,"00:00:00","00:00:00",0,0,"00:00:00","00:00:00",0,0,"00:00:00","00:00:00",0,0,"00:00:00","00:00:00",0,0,"00:00:00","00:00:00",0,0,"00:00:00","00:00:00",0,0,"00:00:00","00:00:00",0,0,"00:00:00","00:00:00",0,0]
[null,null,null,null,null,null,null,0,"00:00:00","00:00:00",0,0,"00:00:00","00:00:00",0,0,"00:00:00","00:00:00",0,0,"00:00:00","00:00:00",0,0,"00:00:00","00:00:00",0,0,"00:00:00","00:00:00",0,0,"00:00:00","00:00:00",0,0,"00:00:00","00:00:00",0,0,"00:00:00","00:00:00",0,0,"00:00:00","00:00:00",0,0]
[null,null,null,null,null,null,null,0,"00:00:00","00:00:00",0,0,"00:00:00","00:00:00",0,0,"00:00:00","00:00:00",0,0,"00:00:00","00:00:00",0,0,"00:00:00","00:00:00",0,0,"00:00:00","00:00:00",0,0,"00:00:00","00:00:00",0,0,"00:00:00","00:00:00",0,0,"00:00:00","00:00:00",0,0,"00:00:00","00:00:00",0,0]
[null,null,null,null,null,null,null,0,"00:00:00","00:00:00",0,0,"00:00:00","00:00:00",0,0,"00:00:00","00:00:00",0,0,"00:00:00","00:00:00",0,0,"00:00:00","00:00:00",0,0,"00:00:00","00:00:00",0,0,"00:00:00","00:00:00",0,0,"00:00:00","00:00:00",0,0,"00:00:00","00:00:00",0,0,"00:00:00","00:00:00",0,0]
[null,null,null,null,null,null,null,0,"00:00:00","00:00:00",0,0,"00:00:00","00:00:00",0,0,"00:00:00","00:00:00",0,0,"00:00:00","00:00:00",0,0,"00:00:00","00:00:00",0,0,"00:00:00","00:00:00",0,0,"00:00:00","00:00:00",0,0,"00:00:00","00:00:00",0,0,"00:00:00","00:00:00",0,0,"00:00:00","00:00:00",0,0]
[null,null,null,null,null,null,null,0,"00:00:00","00:00:00",0,0,"00:00:00","00:00:00",0,0,"00:00:00","00:00:00",0,0,"00:00:00","00:00:00",0,0,"00:00:00","00:00:00",0,0,"00:00:00","00:00:00",0,0,"00:00:00","00:00:00",0,0,"00:00:00","00:00:00",0,0,"00:00:00","00:00:00",0,0,"00:00:00","00:00:00",0,0]
[null,null,null,null,null,null,null,0,"00:00:00","00:00:00",0,0,"00:00:00","00:00:00",0,0,"00:00:00","00:00:00",0,0,"00:00:00","00:00:00",0,0,"00:00:00","00:00:00",0,0,"00:00:00","00:00:00",0,0,"00:00:00","00:00:00",0,0,"00:00:00","00:00:00",0,0,"00:00:00","00:00:00",0,0,"00:00:00","00:00:00",0,0]
[null,null,null,null,null,null,null,0,"00:00:00","00:00:00",0,0,"00:00:00","00:00:00",0,0,"00:00:00","00:00:00",0,0,"00:00:00","00:00:00",0,0,"00:00:00","00:00:00",0,0,"00:00:00","00:00:00",0,0,"00:00:00","00:00:00",0,0,"00:00:00","00:00:00",0,0,"00:00:00","00:00:00",0,0,"00:00:00","00:00:00",0,0]
[null,null,null,null,null,null,null,0,"00:00:00","00:00:00",0,0,"00:00:00","00:00:00",0,0,"00:00:00","00:00:00",0,0,"00:00:00","00:00:00",0,0,"00:00:00","00:00:00",0,0,"00:00:00","00:00:00",0,0,"00:00:00","00:00:00",0,0,"00:00:00","00:00:00",0,0,"00:00:00","00:00:00",0,0,"00:00:00","00:00:00",0,0]
[null,null,null,null,null,null,null,0,"00:00:00","00:00:00",0,0,"00:00:00","00:00:00",0,0,"00:00:00","00:00:00",0,0,"00:00:00","00:00:00",0,0,"00:00:00","00:00:00",0,0,"00:00:00","00:00:00",0,0,"00:00:00","00:00:00",0,0,"00:00:00","00:00:00",0,0,"00:00:00","00:00:00",0,0,"00:00:00","00:00:00",0,0]
[null,null,null,null,null,null,null,0,"00:00:00","00:00:00",0,0,"00:00:00","00:00:00",0,0,"00:00:00","00:00:00",0,0,"00:00:00","00:00:00",0,0,"00:00:00","00:00:00",0,0,"00:00:00","00:00:00",0,0,"00:00:00","00:00:00",0,0,"00:00:00","00:00:00",0,0,"00:00:00","00:00:00",0,0,"00:00:00","00:00:00",0,0]
[null,null,null,null,null,null,null,0,"00:00:00","00:00:00",0,0,"00:00:00","00:00:00",0,0,"00:00:00","00:00:00",0,0,"00:00:00","00:00:00",0,0,"00:00:00","00:00:00",0,0,"00:00:00","00:00:00",0,0,"00:00:00","00:00:00",0,0,"00:00:00","00:00:00",0,0,"00:00:00","00:00:00",0,0,"00:00:00","00:00:00",0,0]
[null,null,null,null,null,null,null,0,"00:00:00","00:00:00",0,0,"00:00:00","00:00:00",0,0,"00:00:00","00:00:00",0,0,"00:00:00","00:00:00",0,0,"00:00:00","00:00:00",0,0,"00:00:00","00:00:00",0,0,"00:00:00","00:00:00",0,0,"00:00:00","00:00:00",0,0,"00:00:00","00:00:00",0,0,"00:00:00","00:00:00",0,0]
[null,null,null,null,null,null,null,0,"00:00:00","00:00:00",0,0,"00:00:00","00:00:00",0,0,"00:00:00","00:00:00",0,0,"00:00:00","00:00:00",0,0,"00:00:00","00:00:00",0,0,"00:00:00","00:00:00",0,0,"00:00:00","00:00:00",0,0,"00:00:00","00:00:00",0,0,"00:00:00","00:00:00",0,0,"00:00:00","00:00:00",0,0]
[null,null,null,null,null,null,null,0,"00:00:00","00:00:00",0,0,"00:00:00","00:00:00",0,0,"00:00:00","00:00:00",0,0,"00:00:00","00:00:00",0,0,"00:00:00","00:00:00",0,0,"00:00:00","00:00:00",0,0,"00:00:00","00:00:00",0,0,"00:00:00","00:00:00",0,0,"00:00:00","00:00:00",0,0,"00:00:00","00:00:00",0,0]
[null,null,null,null,null,null,null,0,"00:00:00","00:00:00",0,0,"00:00:00","00:00:00",0,0,"00:00:00","00:00:00",0,0,"00:00:00","00:00:00",0,0,"00:00:00","00:00:00",0,0,"00:00:00","00:00:00",0,0,"00:00:00","00:00:00",0,0,"00:00:00","00:00:00",0,0,"00:00:00","00:00:00",0,0,"00:00:00","00:00:00",0,0]
[null,null,null,null,null,null,null,0,"00:00:00","00:00:00",0,0,"00:00:00","00:00:00",0,0,"00:00:00","00:00:00",0,0,"00:00:00","00:00:00",0,0,"00:00:00","00:00:00",0,0,"00:00:00","00:00:00",0,0,"00:00:00","00:00:00",0,0,"00:00:00","00:00:00",0,0,"00:00:00","00:00:00",0,0,"00:00:00","00:00:00",0,0]
[null,null,null,null,null,null,null,0,"00:00:00","00:00:00",0,0,"00:00:00","00:00:00",0,0,"00:00:00","00:00:00",0,0,"00:00:00","00:00:00",0,0,"00:00:00","00:00:00",0,0,"00:00:00","00:00:00",0,0,"00:00:00","00:00:00",0,0,"00:00:00","00:00:00",0,0,"00:00:00","00:00:00",0,0,"00:00:00","00:00:00",0,0]
[null,null,null,null,null,null,null,0,"00:00:00","00:00:00",0,0,"00:00:00","00:00:00",0,0,"00:00:00","00:00:00",0,0,"00:00:00","00:00:00",0,0,"00:00:00","00:00:00",0,0,"00:00:00","00:00:00",0,0,"00:00:00","00:00:00",0,0,"00:00:00","00:00:00",0,0,"00:00:00","00:00:00",0,0,"00:00:00","00:00:00",0,0]
[null,null,null,null,null,null,null,0,"00:00:00","00:00:00",0,0,"00:00:00","00:00:00",0,0,"00:00:00","00:00:00",0,0,"00:00:00","00:00:00",0,0,"00:00:00","00:00:00",0,0,"00:00:00","00:00:00",0,0,"00:00:00","00:00:00",0,0,"00:00:00","00:00:00",0,0,"00:00:00","00:00:00",0,0,"00:00:00","00:00:00",0,0]
[null,null,null,null,null,null,null,0,"00:00:00","00:00:00",0,0,"00:00:00","00:00:00",0,0,"00:00:00","00:00:00",0,0,"00:00:00","00:00:00",0,0,"00:00:00","00:00:00",0,0,"00:00:00","00:00:00",0,0,"00:00:00","00:00:00",0,0,"00:00:00","00:00:00",0,0,"00:00:00","00:00:00",0,0,"00:00:00","00:00:00",0,0]
[null,null,null,null,null,null,null,0,"00:00:00","00:00:00",0,0,"00:00:00","00:00:00",0,0,"00:00:00","00:00:00",0,0,"00:00:00","00:00:00",0,0,"00:00:00","00:00:00",0,0,"00:00:00","00:00:00",0,0,"00:00:00","00:00:00",0,0,"00:00:00","00:00:00",0,0,"00:00:00","00:00:00",0,0,"00:00:00","00:00:00",0,0]
[null,null,null,null,null,null,null,0,"00:00:00","00:00:00",0,0,"00:00:00","00:00:00",0,0,"00:00:00","00:00:00",0,0,"00:00:00","00:00:00",0,0,"00:00:00","00:00:00",0,0,"00:00:00","00:00:00",0,0,"00:00:00","00:00:00",0,0,"00:00:00","00:00:00",0,0,"00:00:00","00:00:00",0,0,"00:00:00","00:00:00",0,0]
[null,null,null,null,null,null,null,0,"00:00:00","00:00:00",0,0,"00:00:00","00:00:00",0,0,"00:00:00","00:00:00",0,0,"00:00:00","00:00:00",0,0,"00:00:00","00:00:00",0,0,"00:00:00","00:00:00",0,0,"00:00:00","00:00:00",0,0,"00:00:00","00:00:00",0,0,"00:00:00","00:00:00",0,0,"00:00:00","00:00:00",0,0]
[null,null,null,null,null,null,null,0,"00:00:00","00:00:00",0,0,"00:00:00","00:00:00",0,0,"00:00:00","00:00:00",0,0,"00:00:00","00:00:00",0,0,"00:00:00","00:00:00",0,0,"00:00:00","00:00:00",0,0,"00:00:00","00:00:00",0,0,"00:00:00","00:00:00",0,0,"00:00:00","00:00:00",0,0,"00:00:00","00:00:00",0,0]
[null,null,null,null,null,null,null,0,"00:00:00","00:00:00",0,0,"00:00:00","00:00:00",0,0,"00:00:00","00:00:00",0,0,"00:00:00","00:00:00",0,0,"00:00:00","00:00:00",0,0,"00:00:00","00:00:00",0,0,"00:00:00","00:00:00",0,0,"00:00:00","00:00:00",0,0,"00:00:00","00:00:00",0,0,"00:00:00","00:00:00",0,0]
[null,null,null,null,null,null,null,0,"00:00:00","00:00:00",0,0,"00:00:00","00:00:00",0,0,"00:00:00","00:00:00",0,0,"00:00:00","00:00:00",0,0,"00:00:00","00:00:00",0,0,"00:00:00","00:00:00",0,0,"00:00:00","00:00:00",0,0,"00:00:00","00:00:00",0,0,"00:00:00","00:00:00",0,0,"00:00:00","00:00:00",0,0]
[null,null,null,null,null,null,null,0,"00:00:00","00:00:00",0,0,"00:00:00","00:00:00",0,0,"00:00:00","00:00:00",0,0,"00:00:00","00:00:00",0,0,"00:00:00","00:00:00",0,0,"00:00:00","00:00:00",0,0,"00:00:00","00:00:00",0,0,"00:00:00","00:00:00",0,0,"00:00:00","00:00:00",0,0,"00:00:00","00:00:00",0,0]
[null,null,null,null,null,null,null,0,"00:00:00","00:00:00",0,0,"00:00:00","00:00:00",0,0,"00:00:00","00:00:00",0,0,"00:00:00","00:00:00",0,0,"00:00:00","00:00:00",0,0,"00:00:00","00:00:00",0,0,"00:00:00","00:00:00",0,0,"00:00:00","00:00:00",0,0,"00:00:00","00:00:00",0,0,"00:00:00","00:00:00",0,0]
[null,null,null,null,null,null,null,0,"00:00:00","00:00:00",0,0,"00:00:00","00:00:00",0,0,"00:00:00","00:00:00",0,0,"00:00:00","00:00:00",0,0,"00:00:00","00:00:00",0,0,"00:00:00","00:00:00",0,0,"00:00:00","00:00:00",0,0,"00:00:00","00:00:00",0,0,"00:00:00","00:00:00",0,0,"00:00:00","00:00:00",0,0]
[null,null,null,null,null,null,null,0,"00:00:00","00:00:00",0,0,"00:00:00","00:00:00",0,0,"00:00:00","00:00:00",0,0,"00:00:00","00:00:00",0,0,"00:00:00","00:00:00",0,0,"00:00:00","00:00:00",0,0,"00:00:00","00:00:00",0,0,"00:00:00","00:00:00",0,0,"00:00:00","00:00:00",0,0,"00:00:00","00:00:00",0,0]
[null,null,null,null,null,null,null,0,"00:00:00","00:00:00",0,0,"00:00:00","00:00:00",0,0,"00:00:00","00:00:00",0,0,"00:00:00","00:00:00",0,0,"00:00:00","00:00:00",0,0,"00:00:00","00:00:00",0,0,"00:00:00","00:00:00",0,0,"00:00:00","00:00:00",0,0,"00:00:00","00:00:00",0,0,"00:00:00","00:00:00",0,0]
[null,null,null,null,null,null,null,0,"00:00:00","00:00:00",0,0,"00:00:00","00:00:00",0,0,"00:00:00","00:00:00",0,0,"00:00:00","00:00:00",0,0,"00:00:00","00:00:00",0,0,"00:00:00","00:00:00",0,0,"00:00:00","00:00:00",0,0,"00:00:00","00:00:00",0,0,"00:00:00","00:00:00",0,0,"00:00:00","00:00:00",0,0]
[null,null,null,null,null,null,null,0,"00:00:00","00:00:00",0,0,"00:00:00","00:00:00",0,0,"00:00:00","00:00:00",0,0,"00:00:00","00:00:00",0,0,"00:00:00","00:00:00",0,0,"00:00:00","00:00:00",0,0,"00:00:00","00:00:00",0,0,"00:00:00","00:00:00",0,0,"00:00:00","00:00:00",0,0,"00:00:00","00:00:00",0,0]
[null,null,null,null,null,null,null,0,"00:00:00","00:00:00",0,0,"00:00:00","00:00:00",0,0,"00:00:00","00:00:00",0,0,"00:00:00","00:00:00",0,0,"00:00:00","00:00:00",0,0,"00:00:00","00:00:00",0,0,"00:00:00","00:00:00",0,0,"00:00:00","00:00:00",0,0,"00:00:00","00:00:00",0,0,"00:00:00","00:00:00",0,0]
[null,null,null,null,null,null,null,0,"00:00:00","00:00:00",0,0,"00:00:00","00:00:00",0,0,"00:00:00","00:00:00",0,0,"00:00:00","00:00:00",0,0,"00:00:00","00:00:00",0,0,"00:00:00","00:00:00",0,0,"00:00:00","00:00:00",0,0,"00:00:00","00:00:00",0,0,"00:00:00","00:00:00",0,0,"00:00:00","00:00:00",0,0]
[null,null,null,null,null,null,null,0,"00:00:00","00:00:00",0,0,"00:00:00","00:00:00",0,0,"00:00:00","00:00:00",0,0,"00:00:00","00:00:00",0,0,"00:00:00","00:00:00",0,0,"00:00:00","00:00:00",0,0,"00:00:00","00:00:00",0,0,"00:00:00","00:00:00",0,0,"00:00:00","00:00:00",0,0,"00:00:00","00:00:00",0,0]
[null,null,null,null,null,null,null,0,"00:00:00","00:00:00",0,0,"00:00:00","00:00:00",0,0,"00:00:00","00:00:00",0,0,"00:00:00","00:00:00",0,0,"00:00:00","00:00:00",0,0,"00:00:00","00:00:00",0,0,"00:00:00","00:00:00",0,0,"00:00:00","00:00:00",0,0,"00:00:00","00:00:00",0,0,"00:00:00","00:00:00",0,0]
[null,null,null,null,null,null,null,0,"00:00:00","00:00:00",0,0,"00:00:00","00:00:00",0,0,"00:00:00","00:00:00",0,0,"00:00:00","00:00:00",0,0,"00:00:00","00:00:00",0,0,"00:00:00","00:00:00",0,0,"00:00:00","00:00:00",0,0,"00:00:00","00:00:00",0,0,"00:00:00","00:00:00",0,0,"00:00:00","00:00:00",0,0]
[null,null,null,null,null,null,null,0,"00:00:00","00:00:00",0,0,"00:00:00","00:00:00",0,0,"00:00:00","00:00:00",0,0,"00:00:00","00:00:00",0,0,"00:00:00","00:00:00",0,0,"00:00:00","00:00:00",0,0,"00:00:00","00:00:00",0,0,"00:00:00","00:00:00",0,0,"00:00:00","00:00:00",0,0,"00:00:00","00:00:00",0,0]
[null,null,null,null,null,null,null,0,"00:00:00","00:00:00",0,0,"00:00:00","00:00:00",0,0,"00:00:00","00:00:00",0,0,"00:00:00","00:00:00",0,0,"00:00:00","00:00:00",0,0,"00:00:00","00:00:00",0,0,"00:00:00","00:00:00",0,0,"00:00:00","00:00:00",0,0,"00:00:00","00:00:00",0,0,"00:00:00","00:00:00",0,0]
[null,null,null,null,null,null,null,0,"00:00:00","00:00:00",0,0,"00:00:00","00:00:00",0,0,"00:00:00","00:00:00",0,0,"00:00:00","00:00:00",0,0,"00:00:00","00:00:00",0,0,"00:00:00","00:00:00",0,0,"00:00:00","00:00:00",0,0,"00:00:00","00:00:00",0,0,"00:00:00","00:00:00",0,0,"00:00:00","00:00:00",0,0]
[null,null,null,null,null,null,null,0,"00:00:00","00:00:00",0,0,"00:00:00","00:00:00",0,0,"00:00:00","00:00:00",0,0,"00:00:00","00:00:00",0,0,"00:00:00","00:00:00",0,0,"00:00:00","00:00:00",0,0,"00:00:00","00:00:00",0,0,"00:00:00","00:00:00",0,0,"00:00:00","00:00:00",0,0,"00:00:00","00:00:00",0,0]
[null,null,null,null,null,null,null,0,"00:00:00","00:00:00",0,0,"00:00:00","00:00:00",0,0,"00:00:00","00:00:00",0,0,"00:00:00","00:00:00",0,0,"00:00:00","00:00:00",0,0,"00:00:00","00:00:00",0,0,"00:00:00","00:00:00",0,0,"00:00:00","00:00:00",0,0,"00:00:00","00:00:00",0,0,"00:00:00","00:00:00",0,0]
[null,null,null,null,null,null,null,0,"00:00:00","00:00:00",0,0,"00:00:00","00:00:00",0,0,"00:00:00","00:00:00",0,0,"00:00:00","00:00:00",0,0,"00:00:00","00:00:00",0,0,"00:00:00","00:00:00",0,0,"00:00:00","00:00:00",0,0,"00:00:00","00:00:00",0,0,"00:00:00","00:00:00",0,0,"00:00:00","00:00:00",0,0]
[null,null,null,null,null,null,null,0,"00:00:00","00:00:00",0,0,"00:00:00","00:00:00",0,0,"00:00:00","00:00:00",0,0,"00:00:00","00:00:00",0,0,"00:00:00","00:00:00",0,0,"00:00:00","00:00:00",0,0,"00:00:00","00:00:00",0,0,"00:00:00","00:00:00",0,0,"00:00:00","00:00:00",0,0,"00:00:00","00:00:00",0,0]
[null,null,null,null,null,null,null,0,"00:00:00","00:00:00",0,0,"00:00:00","00:00:00",0,0,"00:00:00","00:00:00",0,0,"00:00:00","00:00:00",0,0,"00:00:00","00:00:00",0,0,"00:00:00","00:00:00",0,0,"00:00:00","00:00:00",0,0,"00:00:00","00:00:00",0,0,"00:00:00","00:00:00",0,0,"00:00:00","00:00:00",0,0]
[null,null,null,null,null,null,null,0,"00:00:00","00:00:00",0,0,"00:00:00","00:00:00",0,0,"00:00:00","00:00:00",0,0,"00:00:00","00:00:00",0,0,"00:00:00","00:00:00",0,0,"00:00:00","00:00:00",0,0,"00:00:00","00:00:00",0,0,"00:00:00","00:00:00",0,0,"00:00:00","00:00:00",0,0,"00:00:00","00:00:00",0,0]
[null,null,null,null,null,null,null,0,"00:00:00","00:00:00",0,0,"00:00:00","00:00:00",0,0,"00:00:00","00:00:00",0,0,"00:00:00","00:00:00",0,0,"00:00:00","00:00:00",0,0,"00:00:00","00:00:00",0,0,"00:00:00","00:00:00",0,0,"00:00:00","00:00:00",0,0,"00:00:00","00:00:00",0,0,"00:00:00","00:00:00",0,0]
[null,null,null,null,null,null,null,0,"00:00:00","00:00:00",0,0,"00:00:00","00:00:00",0,0,"00:00:00","00:00:00",0,0,"00:00:00","00:00:00",0,0,"00:00:00","00:00:00",0,0,"00:00:00","00:00:00",0,0,"00:00:00","00:00:00",0,0,"00:00:00","00:00:00",0,0,"00:00:00","00:00:00",0,0,"00:00:00","00:00:00",0,0]
[null,null,null,null,null,null,null,0,"00:00:00","00:00:00",0,0,"00:00:00","00:00:00",0,0,"00:00:00","00:00:00",0,0,"00:00:00","00:00:00",0,0,"00:00:00","00:00:00",0,0,"00:00:00","00:00:00",0,0,"00:00:00","00:00:00",0,0,"00:00:00","00:00:00",0,0,"00:00:00","00:00:00",0,0,"00:00:00","00:00:00",0,0]
[null,null,null,null,null,null,null,0,"00:00:00","00:00:00",0,0,"00:00:00","00:00:00",0,0,"00:00:00","00:00:00",0,0,"00:00:00","00:00:00",0,0,"00:00:00","00:00:00",0,0,"00:00:00","00:00:00",0,0,"00:00:00","00:00:00",0,0,"00:00:00","00:00:00",0,0,"00:00:00","00:00:00",0,0,"00:00:00","00:00:00",0,0]
[null,null,null,null,null,null,null,0,"00:00:00","00:00:00",0,0,"00:00:00","00:00:00",0,0,"00:00:00","00:00:00",0,0,"00:00:00","00:00:00",0,0,"00:00:00","00:00:00",0,0,"00:00:00","00:00:00",0,0,"00:00:00","00:00:00",0,0,"00:00:00","00:00:00",0,0,"00:00:00","00:00:00",0,0,"00:00:00","00:00:00",0,0]
[null,null,null,null,null,null,null,0,"00:00:00","00:00:00",0,0,"00:00:00","00:00:00",0,0,"00:00:00","00:00:00",0,0,"00:00:00","00:00:00",0,0,"00:00:00","00:00:00",0,0,"00:00:00","00:00:00",0,0,"00:00:00","00:00:00",0,0,"00:00:00","00:00:00",0,0,"00:00:00","00:00:00",0,0,"00:00:00","00:00:00",0,0]
[null,null,null,null,null,null,null,0,"00:00:00","00:00:00",0,0,"00:00:00","00:00:00",0,0,"00:00:00","00:00:00",0,0,"00:00:00","00:00:00",0,0,"00:00:00","00:00:00",0,0,"00:00:00","00:00:00",0,0,"00:00:00","00:00:00",0,0,"00:00:00","00:00:00",0,0,"00:00:00","00:00:00",0,0,"00:00:00","00:00:00",0,0]
[null,null,null,null,null,null,null,0,"00:00:00","00:00:00",0,0,"00:00:00","00:00:00",0,0,"00:00:00","00:00:00",0,0,"00:00:00","00:00:00",0,0,"00:00:00","00:00:00",0,0,"00:00:00","00:00:00",0,0,"00:00:00","00:00:00",0,0,"00:00:00","00:00:00",0,0,"00:00:00","00:00:00",0,0,"00:00:00","00:00:00",0,0]
[null,null,null,null,null,null,null,0,"00:00:00","00:00:00",0,0,"00:00:00","00:00:00",0,0,"00:00:00","00:00:00",0,0,"00:00:00","00:00:00",0,0,"00:00:00","00:00:00",0,0,"00:00:00","00:00:00",0,0,"00:00:00","00:00:00",0,0,"00:00:00","00:00:00",0,0,"00:00:00","00:00:00",0,0,"00:00:00","00:00:00",0,0]
[null,null,null,null,null,null,null,{"$f":"IF(F1101-E1101=0,0,F1101-E1101+1)","v":0},{"$f":"IF(OR($F1101<I$10,$E1101>J$10),0,IF(AND($E1101>=I$10,$F1101<=J$10),$E1101,IF(AND($E1101<=I$10,$F1101<=J$10),I$10,IF(AND($E1101<=J$10,$F1101>=J$10,$E1101>=I$10),$E1101,IF(AND($E1101<=I$10,$F1101>=J$10),I$10,\"chyba\")))))","v":"00:00:00"},{"$f":"IF(OR($F1101<I$10,$E1101>J$10),0,IF(AND($E1101>=I$10,$F1101<=J$10),$F1101,IF(AND($E1101<=I$10,$F1101<=J$10),$F1101,IF(AND($E1101<=J$10,$F1101>=J$10),J$10,IF(AND($E1101<=I$10,$F1101>=J$10),J$10,\"chyba\")))))","v":"00:00:00"},{"$f":"IF(J1101-I1101=0,0,J1101-I1101+1)","v":0},{"$f":"IF($H1101<=0,0,$G1101/$H1101*K1101)","v":0},{"$f":"IF(OR($F1101<M$10,$E1101>N$10),0,IF(AND($E1101>=M$10,$F1101<=N$10),$E1101,IF(AND($E1101<=M$10,$F1101<=N$10),M$10,IF(AND($E1101<=N$10,$F1101>=N$10,$E1101>=M$10),$E1101,IF(AND($E1101<=M$10,$F1101>=N$10),M$10,\"chyba\")))))","v":"00:00:00"},{"$f":"IF(OR($F1101<M$10,$E1101>N$10),0,IF(AND($E1101>=M$10,$F1101<=N$10),$F1101,IF(AND($E1101<=M$10,$F1101<=N$10),$F1101,IF(AND($E1101<=N$10,$F1101>=N$10),N$10,IF(AND($E1101<=M$10,$F1101>=N$10),N$10,\"chyba\")))))","v":"00:00:00"},{"$f":"IF(N1101-M1101=0,0,N1101-M1101+1)","v":0},{"$f":"IF($H1101<=0,0,$G1101/$H1101*O1101)","v":0},{"$f":"IF(OR($F1101<Q$10,$E1101>R$10),0,IF(AND($E1101>=Q$10,$F1101<=R$10),$E1101,IF(AND($E1101<=Q$10,$F1101<=R$10),Q$10,IF(AND($E1101<=R$10,$F1101>=R$10,$E1101>=Q$10),$E1101,IF(AND($E1101<=Q$10,$F1101>=R$10),Q$10,\"chyba\")))))","v":"00:00:00"},{"$f":"IF(OR($F1101<Q$10,$E1101>R$10),0,IF(AND($E1101>=Q$10,$F1101<=R$10),$F1101,IF(AND($E1101<=Q$10,$F1101<=R$10),$F1101,IF(AND($E1101<=R$10,$F1101>=R$10),R$10,IF(AND($E1101<=Q$10,$F1101>=R$10),R$10,\"chyba\")))))","v":"00:00:00"},{"$f":"IF(R1101-Q1101=0,0,R1101-Q1101+1)","v":0},{"$f":"IF($H1101<=0,0,$G1101/$H1101*S1101)","v":0},{"$f":"IF(OR($F1101<U$10,$E1101>V$10),0,IF(AND($E1101>=U$10,$F1101<=V$10),$E1101,IF(AND($E1101<=U$10,$F1101<=V$10),U$10,IF(AND($E1101<=V$10,$F1101>=V$10,$E1101>=U$10),$E1101,IF(AND($E1101<=U$10,$F1101>=V$10),U$10,\"chyba\")))))","v":"00:00:00"},{"$f":"IF(OR($F1101<U$10,$E1101>V$10),0,IF(AND($E1101>=U$10,$F1101<=V$10),$F1101,IF(AND($E1101<=U$10,$F1101<=V$10),$F1101,IF(AND($E1101<=V$10,$F1101>=V$10),V$10,IF(AND($E1101<=U$10,$F1101>=V$10),V$10,\"chyba\")))))","v":"00:00:00"},{"$f":"IF(V1101-U1101=0,0,V1101-U1101+1)","v":0},{"$f":"IF($H1101<=0,0,$G1101/$H1101*W1101)","v":0},{"$f":"IF(OR($F1101<Y$10,$E1101>Z$10),0,IF(AND($E1101>=Y$10,$F1101<=Z$10),$E1101,IF(AND($E1101<=Y$10,$F1101<=Z$10),Y$10,IF(AND($E1101<=Z$10,$F1101>=Z$10,$E1101>=Y$10),$E1101,IF(AND($E1101<=Y$10,$F1101>=Z$10),Y$10,\"chyba\")))))","v":"00:00:00"},{"$f":"IF(OR($F1101<Y$10,$E1101>Z$10),0,IF(AND($E1101>=Y$10,$F1101<=Z$10),$F1101,IF(AND($E1101<=Y$10,$F1101<=Z$10),$F1101,IF(AND($E1101<=Z$10,$F1101>=Z$10),Z$10,IF(AND($E1101<=Y$10,$F1101>=Z$10),Z$10,\"chyba\")))))","v":"00:00:00"},{"$f":"IF(Z1101-Y1101=0,0,Z1101-Y1101+1)","v":0},{"$f":"IF($H1101<=0,0,$G1101/$H1101*AA1101)","v":0},{"$f":"IF(OR($F1101<AC$10,$E1101>AD$10),0,IF(AND($E1101>=AC$10,$F1101<=AD$10),$E1101,IF(AND($E1101<=AC$10,$F1101<=AD$10),AC$10,IF(AND($E1101<=AD$10,$F1101>=AD$10,$E1101>=AC$10),$E1101,IF(AND($E1101<=AC$10,$F1101>=AD$10),AC$10,\"chyba\")))))","v":"00:00:00"},{"$f":"IF(OR($F1101<AC$10,$E1101>AD$10),0,IF(AND($E1101>=AC$10,$F1101<=AD$10),$F1101,IF(AND($E1101<=AC$10,$F1101<=AD$10),$F1101,IF(AND($E1101<=AD$10,$F1101>=AD$10),AD$10,IF(AND($E1101<=AC$10,$F1101>=AD$10),AD$10,\"chyba\")))))","v":"00:00:00"},{"$f":"IF(AD1101-AC1101=0,0,AD1101-AC1101+1)","v":0},{"$f":"IF($H1101<=0,0,$G1101/$H1101*AE1101)","v":0},{"$f":"IF(OR($F1101<AG$10,$E1101>AH$10),0,IF(AND($E1101>=AG$10,$F1101<=AH$10),$E1101,IF(AND($E1101<=AG$10,$F1101<=AH$10),AG$10,IF(AND($E1101<=AH$10,$F1101>=AH$10,$E1101>=AG$10),$E1101,IF(AND($E1101<=AG$10,$F1101>=AH$10),AG$10,\"chyba\")))))","v":"00:00:00"},{"$f":"IF(OR($F1101<AG$10,$E1101>AH$10),0,IF(AND($E1101>=AG$10,$F1101<=AH$10),$F1101,IF(AND($E1101<=AG$10,$F1101<=AH$10),$F1101,IF(AND($E1101<=AH$10,$F1101>=AH$10),AH$10,IF(AND($E1101<=AG$10,$F1101>=AH$10),AH$10,\"chyba\")))))","v":"00:00:00"},{"$f":"IF(AH1101-AG1101=0,0,AH1101-AG1101+1)","v":0},{"$f":"IF($H1101<=0,0,$G1101/$H1101*AI1101)","v":0},{"$f":"IF(OR($F1101<AK$10,$E1101>AL$10),0,IF(AND($E1101>=AK$10,$F1101<=AL$10),$E1101,IF(AND($E1101<=AK$10,$F1101<=AL$10),AK$10,IF(AND($E1101<=AL$10,$F1101>=AL$10,$E1101>=AK$10),$E1101,IF(AND($E1101<=AK$10,$F1101>=AL$10),AK$10,\"chyba\")))))","v":"00:00:00"},{"$f":"IF(OR($F1101<AK$10,$E1101>AL$10),0,IF(AND($E1101>=AK$10,$F1101<=AL$10),$F1101,IF(AND($E1101<=AK$10,$F1101<=AL$10),$F1101,IF(AND($E1101<=AL$10,$F1101>=AL$10),AL$10,IF(AND($E1101<=AK$10,$F1101>=AL$10),AL$10,\"chyba\")))))","v":"00:00:00"},{"$f":"IF(AL1101-AK1101=0,0,AL1101-AK1101+1)","v":0},{"$f":"IF($H1101<=0,0,$G1101/$H1101*AM1101)","v":0},{"$f":"IF(OR($F1101<AO$10,$E1101>AP$10),0,IF(AND($E1101>=AO$10,$F1101<=AP$10),$E1101,IF(AND($E1101<=AO$10,$F1101<=AP$10),AO$10,IF(AND($E1101<=AP$10,$F1101>=AP$10,$E1101>=AO$10),$E1101,IF(AND($E1101<=AO$10,$F1101>=AP$10),AO$10,\"chyba\")))))","v":"00:00:00"},{"$f":"IF(OR($F1101<AO$10,$E1101>AP$10),0,IF(AND($E1101>=AO$10,$F1101<=AP$10),$F1101,IF(AND($E1101<=AO$10,$F1101<=AP$10),$F1101,IF(AND($E1101<=AP$10,$F1101>=AP$10),AP$10,IF(AND($E1101<=AO$10,$F1101>=AP$10),AP$10,\"chyba\")))))","v":"00:00:00"},{"$f":"IF(AP1101-AO1101=0,0,AP1101-AO1101+1)","v":0},{"$f":"IF($H1101<=0,0,$G1101/$H1101*AQ1101)","v":0},{"$f":"IF(OR($F1101<AS$10,$E1101>AT$10),0,IF(AND($E1101>=AS$10,$F1101<=AT$10),$E1101,IF(AND($E1101<=AS$10,$F1101<=AT$10),AS$10,IF(AND($E1101<=AT$10,$F1101>=AT$10,$E1101>=AS$10),$E1101,IF(AND($E1101<=AS$10,$F1101>=AT$10),AS$10,\"chyba\")))))","v":"00:00:00"},{"$f":"IF(OR($F1101<AS$10,$E1101>AT$10),0,IF(AND($E1101>=AS$10,$F1101<=AT$10),$F1101,IF(AND($E1101<=AS$10,$F1101<=AT$10),$F1101,IF(AND($E1101<=AT$10,$F1101>=AT$10),AT$10,IF(AND($E1101<=AS$10,$F1101>=AT$10),AT$10,\"chyba\")))))","v":"00:00:00"},{"$f":"IF(AT1101-AS1101=0,0,AT1101-AS1101+1)","v":0},{"$f":"IF($H1101<=0,0,$G1101/$H1101*AU1101)","v":0}]
[null,null,null,null,null,null,null,0,"00:00:00","00:00:00",0,0,"00:00:00","00:00:00",0,0,"00:00:00","00:00:00",0,0,"00:00:00","00:00:00",0,0,"00:00:00","00:00:00",0,0,"00:00:00","00:00:00",0,0,"00:00:00","00:00:00",0,0,"00:00:00","00:00:00",0,0,"00:00:00","00:00:00",0,0,"00:00:00","00:00:00",0,0]
[null,null,null,null,null,null,null,0,"00:00:00","00:00:00",0,0,"00:00:00","00:00:00",0,0,"00:00:00","00:00:00",0,0,"00:00:00","00:00:00",0,0,"00:00:00","00:00:00",0,0,"00:00:00","00:00:00",0,0,"00:00:00","00:00:00",0,0,"00:00:00","00:00:00",0,0,"00:00:00","00:00:00",0,0,"00:00:00","00:00:00",0,0]
[null,null,null,null,null,null,null,0,"00:00:00","00:00:00",0,0,"00:00:00","00:00:00",0,0,"00:00:00","00:00:00",0,0,"00:00:00","00:00:00",0,0,"00:00:00","00:00:00",0,0,"00:00:00","00:00:00",0,0,"00:00:00","00:00:00",0,0,"00:00:00","00:00:00",0,0,"00:00:00","00:00:00",0,0,"00:00:00","00:00:00",0,0]
[null,null,null,null,null,null,null,0,"00:00:00","00:00:00",0,0,"00:00:00","00:00:00",0,0,"00:00:00","00:00:00",0,0,"00:00:00","00:00:00",0,0,"00:00:00","00:00:00",0,0,"00:00:00","00:00:00",0,0,"00:00:00","00:00:00",0,0,"00:00:00","00:00:00",0,0,"00:00:00","00:00:00",0,0,"00:00:00","00:00:00",0,0]
[null,null,null,null,null,null,null,0,"00:00:00","00:00:00",0,0,"00:00:00","00:00:00",0,0,"00:00:00","00:00:00",0,0,"00:00:00","00:00:00",0,0,"00:00:00","00:00:00",0,0,"00:00:00","00:00:00",0,0,"00:00:00","00:00:00",0,0,"00:00:00","00:00:00",0,0,"00:00:00","00:00:00",0,0,"00:00:00","00:00:00",0,0]
[null,null,null,null,null,null,null,0,"00:00:00","00:00:00",0,0,"00:00:00","00:00:00",0,0,"00:00:00","00:00:00",0,0,"00:00:00","00:00:00",0,0,"00:00:00","00:00:00",0,0,"00:00:00","00:00:00",0,0,"00:00:00","00:00:00",0,0,"00:00:00","00:00:00",0,0,"00:00:00","00:00:00",0,0,"00:00:00","00:00:00",0,0]
[null,null,null,null,null,null,null,0,"00:00:00","00:00:00",0,0,"00:00:00","00:00:00",0,0,"00:00:00","00:00:00",0,0,"00:00:00","00:00:00",0,0,"00:00:00","00:00:00",0,0,"00:00:00","00:00:00",0,0,"00:00:00","00:00:00",0,0,"00:00:00","00:00:00",0,0,"00:00:00","00:00:00",0,0,"00:00:00","00:00:00",0,0]
[null,null,null,null,null,null,null,0,"00:00:00","00:00:00",0,0,"00:00:00","00:00:00",0,0,"00:00:00","00:00:00",0,0,"00:00:00","00:00:00",0,0,"00:00:00","00:00:00",0,0,"00:00:00","00:00:00",0,0,"00:00:00","00:00:00",0,0,"00:00:00","00:00:00",0,0,"00:00:00","00:00:00",0,0,"00:00:00","00:00:00",0,0]
[null,null,null,null,null,null,null,0,"00:00:00","00:00:00",0,0,"00:00:00","00:00:00",0,0,"00:00:00","00:00:00",0,0,"00:00:00","00:00:00",0,0,"00:00:00","00:00:00",0,0,"00:00:00","00:00:00",0,0,"00:00:00","00:00:00",0,0,"00:00:00","00:00:00",0,0,"00:00:00","00:00:00",0,0,"00:00:00","00:00:00",0,0]
[null,null,null,null,null,null,null,0,"00:00:00","00:00:00",0,0,"00:00:00","00:00:00",0,0,"00:00:00","00:00:00",0,0,"00:00:00","00:00:00",0,0,"00:00:00","00:00:00",0,0,"00:00:00","00:00:00",0,0,"00:00:00","00:00:00",0,0,"00:00:00","00:00:00",0,0,"00:00:00","00:00:00",0,0,"00:00:00","00:00:00",0,0]
[null,null,null,null,null,null,null,0,"00:00:00","00:00:00",0,0,"00:00:00","00:00:00",0,0,"00:00:00","00:00:00",0,0,"00:00:00","00:00:00",0,0,"00:00:00","00:00:00",0,0,"00:00:00","00:00:00",0,0,"00:00:00","00:00:00",0,0,"00:00:00","00:00:00",0,0,"00:00:00","00:00:00",0,0,"00:00:00","00:00:00",0,0]
[null,null,null,null,null,null,null,0,"00:00:00","00:00:00",0,0,"00:00:00","00:00:00",0,0,"00:00:00","00:00:00",0,0,"00:00:00","00:00:00",0,0,"00:00:00","00:00:00",0,0,"00:00:00","00:00:00",0,0,"00:00:00","00:00:00",0,0,"00:00:00","00:00:00",0,0,"00:00:00","00:00:00",0,0,"00:00:00","00:00:00",0,0]
[null,null,null,null,null,null,null,0,"00:00:00","00:00:00",0,0,"00:00:00","00:00:00",0,0,"00:00:00","00:00:00",0,0,"00:00:00","00:00:00",0,0,"00:00:00","00:00:00",0,0,"00:00:00","00:00:00",0,0,"00:00:00","00:00:00",0,0,"00:00:00","00:00:00",0,0,"00:00:00","00:00:00",0,0,"00:00:00","00:00:00",0,0]
[null,null,null,null,null,null,null,0,"00:00:00","00:00:00",0,0,"00:00:00","00:00:00",0,0,"00:00:00","00:00:00",0,0,"00:00:00","00:00:00",0,0,"00:00:00","00:00:00",0,0,"00:00:00","00:00:00",0,0,"00:00:00","00:00:00",0,0,"00:00:00","00:00:00",0,0,"00:00:00","00:00:00",0,0,"00:00:00","00:00:00",0,0]
[null,null,null,null,null,null,null,0,"00:00:00","00:00:00",0,0,"00:00:00","00:00:00",0,0,"00:00:00","00:00:00",0,0,"00:00:00","00:00:00",0,0,"00:00:00","00:00:00",0,0,"00:00:00","00:00:00",0,0,"00:00:00","00:00:00",0,0,"00:00:00","00:00:00",0,0,"00:00:00","00:00:00",0,0,"00:00:00","00:00:00",0,0]
[null,null,null,null,null,null,null,0,"00:00:00","00:00:00",0,0,"00:00:00","00:00:00",0,0,"00:00:00","00:00:00",0,0,"00:00:00","00:00:00",0,0,"00:00:00","00:00:00",0,0,"00:00:00","00:00:00",0,0,"00:00:00","00:00:00",0,0,"00:00:00","00:00:00",0,0,"00:00:00","00:00:00",0,0,"00:00:00","00:00:00",0,0]
[null,null,null,null,null,null,null,0,"00:00:00","00:00:00",0,0,"00:00:00","00:00:00",0,0,"00:00:00","00:00:00",0,0,"00:00:00","00:00:00",0,0,"00:00:00","00:00:00",0,0,"00:00:00","00:00:00",0,0,"00:00:00","00:00:00",0,0,"00:00:00","00:00:00",0,0,"00:00:00","00:00:00",0,0,"00:00:00","00:00:00",0,0]
[null,null,null,null,null,null,null,0,"00:00:00","00:00:00",0,0,"00:00:00","00:00:00",0,0,"00:00:00","00:00:00",0,0,"00:00:00","00:00:00",0,0,"00:00:00","00:00:00",0,0,"00:00:00","00:00:00",0,0,"00:00:00","00:00:00",0,0,"00:00:00","00:00:00",0,0,"00:00:00","00:00:00",0,0,"00:00:00","00:00:00",0,0]
[null,null,null,null,null,null,null,0,"00:00:00","00:00:00",0,0,"00:00:00","00:00:00",0,0,"00:00:00","00:00:00",0,0,"00:00:00","00:00:00",0,0,"00:00:00","00:00:00",0,0,"00:00:00","00:00:00",0,0,"00:00:00","00:00:00",0,0,"00:00:00","00:00:00",0,0,"00:00:00","00:00:00",0,0,"00:00:00","00:00:00",0,0]
[null,null,null,null,null,null,null,0,"00:00:00","00:00:00",0,0,"00:00:00","00:00:00",0,0,"00:00:00","00:00:00",0,0,"00:00:00","00:00:00",0,0,"00:00:00","00:00:00",0,0,"00:00:00","00:00:00",0,0,"00:00:00","00:00:00",0,0,"00:00:00","00:00:00",0,0,"00:00:00","00:00:00",0,0,"00:00:00","00:00:00",0,0]
[null,null,null,null,null,null,null,0,"00:00:00","00:00:00",0,0,"00:00:00","00:00:00",0,0,"00:00:00","00:00:00",0,0,"00:00:00","00:00:00",0,0,"00:00:00","00:00:00",0,0,"00:00:00","00:00:00",0,0,"00:00:00","00:00:00",0,0,"00:00:00","00:00:00",0,0,"00:00:00","00:00:00",0,0,"00:00:00","00:00:00",0,0]
[null,null,null,null,null,null,null,0,"00:00:00","00:00:00",0,0,"00:00:00","00:00:00",0,0,"00:00:00","00:00:00",0,0,"00:00:00","00:00:00",0,0,"00:00:00","00:00:00",0,0,"00:00:00","00:00:00",0,0,"00:00:00","00:00:00",0,0,"00:00:00","00:00:00",0,0,"00:00:00","00:00:00",0,0,"00:00:00","00:00:00",0,0]
[null,null,null,null,null,null,null,0,"00:00:00","00:00:00",0,0,"00:00:00","00:00:00",0,0,"00:00:00","00:00:00",0,0,"00:00:00","00:00:00",0,0,"00:00:00","00:00:00",0,0,"00:00:00","00:00:00",0,0,"00:00:00","00:00:00",0,0,"00:00:00","00:00:00",0,0,"00:00:00","00:00:00",0,0,"00:00:00","00:00:00",0,0]
[null,null,null,null,null,null,null,0,"00:00:00","00:00:00",0,0,"00:00:00","00:00:00",0,0,"00:00:00","00:00:00",0,0,"00:00:00","00:00:00",0,0,"00:00:00","00:00:00",0,0,"00:00:00","00:00:00",0,0,"00:00:00","00:00:00",0,0,"00:00:00","00:00:00",0,0,"00:00:00","00:00:00",0,0,"00:00:00","00:00:00",0,0]
[null,null,null,null,null,null,null,0,"00:00:00","00:00:00",0,0,"00:00:00","00:00:00",0,0,"00:00:00","00:00:00",0,0,"00:00:00","00:00:00",0,0,"00:00:00","00:00:00",0,0,"00:00:00","00:00:00",0,0,"00:00:00","00:00:00",0,0,"00:00:00","00:00:00",0,0,"00:00:00","00:00:00",0,0,"00:00:00","00:00:00",0,0]
[null,null,null,null,null,null,null,0,"00:00:00","00:00:00",0,0,"00:00:00","00:00:00",0,0,"00:00:00","00:00:00",0,0,"00:00:00","00:00:00",0,0,"00:00:00","00:00:00",0,0,"00:00:00","00:00:00",0,0,"00:00:00","00:00:00",0,0,"00:00:00","00:00:00",0,0,"00:00:00","00:00:00",0,0,"00:00:00","00:00:00",0,0]
[null,null,null,null,null,null,null,0,"00:00:00","00:00:00",0,0,"00:00:00","00:00:00",0,0,"00:00:00","00:00:00",0,0,"00:00:00","00:00:00",0,0,"00:00:00","00:00:00",0,0,"00:00:00","00:00:00",0,0,"00:00:00","00:00:00",0,0,"00:00:00","00:00:00",0,0,"00:00:00","00:00:00",0,0,"00:00:00","00:00:00",0,0]
[null,null,null,null,null,null,null,0,"00:00:00","00:00:00",0,0,"00:00:00","00:00:00",0,0,"00:00:00","00:00:00",0,0,"00:00:00","00:00:00",0,0,"00:00:00","00:00:00",0,0,"00:00:00","00:00:00",0,0,"00:00:00","00:00:00",0,0,"00:00:00","00:00:00",0,0,"00:00:00","00:00:00",0,0,"00:00:00","00:00:00",0,0]
[null,null,null,null,null,null,null,0,"00:00:00","00:00:00",0,0,"00:00:00","00:00:00",0,0,"00:00:00","00:00:00",0,0,"00:00:00","00:00:00",0,0,"00:00:00","00:00:00",0,0,"00:00:00","00:00:00",0,0,"00:00:00","00:00:00",0,0,"00:00:00","00:00:00",0,0,"00:00:00","00:00:00",0,0,"00:00:00","00:00:00",0,0]
[null,null,null,null,null,null,null,0,"00:00:00","00:00:00",0,0,"00:00:00","00:00:00",0,0,"00:00:00","00:00:00",0,0,"00:00:00","00:00:00",0,0,"00:00:00","00:00:00",0,0,"00:00:00","00:00:00",0,0,"00:00:00","00:00:00",0,0,"00:00:00","00:00:00",0,0,"00:00:00","00:00:00",0,0,"00:00:00","00:00:00",0,0]
[null,null,null,null,null,null,null,0,"00:00:00","00:00:00",0,0,"00:00:00","00:00:00",0,0,"00:00:00","00:00:00",0,0,"00:00:00","00:00:00",0,0,"00:00:00","00:00:00",0,0,"00:00:00","00:00:00",0,0,"00:00:00","00:00:00",0,0,"00:00:00","00:00:00",0,0,"00:00:00","00:00:00",0,0,"00:00:00","00:00:00",0,0]
[null,null,null,null,null,null,null,0,"00:00:00","00:00:00",0,0,"00:00:00","00:00:00",0,0,"00:00:00","00:00:00",0,0,"00:00:00","00:00:00",0,0,"00:00:00","00:00:00",0,0,"00:00:00","00:00:00",0,0,"00:00:00","00:00:00",0,0,"00:00:00","00:00:00",0,0,"00:00:00","00:00:00",0,0,"00:00:00","00:00:00",0,0]
[null,null,null,null,null,null,null,0,"00:00:00","00:00:00",0,0,"00:00:00","00:00:00",0,0,"00:00:00","00:00:00",0,0,"00:00:00","00:00:00",0,0,"00:00:00","00:00:00",0,0,"00:00:00","00:00:00",0,0,"00:00:00","00:00:00",0,0,"00:00:00","00:00:00",0,0,"00:00:00","00:00:00",0,0,"00:00:00","00:00:00",0,0]
[null,null,null,null,null,null,null,0,"00:00:00","00:00:00",0,0,"00:00:00","00:00:00",0,0,"00:00:00","00:00:00",0,0,"00:00:00","00:00:00",0,0,"00:00:00","00:00:00",0,0,"00:00:00","00:00:00",0,0,"00:00:00","00:00:00",0,0,"00:00:00","00:00:00",0,0,"00:00:00","00:00:00",0,0,"00:00:00","00:00:00",0,0]
[null,null,null,null,null,null,null,0,"00:00:00","00:00:00",0,0,"00:00:00","00:00:00",0,0,"00:00:00","00:00:00",0,0,"00:00:00","00:00:00",0,0,"00:00:00","00:00:00",0,0,"00:00:00","00:00:00",0,0,"00:00:00","00:00:00",0,0,"00:00:00","00:00:00",0,0,"00:00:00","00:00:00",0,0,"00:00:00","00:00:00",0,0]
[null,null,null,null,null,null,null,0,"00:00:00","00:00:00",0,0,"00:00:00","00:00:00",0,0,"00:00:00","00:00:00",0,0,"00:00:00","00:00:00",0,0,"00:00:00","00:00:00",0,0,"00:00:00","00:00:00",0,0,"00:00:00","00:00:00",0,0,"00:00:00","00:00:00",0,0,"00:00:00","00:00:00",0,0,"00:00:00","00:00:00",0,0]
[null,null,null,null,null,null,null,0,"00:00:00","00:00:00",0,0,"00:00:00","00:00:00",0,0,"00:00:00","00:00:00",0,0,"00:00:00","00:00:00",0,0,"00:00:00","00:00:00",0,0,"00:00:00","00:00:00",0,0,"00:00:00","00:00:00",0,0,"00:00:00","00:00:00",0,0,"00:00:00","00:00:00",0,0,"00:00:00","00:00:00",0,0]
[null,null,null,null,null,null,null,0,"00:00:00","00:00:00",0,0,"00:00:00","00:00:00",0,0,"00:00:00","00:00:00",0,0,"00:00:00","00:00:00",0,0,"00:00:00","00:00:00",0,0,"00:00:00","00:00:00",0,0,"00:00:00","00:00:00",0,0,"00:00:00","00:00:00",0,0,"00:00:00","00:00:00",0,0,"00:00:00","00:00:00",0,0]
[null,null,null,null,null,null,null,0,"00:00:00","00:00:00",0,0,"00:00:00","00:00:00",0,0,"00:00:00","00:00:00",0,0,"00:00:00","00:00:00",0,0,"00:00:00","00:00:00",0,0,"00:00:00","00:00:00",0,0,"00:00:00","00:00:00",0,0,"00:00:00","00:00:00",0,0,"00:00:00","00:00:00",0,0,"00:00:00","00:00:00",0,0]
[null,null,null,null,null,null,null,0,"00:00:00","00:00:00",0,0,"00:00:00","00:00:00",0,0,"00:00:00","00:00:00",0,0,"00:00:00","00:00:00",0,0,"00:00:00","00:00:00",0,0,"00:00:00","00:00:00",0,0,"00:00:00","00:00:00",0,0,"00:00:00","00:00:00",0,0,"00:00:00","00:00:00",0,0,"00:00:00","00:00:00",0,0]
[null,null,null,null,null,null,null,0,"00:00:00","00:00:00",0,0,"00:00:00","00:00:00",0,0,"00:00:00","00:00:00",0,0,"00:00:00","00:00:00",0,0,"00:00:00","00:00:00",0,0,"00:00:00","00:00:00",0,0,"00:00:00","00:00:00",0,0,"00:00:00","00:00:00",0,0,"00:00:00","00:00:00",0,0,"00:00:00","00:00:00",0,0]
[null,null,null,null,null,null,null,0,"00:00:00","00:00:00",0,0,"00:00:00","00:00:00",0,0,"00:00:00","00:00:00",0,0,"00:00:00","00:00:00",0,0,"00:00:00","00:00:00",0,0,"00:00:00","00:00:00",0,0,"00:00:00","00:00:00",0,0,"00:00:00","00:00:00",0,0,"00:00:00","00:00:00",0,0,"00:00:00","00:00:00",0,0]
[null,null,null,null,null,null,null,0,"00:00:00","00:00:00",0,0,"00:00:00","00:00:00",0,0,"00:00:00","00:00:00",0,0,"00:00:00","00:00:00",0,0,"00:00:00","00:00:00",0,0,"00:00:00","00:00:00",0,0,"00:00:00","00:00:00",0,0,"00:00:00","00:00:00",0,0,"00:00:00","00:00:00",0,0,"00:00:00","00:00:00",0,0]
[null,null,null,null,null,null,null,0,"00:00:00","00:00:00",0,0,"00:00:00","00:00:00",0,0,"00:00:00","00:00:00",0,0,"00:00:00","00:00:00",0,0,"00:00:00","00:00:00",0,0,"00:00:00","00:00:00",0,0,"00:00:00","00:00:00",0,0,"00:00:00","00:00:00",0,0,"00:00:00","00:00:00",0,0,"00:00:00","00:00:00",0,0]
[null,null,null,null,null,null,null,0,"00:00:00","00:00:00",0,0,"00:00:00","00:00:00",0,0,"00:00:00","00:00:00",0,0,"00:00:00","00:00:00",0,0,"00:00:00","00:00:00",0,0,"00:00:00","00:00:00",0,0,"00:00:00","00:00:00",0,0,"00:00:00","00:00:00",0,0,"00:00:00","00:00:00",0,0,"00:00:00","00:00:00",0,0]
[null,null,null,null,null,null,null,0,"00:00:00","00:00:00",0,0,"00:00:00","00:00:00",0,0,"00:00:00","00:00:00",0,0,"00:00:00","00:00:00",0,0,"00:00:00","00:00:00",0,0,"00:00:00","00:00:00",0,0,"00:00:00","00:00:00",0,0,"00:00:00","00:00:00",0,0,"00:00:00","00:00:00",0,0,"00:00:00","00:00:00",0,0]
[null,null,null,null,null,null,null,0,"00:00:00","00:00:00",0,0,"00:00:00","00:00:00",0,0,"00:00:00","00:00:00",0,0,"00:00:00","00:00:00",0,0,"00:00:00","00:00:00",0,0,"00:00:00","00:00:00",0,0,"00:00:00","00:00:00",0,0,"00:00:00","00:00:00",0,0,"00:00:00","00:00:00",0,0,"00:00:00","00:00:00",0,0]
[null,null,null,null,null,null,null,0,"00:00:00","00:00:00",0,0,"00:00:00","00:00:00",0,0,"00:00:00","00:00:00",0,0,"00:00:00","00:00:00",0,0,"00:00:00","00:00:00",0,0,"00:00:00","00:00:00",0,0,"00:00:00","00:00:00",0,0,"00:00:00","00:00:00",0,0,"00:00:00","00:00:00",0,0,"00:00:00","00:00:00",0,0]
[null,null,null,null,null,null,null,0,"00:00:00","00:00:00",0,0,"00:00:00","00:00:00",0,0,"00:00:00","00:00:00",0,0,"00:00:00","00:00:00",0,0,"00:00:00","00:00:00",0,0,"00:00:00","00:00:00",0,0,"00:00:00","00:00:00",0,0,"00:00:00","00:00:00",0,0,"00:00:00","00:00:00",0,0,"00:00:00","00:00:00",0,0]
[null,null,null,null,null,null,null,0,"00:00:00","00:00:00",0,0,"00:00:00","00:00:00",0,0,"00:00:00","00:00:00",0,0,"00:00:00","00:00:00",0,0,"00:00:00","00:00:00",0,0,"00:00:00","00:00:00",0,0,"00:00:00","00:00:00",0,0,"00:00:00","00:00:00",0,0,"00:00:00","00:00:00",0,0,"00:00:00","00:00:00",0,0]
[null,null,null,null,null,null,null,0,"00:00:00","00:00:00",0,0,"00:00:00","00:00:00",0,0,"00:00:00","00:00:00",0,0,"00:00:00","00:00:00",0,0,"00:00:00","00:00:00",0,0,"00:00:00","00:00:00",0,0,"00:00:00","00:00:00",0,0,"00:00:00","00:00:00",0,0,"00:00:00","00:00:00",0,0,"00:00:00","00:00:00",0,0]
[null,null,null,null,null,null,null,0,"00:00:00","00:00:00",0,0,"00:00:00","00:00:00",0,0,"00:00:00","00:00:00",0,0,"00:00:00","00:00:00",0,0,"00:00:00","00:00:00",0,0,"00:00:00","00:00:00",0,0,"00:00:00","00:00:00",0,0,"00:00:00","00:00:00",0,0,"00:00:00","00:00:00",0,0,"00:00:00","00:00:00",0,0]
[null,null,null,null,null,null,null,0,"00:00:00","00:00:00",0,0,"00:00:00","00:00:00",0,0,"00:00:00","00:00:00",0,0,"00:00:00","00:00:00",0,0,"00:00:00","00:00:00",0,0,"00:00:00","00:00:00",0,0,"00:00:00","00:00:00",0,0,"00:00:00","00:00:00",0,0,"00:00:00","00:00:00",0,0,"00:00:00","00:00:00",0,0]
[null,null,null,null,null,null,null,0,"00:00:00","00:00:00",0,0,"00:00:00","00:00:00",0,0,"00:00:00","00:00:00",0,0,"00:00:00","00:00:00",0,0,"00:00:00","00:00:00",0,0,"00:00:00","00:00:00",0,0,"00:00:00","00:00:00",0,0,"00:00:00","00:00:00",0,0,"00:00:00","00:00:00",0,0,"00:00:00","00:00:00",0,0]
[null,null,null,null,null,null,null,0,"00:00:00","00:00:00",0,0,"00:00:00","00:00:00",0,0,"00:00:00","00:00:00",0,0,"00:00:00","00:00:00",0,0,"00:00:00","00:00:00",0,0,"00:00:00","00:00:00",0,0,"00:00:00","00:00:00",0,0,"00:00:00","00:00:00",0,0,"00:00:00","00:00:00",0,0,"00:00:00","00:00:00",0,0]
[null,null,null,null,null,null,null,0,"00:00:00","00:00:00",0,0,"00:00:00","00:00:00",0,0,"00:00:00","00:00:00",0,0,"00:00:00","00:00:00",0,0,"00:00:00","00:00:00",0,0,"00:00:00","00:00:00",0,0,"00:00:00","00:00:00",0,0,"00:00:00","00:00:00",0,0,"00:00:00","00:00:00",0,0,"00:00:00","00:00:00",0,0]
[null,null,null,null,null,null,null,0,"00:00:00","00:00:00",0,0,"00:00:00","00:00:00",0,0,"00:00:00","00:00:00",0,0,"00:00:00","00:00:00",0,0,"00:00:00","00:00:00",0,0,"00:00:00","00:00:00",0,0,"00:00:00","00:00:00",0,0,"00:00:00","00:00:00",0,0,"00:00:00","00:00:00",0,0,"00:00:00","00:00:00",0,0]
[null,null,null,null,null,null,null,0,"00:00:00","00:00:00",0,0,"00:00:00","00:00:00",0,0,"00:00:00","00:00:00",0,0,"00:00:00","00:00:00",0,0,"00:00:00","00:00:00",0,0,"00:00:00","00:00:00",0,0,"00:00:00","00:00:00",0,0,"00:00:00","00:00:00",0,0,"00:00:00","00:00:00",0,0,"00:00:00","00:00:00",0,0]
[null,null,null,null,null,null,null,0,"00:00:00","00:00:00",0,0,"00:00:00","00:00:00",0,0,"00:00:00","00:00:00",0,0,"00:00:00","00:00:00",0,0,"00:00:00","00:00:00",0,0,"00:00:00","00:00:00",0,0,"00:00:00","00:00:00",0,0,"00:00:00","00:00:00",0,0,"00:00:00","00:00:00",0,0,"00:00:00","00:00:00",0,0]
[null,null,null,null,null,null,null,0,"00:00:00","00:00:00",0,0,"00:00:00","00:00:00",0,0,"00:00:00","00:00:00",0,0,"00:00:00","00:00:00",0,0,"00:00:00","00:00:00",0,0,"00:00:00","00:00:00",0,0,"00:00:00","00:00:00",0,0,"00:00:00","00:00:00",0,0,"00:00:00","00:00:00",0,0,"00:00:00","00:00:00",0,0]
[null,null,null,null,null,null,null,0,"00:00:00","00:00:00",0,0,"00:00:00","00:00:00",0,0,"00:00:00","00:00:00",0,0,"00:00:00","00:00:00",0,0,"00:00:00","00:00:00",0,0,"00:00:00","00:00:00",0,0,"00:00:00","00:00:00",0,0,"00:00:00","00:00:00",0,0,"00:00:00","00:00:00",0,0,"00:00:00","00:00:00",0,0]
[null,null,null,null,null,null,null,0,"00:00:00","00:00:00",0,0,"00:00:00","00:00:00",0,0,"00:00:00","00:00:00",0,0,"00:00:00","00:00:00",0,0,"00:00:00","00:00:00",0,0,"00:00:00","00:00:00",0,0,"00:00:00","00:00:00",0,0,"00:00:00","00:00:00",0,0,"00:00:00","00:00:00",0,0,"00:00:00","00:00:00",0,0]
[null,null,null,null,null,null,null,0,"00:00:00","00:00:00",0,0,"00:00:00","00:00:00",0,0,"00:00:00","00:00:00",0,0,"00:00:00","00:00:00",0,0,"00:00:00","00:00:00",0,0,"00:00:00","00:00:00",0,0,"00:00:00","00:00:00",0,0,"00:00:00","00:00:00",0,0,"00:00:00","00:00:00",0,0,"00:00:00","00:00:00",0,0]
[null,null,null,null,null,null,null,{"$f":"IF(F1165-E1165=0,0,F1165-E1165+1)","v":0},{"$f":"IF(OR($F1165<I$10,$E1165>J$10),0,IF(AND($E1165>=I$10,$F1165<=J$10),$E1165,IF(AND($E1165<=I$10,$F1165<=J$10),I$10,IF(AND($E1165<=J$10,$F1165>=J$10,$E1165>=I$10),$E1165,IF(AND($E1165<=I$10,$F1165>=J$10),I$10,\"chyba\")))))","v":"00:00:00"},{"$f":"IF(OR($F1165<I$10,$E1165>J$10),0,IF(AND($E1165>=I$10,$F1165<=J$10),$F1165,IF(AND($E1165<=I$10,$F1165<=J$10),$F1165,IF(AND($E1165<=J$10,$F1165>=J$10),J$10,IF(AND($E1165<=I$10,$F1165>=J$10),J$10,\"chyba\")))))","v":"00:00:00"},{"$f":"IF(J1165-I1165=0,0,J1165-I1165+1)","v":0},{"$f":"IF($H1165<=0,0,$G1165/$H1165*K1165)","v":0},{"$f":"IF(OR($F1165<M$10,$E1165>N$10),0,IF(AND($E1165>=M$10,$F1165<=N$10),$E1165,IF(AND($E1165<=M$10,$F1165<=N$10),M$10,IF(AND($E1165<=N$10,$F1165>=N$10,$E1165>=M$10),$E1165,IF(AND($E1165<=M$10,$F1165>=N$10),M$10,\"chyba\")))))","v":"00:00:00"},{"$f":"IF(OR($F1165<M$10,$E1165>N$10),0,IF(AND($E1165>=M$10,$F1165<=N$10),$F1165,IF(AND($E1165<=M$10,$F1165<=N$10),$F1165,IF(AND($E1165<=N$10,$F1165>=N$10),N$10,IF(AND($E1165<=M$10,$F1165>=N$10),N$10,\"chyba\")))))","v":"00:00:00"},{"$f":"IF(N1165-M1165=0,0,N1165-M1165+1)","v":0},{"$f":"IF($H1165<=0,0,$G1165/$H1165*O1165)","v":0},{"$f":"IF(OR($F1165<Q$10,$E1165>R$10),0,IF(AND($E1165>=Q$10,$F1165<=R$10),$E1165,IF(AND($E1165<=Q$10,$F1165<=R$10),Q$10,IF(AND($E1165<=R$10,$F1165>=R$10,$E1165>=Q$10),$E1165,IF(AND($E1165<=Q$10,$F1165>=R$10),Q$10,\"chyba\")))))","v":"00:00:00"},{"$f":"IF(OR($F1165<Q$10,$E1165>R$10),0,IF(AND($E1165>=Q$10,$F1165<=R$10),$F1165,IF(AND($E1165<=Q$10,$F1165<=R$10),$F1165,IF(AND($E1165<=R$10,$F1165>=R$10),R$10,IF(AND($E1165<=Q$10,$F1165>=R$10),R$10,\"chyba\")))))","v":"00:00:00"},{"$f":"IF(R1165-Q1165=0,0,R1165-Q1165+1)","v":0},{"$f":"IF($H1165<=0,0,$G1165/$H1165*S1165)","v":0},{"$f":"IF(OR($F1165<U$10,$E1165>V$10),0,IF(AND($E1165>=U$10,$F1165<=V$10),$E1165,IF(AND($E1165<=U$10,$F1165<=V$10),U$10,IF(AND($E1165<=V$10,$F1165>=V$10,$E1165>=U$10),$E1165,IF(AND($E1165<=U$10,$F1165>=V$10),U$10,\"chyba\")))))","v":"00:00:00"},{"$f":"IF(OR($F1165<U$10,$E1165>V$10),0,IF(AND($E1165>=U$10,$F1165<=V$10),$F1165,IF(AND($E1165<=U$10,$F1165<=V$10),$F1165,IF(AND($E1165<=V$10,$F1165>=V$10),V$10,IF(AND($E1165<=U$10,$F1165>=V$10),V$10,\"chyba\")))))","v":"00:00:00"},{"$f":"IF(V1165-U1165=0,0,V1165-U1165+1)","v":0},{"$f":"IF($H1165<=0,0,$G1165/$H1165*W1165)","v":0},{"$f":"IF(OR($F1165<Y$10,$E1165>Z$10),0,IF(AND($E1165>=Y$10,$F1165<=Z$10),$E1165,IF(AND($E1165<=Y$10,$F1165<=Z$10),Y$10,IF(AND($E1165<=Z$10,$F1165>=Z$10,$E1165>=Y$10),$E1165,IF(AND($E1165<=Y$10,$F1165>=Z$10),Y$10,\"chyba\")))))","v":"00:00:00"},{"$f":"IF(OR($F1165<Y$10,$E1165>Z$10),0,IF(AND($E1165>=Y$10,$F1165<=Z$10),$F1165,IF(AND($E1165<=Y$10,$F1165<=Z$10),$F1165,IF(AND($E1165<=Z$10,$F1165>=Z$10),Z$10,IF(AND($E1165<=Y$10,$F1165>=Z$10),Z$10,\"chyba\")))))","v":"00:00:00"},{"$f":"IF(Z1165-Y1165=0,0,Z1165-Y1165+1)","v":0},{"$f":"IF($H1165<=0,0,$G1165/$H1165*AA1165)","v":0},{"$f":"IF(OR($F1165<AC$10,$E1165>AD$10),0,IF(AND($E1165>=AC$10,$F1165<=AD$10),$E1165,IF(AND($E1165<=AC$10,$F1165<=AD$10),AC$10,IF(AND($E1165<=AD$10,$F1165>=AD$10,$E1165>=AC$10),$E1165,IF(AND($E1165<=AC$10,$F1165>=AD$10),AC$10,\"chyba\")))))","v":"00:00:00"},{"$f":"IF(OR($F1165<AC$10,$E1165>AD$10),0,IF(AND($E1165>=AC$10,$F1165<=AD$10),$F1165,IF(AND($E1165<=AC$10,$F1165<=AD$10),$F1165,IF(AND($E1165<=AD$10,$F1165>=AD$10),AD$10,IF(AND($E1165<=AC$10,$F1165>=AD$10),AD$10,\"chyba\")))))","v":"00:00:00"},{"$f":"IF(AD1165-AC1165=0,0,AD1165-AC1165+1)","v":0},{"$f":"IF($H1165<=0,0,$G1165/$H1165*AE1165)","v":0},{"$f":"IF(OR($F1165<AG$10,$E1165>AH$10),0,IF(AND($E1165>=AG$10,$F1165<=AH$10),$E1165,IF(AND($E1165<=AG$10,$F1165<=AH$10),AG$10,IF(AND($E1165<=AH$10,$F1165>=AH$10,$E1165>=AG$10),$E1165,IF(AND($E1165<=AG$10,$F1165>=AH$10),AG$10,\"chyba\")))))","v":"00:00:00"},{"$f":"IF(OR($F1165<AG$10,$E1165>AH$10),0,IF(AND($E1165>=AG$10,$F1165<=AH$10),$F1165,IF(AND($E1165<=AG$10,$F1165<=AH$10),$F1165,IF(AND($E1165<=AH$10,$F1165>=AH$10),AH$10,IF(AND($E1165<=AG$10,$F1165>=AH$10),AH$10,\"chyba\")))))","v":"00:00:00"},{"$f":"IF(AH1165-AG1165=0,0,AH1165-AG1165+1)","v":0},{"$f":"IF($H1165<=0,0,$G1165/$H1165*AI1165)","v":0},{"$f":"IF(OR($F1165<AK$10,$E1165>AL$10),0,IF(AND($E1165>=AK$10,$F1165<=AL$10),$E1165,IF(AND($E1165<=AK$10,$F1165<=AL$10),AK$10,IF(AND($E1165<=AL$10,$F1165>=AL$10,$E1165>=AK$10),$E1165,IF(AND($E1165<=AK$10,$F1165>=AL$10),AK$10,\"chyba\")))))","v":"00:00:00"},{"$f":"IF(OR($F1165<AK$10,$E1165>AL$10),0,IF(AND($E1165>=AK$10,$F1165<=AL$10),$F1165,IF(AND($E1165<=AK$10,$F1165<=AL$10),$F1165,IF(AND($E1165<=AL$10,$F1165>=AL$10),AL$10,IF(AND($E1165<=AK$10,$F1165>=AL$10),AL$10,\"chyba\")))))","v":"00:00:00"},{"$f":"IF(AL1165-AK1165=0,0,AL1165-AK1165+1)","v":0},{"$f":"IF($H1165<=0,0,$G1165/$H1165*AM1165)","v":0},{"$f":"IF(OR($F1165<AO$10,$E1165>AP$10),0,IF(AND($E1165>=AO$10,$F1165<=AP$10),$E1165,IF(AND($E1165<=AO$10,$F1165<=AP$10),AO$10,IF(AND($E1165<=AP$10,$F1165>=AP$10,$E1165>=AO$10),$E1165,IF(AND($E1165<=AO$10,$F1165>=AP$10),AO$10,\"chyba\")))))","v":"00:00:00"},{"$f":"IF(OR($F1165<AO$10,$E1165>AP$10),0,IF(AND($E1165>=AO$10,$F1165<=AP$10),$F1165,IF(AND($E1165<=AO$10,$F1165<=AP$10),$F1165,IF(AND($E1165<=AP$10,$F1165>=AP$10),AP$10,IF(AND($E1165<=AO$10,$F1165>=AP$10),AP$10,\"chyba\")))))","v":"00:00:00"},{"$f":"IF(AP1165-AO1165=0,0,AP1165-AO1165+1)","v":0},{"$f":"IF($H1165<=0,0,$G1165/$H1165*AQ1165)","v":0},{"$f":"IF(OR($F1165<AS$10,$E1165>AT$10),0,IF(AND($E1165>=AS$10,$F1165<=AT$10),$E1165,IF(AND($E1165<=AS$10,$F1165<=AT$10),AS$10,IF(AND($E1165<=AT$10,$F1165>=AT$10,$E1165>=AS$10),$E1165,IF(AND($E1165<=AS$10,$F1165>=AT$10),AS$10,\"chyba\")))))","v":"00:00:00"},{"$f":"IF(OR($F1165<AS$10,$E1165>AT$10),0,IF(AND($E1165>=AS$10,$F1165<=AT$10),$F1165,IF(AND($E1165<=AS$10,$F1165<=AT$10),$F1165,IF(AND($E1165<=AT$10,$F1165>=AT$10),AT$10,IF(AND($E1165<=AS$10,$F1165>=AT$10),AT$10,\"chyba\")))))","v":"00:00:00"},{"$f":"IF(AT1165-AS1165=0,0,AT1165-AS1165+1)","v":0},{"$f":"IF($H1165<=0,0,$G1165/$H1165*AU1165)","v":0}]
[null,null,null,null,null,null,null,0,"00:00:00","00:00:00",0,0,"00:00:00","00:00:00",0,0,"00:00:00","00:00:00",0,0,"00:00:00","00:00:00",0,0,"00:00:00","00:00:00",0,0,"00:00:00","00:00:00",0,0,"00:00:00","00:00:00",0,0,"00:00:00","00:00:00",0,0,"00:00:00","00:00:00",0,0,"00:00:00","00:00:00",0,0]
[null,null,null,null,null,null,null,0,"00:00:00","00:00:00",0,0,"00:00:00","00:00:00",0,0,"00:00:00","00:00:00",0,0,"00:00:00","00:00:00",0,0,"00:00:00","00:00:00",0,0,"00:00:00","00:00:00",0,0,"00:00:00","00:00:00",0,0,"00:00:00","00:00:00",0,0,"00:00:00","00:00:00",0,0,"00:00:00","00:00:00",0,0]
[null,null,null,null,null,null,null,0,"00:00:00","00:00:00",0,0,"00:00:00","00:00:00",0,0,"00:00:00","00:00:00",0,0,"00:00:00","00:00:00",0,0,"00:00:00","00:00:00",0,0,"00:00:00","00:00:00",0,0,"00:00:00","00:00:00",0,0,"00:00:00","00:00:00",0,0,"00:00:00","00:00:00",0,0,"00:00:00","00:00:00",0,0]
[null,null,null,null,null,null,null,0,"00:00:00","00:00:00",0,0,"00:00:00","00:00:00",0,0,"00:00:00","00:00:00",0,0,"00:00:00","00:00:00",0,0,"00:00:00","00:00:00",0,0,"00:00:00","00:00:00",0,0,"00:00:00","00:00:00",0,0,"00:00:00","00:00:00",0,0,"00:00:00","00:00:00",0,0,"00:00:00","00:00:00",0,0]
[null,null,null,null,null,null,null,0,"00:00:00","00:00:00",0,0,"00:00:00","00:00:00",0,0,"00:00:00","00:00:00",0,0,"00:00:00","00:00:00",0,0,"00:00:00","00:00:00",0,0,"00:00:00","00:00:00",0,0,"00:00:00","00:00:00",0,0,"00:00:00","00:00:00",0,0,"00:00:00","00:00:00",0,0,"00:00:00","00:00:00",0,0]
[null,null,null,null,null,null,null,0,"00:00:00","00:00:00",0,0,"00:00:00","00:00:00",0,0,"00:00:00","00:00:00",0,0,"00:00:00","00:00:00",0,0,"00:00:00","00:00:00",0,0,"00:00:00","00:00:00",0,0,"00:00:00","00:00:00",0,0,"00:00:00","00:00:00",0,0,"00:00:00","00:00:00",0,0,"00:00:00","00:00:00",0,0]
[null,null,null,null,null,null,null,0,"00:00:00","00:00:00",0,0,"00:00:00","00:00:00",0,0,"00:00:00","00:00:00",0,0,"00:00:00","00:00:00",0,0,"00:00:00","00:00:00",0,0,"00:00:00","00:00:00",0,0,"00:00:00","00:00:00",0,0,"00:00:00","00:00:00",0,0,"00:00:00","00:00:00",0,0,"00:00:00","00:00:00",0,0]
[null,null,null,null,null,null,null,0,"00:00:00","00:00:00",0,0,"00:00:00","00:00:00",0,0,"00:00:00","00:00:00",0,0,"00:00:00","00:00:00",0,0,"00:00:00","00:00:00",0,0,"00:00:00","00:00:00",0,0,"00:00:00","00:00:00",0,0,"00:00:00","00:00:00",0,0,"00:00:00","00:00:00",0,0,"00:00:00","00:00:00",0,0]
[null,null,null,null,null,null,null,0,"00:00:00","00:00:00",0,0,"00:00:00","00:00:00",0,0,"00:00:00","00:00:00",0,0,"00:00:00","00:00:00",0,0,"00:00:00","00:00:00",0,0,"00:00:00","00:00:00",0,0,"00:00:00","00:00:00",0,0,"00:00:00","00:00:00",0,0,"00:00:00","00:00:00",0,0,"00:00:00","00:00:00",0,0]
[null,null,null,null,null,null,null,0,"00:00:00","00:00:00",0,0,"00:00:00","00:00:00",0,0,"00:00:00","00:00:00",0,0,"00:00:00","00:00:00",0,0,"00:00:00","00:00:00",0,0,"00:00:00","00:00:00",0,0,"00:00:00","00:00:00",0,0,"00:00:00","00:00:00",0,0,"00:00:00","00:00:00",0,0,"00:00:00","00:00:00",0,0]
[null,null,null,null,null,null,null,0,"00:00:00","00:00:00",0,0,"00:00:00","00:00:00",0,0,"00:00:00","00:00:00",0,0,"00:00:00","00:00:00",0,0,"00:00:00","00:00:00",0,0,"00:00:00","00:00:00",0,0,"00:00:00","00:00:00",0,0,"00:00:00","00:00:00",0,0,"00:00:00","00:00:00",0,0,"00:00:00","00:00:00",0,0]
[null,null,null,null,null,null,null,0,"00:00:00","00:00:00",0,0,"00:00:00","00:00:00",0,0,"00:00:00","00:00:00",0,0,"00:00:00","00:00:00",0,0,"00:00:00","00:00:00",0,0,"00:00:00","00:00:00",0,0,"00:00:00","00:00:00",0,0,"00:00:00","00:00:00",0,0,"00:00:00","00:00:00",0,0,"00:00:00","00:00:00",0,0]
[null,null,null,null,null,null,null,0,"00:00:00","00:00:00",0,0,"00:00:00","00:00:00",0,0,"00:00:00","00:00:00",0,0,"00:00:00","00:00:00",0,0,"00:00:00","00:00:00",0,0,"00:00:00","00:00:00",0,0,"00:00:00","00:00:00",0,0,"00:00:00","00:00:00",0,0,"00:00:00","00:00:00",0,0,"00:00:00","00:00:00",0,0]
[null,null,null,null,null,null,null,0,"00:00:00","00:00:00",0,0,"00:00:00","00:00:00",0,0,"00:00:00","00:00:00",0,0,"00:00:00","00:00:00",0,0,"00:00:00","00:00:00",0,0,"00:00:00","00:00:00",0,0,"00:00:00","00:00:00",0,0,"00:00:00","00:00:00",0,0,"00:00:00","00:00:00",0,0,"00:00:00","00:00:00",0,0]
[null,null,null,null,null,null,null,0,"00:00:00","00:00:00",0,0,"00:00:00","00:00:00",0,0,"00:00:00","00:00:00",0,0,"00:00:00","00:00:00",0,0,"00:00:00","00:00:00",0,0,"00:00:00","00:00:00",0,0,"00:00:00","00:00:00",0,0,"00:00:00","00:00:00",0,0,"00:00:00","00:00:00",0,0,"00:00:00","00:00:00",0,0]
[null,null,null,null,null,null,null,0,"00:00:00","00:00:00",0,0,"00:00:00","00:00:00",0,0,"00:00:00","00:00:00",0,0,"00:00:00","00:00:00",0,0,"00:00:00","00:00:00",0,0,"00:00:00","00:00:00",0,0,"00:00:00","00:00:00",0,0,"00:00:00","00:00:00",0,0,"00:00:00","00:00:00",0,0,"00:00:00","00:00:00",0,0]
[null,null,null,null,null,null,null,0,"00:00:00","00:00:00",0,0,"00:00:00","00:00:00",0,0,"00:00:00","00:00:00",0,0,"00:00:00","00:00:00",0,0,"00:00:00","00:00:00",0,0,"00:00:00","00:00:00",0,0,"00:00:00","00:00:00",0,0,"00:00:00","00:00:00",0,0,"00:00:00","00:00:00",0,0,"00:00:00","00:00:00",0,0]
[null,null,null,null,null,null,null,0,"00:00:00","00:00:00",0,0,"00:00:00","00:00:00",0,0,"00:00:00","00:00:00",0,0,"00:00:00","00:00:00",0,0,"00:00:00","00:00:00",0,0,"00:00:00","00:00:00",0,0,"00:00:00","00:00:00",0,0,"00:00:00","00:00:00",0,0,"00:00:00","00:00:00",0,0,"00:00:00","00:00:00",0,0]
[null,null,null,null,null,null,null,0,"00:00:00","00:00:00",0,0,"00:00:00","00:00:00",0,0,"00:00:00","00:00:00",0,0,"00:00:00","00:00:00",0,0,"00:00:00","00:00:00",0,0,"00:00:00","00:00:00",0,0,"00:00:00","00:00:00",0,0,"00:00:00","00:00:00",0,0,"00:00:00","00:00:00",0,0,"00:00:00","00:00:00",0,0]
[null,null,null,null,null,null,null,0,"00:00:00","00:00:00",0,0,"00:00:00","00:00:00",0,0,"00:00:00","00:00:00",0,0,"00:00:00","00:00:00",0,0,"00:00:00","00:00:00",0,0,"00:00:00","00:00:00",0,0,"00:00:00","00:00:00",0,0,"00:00:00","00:00:00",0,0,"00:00:00","00:00:00",0,0,"00:00:00","00:00:00",0,0]
[null,null,null,null,null,null,null,0,"00:00:00","00:00:00",0,0,"00:00:00","00:00:00",0,0,"00:00:00","00:00:00",0,0,"00:00:00","00:00:00",0,0,"00:00:00","00:00:00",0,0,"00:00:00","00:00:00",0,0,"00:00:00","00:00:00",0,0,"00:00:00","00:00:00",0,0,"00:00:00","00:00:00",0,0,"00:00:00","00:00:00",0,0]
[null,null,null,null,null,null,null,0,"00:00:00","00:00:00",0,0,"00:00:00","00:00:00",0,0,"00:00:00","00:00:00",0,0,"00:00:00","00:00:00",0,0,"00:00:00","00:00:00",0,0,"00:00:00","00:00:00",0,0,"00:00:00","00:00:00",0,0,"00:00:00","00:00:00",0,0,"00:00:00","00:00:00",0,0,"00:00:00","00:00:00",0,0]
[null,null,null,null,null,null,null,0,"00:00:00","00:00:00",0,0,"00:00:00","00:00:00",0,0,"00:00:00","00:00:00",0,0,"00:00:00","00:00:00",0,0,"00:00:00","00:00:00",0,0,"00:00:00","00:00:00",0,0,"00:00:00","00:00:00",0,0,"00:00:00","00:00:00",0,0,"00:00:00","00:00:00",0,0,"00:00:00","00:00:00",0,0]
[null,null,null,null,null,null,null,0,"00:00:00","00:00:00",0,0,"00:00:00","00:00:00",0,0,"00:00:00","00:00:00",0,0,"00:00:00","00:00:00",0,0,"00:00:00","00:00:00",0,0,"00:00:00","00:00:00",0,0,"00:00:00","00:00:00",0,0,"00:00:00","00:00:00",0,0,"00:00:00","00:00:00",0,0,"00:00:00","00:00:00",0,0]
[null,null,null,null,null,null,null,0,"00:00:00","00:00:00",0,0,"00:00:00","00:00:00",0,0,"00:00:00","00:00:00",0,0,"00:00:00","00:00:00",0,0,"00:00:00","00:00:00",0,0,"00:00:00","00:00:00",0,0,"00:00:00","00:00:00",0,0,"00:00:00","00:00:00",0,0,"00:00:00","00:00:00",0,0,"00:00:00","00:00:00",0,0]
[null,null,null,null,null,null,null,0,"00:00:00","00:00:00",0,0,"00:00:00","00:00:00",0,0,"00:00:00","00:00:00",0,0,"00:00:00","00:00:00",0,0,"00:00:00","00:00:00",0,0,"00:00:00","00:00:00",0,0,"00:00:00","00:00:00",0,0,"00:00:00","00:00:00",0,0,"00:00:00","00:00:00",0,0,"00:00:00","00:00:00",0,0]
[null,null,null,null,null,null,null,0,"00:00:00","00:00:00",0,0,"00:00:00","00:00:00",0,0,"00:00:00","00:00:00",0,0,"00:00:00","00:00:00",0,0,"00:00:00","00:00:00",0,0,"00:00:00","00:00:00",0,0,"00:00:00","00:00:00",0,0,"00:00:00","00:00:00",0,0,"00:00:00","00:00:00",0,0,"00:00:00","00:00:00",0,0]
[null,null,null,null,null,null,null,0,"00:00:00","00:00:00",0,0,"00:00:00","00:00:00",0,0,"00:00:00","00:00:00",0,0,"00:00:00","00:00:00",0,0,"00:00:00","00:00:00",0,0,"00:00:00","00:00:00",0,0,"00:00:00","00:00:00",0,0,"00:00:00","00:00:00",0,0,"00:00:00","00:00:00",0,0,"00:00:00","00:00:00",0,0]
[null,null,null,null,null,null,null,0,"00:00:00","00:00:00",0,0,"00:00:00","00:00:00",0,0,"00:00:00","00:00:00",0,0,"00:00:00","00:00:00",0,0,"00:00:00","00:00:00",0,0,"00:00:00","00:00:00",0,0,"00:00:00","00:00:00",0,0,"00:00:00","00:00:00",0,0,"00:00:00","00:00:00",0,0,"00:00:00","00:00:00",0,0]
[null,null,null,null,null,null,null,0,"00:00:00","00:00:00",0,0,"00:00:00","00:00:00",0,0,"00:00:00","00:00:00",0,0,"00:00:00","00:00:00",0,0,"00:00:00","00:00:00",0,0,"00:00:00","00:00:00",0,0,"00:00:00","00:00:00",0,0,"00:00:00","00:00:00",0,0,"00:00:00","00:00:00",0,0,"00:00:00","00:00:00",0,0]
[null,null,null,null,null,null,null,0,"00:00:00","00:00:00",0,0,"00:00:00","00:00:00",0,0,"00:00:00","00:00:00",0,0,"00:00:00","00:00:00",0,0,"00:00:00","00:00:00",0,0,"00:00:00","00:00:00",0,0,"00:00:00","00:00:00",0,0,"00:00:00","00:00:00",0,0,"00:00:00","00:00:00",0,0,"00:00:00","00:00:00",0,0]
[null,null,null,null,null,null,null,0,"00:00:00","00:00:00",0,0,"00:00:00","00:00:00",0,0,"00:00:00","00:00:00",0,0,"00:00:00","00:00:00",0,0,"00:00:00","00:00:00",0,0,"00:00:00","00:00:00",0,0,"00:00:00","00:00:00",0,0,"00:00:00","00:00:00",0,0,"00:00:00","00:00:00",0,0,"00:00:00","00:00:00",0,0]
[null,null,null,null,null,null,null,0,"00:00:00","00:00:00",0,0,"00:00:00","00:00:00",0,0,"00:00:00","00:00:00",0,0,"00:00:00","00:00:00",0,0,"00:00:00","00:00:00",0,0,"00:00:00","00:00:00",0,0,"00:00:00","00:00:00",0,0,"00:00:00","00:00:00",0,0,"00:00:00","00:00:00",0,0,"00:00:00","00:00:00",0,0]
[null,null,null,null,null,null,null,0,"00:00:00","00:00:00",0,0,"00:00:00","00:00:00",0,0,"00:00:00","00:00:00",0,0,"00:00:00","00:00:00",0,0,"00:00:00","00:00:00",0,0,"00:00:00","00:00:00",0,0,"00:00:00","00:00:00",0,0,"00:00:00","00:00:00",0,0,"00:00:00","00:00:00",0,0,"00:00:00","00:00:00",0,0]